Workbook

Sheet General
D1: Acid(pH4.5) | E1: Acid(pH8.3) | F1: ALK | G1: ALKPP | H1: CaCO3 | I1: CaCO3-d | J1: Chloride | K1: CN(wad) | L1: CNTHIO | M1: CO3 | N1: Colour | O1: COND | P1: DOC | Q1: HCO3 | R1: NH3 | S1: OH | T1: pH | U1: SO4-d | V1: TDS | W1: TOC | X1: TSS | Y1: TURB
A2: Station | B2: Date | C2: Sample Type | D2: mg/L | E2: mg/L | F2: mg/L | G2: mg/L | H2: mg/L | I2: mg/L | J2: mg/L | K2: mg/L | L2: mg/L | M2: mg/L | N2: TCU | O2: µmho/cm | P2: mg/L | Q2: mg/L | R2: mg/L | S2: mg/L | T2: (blank) | U2: mg/L | V2: mg/L | W2: mg/L | X2: mg/L | Y2: NTU
A3: X26 | B3: 40342 | C3: M | D3: <0.5 | E3: 288 | F3: 340 | G3: <0.5 | I3: 3040 | J3: 4 | M3: <0.5 | O3: 4190 | Q3: 410 | S3: <0.5 | T3: 6.4 | U3: 3000 | X3: 21
A4: X26 | B4: 40342 | C4: DUPLICATE | D4: <0.5 | E4: 276 | F4: 350 | G4: <0.5 | I4: 3020 | J4: 4.2 | M4: <0.5 | O4: 4200 | Q4: 420 | S4: <0.5 | T4: 6.5 | U4: 3000 | X4: 34
A5: RPD (%) | D5: =IFERROR((((2*(ABS((D3-D4))))/(D4+D3))*100),Refs!$B$9) -> N/A | E5: =IFERROR((((2*(ABS((E3-E4))))/(E4+E3))*100),Refs!$B$9) -> 4.2553191 | F5: =IFERROR((((2*(ABS((F3-F4))))/(F4+F3))*100),Refs!$B$9) -> 2.8985507 | G5: =IFERROR((((2*(ABS((G3-G4))))/(G4+G3))*100),Refs!$B$9) -> N/A | H5: =IFERROR((((2*(ABS((H3-H4))))/(H4+H3))*100),Refs!$B$9) -> N/A | I5: =IFERROR((((2*(ABS((I3-I4))))/(I4+I3))*100),Refs!$B$9) -> 0.66006601 | J5: =IFERROR((((2*(ABS((J3-J4))))/(J4+J3))*100),Refs!$B$9) -> 4.8780488 | K5: =IFERROR((((2*(ABS((K3-K4))))/(K4+K3))*100),Refs!$B$9) -> N/A | ... S5: =IFERROR((((2*(ABS((S3-S4))))/(S4+S3))*100),Refs!$B$9) -> N/A | T5: =IFERROR((ABS(T4-T3)),Refs!$B$9) -> 0.1 | U5: =IFERROR((((2*(ABS((U3-U4))))/(U4+U3))*100),Refs!$B$9) -> 0 | V5: =IFERROR((((2*(ABS((V3-V4))))/(V4+V3))*100),Refs!$B$9) -> N/A | W5: =IFERROR((((2*(ABS((W3-W4))))/(W4+W3))*100),Refs!$B$9) -> N/A | X5: =IFERROR((((2*(ABS((X3-X4))))/(X4+X3))*100),Refs!$B$9) -> 47.272727 | Y5: =IFERROR((((2*(ABS((Y3-Y4))))/(Y4+Y3))*100),Refs!$B$9) -> N/A
A6: Comments
A7: Action
A8: Result
A9: P03-06-2 | B9: 40343 | C9: M | D9: 71.2 | E9: 731 | F9: <0.5 | G9: <0.5 | I9: 1980 | J9: 2.9 | M9: <0.5 | O9: 4000 | Q9: <0.5 | S9: <0.5 | T9: 4.2 | U9: 3200 | X9: 910
A10: P03-06-2 | B10: 40343 | C10: DUPLICATE | D10: <0.5 | E10: 2140 | F10: <0.5 | G10: <0.5 | I10: 1650 | J10: 4.5 | M10: <0.5 | O10: 4500 | Q10: <0.5 | S10: <0.5 | T10: 4.4 | U10: 3900 | X10: 2300
A11: RPD (%) | D11: =IFERROR((((2*(ABS((D9-D10))))/(D10+D9))*100),Refs!$B$9) -> N/A | E11: =IFERROR((((2*(ABS((E9-E10))))/(E10+E9))*100),Refs!$B$9) -> 98.153953 | F11: =IFERROR((((2*(ABS((F9-F10))))/(F10+F9))*100),Refs!$B$9) -> N/A | G11: =IFERROR((((2*(ABS((G9-G10))))/(G10+G9))*100),Refs!$B$9) -> N/A | H11: =IFERROR((((2*(ABS((H9-H10))))/(H10+H9))*100),Refs!$B$9) -> N/A | I11: =IFERROR((((2*(ABS((I9-I10))))/(I10+I9))*100),Refs!$B$9) -> 18.181818 | J11: =IFERROR((((2*(ABS((J9-J10))))/(J10+J9))*100),Refs!$B$9) -> 43.243243 | K11: =IFERROR((((2*(ABS((K9-K10))))/(K10+K9))*100),Refs!$B$9) -> N/A | ... S11: =IFERROR((((2*(ABS((S9-S10))))/(S10+S9))*100),Refs!$B$9) -> N/A | T11: =IFERROR((ABS(T10-T9)),Refs!$B$9) -> 0.2 | U11: =IFERROR((((2*(ABS((U9-U10))))/(U10+U9))*100),Refs!$B$9) -> 19.71831 | V11: =IFERROR((((2*(ABS((V9-V10))))/(V10+V9))*100),Refs!$B$9) -> N/A | W11: =IFERROR((((2*(ABS((W9-W10))))/(W10+W9))*100),Refs!$B$9) -> N/A | X11: =IFERROR((((2*(ABS((X9-X10))))/(X10+X9))*100),Refs!$B$9) -> 86.604361 | Y11: =IFERROR((((2*(ABS((Y9-Y10))))/(Y10+Y9))*100),Refs!$B$9) -> N/A
A12: Comments | E12: Both values > PQL and correctly entered into emLine. | X12: Both values > PQL and correctly entered into emLine.
A13: Action | E13: Request Retest | X13: Let Value Stand
A14: Result | E14: Retest performed, see results below. | X14: Discrepancy between values remains. Retest not carried out because remainder of samples had been discarded.
A15: P03-06-2 Retest | B15: 40343 | C15: M | E15: 700
A16: P03-06-2 REtest | B16: 40343 | C16: DUPLICATE | E16: 2140
A17: RPD (%) | D17: =IFERROR((((2*(ABS((D15-D16))))/(D16+D15))*100),Refs!$B$9) -> N/A | E17: =IFERROR((((2*(ABS((E15-E16))))/(E16+E15))*100),Refs!$B$9) -> 101.40845 | F17: =IFERROR((((2*(ABS((F15-F16))))/(F16+F15))*100),Refs!$B$9) -> N/A | G17: =IFERROR((((2*(ABS((G15-G16))))/(G16+G15))*100),Refs!$B$9) -> N/A | H17: =IFERROR((((2*(ABS((H15-H16))))/(H16+H15))*100),Refs!$B$9) -> N/A | I17: =IFERROR((((2*(ABS((I15-I16))))/(I16+I15))*100),Refs!$B$9) -> N/A | J17: =IFERROR((((2*(ABS((J15-J16))))/(J16+J15))*100),Refs!$B$9) -> N/A | K17: =IFERROR((((2*(ABS((K15-K16))))/(K16+K15))*100),Refs!$B$9) -> N/A | ... S17: =IFERROR((((2*(ABS((S15-S16))))/(S16+S15))*100),Refs!$B$9) -> N/A | T17: =IFERROR((ABS(T16-T15)),Refs!$B$9) -> 0 | U17: =IFERROR((((2*(ABS((U15-U16))))/(U16+U15))*100),Refs!$B$9) -> N/A | V17: =IFERROR((((2*(ABS((V15-V16))))/(V16+V15))*100),Refs!$B$9) -> N/A | W17: =IFERROR((((2*(ABS((W15-W16))))/(W16+W15))*100),Refs!$B$9) -> N/A | X17: =IFERROR((((2*(ABS((X15-X16))))/(X16+X15))*100),Refs!$B$9) -> N/A | Y17: =IFERROR((((2*(ABS((Y15-Y16))))/(Y16+Y15))*100),Refs!$B$9) -> N/A
A18: Comments | E18: Main sample retested but request for retest on duplicate sample submitted too late. Remainder of sample had been discarded.
A19: Action | E19: Let Value Stand
A20: Result | E20: New value entered into emLine.
A21: P96-6 | B21: 40344 | C21: M | D21: <0.5 | E21: 43.5 | F21: 320 | G21: <0.5 | I21: 724 | J21: 0.7 | M21: <0.5 | O21: 1170 | Q21: 390 | S21: <0.5 | T21: 7.6 | U21: 350 | X21: 300
A22: P96-6 | B22: 40344 | C22: DUPLICATE | D22: <0.5 | E22: 37.4 | F22: 320 | G22: <0.5 | I22: 703 | J22: 0.7 | M22: <0.5 | O22: 1190 | Q22: 390 | S22: <0.5 | T22: 7.5 | U22: 350 | X22: 410
A23: RPD (%) | D23: =IFERROR((((2*(ABS((D21-D22))))/(D22+D21))*100),Refs!$B$9) -> N/A | E23: =IFERROR((((2*(ABS((E21-E22))))/(E22+E21))*100),Refs!$B$9) -> 15.080346 | F23: =IFERROR((((2*(ABS((F21-F22))))/(F22+F21))*100),Refs!$B$9) -> 0 | G23: =IFERROR((((2*(ABS((G21-G22))))/(G22+G21))*100),Refs!$B$9) -> N/A | H23: =IFERROR((((2*(ABS((H21-H22))))/(H22+H21))*100),Refs!$B$9) -> N/A | I23: =IFERROR((((2*(ABS((I21-I22))))/(I22+I21))*100),Refs!$B$9) -> 2.9432376 | J23: =IFERROR((((2*(ABS((J21-J22))))/(J22+J21))*100),Refs!$B$9) -> 0 | K23: =IFERROR((((2*(ABS((K21-K22))))/(K22+K21))*100),Refs!$B$9) -> N/A | ... S23: =IFERROR((((2*(ABS((S21-S22))))/(S22+S21))*100),Refs!$B$9) -> N/A | T23: =IFERROR((ABS(T22-T21)),Refs!$B$9) -> 0.1 | U23: =IFERROR((((2*(ABS((U21-U22))))/(U22+U21))*100),Refs!$B$9) -> 0 | V23: =IFERROR((((2*(ABS((V21-V22))))/(V22+V21))*100),Refs!$B$9) -> N/A | W23: =IFERROR((((2*(ABS((W21-W22))))/(W22+W21))*100),Refs!$B$9) -> N/A | X23: =IFERROR((((2*(ABS((X21-X22))))/(X22+X21))*100),Refs!$B$9) -> 30.985915 | Y23: =IFERROR((((2*(ABS((Y21-Y22))))/(Y22+Y21))*100),Refs!$B$9) -> N/A
A24: Comments
A25: Action
A26: Result
A27: P09-SIS3 | B27: 40383 | C27: M | D27: <0.5 | E27: 860 | F27: 170 | G27: <0.5 | I27: 5820 | J27: 4.9 | M27: <0.5 | O27: 7720 | Q27: 210 | S27: <0.5 | T27: 6.65 | U27: 7200 | X27: 1600
A28: P09-SIS3 | B28: 40383 | C28: DUPLICATE | D28: <0.5 | E28: 862 | F28: 170 | G28: <0.5 | I28: 5930 | J28: 4.8 | M28: <0.5 | O28: 7760 | Q28: 210 | S28: <0.5 | T28: 6.6 | U28: 7700 | X28: 840
A29: RPD (%) | D29: =IFERROR((((2*(ABS((D27-D28))))/(D28+D27))*100),Refs!$B$9) -> N/A | E29: =IFERROR((((2*(ABS((E27-E28))))/(E28+E27))*100),Refs!$B$9) -> 0.23228804 | F29: =IFERROR((((2*(ABS((F27-F28))))/(F28+F27))*100),Refs!$B$9) -> 0 | G29: =IFERROR((((2*(ABS((G27-G28))))/(G28+G27))*100),Refs!$B$9) -> N/A | H29: =IFERROR((((2*(ABS((H27-H28))))/(H28+H27))*100),Refs!$B$9) -> N/A | I29: =IFERROR((((2*(ABS((I27-I28))))/(I28+I27))*100),Refs!$B$9) -> 1.8723404 | J29: =IFERROR((((2*(ABS((J27-J28))))/(J28+J27))*100),Refs!$B$9) -> 2.0618557 | K29: =IFERROR((((2*(ABS((K27-K28))))/(K28+K27))*100),Refs!$B$9) -> N/A | ... S29: =IFERROR((((2*(ABS((S27-S28))))/(S28+S27))*100),Refs!$B$9) -> N/A | T29: =IFERROR((ABS(T28-T27)),Refs!$B$9) -> 0.05 | U29: =IFERROR((((2*(ABS((U27-U28))))/(U28+U27))*100),Refs!$B$9) -> 6.7114094 | V29: =IFERROR((((2*(ABS((V27-V28))))/(V28+V27))*100),Refs!$B$9) -> N/A | W29: =IFERROR((((2*(ABS((W27-W28))))/(W28+W27))*100),Refs!$B$9) -> N/A | X29: =IFERROR((((2*(ABS((X27-X28))))/(X28+X27))*100),Refs!$B$9) -> 62.295082 | Y29: =IFERROR((((2*(ABS((Y27-Y28))))/(Y28+Y27))*100),Refs!$B$9) -> N/A
A30: Comments | X30: Both values > PQL and correctly entered into emLine.
A31: Action | X31: Let Value Stand
A32: Result | X32: Discrepancy between values remains. Retest not carried out because remainder of samples had been discarded.
A33: P01-02A | B33: 40429 | C33: M | D33: <0.5 | E33: 14.8 | F33: 260 | G33: <0.5 | I33: 423 | J33: <0.5 | M33: <0.5 | O33: 794 | Q33: 310 | S33: <0.5 | T33: 7.95 | U33: 180 | X33: 24
A34: P01-02A | B34: 40429 | C34: DUPLICATE | D34: <0.5 | E34: 8.1 | F34: 260 | G34: <0.5 | I34: 418 | J34: <0.5 | M34: <0.5 | O34: 803 | Q34: 310 | S34: <0.5 | T34: 7.81 | U34: 160 | X34: 39
A35: RPD (%) | D35: =IFERROR((((2*(ABS((D33-D34))))/(D34+D33))*100),Refs!$B$9) -> N/A | E35: =IFERROR((((2*(ABS((E33-E34))))/(E34+E33))*100),Refs!$B$9) -> 58.515284 | F35: =IFERROR((((2*(ABS((F33-F34))))/(F34+F33))*100),Refs!$B$9) -> 0 | G35: =IFERROR((((2*(ABS((G33-G34))))/(G34+G33))*100),Refs!$B$9) -> N/A | H35: =IFERROR((((2*(ABS((H33-H34))))/(H34+H33))*100),Refs!$B$9) -> N/A | I35: =IFERROR((((2*(ABS((I33-I34))))/(I34+I33))*100),Refs!$B$9) -> 1.1890606 | J35: =IFERROR((((2*(ABS((J33-J34))))/(J34+J33))*100),Refs!$B$9) -> N/A | K35: =IFERROR((((2*(ABS((K33-K34))))/(K34+K33))*100),Refs!$B$9) -> N/A | ... S35: =IFERROR((((2*(ABS((S33-S34))))/(S34+S33))*100),Refs!$B$9) -> N/A | T35: =IFERROR((ABS(T34-T33)),Refs!$B$9) -> 0.14 | U35: =IFERROR((((2*(ABS((U33-U34))))/(U34+U33))*100),Refs!$B$9) -> 11.764706 | V35: =IFERROR((((2*(ABS((V33-V34))))/(V34+V33))*100),Refs!$B$9) -> N/A | W35: =IFERROR((((2*(ABS((W33-W34))))/(W34+W33))*100),Refs!$B$9) -> N/A | X35: =IFERROR((((2*(ABS((X33-X34))))/(X34+X33))*100),Refs!$B$9) -> 47.619048 | Y35: =IFERROR((((2*(ABS((Y33-Y34))))/(Y34+Y33))*100),Refs!$B$9) -> N/A
A36: Comments | E36: Both values > PQL and correctly entered into emLine.
A37: Action | E37: Request Retest
A38: Result | E38: Retest performed, see results below.
E39: RPD > 50%
A46: P01-02A Retest | B46: 40429 | C46: M | E46: 3.2
A47: P01-02A Retest | B47: 40429 | C47: DUPLICATE | E47: 3.4
A48: RPD (%) | D48: =IFERROR((((2*(ABS((D46-D47))))/(D47+D46))*100),Refs!$B$9) -> N/A | E48: =IFERROR((((2*(ABS((E46-E47))))/(E47+E46))*100),Refs!$B$9) -> 6.0606061 | F48: =IFERROR((((2*(ABS((F46-F47))))/(F47+F46))*100),Refs!$B$9) -> N/A | G48: =IFERROR((((2*(ABS((G46-G47))))/(G47+G46))*100),Refs!$B$9) -> N/A | H48: =IFERROR((((2*(ABS((H46-H47))))/(H47+H46))*100),Refs!$B$9) -> N/A | I48: =IFERROR((((2*(ABS((I46-I47))))/(I47+I46))*100),Refs!$B$9) -> N/A | J48: =IFERROR((((2*(ABS((J46-J47))))/(J47+J46))*100),Refs!$B$9) -> N/A | K48: =IFERROR((((2*(ABS((K46-K47))))/(K47+K46))*100),Refs!$B$9) -> N/A | ... S48: =IFERROR((((2*(ABS((S46-S47))))/(S47+S46))*100),Refs!$B$9) -> N/A | T48: =IFERROR((ABS(T47-T46)),Refs!$B$9) -> 0 | U48: =IFERROR((((2*(ABS((U46-U47))))/(U47+U46))*100),Refs!$B$9) -> N/A | V48: =IFERROR((((2*(ABS((V46-V47))))/(V47+V46))*100),Refs!$B$9) -> N/A | W48: =IFERROR((((2*(ABS((W46-W47))))/(W47+W46))*100),Refs!$B$9) -> N/A | X48: =IFERROR((((2*(ABS((X46-X47))))/(X47+X46))*100),Refs!$B$9) -> N/A | Y48: =IFERROR((((2*(ABS((Y46-Y47))))/(Y47+Y46))*100),Refs!$B$9) -> N/A
A49: Comments | E49: Retest for September 8 P01-02A sample and duplicate. Both values > PQL and correctly entered into emLine.
A50: Action | E50: Let Value Stand
A51: Result | E51: New values entered into emLine.
A52: P03-04-6 | B52: 40441 | C52: M | D52: <0.5 | E52: 2900 | F52: 85 | G52: <0.5 | I52: 1760 | J52: 0.6 | M52: <0.5 | O52: 5440 | Q52: 100 | S52: <0.5 | T52: 6.22 | U52: 5200 | X52: 130
A53: P03-04-6 | B53: 40441 | C53: DUPLICATE | D53: <0.5 | E53: 2850 | F53: 31 | G53: <0.5 | I53: 1730 | J53: 0.9 | M53: <0.5 | O53: 5370 | Q53: 38 | S53: <0.5 | T53: 5.89 | U53: 5100 | X53: 110
A54: RPD (%) | D54: =IFERROR((((2*(ABS((D52-D53))))/(D53+D52))*100),Refs!$B$9) -> N/A | E54: =IFERROR((((2*(ABS((E52-E53))))/(E53+E52))*100),Refs!$B$9) -> 1.7391304 | F54: =IFERROR((((2*(ABS((F52-F53))))/(F53+F52))*100),Refs!$B$9) -> 93.103448 | G54: =IFERROR((((2*(ABS((G52-G53))))/(G53+G52))*100),Refs!$B$9) -> N/A | H54: =IFERROR((((2*(ABS((H52-H53))))/(H53+H52))*100),Refs!$B$9) -> N/A | I54: =IFERROR((((2*(ABS((I52-I53))))/(I53+I52))*100),Refs!$B$9) -> 1.7191977 | J54: =IFERROR((((2*(ABS((J52-J53))))/(J53+J52))*100),Refs!$B$9) -> 40 | K54: =IFERROR((((2*(ABS((K52-K53))))/(K53+K52))*100),Refs!$B$9) -> N/A | ... S54: =IFERROR((((2*(ABS((S52-S53))))/(S53+S52))*100),Refs!$B$9) -> N/A | T54: =IFERROR((ABS(T53-T52)),Refs!$B$9) -> 0.33 | U54: =IFERROR((((2*(ABS((U52-U53))))/(U53+U52))*100),Refs!$B$9) -> 1.9417476 | V54: =IFERROR((((2*(ABS((V52-V53))))/(V53+V52))*100),Refs!$B$9) -> N/A | W54: =IFERROR((((2*(ABS((W52-W53))))/(W53+W52))*100),Refs!$B$9) -> N/A | X54: =IFERROR((((2*(ABS((X52-X53))))/(X53+X52))*100),Refs!$B$9) -> 16.666667 | Y54: =IFERROR((((2*(ABS((Y52-Y53))))/(Y53+Y52))*100),Refs!$B$9) -> N/A
A55: Comments | F55: Both values > PQL and correctly entered into emLine. | Q55: Both values > PQL and correctly entered into emLine.
A56: Action | F56: Request Retest | Q56: Request Retest
A57: Result | F57: Retest performed, see results below. | Q57: Retest performed, see results below.
A58: P03-04-6 Retest | B58: 40441 | C58: M | F58: <0.5 | Q58: <0.5
A59: P03-04-6 Retest | B59: 40441 | C59: DUPLICATE | F59: <0.5 | Q59: <0.5
A60: RPD (%) | D60: =IFERROR((((2*(ABS((D58-D59))))/(D59+D58))*100),Refs!$B$9) -> N/A | E60: =IFERROR((((2*(ABS((E58-E59))))/(E59+E58))*100),Refs!$B$9) -> N/A | F60: =IFERROR((((2*(ABS((F58-F59))))/(F59+F58))*100),Refs!$B$9) -> N/A | G60: =IFERROR((((2*(ABS((G58-G59))))/(G59+G58))*100),Refs!$B$9) -> N/A | H60: =IFERROR((((2*(ABS((H58-H59))))/(H59+H58))*100),Refs!$B$9) -> N/A | I60: =IFERROR((((2*(ABS((I58-I59))))/(I59+I58))*100),Refs!$B$9) -> N/A | J60: =IFERROR((((2*(ABS((J58-J59))))/(J59+J58))*100),Refs!$B$9) -> N/A | K60: =IFERROR((((2*(ABS((K58-K59))))/(K59+K58))*100),Refs!$B$9) -> N/A | ... S60: =IFERROR((((2*(ABS((S58-S59))))/(S59+S58))*100),Refs!$B$9) -> N/A | T60: =IFERROR((ABS(T59-T58)),Refs!$B$9) -> 0 | U60: =IFERROR((((2*(ABS((U58-U59))))/(U59+U58))*100),Refs!$B$9) -> N/A | V60: =IFERROR((((2*(ABS((V58-V59))))/(V59+V58))*100),Refs!$B$9) -> N/A | W60: =IFERROR((((2*(ABS((W58-W59))))/(W59+W58))*100),Refs!$B$9) -> N/A | X60: =IFERROR((((2*(ABS((X58-X59))))/(X59+X58))*100),Refs!$B$9) -> N/A | Y60: =IFERROR((((2*(ABS((Y58-Y59))))/(Y59+Y58))*100),Refs!$B$9) -> N/A
A61: Comments | F61: Retest for September 20 P03-04-6 sample and duplicate. Both values > PQL and correctly entered into emLine. | Q61: Retest for September 20 P03-04-6 sample and duplicate. Both values > PQL and correctly entered into emLine.
A62: Action | F62: Let Value Stand | Q62: Let Value Stand
A63: Result | F63: New values entered into emLine. | Q63: New values entered into emLine.
A64: P09-SIS2 | B64: 40484 | C64: M | D64: <0.5 | E64: 917 | F64: 190 | G64: <0.5 | I64: 7270 | J64: 6.4 | M64: <0.5 | O64: 9340 | Q64: 230 | S64: <0.5 | T64: 6.93 | U64: 8800 | X64: 1500
A65: P09-SIS2 | B65: 40484 | C65: DUPLICATE | D65: <0.5 | E65: 936 | F65: 190 | G65: <0.5 | I65: 7280 | J65: 6.2 | M65: <0.5 | O65: 9300 | Q65: 240 | S65: <0.5 | T65: 6.92 | U65: 9500 | X65: 1300
A66: RPD (%) | D66: =IFERROR((((2*(ABS((D64-D65))))/(D65+D64))*100),Refs!$B$9) -> N/A | E66: =IFERROR((((2*(ABS((E64-E65))))/(E65+E64))*100),Refs!$B$9) -> 2.0507285 | F66: =IFERROR((((2*(ABS((F64-F65))))/(F65+F64))*100),Refs!$B$9) -> 0 | G66: =IFERROR((((2*(ABS((G64-G65))))/(G65+G64))*100),Refs!$B$9) -> N/A | H66: =IFERROR((((2*(ABS((H64-H65))))/(H65+H64))*100),Refs!$B$9) -> N/A | I66: =IFERROR((((2*(ABS((I64-I65))))/(I65+I64))*100),Refs!$B$9) -> 0.13745704 | J66: =IFERROR((((2*(ABS((J64-J65))))/(J65+J64))*100),Refs!$B$9) -> 3.1746032 | K66: =IFERROR((((2*(ABS((K64-K65))))/(K65+K64))*100),Refs!$B$9) -> N/A | ... S66: =IFERROR((((2*(ABS((S64-S65))))/(S65+S64))*100),Refs!$B$9) -> N/A | T66: =IFERROR((ABS(T65-T64)),Refs!$B$9) -> 0.01 | U66: =IFERROR((((2*(ABS((U64-U65))))/(U65+U64))*100),Refs!$B$9) -> 7.6502732 | V66: =IFERROR((((2*(ABS((V64-V65))))/(V65+V64))*100),Refs!$B$9) -> N/A | W66: =IFERROR((((2*(ABS((W64-W65))))/(W65+W64))*100),Refs!$B$9) -> N/A | X66: =IFERROR((((2*(ABS((X64-X65))))/(X65+X64))*100),Refs!$B$9) -> 14.285714 | Y66: =IFERROR((((2*(ABS((Y64-Y65))))/(Y65+Y64))*100),Refs!$B$9) -> N/A
A67: Comments
A68: Action
A69: Result
E70: RPD > 50%

Sheet Diss. Metals
D1: Ag-d | E1: Al-d | F1: As-d | G1: Ba-d | H1: B-d | I1: Be-d | J1: Bi-d | K1: Ca-d | L1: Cd-d | M1: Co-d | N1: Cr-d | O1: Cu-d | P1: Fe-d | Q1: Hg-d | R1: K-d | S1: Li-d | T1: Mg-d | U1: Mn-d | V1: Mo-d | W1: Na-d | X1: Ni-d | Y1: Pb-d | Z1: Sb-d | AA1: S-d | AB1: Se-d | AC1: Si-d | AD1: Sn-d | AE1: Sr-d | AF1: Ti-d | AG1: Tl-d | AH1: U-d | AI1: V-d | AJ1: Zn-d | AK1: Zr-d
A2: Station | B2: Date | C2: Sample Type | D2: µg/L | E2: µg/L | F2: µg/L | G2: µg/L | H2: µg/L | I2: µg/L | J2: µg/L | K2: mg/L | L2: µg/L | M2: µg/L | N2: µg/L | O2: µg/L | P2: µg/L | Q2: µg/L | R2: mg/L | S2: mg/L | T2: mg/L | U2: µg/L | V2: µg/L | W2: mg/L | X2: µg/L | Y2: µg/L | Z2: µg/L | AA2: mg/L | AB2: µg/L | AC2: µg/L | AD2: µg/L | AE2: µg/L | AF2: µg/L | AG2: µg/L | AH2: µg/L | AI2: µg/L | AJ2: µg/L | AK2: µg/L
A3: X26 | B3: 40342 | C3: M | D3: 0.08 | E3: 13 | F3: 3.4 | G3: 7 | H3: <100 | I3: 0.3 | J3: <2 | K3: 563 | L3: 27 | M3: 504 | N3: <2 | O3: 0.9 | P3: 85700 | R3: 16.2 | S3: 0.274 | T3: 397 | U3: 14600 | V3: <2 | W3: 63.9 | X3: 1380 | Y3: 59 | Z3: <1 | AA3: 1030 | AB3: <0.2 | AC3: 7050 | AD3: <10 | AE3: 3410 | AF3: <10 | AG3: 1.5 | AH3: 14.8 | AI3: <10 | AJ3: 92900 | AK3: <1
A4: X26 | B4: 40342 | C4: DUPLICATE | D4: 0.05 | E4: 7 | F4: 3.4 | G4: 7 | H4: <50 | I4: 0.3 | J4: <1 | K4: 551 | L4: 25.8 | M4: 516 | N4: <1 | O4: 1.1 | P4: 84000 | R4: 17.1 | S4: 0.267 | T4: 399 | U4: 14600 | V4: <1 | W4: 64.7 | X4: 1360 | Y4: 55.8 | Z4: 0.9 | AA4: 1040 | AB4: <0.1 | AC4: 6740 | AD4: <5 | AE4: 3420 | AF4: <5 | AG4: 1.57 | AH4: 14.8 | AI4: <5 | AJ4: 85500 | AK4: <0.5
A5: RPD (%) | D5: =IFERROR((((2*(ABS((D3-D4))))/(D4+D3))*100),Refs!$C$3) -> 46.153846 | E5: =IFERROR((((2*(ABS((E3-E4))))/(E4+E3))*100),Refs!$C$3) -> 60 | F5: =IFERROR((((2*(ABS((F3-F4))))/(F4+F3))*100),Refs!$C$3) -> 0 | G5: =IFERROR((((2*(ABS((G3-G4))))/(G4+G3))*100),Refs!$C$3) -> 0 | H5: =IFERROR((((2*(ABS((H3-H4))))/(H4+H3))*100),Refs!$C$3) -> N/A | I5: =IFERROR((((2*(ABS((I3-I4))))/(I4+I3))*100),Refs!$C$3) -> 0 | J5: =IFERROR((((2*(ABS((J3-J4))))/(J4+J3))*100),Refs!$C$3) -> N/A | K5: =IFERROR((((2*(ABS((K3-K4))))/(K4+K3))*100),Refs!$C$3) -> 2.1543986 | ... AK5: =IFERROR((((2*(ABS((AK3-AK4))))/(AK4+AK3))*100),Refs!$C$3) -> N/A
A6: Comments | E6: Both values correctly entered into emLine; however, neither value > PQL. Therefore, RPD analysis not valid in this case.
A7: Action | E7: Let Value Stand
A8: Result | E8: Discrepancy between values remains.
A9: P03-06-2 | B9: 40343 | C9: M | D9: <0.04 | E9: 128 | F9: 0.4 | G9: 14 | H9: <100 | I9: 0.3 | J9: <2 | K9: 529 | L9: 20.2 | M9: 863 | N9: <2 | O9: 0.7 | P9: 444000 | R9: 5.7 | S9: 0.049 | T9: 161 | U9: 105000 | V9: 3 | W9: 33.2 | X9: 1000 | Y9: 2.8 | Z9: <1 | AA9: 1090 | AB9: <0.2 | AC9: 19700 | AD9: <10 | AE9: 1760 | AF9: <10 | AG9: <0.1 | AH9: 1.6 | AI9: <10 | AJ9: 8010 | AK9: <1
A10: P03-06-2 | B10: 40343 | C10: DUPLICATE | D10: <0.08 | E10: 451 | F10: <0.4 | G10: 11 | H10: <200 | I10: 1 | J10: <4 | K10: 412 | L10: 47.6 | M10: 838 | N10: <4 | O10: <0.8 | P10: 986000 | R10: 6.5 | S10: 0.079 | T10: 152 | U10: 87800 | V10: <4 | W10: 19.7 | X10: 861 | Y10: 1.7 | Z10: <2 | AA10: 1270 | AB10: <0.4 | AC10: 21600 | AD10: <20 | AE10: 1520 | AF10: <20 | AG10: <0.2 | AH10: 2.3 | AI10: <20 | AJ10: 13900 | AK10: <2
A11: RPD (%) | D11: =IFERROR((((2*(ABS((D9-D10))))/(D10+D9))*100),Refs!$C$3) -> N/A | E11: =IFERROR((((2*(ABS((E9-E10))))/(E10+E9))*100),Refs!$C$3) -> 111.57168 | F11: =IFERROR((((2*(ABS((F9-F10))))/(F10+F9))*100),Refs!$C$3) -> N/A | G11: =IFERROR((((2*(ABS((G9-G10))))/(G10+G9))*100),Refs!$C$3) -> 24 | H11: =IFERROR((((2*(ABS((H9-H10))))/(H10+H9))*100),Refs!$C$3) -> N/A | I11: =IFERROR((((2*(ABS((I9-I10))))/(I10+I9))*100),Refs!$C$3) -> 107.69231 | J11: =IFERROR((((2*(ABS((J9-J10))))/(J10+J9))*100),Refs!$C$3) -> N/A | K11: =IFERROR((((2*(ABS((K9-K10))))/(K10+K9))*100),Refs!$C$3) -> 24.867163 | ... AK11: =IFERROR((((2*(ABS((AK9-AK10))))/(AK10+AK9))*100),Refs!$C$3) -> N/A
A12: Comments | E12: Both values > PQL and correctly entered into emLine. | I12: Both values correctly entered into emLine; however, neither value > PQL. Therefore, RPD analysis not valid in this case. | L12: Both values > PQL and correctly entered into emLine. | P12: Both values > PQL and correctly entered into emLine. | W12: Both values > PQL and correctly entered into emLine. | AJ12: Both values > PQL and correctly entered into emLine.
A13: Action | E13: Request Retest | I13: Let Value Stand | L13: Let Value Stand | P13: Let Value Stand | W13: Let Value Stand | AJ13: Let Value Stand
A14: Result | E14: Retest performed, see results below. | I14: Discrepancy between values remains. | L14: Discrepancy between values remains. | P14: Discrepancy between values remains. | W14: Discrepancy between values remains. | AJ14: Discrepancy between values remains.
A15: P03-06-2 Retest | B15: 40343 | C15: M | E15: 201
A16: P03-06-2 Retest | B16: 40343 | C16: DUPLICATE | E16: 483
A17: RPD (%) | D17: =IFERROR((((2*(ABS((D15-D16))))/(D16+D15))*100),Refs!$C$3) -> N/A | E17: =IFERROR((((2*(ABS((E15-E16))))/(E16+E15))*100),Refs!$C$3) -> 82.45614 | F17: =IFERROR((((2*(ABS((F15-F16))))/(F16+F15))*100),Refs!$C$3) -> N/A | G17: =IFERROR((((2*(ABS((G15-G16))))/(G16+G15))*100),Refs!$C$3) -> N/A | H17: =IFERROR((((2*(ABS((H15-H16))))/(H16+H15))*100),Refs!$C$3) -> N/A | I17: =IFERROR((((2*(ABS((I15-I16))))/(I16+I15))*100),Refs!$C$3) -> N/A | J17: =IFERROR((((2*(ABS((J15-J16))))/(J16+J15))*100),Refs!$C$3) -> N/A | K17: =IFERROR((((2*(ABS((K15-K16))))/(K16+K15))*100),Refs!$C$3) -> N/A | ... AK17: =IFERROR((((2*(ABS((AK15-AK16))))/(AK16+AK15))*100),Refs!$C$3) -> N/A
A18: Comments | E18: Retest for June 14 P03-06-2 sample and duplicate. Both values > PQL and correctly entered into emLine.
A19: Action | E19: Let Value Stand
A20: Result | E20: New values entered into emLine.
A21: P96-6 | B21: 40344 | C21: M | D21: <0.005 | E21: 2.6 | F21: 0.11 | G21: 18.7 | H21: <50 | I21: 0.07 | J21: <0.005 | K21: 188 | L21: 0.219 | M21: 0.023 | N21: <0.1 | O21: 0.65 | P21: 7 | R21: 4.55 | S21: 0.0374 | T21: 61.5 | U21: 2.24 | V21: <0.05 | W21: 7.62 | X21: 13.9 | Y21: 0.132 | Z21: <0.02 | AA21: 153 | AB21: 2.89 | AC21: 10600 | AD21: <0.01 | AE21: 619 | AF21: <0.5 | AG21: 0.003 | AH21: 26.1 | AI21: <0.2 | AJ21: 419 | AK21: <0.1
A22: P96-6 | B22: 40344 | C22: DUPLICATE | D22: <0.005 | E22: 2.8 | F22: 0.09 | G22: 18.2 | H22: <50 | I22: 0.07 | J22: <0.005 | K22: 185 | L22: 0.228 | M22: 0.017 | N22: <0.1 | O22: 0.6 | P22: 8 | R22: 4.42 | S22: 0.0364 | T22: 58.9 | U22: 2.04 | V22: <0.05 | W22: 7.26 | X22: 13 | Y22: 0.204 | Z22: <0.02 | AA22: 147 | AB22: 2.84 | AC22: 10100 | AD22: <0.01 | AE22: 610 | AF22: <0.5 | AG22: 0.003 | AH22: 25.5 | AI22: <0.2 | AJ22: 400 | AK22: <0.1
A23: RPD (%) | D23: =IFERROR((((2*(ABS((D21-D22))))/(D22+D21))*100),Refs!$C$3) -> N/A | E23: =IFERROR((((2*(ABS((E21-E22))))/(E22+E21))*100),Refs!$C$3) -> 7.4074074 | F23: =IFERROR((((2*(ABS((F21-F22))))/(F22+F21))*100),Refs!$C$3) -> 20 | G23: =IFERROR((((2*(ABS((G21-G22))))/(G22+G21))*100),Refs!$C$3) -> 2.7100271 | H23: =IFERROR((((2*(ABS((H21-H22))))/(H22+H21))*100),Refs!$C$3) -> N/A | I23: =IFERROR((((2*(ABS((I21-I22))))/(I22+I21))*100),Refs!$C$3) -> 0 | J23: =IFERROR((((2*(ABS((J21-J22))))/(J22+J21))*100),Refs!$C$3) -> N/A | K23: =IFERROR((((2*(ABS((K21-K22))))/(K22+K21))*100),Refs!$C$3) -> 1.6085791 | ... AK23: =IFERROR((((2*(ABS((AK21-AK22))))/(AK22+AK21))*100),Refs!$C$3) -> N/A
A24: Comments
A25: Action
A26: Result
A27: P09-SIS3 | B27: 40383 | C27: M | D27: 0.4 | E27: 205 | F27: 2 | G27: 24 | H27: <500 | I27: <1 | J27: <10 | K27: 341 | L27: 141 | M27: 305 | N27: <10 | O27: 17 | P27: 266 | R27: 15 | S27: 0.201 | T27: 1210 | U27: 101000 | V27: <10 | W27: 41.4 | X27: 2900 | Y27: <2 | Z27: <5 | AA27: 2350 | AB27: <1 | AC27: 12100 | AD27: <50 | AE27: 1980 | AF27: <50 | AG27: <0.5 | AH27: 3 | AI27: <50 | AJ27: 493000 | AK27: <5
A28: P09-SIS3 | B28: 40383 | C28: DUPLICATE | D28: 0.4 | E28: 348 | F28: <1 | G28: 24 | H28: <500 | I28: <1 | J28: <10 | K28: 384 | L28: 139 | M28: 292 | N28: <10 | O28: 18 | P28: 480 | R28: 15.1 | S28: 0.198 | T28: 1210 | U28: 99100 | V28: <10 | W28: 41.6 | X28: 2920 | Y28: 3 | Z28: <5 | AA28: 2370 | AB28: <1 | AC28: 13700 | AD28: <50 | AE28: 1930 | AF28: <50 | AG28: <0.5 | AH28: 3 | AI28: <50 | AJ28: 494000 | AK28: <5
A29: RPD (%) | D29: =IFERROR((((2*(ABS((D27-D28))))/(D28+D27))*100),Refs!$C$3) -> 0 | E29: =IFERROR((((2*(ABS((E27-E28))))/(E28+E27))*100),Refs!$C$3) -> 51.717902 | F29: =IFERROR((((2*(ABS((F27-F28))))/(F28+F27))*100),Refs!$C$3) -> N/A | G29: =IFERROR((((2*(ABS((G27-G28))))/(G28+G27))*100),Refs!$C$3) -> 0 | H29: =IFERROR((((2*(ABS((H27-H28))))/(H28+H27))*100),Refs!$C$3) -> N/A | I29: =IFERROR((((2*(ABS((I27-I28))))/(I28+I27))*100),Refs!$C$3) -> N/A | J29: =IFERROR((((2*(ABS((J27-J28))))/(J28+J27))*100),Refs!$C$3) -> N/A | K29: =IFERROR((((2*(ABS((K27-K28))))/(K28+K27))*100),Refs!$C$3) -> 11.862069 | ... AK29: =IFERROR((((2*(ABS((AK27-AK28))))/(AK28+AK27))*100),Refs!$C$3) -> N/A
A30: Comments | E30: Both values > PQL and correctly entered into emLine. | P30: Both values > PQL and correctly entered into emLine.
A31: Action | E31: Let Value Stand | P31: Let Value Stand
A32: Result | E32: Discrepancy between values remains. | P32: Discrepancy between values remains.
A33: P01-02A | B33: 40429 | C33: M | D33: <0.005 | E33: 1.8 | F33: 0.6 | G33: 67.2 | H33: <50 | I33: <0.01 | J33: <0.005 | K33: 117 | L33: 0.091 | M33: 0.703 | N33: <0.1 | O33: 0.46 | P33: 22 | R33: 3.12 | S33: 0.0073 | T33: 31.5 | U33: 1300 | V33: 1.48 | W33: 9.07 | X33: 2.56 | Y33: 0.095 | Z33: 0.04 | AA33: 61 | AB33: <0.04 | AC33: 4950 | AD33: <0.01 | AE33: 345 | AF33: <0.5 | AG33: 0.012 | AH33: 2.96 | AI33: <0.2 | AJ33: 5.1 | AK33: <0.1
A34: P01-02A | B34: 40429 | C34: DUPLICATE | D34: <0.005 | E34: 1.9 | F34: 0.64 | G34: 68.7 | H34: <50 | I34: <0.01 | J34: <0.005 | K34: 118 | L34: 0.099 | M34: 0.703 | N34: <0.1 | O34: 0.44 | P34: 23 | R34: 3.13 | S34: 0.0074 | T34: 30.1 | U34: 1340 | V34: 1.55 | W34: 8.86 | X34: 2.53 | Y34: 0.09 | Z34: 0.04 | AA34: 65 | AB34: <0.04 | AC34: 4990 | AD34: <0.01 | AE34: 347 | AF34: <0.5 | AG34: 0.012 | AH34: 2.97 | AI34: <0.2 | AJ34: 4.8 | AK34: <0.1
A35: RPD (%) | D35: =IFERROR((((2*(ABS((D33-D34))))/(D34+D33))*100),Refs!$C$3) -> N/A | E35: =IFERROR((((2*(ABS((E33-E34))))/(E34+E33))*100),Refs!$C$3) -> 5.4054054 | F35: =IFERROR((((2*(ABS((F33-F34))))/(F34+F33))*100),Refs!$C$3) -> 6.4516129 | G35: =IFERROR((((2*(ABS((G33-G34))))/(G34+G33))*100),Refs!$C$3) -> 2.2075055 | H35: =IFERROR((((2*(ABS((H33-H34))))/(H34+H33))*100),Refs!$C$3) -> N/A | I35: =IFERROR((((2*(ABS((I33-I34))))/(I34+I33))*100),Refs!$C$3) -> N/A | J35: =IFERROR((((2*(ABS((J33-J34))))/(J34+J33))*100),Refs!$C$3) -> N/A | K35: =IFERROR((((2*(ABS((K33-K34))))/(K34+K33))*100),Refs!$C$3) -> 0.85106383 | ... AK35: =IFERROR((((2*(ABS((AK33-AK34))))/(AK34+AK33))*100),Refs!$C$3) -> N/A
A36: Comments
A37: Action
A38: Result
A39: P03-04-6 | B39: 40441 | C39: M | D39: <0.2 | E39: <30.0 | F39: 15 | G39: <10.0 | H39: <500.0 | I39: <1.0 | J39: <10.0 | K39: 500 | L39: <0.1 | M39: 53 | N39: 12 | O39: <2.0 | P39: 1650000 | R39: 10.6 | S39: <0.05 | T39: 124 | U39: 14900 | V39: <10.0 | W39: 87.6 | X39: 133 | Y39: <2.0 | Z39: <5.0 | AA39: 1630 | AB39: <1.0 | AC39: 12000 | AD39: <50.0 | AE39: 3060 | AF39: <50.0 | AG39: <0.5 | AH39: 3 | AI39: <50.0 | AJ39: 1970 | AK39: <5.0
A40: P03-04-6 | B40: 40441 | C40: DUPLICATE | D40: <0.2 | E40: <30.0 | F40: 16 | G40: <10.0 | H40: <500.0 | I40: <1.0 | J40: <10.0 | K40: 491 | L40: <0.1 | M40: 52 | N40: <10.0 | O40: <2.0 | P40: 1620000 | R40: 10.4 | S40: <0.05 | T40: 123 | U40: 14700 | V40: <10.0 | W40: 89.4 | X40: 122 | Y40: <2.0 | Z40: <5.0 | AA40: 1600 | AB40: <1.0 | AC40: 11700 | AD40: <50.0 | AE40: 3070 | AF40: <50.0 | AG40: <0.5 | AH40: 3 | AI40: <50.0 | AJ40: 1840 | AK40: <5.0
A41: RPD (%) | D41: =IFERROR((((2*(ABS((D39-D40))))/(D40+D39))*100),Refs!$C$3) -> N/A | E41: =IFERROR((((2*(ABS((E39-E40))))/(E40+E39))*100),Refs!$C$3) -> N/A | F41: =IFERROR((((2*(ABS((F39-F40))))/(F40+F39))*100),Refs!$C$3) -> 6.4516129 | G41: =IFERROR((((2*(ABS((G39-G40))))/(G40+G39))*100),Refs!$C$3) -> N/A | H41: =IFERROR((((2*(ABS((H39-H40))))/(H40+H39))*100),Refs!$C$3) -> N/A | I41: =IFERROR((((2*(ABS((I39-I40))))/(I40+I39))*100),Refs!$C$3) -> N/A | J41: =IFERROR((((2*(ABS((J39-J40))))/(J40+J39))*100),Refs!$C$3) -> N/A | K41: =IFERROR((((2*(ABS((K39-K40))))/(K40+K39))*100),Refs!$C$3) -> 1.8163471 | ... AK41: =IFERROR((((2*(ABS((AK39-AK40))))/(AK40+AK39))*100),Refs!$C$3) -> N/A
A42: Comments
A43: Action
A44: Result
A45: P09-SIS2 | B45: 40484 | C45: M | D45: 0.6 | E45: <60 | F45: <2 | G45: 28 | H45: <1000 | I45: <2 | J45: <20 | K45: 459 | L45: 249 | M45: 1180 | N45: <20 | O45: 7 | P45: 1130 | R45: 15 | S45: 0.184 | T45: 1490 | U45: 149000 | V45: <20 | W45: 44 | X45: 3560 | Y45: <4 | Z45: <10 | AA45: 3190 | AB45: <2 | AC45: 12900 | AD45: <100 | AE45: 2110 | AF45: <100 | AG45: <1 | AH45: 6 | AI45: <100 | AJ45: 667000 | AK45: <10
A46: P09-SIS2 | B46: 40484 | C46: DUPLICATE | D46: 0.5 | E46: <60 | F46: <2 | G46: 21 | H46: <1000 | I46: <2 | J46: <20 | K46: 441 | L46: 244 | M46: 1170 | N46: <20 | O46: 5 | P46: 1030 | R46: 15 | S46: 0.179 | T46: 1500 | U46: 150000 | V46: <20 | W46: 44 | X46: 3570 | Y46: <4 | Z46: <10 | AA46: 2980 | AB46: <2 | AC46: 12300 | AD46: <100 | AE46: 2070 | AF46: <100 | AG46: <1 | AH46: 6 | AI46: <100 | AJ46: 666000 | AK46: <10
A47: RPD (%) | D47: =IFERROR((((2*(ABS((D45-D46))))/(D46+D45))*100),Refs!$C$3) -> 18.181818 | E47: =IFERROR((((2*(ABS((E45-E46))))/(E46+E45))*100),Refs!$C$3) -> N/A | F47: =IFERROR((((2*(ABS((F45-F46))))/(F46+F45))*100),Refs!$C$3) -> N/A | G47: =IFERROR((((2*(ABS((G45-G46))))/(G46+G45))*100),Refs!$C$3) -> 28.571429 | H47: =IFERROR((((2*(ABS((H45-H46))))/(H46+H45))*100),Refs!$C$3) -> N/A | I47: =IFERROR((((2*(ABS((I45-I46))))/(I46+I45))*100),Refs!$C$3) -> N/A | J47: =IFERROR((((2*(ABS((J45-J46))))/(J46+J45))*100),Refs!$C$3) -> N/A | K47: =IFERROR((((2*(ABS((K45-K46))))/(K46+K45))*100),Refs!$C$3) -> 4 | ... AK47: =IFERROR((((2*(ABS((AK45-AK46))))/(AK46+AK45))*100),Refs!$C$3) -> N/A
A48: Comments
A49: Action
A50: Result
E51: RPD > 50%
E52: RPD > 100%

Sheet Refs
A2: Request Retest
A3: Change Value | C3: N/A
A4: Let Value Stand
A5: Remove Value
A6: Request Retest
A8: Request Retest
A9: Change Value | B9: N/A
A10: Let Value Stand
A11: Remove Value
