Workbook

Sheet General
D1: Acid(pH4.5) | E1: Acid(pH8.3) | F1: ALK | G1: ALKPP | H1: CaCO3 | I1: CaCO3-d | J1: Chloride | K1: CN(wad) | L1: CNTHIO | M1: CO3 | N1: Colour | O1: COND | P1: DOC | Q1: HCO3 | R1: NH3 | S1: OH | T1: pH | U1: SO4-d | V1: TDS | W1: TOC | X1: TSS | Y1: TURB
A2: Station | B2: Date | C2: Sample Type | D2: mg/L | E2: mg/L | F2: mg/L | G2: mg/L | H2: mg/L | I2: mg/L | J2: mg/L | K2: mg/L | L2: mg/L | M2: mg/L | N2: TCU | O2: µmho/cm | P2: mg/L | Q2: mg/L | R2: mg/L | S2: mg/L | U2: mg/L | V2: mg/L | W2: mg/L | X2: mg/L | Y2: NTU
A3: X10 | B3: 40189.545 | C3: M | F3: 140 | G3: <0.5 | H3: 165 | I3: 166 | J3: <0.5 | M3: <0.5 | O3: 326 | P3: 1 | Q3: 170 | R3: <0.01 | S3: <0.5 | T3: 8 | U3: 26 | V3: 220 | W3: 0.8 | X3: <1.0 | Y3: 0.8
A4: X10 | B4: 40189.604 | C4: DUPLICATE | F4: 140 | G4: <0.5 | H4: 166 | I4: 164 | J4: 0.6 | M4: <0.5 | O4: 315 | P4: 0.9 | Q4: 170 | R4: 0.08 | S4: <0.5 | T4: 8.1 | U4: 30 | V4: 190 | W4: 0.9 | X4: <1.0 | Y4: 0.7
A5: RPD (%) | D5: =IFERROR((((2*(ABS((D3-D4))))/(D4+D3))*100),Refs!$B$2) -> N/A | E5: =IFERROR((((2*(ABS((E3-E4))))/(E4+E3))*100),Refs!$B$2) -> N/A | F5: =IFERROR((((2*(ABS((F3-F4))))/(F4+F3))*100),Refs!$B$2) -> 0 | G5: =IFERROR((((2*(ABS((G3-G4))))/(G4+G3))*100),Refs!$B$2) -> N/A | H5: =IFERROR((((2*(ABS((H3-H4))))/(H4+H3))*100),Refs!$B$2) -> 0.60422961 | I5: =IFERROR((((2*(ABS((I3-I4))))/(I4+I3))*100),Refs!$B$2) -> 1.2121212 | J5: =IFERROR((((2*(ABS((J3-J4))))/(J4+J3))*100),Refs!$B$2) -> N/A | K5: =IFERROR((((2*(ABS((K3-K4))))/(K4+K3))*100),Refs!$B$2) -> N/A | ... S5: =IFERROR((((2*(ABS((S3-S4))))/(S4+S3))*100),Refs!$B$2) -> N/A | T5: =IFERROR((ABS(T4-T3)),Refs!$B$2) -> 0.1 | U5: =IFERROR((((2*(ABS((U3-U4))))/(U4+U3))*100),Refs!$B$2) -> 14.285714 | V5: =IFERROR((((2*(ABS((V3-V4))))/(V4+V3))*100),Refs!$B$2) -> 14.634146 | W5: =IFERROR((((2*(ABS((W3-W4))))/(W4+W3))*100),Refs!$B$2) -> 11.764706 | X5: =IFERROR((((2*(ABS((X3-X4))))/(X4+X3))*100),Refs!$B$2) -> N/A | Y5: =IFERROR((((2*(ABS((Y3-Y4))))/(Y4+Y3))*100),Refs!$B$2) -> 13.333333
A6: Comments
A7: Action
A8: Result
A9: X3 | B9: 40231 | C9: M | F9: 140 | G9: <0.5 | H9: 164 | I9: 163 | J9: 1.7 | M9: <0.5 | O9: 314 | P9: 1.4 | Q9: 170 | R9: <0.01 | S9: <0.5 | T9: 7.9 | U9: 28 | V9: 180 | W9: 1.2 | X9: <1.0
A10: X3 | B10: 40231 | C10: DUPLICATE | F10: 140 | G10: <0.5 | H10: 164 | I10: 160 | J10: <0.5 | M10: <0.5 | O10: 318 | P10: 1.7 | Q10: 170 | R10: <0.01 | S10: <0.5 | T10: 7.9 | U10: 29 | V10: 230 | W10: 1.5 | X10: <1.0 | Y10: 0.6
A11: RPD (%) | D11: =IFERROR((((2*(ABS((D9-D10))))/(D10+D9))*100),Refs!$B$2) -> N/A | E11: =IFERROR((((2*(ABS((E9-E10))))/(E10+E9))*100),Refs!$B$2) -> N/A | F11: =IFERROR((((2*(ABS((F9-F10))))/(F10+F9))*100),Refs!$B$2) -> 0 | G11: =IFERROR((((2*(ABS((G9-G10))))/(G10+G9))*100),Refs!$B$2) -> N/A | H11: =IFERROR((((2*(ABS((H9-H10))))/(H10+H9))*100),Refs!$B$2) -> 0 | I11: =IFERROR((((2*(ABS((I9-I10))))/(I10+I9))*100),Refs!$B$2) -> 1.8575851 | J11: =IFERROR((((2*(ABS((J9-J10))))/(J10+J9))*100),Refs!$B$2) -> N/A | K11: =IFERROR((((2*(ABS((K9-K10))))/(K10+K9))*100),Refs!$B$2) -> N/A | ... S11: =IFERROR((((2*(ABS((S9-S10))))/(S10+S9))*100),Refs!$B$2) -> N/A | T11: =IFERROR((ABS(T10-T9)),Refs!$B$2) -> 0 | U11: =IFERROR((((2*(ABS((U9-U10))))/(U10+U9))*100),Refs!$B$2) -> 3.5087719 | V11: =IFERROR((((2*(ABS((V9-V10))))/(V10+V9))*100),Refs!$B$2) -> 24.390244 | W11: =IFERROR((((2*(ABS((W9-W10))))/(W10+W9))*100),Refs!$B$2) -> 22.222222 | X11: =IFERROR((((2*(ABS((X9-X10))))/(X10+X9))*100),Refs!$B$2) -> N/A | Y11: =IFERROR((((2*(ABS((Y9-Y10))))/(Y10+Y9))*100),Refs!$B$2) -> 200
A12: Comments | Y12: Turbidity not run on main sample. Accidentally requested for duplicate sample.
A13: Action | Y13: Let Value Stand
A14: Result | Y14: No turbidity value for main sample.
A15: X11 | B15: 40241 | C15: M | D15: <0.5 | E15: 37.3 | F15: 330 | G15: <0.5 | I15: 1720 | J15: 2.6 | M15: <0.5 | O15: 2650 | Q15: 400 | S15: <0.5 | T15: 7.6 | U15: 1500 | X15: 12
A16: X11 | B16: 40241 | C16: DUPLICATE | D16: <0.5 | E16: 34.6 | F16: 330 | G16: <0.5 | I16: 1660 | J16: 2.5 | M16: <0.5 | O16: 2670 | Q16: 400 | S16: <0.5 | T16: 7.7 | U16: 1500 | X16: 12
A17: RPD (%) | D17: =IFERROR((((2*(ABS((D15-D16))))/(D16+D15))*100),Refs!$B$2) -> N/A | E17: =IFERROR((((2*(ABS((E15-E16))))/(E16+E15))*100),Refs!$B$2) -> 7.5104312 | F17: =IFERROR((((2*(ABS((F15-F16))))/(F16+F15))*100),Refs!$B$2) -> 0 | G17: =IFERROR((((2*(ABS((G15-G16))))/(G16+G15))*100),Refs!$B$2) -> N/A | H17: =IFERROR((((2*(ABS((H15-H16))))/(H16+H15))*100),Refs!$B$2) -> N/A | I17: =IFERROR((((2*(ABS((I15-I16))))/(I16+I15))*100),Refs!$B$2) -> 3.5502959 | J17: =IFERROR((((2*(ABS((J15-J16))))/(J16+J15))*100),Refs!$B$2) -> 3.9215686 | K17: =IFERROR((((2*(ABS((K15-K16))))/(K16+K15))*100),Refs!$B$2) -> N/A | ... S17: =IFERROR((((2*(ABS((S15-S16))))/(S16+S15))*100),Refs!$B$2) -> N/A | T17: =IFERROR((ABS(T16-T15)),Refs!$B$2) -> 0.1 | U17: =IFERROR((((2*(ABS((U15-U16))))/(U16+U15))*100),Refs!$B$2) -> 0 | V17: =IFERROR((((2*(ABS((V15-V16))))/(V16+V15))*100),Refs!$B$2) -> N/A | W17: =IFERROR((((2*(ABS((W15-W16))))/(W16+W15))*100),Refs!$B$2) -> N/A | X17: =IFERROR((((2*(ABS((X15-X16))))/(X16+X15))*100),Refs!$B$2) -> 0 | Y17: =IFERROR((((2*(ABS((Y15-Y16))))/(Y16+Y15))*100),Refs!$B$2) -> N/A
A18: Comments
A19: Action
A20: Result
A21: A30 | B21: 40265 | C21: M | D21: <0.5 | E21: 6.3 | F21: 28 | G21: <0.5 | I21: 77.3 | J21: <0.5 | M21: <0.5 | O21: 201 | Q21: 34 | S21: <0.5 | T21: 7.3 | U21: 56 | X21: <1.0
A22: A30 | B22: 40265 | C22: DUPLICATE | D22: <0.5 | E22: 7.2 | F22: 29 | G22: <0.5 | I22: 83.9 | J22: <0.5 | M22: <0.5 | O22: 204 | Q22: 36 | S22: <0.5 | T22: 7.4 | U22: 64 | X22: 2
A23: RPD (%) | D23: =IFERROR((((2*(ABS((D21-D22))))/(D22+D21))*100),Refs!$B$2) -> N/A | E23: =IFERROR((((2*(ABS((E21-E22))))/(E22+E21))*100),Refs!$B$2) -> 13.333333 | F23: =IFERROR((((2*(ABS((F21-F22))))/(F22+F21))*100),Refs!$B$2) -> 3.5087719 | G23: =IFERROR((((2*(ABS((G21-G22))))/(G22+G21))*100),Refs!$B$2) -> N/A | H23: =IFERROR((((2*(ABS((H21-H22))))/(H22+H21))*100),Refs!$B$2) -> N/A | I23: =IFERROR((((2*(ABS((I21-I22))))/(I22+I21))*100),Refs!$B$2) -> 8.1885856 | J23: =IFERROR((((2*(ABS((J21-J22))))/(J22+J21))*100),Refs!$B$2) -> N/A | K23: =IFERROR((((2*(ABS((K21-K22))))/(K22+K21))*100),Refs!$B$2) -> N/A | ... S23: =IFERROR((((2*(ABS((S21-S22))))/(S22+S21))*100),Refs!$B$2) -> N/A | T23: =IFERROR((ABS(T22-T21)),Refs!$B$2) -> 0.1 | U23: =IFERROR((((2*(ABS((U21-U22))))/(U22+U21))*100),Refs!$B$2) -> 13.333333 | V23: =IFERROR((((2*(ABS((V21-V22))))/(V22+V21))*100),Refs!$B$2) -> N/A | W23: =IFERROR((((2*(ABS((W21-W22))))/(W22+W21))*100),Refs!$B$2) -> N/A | X23: =IFERROR((((2*(ABS((X21-X22))))/(X22+X21))*100),Refs!$B$2) -> N/A | Y23: =IFERROR((((2*(ABS((Y21-Y22))))/(Y22+Y21))*100),Refs!$B$2) -> N/A
A24: Comments
A25: Action
A26: Result
A27: X14 | B27: 40274 | C27: M | F27: 210 | G27: <0.5 | H27: 652 | I27: 657 | J27: 0.8 | M27: <0.5 | O27: 1170 | P27: 1.3 | Q27: 260 | R27: 0.29 | S27: <0.5 | T27: 8 | U27: 490 | V27: 880 | W27: 1 | X27: <1
A28: X14 | B28: 40274 | C28: DUPLICATE | F28: 210 | G28: <0.5 | H28: 634 | I28: 645 | J28: 0.6 | M28: <0.5 | O28: 1170 | P28: 1.3 | Q28: 250 | R28: 0.3 | S28: <0.5 | T28: 7.9 | U28: 470 | V28: 840 | W28: 1.3 | X28: <1
A29: RPD (%) | D29: =IFERROR((((2*(ABS((D27-D28))))/(D28+D27))*100),Refs!$B$2) -> N/A | E29: =IFERROR((((2*(ABS((E27-E28))))/(E28+E27))*100),Refs!$B$2) -> N/A | F29: =IFERROR((((2*(ABS((F27-F28))))/(F28+F27))*100),Refs!$B$2) -> 0 | G29: =IFERROR((((2*(ABS((G27-G28))))/(G28+G27))*100),Refs!$B$2) -> N/A | H29: =IFERROR((((2*(ABS((H27-H28))))/(H28+H27))*100),Refs!$B$2) -> 2.7993779 | I29: =IFERROR((((2*(ABS((I27-I28))))/(I28+I27))*100),Refs!$B$2) -> 1.843318 | J29: =IFERROR((((2*(ABS((J27-J28))))/(J28+J27))*100),Refs!$B$2) -> 28.571429 | K29: =IFERROR((((2*(ABS((K27-K28))))/(K28+K27))*100),Refs!$B$2) -> N/A | ... S29: =IFERROR((((2*(ABS((S27-S28))))/(S28+S27))*100),Refs!$B$2) -> N/A | T29: =IFERROR((ABS(T28-T27)),Refs!$B$2) -> 0.1 | U29: =IFERROR((((2*(ABS((U27-U28))))/(U28+U27))*100),Refs!$B$2) -> 4.1666667 | V29: =IFERROR((((2*(ABS((V27-V28))))/(V28+V27))*100),Refs!$B$2) -> 4.6511628 | W29: =IFERROR((((2*(ABS((W27-W28))))/(W28+W27))*100),Refs!$B$2) -> 26.086957 | X29: =IFERROR((((2*(ABS((X27-X28))))/(X28+X27))*100),Refs!$B$2) -> N/A | Y29: =IFERROR((((2*(ABS((Y27-Y28))))/(Y28+Y27))*100),Refs!$B$2) -> N/A
A30: Comments
A31: Action
A32: Result
A33: X10 | B33: 40281 | C33: M | F33: 150 | G33: <0.5 | H33: 162 | I33: 157 | J33: <0.5 | M33: <0.5 | O33: 340 | P33: 1 | Q33: 180 | R33: <0.01 | S33: <0.5 | T33: 7.9 | U33: 30 | V33: 200 | X33: <1
A34: X10 | B34: 40281 | C34: DUPLICATE | F34: 150 | G34: <0.5 | H34: 159 | I34: 155 | J34: <0.5 | M34: <0.5 | O34: 331 | P34: 1 | Q34: 180 | R34: 0.07 | S34: <0.5 | T34: 7.8 | U34: 31 | V34: 180 | W34: 1 | X34: <1
A35: RPD (%) | D35: =IFERROR((((2*(ABS((D33-D34))))/(D34+D33))*100),Refs!$B$2) -> N/A | E35: =IFERROR((((2*(ABS((E33-E34))))/(E34+E33))*100),Refs!$B$2) -> N/A | F35: =IFERROR((((2*(ABS((F33-F34))))/(F34+F33))*100),Refs!$B$2) -> 0 | G35: =IFERROR((((2*(ABS((G33-G34))))/(G34+G33))*100),Refs!$B$2) -> N/A | H35: =IFERROR((((2*(ABS((H33-H34))))/(H34+H33))*100),Refs!$B$2) -> 1.8691589 | I35: =IFERROR((((2*(ABS((I33-I34))))/(I34+I33))*100),Refs!$B$2) -> 1.2820513 | J35: =IFERROR((((2*(ABS((J33-J34))))/(J34+J33))*100),Refs!$B$2) -> N/A | K35: =IFERROR((((2*(ABS((K33-K34))))/(K34+K33))*100),Refs!$B$2) -> N/A | ... S35: =IFERROR((((2*(ABS((S33-S34))))/(S34+S33))*100),Refs!$B$2) -> N/A | T35: =IFERROR((ABS(T34-T33)),Refs!$B$2) -> 0.1 | U35: =IFERROR((((2*(ABS((U33-U34))))/(U34+U33))*100),Refs!$B$2) -> 3.2786885 | V35: =IFERROR((((2*(ABS((V33-V34))))/(V34+V33))*100),Refs!$B$2) -> 10.526316 | W35: =IFERROR((((2*(ABS((W33-W34))))/(W34+W33))*100),Refs!$B$2) -> 200 | X35: =IFERROR((((2*(ABS((X33-X34))))/(X34+X33))*100),Refs!$B$2) -> N/A | Y35: =IFERROR((((2*(ABS((Y33-Y34))))/(Y34+Y33))*100),Refs!$B$2) -> N/A
A36: Comments | W36: TOC not run on main sample because appropriate sample accidentally not sent in.
A37: Action | W37: Let Value Stand
A38: Result | W38: No TOC value for main sample.
A39: X5P | B39: 40301 | C39: M | F39: 53 | G39: <0.5 | H39: 468 | I39: 490 | J39: <0.5 | M39: <0.5 | O39: 877 | Q39: 64 | R39: 0.24 | S39: <0.5 | T39: 7.8 | U39: 420 | V39: 650 | X39: 3
A40: X5P | B40: 40301 | C40: DUPLICATE | F40: 58 | G40: <0.5 | H40: 463 | I40: 433 | J40: <0.5 | M40: <0.5 | O40: 859 | Q40: 71 | R40: 0.24 | S40: <0.5 | T40: 7.8 | U40: 420 | V40: 640 | X40: 2
A41: RPD (%) | D41: =IFERROR((((2*(ABS((D39-D40))))/(D40+D39))*100),Refs!$B$2) -> N/A | E41: =IFERROR((((2*(ABS((E39-E40))))/(E40+E39))*100),Refs!$B$2) -> N/A | F41: =IFERROR((((2*(ABS((F39-F40))))/(F40+F39))*100),Refs!$B$2) -> 9.009009 | G41: =IFERROR((((2*(ABS((G39-G40))))/(G40+G39))*100),Refs!$B$2) -> N/A | H41: =IFERROR((((2*(ABS((H39-H40))))/(H40+H39))*100),Refs!$B$2) -> 1.0741139 | I41: =IFERROR((((2*(ABS((I39-I40))))/(I40+I39))*100),Refs!$B$2) -> 12.351029 | J41: =IFERROR((((2*(ABS((J39-J40))))/(J40+J39))*100),Refs!$B$2) -> N/A | K41: =IFERROR((((2*(ABS((K39-K40))))/(K40+K39))*100),Refs!$B$2) -> N/A | ... S41: =IFERROR((((2*(ABS((S39-S40))))/(S40+S39))*100),Refs!$B$2) -> N/A | T41: =IFERROR((ABS(T40-T39)),Refs!$B$2) -> 0 | U41: =IFERROR((((2*(ABS((U39-U40))))/(U40+U39))*100),Refs!$B$2) -> 0 | V41: =IFERROR((((2*(ABS((V39-V40))))/(V40+V39))*100),Refs!$B$2) -> 1.5503876 | W41: =IFERROR((((2*(ABS((W39-W40))))/(W40+W39))*100),Refs!$B$2) -> N/A | X41: =IFERROR((((2*(ABS((X39-X40))))/(X40+X39))*100),Refs!$B$2) -> 40 | Y41: =IFERROR((((2*(ABS((Y39-Y40))))/(Y40+Y39))*100),Refs!$B$2) -> N/A
A42: Comments
A43: Action
A44: Result
A45: X5 | B45: 40323 | C45: M | F45: 110 | G45: <0.5 | H45: 860 | I45: 812 | L45: 0.0202 | M45: <0.5 | O45: 1430 | Q45: 130 | R45: 0.56 | S45: <0.5 | T45: 7.9 | U45: 720 | V45: 1300 | X45: <1
A46: X5 | B46: 40323 | C46: DUPLICATE | F46: 110 | G46: <0.5 | H46: 882 | I46: 841 | L46: 0.0185 | M46: <0.5 | O46: 1440 | Q46: 130 | R46: 0.54 | S46: <0.5 | T46: 7.7 | U46: 750 | V46: 1200 | X46: <1
A47: RPD (%) | D47: =IFERROR((((2*(ABS((D45-D46))))/(D46+D45))*100),Refs!$B$2) -> N/A | E47: =IFERROR((((2*(ABS((E45-E46))))/(E46+E45))*100),Refs!$B$2) -> N/A | F47: =IFERROR((((2*(ABS((F45-F46))))/(F46+F45))*100),Refs!$B$2) -> 0 | G47: =IFERROR((((2*(ABS((G45-G46))))/(G46+G45))*100),Refs!$B$2) -> N/A | H47: =IFERROR((((2*(ABS((H45-H46))))/(H46+H45))*100),Refs!$B$2) -> 2.5258324 | I47: =IFERROR((((2*(ABS((I45-I46))))/(I46+I45))*100),Refs!$B$2) -> 3.5087719 | J47: =IFERROR((((2*(ABS((J45-J46))))/(J46+J45))*100),Refs!$B$2) -> N/A | K47: =IFERROR((((2*(ABS((K45-K46))))/(K46+K45))*100),Refs!$B$2) -> N/A | ... S47: =IFERROR((((2*(ABS((S45-S46))))/(S46+S45))*100),Refs!$B$2) -> N/A | T47: =IFERROR((ABS(T46-T45)),Refs!$B$2) -> 0.2 | U47: =IFERROR((((2*(ABS((U45-U46))))/(U46+U45))*100),Refs!$B$2) -> 4.0816327 | V47: =IFERROR((((2*(ABS((V45-V46))))/(V46+V45))*100),Refs!$B$2) -> 8 | W47: =IFERROR((((2*(ABS((W45-W46))))/(W46+W45))*100),Refs!$B$2) -> N/A | X47: =IFERROR((((2*(ABS((X45-X46))))/(X46+X45))*100),Refs!$B$2) -> N/A | Y47: =IFERROR((((2*(ABS((Y45-Y46))))/(Y46+Y45))*100),Refs!$B$2) -> N/A
A48: Comments
A49: Action
A50: Result
E51: RPD > 50%
A56: X14 | B56: 40330 | C56: M | F56: 55 | G56: <0.5 | H56: 141 | I56: 132 | J56: <0.5 | M56: <0.5 | O56: 309 | P56: 2.4 | Q56: 67 | R56: <0.005 | S56: <0.5 | T56: 7.3 | U56: 99 | V56: 230 | W56: 2.7 | X56: 2
A57: X14 | B57: 40330 | C57: DUPLICATE | F57: 63 | G57: <0.5 | H57: 143 | I57: 132 | J57: <0.5 | M57: <0.5 | O57: 304 | P57: 2.7 | Q57: 76 | R57: 0.018 | S57: <0.5 | T57: 7.7 | U57: 90 | V57: 200 | W57: 2.3 | X57: 2
A58: RPD (%) | D58: =IFERROR((((2*(ABS((D56-D57))))/(D57+D56))*100),Refs!$B$2) -> N/A | E58: =IFERROR((((2*(ABS((E56-E57))))/(E57+E56))*100),Refs!$B$2) -> N/A | F58: =IFERROR((((2*(ABS((F56-F57))))/(F57+F56))*100),Refs!$B$2) -> 13.559322 | G58: =IFERROR((((2*(ABS((G56-G57))))/(G57+G56))*100),Refs!$B$2) -> N/A | H58: =IFERROR((((2*(ABS((H56-H57))))/(H57+H56))*100),Refs!$B$2) -> 1.4084507 | I58: =IFERROR((((2*(ABS((I56-I57))))/(I57+I56))*100),Refs!$B$2) -> 0 | J58: =IFERROR((((2*(ABS((J56-J57))))/(J57+J56))*100),Refs!$B$2) -> N/A | K58: =IFERROR((((2*(ABS((K56-K57))))/(K57+K56))*100),Refs!$B$2) -> N/A | ... S58: =IFERROR((((2*(ABS((S56-S57))))/(S57+S56))*100),Refs!$B$2) -> N/A | T58: =IFERROR((ABS(T57-T56)),Refs!$B$2) -> 0.4 | U58: =IFERROR((((2*(ABS((U56-U57))))/(U57+U56))*100),Refs!$B$2) -> 9.5238095 | V58: =IFERROR((((2*(ABS((V56-V57))))/(V57+V56))*100),Refs!$B$2) -> 13.953488 | W58: =IFERROR((((2*(ABS((W56-W57))))/(W57+W56))*100),Refs!$B$2) -> 16 | X58: =IFERROR((((2*(ABS((X56-X57))))/(X57+X56))*100),Refs!$B$2) -> 0 | Y58: =IFERROR((((2*(ABS((Y56-Y57))))/(Y57+Y56))*100),Refs!$B$2) -> N/A
A59: Comments
A60: Action
A61: Result
A62: X3 | B62: 40333 | C62: M | F62: 40 | G62: <0.5 | H62: 44.6 | I62: 44.8 | J62: <0.5 | M62: <0.5 | O62: 84 | P62: 2.3 | Q62: 48 | R62: 0.77 | S62: <0.5 | T62: 7.7 | U62: 6.3 | V62: 54 | W62: 2.6 | X62: 5
A63: X3 | B63: 40333 | C63: DUPLICATE | F63: 38 | G63: <0.5 | H63: 45.5 | I63: 43.5 | J63: <0.5 | M63: <0.5 | O63: 85 | P63: 2.9 | Q63: 47 | R63: <0.05 | S63: <0.5 | T63: 7.6 | U63: 6.4 | V63: 50 | W63: 2.6 | X63: 4
A64: RPD (%) | D64: =IFERROR((((2*(ABS((D62-D63))))/(D63+D62))*100),Refs!$B$2) -> N/A | E64: =IFERROR((((2*(ABS((E62-E63))))/(E63+E62))*100),Refs!$B$2) -> N/A | F64: =IFERROR((((2*(ABS((F62-F63))))/(F63+F62))*100),Refs!$B$2) -> 5.1282051 | G64: =IFERROR((((2*(ABS((G62-G63))))/(G63+G62))*100),Refs!$B$2) -> N/A | H64: =IFERROR((((2*(ABS((H62-H63))))/(H63+H62))*100),Refs!$B$2) -> 1.9977802 | I64: =IFERROR((((2*(ABS((I62-I63))))/(I63+I62))*100),Refs!$B$2) -> 2.9445074 | J64: =IFERROR((((2*(ABS((J62-J63))))/(J63+J62))*100),Refs!$B$2) -> N/A | K64: =IFERROR((((2*(ABS((K62-K63))))/(K63+K62))*100),Refs!$B$2) -> N/A | ... S64: =IFERROR((((2*(ABS((S62-S63))))/(S63+S62))*100),Refs!$B$2) -> N/A | T64: =IFERROR((ABS(T63-T62)),Refs!$B$2) -> 0.1 | U64: =IFERROR((((2*(ABS((U62-U63))))/(U63+U62))*100),Refs!$B$2) -> 1.5748031 | V64: =IFERROR((((2*(ABS((V62-V63))))/(V63+V62))*100),Refs!$B$2) -> 7.6923077 | W64: =IFERROR((((2*(ABS((W62-W63))))/(W63+W62))*100),Refs!$B$2) -> 0 | X64: =IFERROR((((2*(ABS((X62-X63))))/(X63+X62))*100),Refs!$B$2) -> 22.222222 | Y64: =IFERROR((((2*(ABS((Y62-Y63))))/(Y63+Y62))*100),Refs!$B$2) -> N/A
A65: Comments
A66: Action
A67: Result
A68: A30 | B68: 40344 | C68: M | D68: <0.5 | E68: 28 | F68: 6.2 | G68: <0.5 | I68: 122 | J68: <0.5 | M68: <0.5 | O68: 320 | Q68: 7.5 | S68: <0.5 | T68: 6.7 | U68: 140 | X68: 2
A69: A30 | B69: 40344 | C69: DUPLICATE | D69: <0.5 | E69: 21.4 | F69: 5.9 | G69: <0.5 | I69: 120 | J69: <0.5 | M69: <0.5 | O69: 320 | Q69: 7.2 | S69: <0.5 | T69: 6.7 | U69: 150 | X69: 2
A70: RPD (%) | D70: =IFERROR((((2*(ABS((D68-D69))))/(D69+D68))*100),Refs!$B$2) -> N/A | E70: =IFERROR((((2*(ABS((E68-E69))))/(E69+E68))*100),Refs!$B$2) -> 26.720648 | F70: =IFERROR((((2*(ABS((F68-F69))))/(F69+F68))*100),Refs!$B$2) -> 4.9586777 | G70: =IFERROR((((2*(ABS((G68-G69))))/(G69+G68))*100),Refs!$B$2) -> N/A | H70: =IFERROR((((2*(ABS((H68-H69))))/(H69+H68))*100),Refs!$B$2) -> N/A | I70: =IFERROR((((2*(ABS((I68-I69))))/(I69+I68))*100),Refs!$B$2) -> 1.6528926 | J70: =IFERROR((((2*(ABS((J68-J69))))/(J69+J68))*100),Refs!$B$2) -> N/A | K70: =IFERROR((((2*(ABS((K68-K69))))/(K69+K68))*100),Refs!$B$2) -> N/A | ... S70: =IFERROR((((2*(ABS((S68-S69))))/(S69+S68))*100),Refs!$B$2) -> N/A | T70: =IFERROR((ABS(T69-T68)),Refs!$B$2) -> 0 | U70: =IFERROR((((2*(ABS((U68-U69))))/(U69+U68))*100),Refs!$B$2) -> 6.8965517 | V70: =IFERROR((((2*(ABS((V68-V69))))/(V69+V68))*100),Refs!$B$2) -> N/A | W70: =IFERROR((((2*(ABS((W68-W69))))/(W69+W68))*100),Refs!$B$2) -> N/A | X70: =IFERROR((((2*(ABS((X68-X69))))/(X69+X68))*100),Refs!$B$2) -> 0 | Y70: =IFERROR((((2*(ABS((Y68-Y69))))/(Y69+Y68))*100),Refs!$B$2) -> N/A
A71: Comments
A72: Action
A73: Result
A74: X14 | B74: 40344 | C74: M | F74: 82 | G74: <0.5 | H74: 209 | I74: 211 | J74: <0.5 | M74: <0.5 | N74: 15 | O74: 446 | P74: 3.1 | Q74: 100 | R74: 0.06 | S74: <0.5 | T74: 8.1 | U74: 160 | V74: 330 | W74: 2.7 | X74: <1 | Y74: 0.7
A75: X14 | B75: 40344 | C75: DUPLICATE | F75: 82 | G75: <0.5 | H75: 203 | I75: 210 | J75: <0.5 | M75: <0.5 | N75: 15 | O75: 445 | P75: 2.8 | Q75: 100 | R75: 0.06 | S75: <0.5 | T75: 8.1 | U75: 150 | V75: 320 | W75: 2.8 | X75: <1 | Y75: 0.7
A76: RPD (%) | D76: =IFERROR((((2*(ABS((D74-D75))))/(D75+D74))*100),Refs!$B$2) -> N/A | E76: =IFERROR((((2*(ABS((E74-E75))))/(E75+E74))*100),Refs!$B$2) -> N/A | F76: =IFERROR((((2*(ABS((F74-F75))))/(F75+F74))*100),Refs!$B$2) -> 0 | G76: =IFERROR((((2*(ABS((G74-G75))))/(G75+G74))*100),Refs!$B$2) -> N/A | H76: =IFERROR((((2*(ABS((H74-H75))))/(H75+H74))*100),Refs!$B$2) -> 2.9126214 | I76: =IFERROR((((2*(ABS((I74-I75))))/(I75+I74))*100),Refs!$B$2) -> 0.47505938 | J76: =IFERROR((((2*(ABS((J74-J75))))/(J75+J74))*100),Refs!$B$2) -> N/A | K76: =IFERROR((((2*(ABS((K74-K75))))/(K75+K74))*100),Refs!$B$2) -> N/A | ... S76: =IFERROR((((2*(ABS((S74-S75))))/(S75+S74))*100),Refs!$B$2) -> N/A | T76: =IFERROR((ABS(T75-T74)),Refs!$B$2) -> 0 | U76: =IFERROR((((2*(ABS((U74-U75))))/(U75+U74))*100),Refs!$B$2) -> 6.4516129 | V76: =IFERROR((((2*(ABS((V74-V75))))/(V75+V74))*100),Refs!$B$2) -> 3.0769231 | W76: =IFERROR((((2*(ABS((W74-W75))))/(W75+W74))*100),Refs!$B$2) -> 3.6363636 | X76: =IFERROR((((2*(ABS((X74-X75))))/(X75+X74))*100),Refs!$B$2) -> N/A | Y76: =IFERROR((((2*(ABS((Y74-Y75))))/(Y75+Y74))*100),Refs!$B$2) -> 0
A77: Comments
A78: Action
A79: Result
A80: R7 | B80: 40367 | C80: M | F80: 64 | G80: <0.5 | H80: 58.4 | I80: 59.1 | J80: <0.5 | M80: <0.5 | O80: 128 | Q80: 78 | R80: <0.05 | S80: <0.5 | T80: 7.89 | U80: 6.4 | V80: 76 | X80: 2
A81: R7 | B81: 40367 | C81: DUPLICATE | F81: 64 | G81: <0.5 | H81: 60.9 | I81: 57.6 | J81: <0.5 | M81: <0.5 | O81: 130 | Q81: 79 | R81: <0.05 | S81: <0.5 | T81: 7.97 | U81: 7.2 | V81: 80 | X81: 3
A82: RPD (%) | D82: =IFERROR((((2*(ABS((D80-D81))))/(D81+D80))*100),Refs!$B$2) -> N/A | E82: =IFERROR((((2*(ABS((E80-E81))))/(E81+E80))*100),Refs!$B$2) -> N/A | F82: =IFERROR((((2*(ABS((F80-F81))))/(F81+F80))*100),Refs!$B$2) -> 0 | G82: =IFERROR((((2*(ABS((G80-G81))))/(G81+G80))*100),Refs!$B$2) -> N/A | H82: =IFERROR((((2*(ABS((H80-H81))))/(H81+H80))*100),Refs!$B$2) -> 4.1911148 | I82: =IFERROR((((2*(ABS((I80-I81))))/(I81+I80))*100),Refs!$B$2) -> 2.5706941 | J82: =IFERROR((((2*(ABS((J80-J81))))/(J81+J80))*100),Refs!$B$2) -> N/A | K82: =IFERROR((((2*(ABS((K80-K81))))/(K81+K80))*100),Refs!$B$2) -> N/A | ... S82: =IFERROR((((2*(ABS((S80-S81))))/(S81+S80))*100),Refs!$B$2) -> N/A | T82: =IFERROR((ABS(T81-T80)),Refs!$B$2) -> 0.08 | U82: =IFERROR((((2*(ABS((U80-U81))))/(U81+U80))*100),Refs!$B$2) -> 11.764706 | V82: =IFERROR((((2*(ABS((V80-V81))))/(V81+V80))*100),Refs!$B$2) -> 5.1282051 | W82: =IFERROR((((2*(ABS((W80-W81))))/(W81+W80))*100),Refs!$B$2) -> N/A | X82: =IFERROR((((2*(ABS((X80-X81))))/(X81+X80))*100),Refs!$B$2) -> 40 | Y82: =IFERROR((((2*(ABS((Y80-Y81))))/(Y81+Y80))*100),Refs!$B$2) -> N/A
A83: Comments
A84: Action
A85: Result
A86: NWID | B86: 40369 | C86: M | F86: 120 | G86: <0.5 | H86: 158 | I86: 149 | J86: <0.5 | M86: <0.5 | O86: 293 | P86: 2.9 | Q86: 150 | R86: <0.05 | S86: <0.5 | T86: 8.05 | U86: 31 | V86: 140 | W86: 3 | X86: <1
A87: NWID | B87: 40369 | C87: DUPLICATE | F87: 130 | G87: <0.5 | H87: 148 | I87: 145 | J87: <0.5 | M87: <0.5 | O87: 295 | P87: 2.8 | Q87: 160 | R87: <0.05 | S87: <0.5 | T87: 8.06 | U87: 30 | V87: 170 | W87: 2.8 | X87: <1
A88: RPD (%) | D88: =IFERROR((((2*(ABS((D86-D87))))/(D87+D86))*100),Refs!$B$2) -> N/A | E88: =IFERROR((((2*(ABS((E86-E87))))/(E87+E86))*100),Refs!$B$2) -> N/A | F88: =IFERROR((((2*(ABS((F86-F87))))/(F87+F86))*100),Refs!$B$2) -> 8 | G88: =IFERROR((((2*(ABS((G86-G87))))/(G87+G86))*100),Refs!$B$2) -> N/A | H88: =IFERROR((((2*(ABS((H86-H87))))/(H87+H86))*100),Refs!$B$2) -> 6.5359477 | I88: =IFERROR((((2*(ABS((I86-I87))))/(I87+I86))*100),Refs!$B$2) -> 2.7210884 | J88: =IFERROR((((2*(ABS((J86-J87))))/(J87+J86))*100),Refs!$B$2) -> N/A | K88: =IFERROR((((2*(ABS((K86-K87))))/(K87+K86))*100),Refs!$B$2) -> N/A | ... S88: =IFERROR((((2*(ABS((S86-S87))))/(S87+S86))*100),Refs!$B$2) -> N/A | T88: =IFERROR((ABS(T87-T86)),Refs!$B$2) -> 0.01 | U88: =IFERROR((((2*(ABS((U86-U87))))/(U87+U86))*100),Refs!$B$2) -> 3.2786885 | V88: =IFERROR((((2*(ABS((V86-V87))))/(V87+V86))*100),Refs!$B$2) -> 19.354839 | W88: =IFERROR((((2*(ABS((W86-W87))))/(W87+W86))*100),Refs!$B$2) -> 6.8965517 | X88: =IFERROR((((2*(ABS((X86-X87))))/(X87+X86))*100),Refs!$B$2) -> N/A | Y88: =IFERROR((((2*(ABS((Y86-Y87))))/(Y87+Y86))*100),Refs!$B$2) -> N/A
A89: Comments
A90: Action
A91: Result
A92: X14 | B92: 40386 | C92: M | F92: 97 | G92: <0.5 | H92: 322 | I92: 317 | J92: <0.5 | M92: <0.5 | N92: <5 | O92: 637 | P92: 3 | Q92: 120 | R92: 0.16 | S92: <0.5 | T92: 7.99 | U92: 250 | V92: 430 | W92: 1.9 | X92: 2 | Y92: 1.3
A93: X14 | B93: 40386 | C93: DUPLICATE | F93: 97 | G93: <0.5 | H93: 329 | I93: 322 | J93: <0.5 | M93: <0.5 | N93: 10 | O93: 631 | P93: 2.9 | Q93: 120 | R93: 0.16 | S93: <0.5 | T93: 8 | U93: 200 | V93: 440 | W93: 1.6 | X93: <1 | Y93: 1.4
A94: RPD (%) | D94: =IFERROR((((2*(ABS((D92-D93))))/(D93+D92))*100),Refs!$B$2) -> N/A | E94: =IFERROR((((2*(ABS((E92-E93))))/(E93+E92))*100),Refs!$B$2) -> N/A | F94: =IFERROR((((2*(ABS((F92-F93))))/(F93+F92))*100),Refs!$B$2) -> 0 | G94: =IFERROR((((2*(ABS((G92-G93))))/(G93+G92))*100),Refs!$B$2) -> N/A | H94: =IFERROR((((2*(ABS((H92-H93))))/(H93+H92))*100),Refs!$B$2) -> 2.1505376 | I94: =IFERROR((((2*(ABS((I92-I93))))/(I93+I92))*100),Refs!$B$2) -> 1.5649452 | J94: =IFERROR((((2*(ABS((J92-J93))))/(J93+J92))*100),Refs!$B$2) -> N/A | K94: =IFERROR((((2*(ABS((K92-K93))))/(K93+K92))*100),Refs!$B$2) -> N/A | ... S94: =IFERROR((((2*(ABS((S92-S93))))/(S93+S92))*100),Refs!$B$2) -> N/A | T94: =IFERROR((ABS(T93-T92)),Refs!$B$2) -> 0.01 | U94: =IFERROR((((2*(ABS((U92-U93))))/(U93+U92))*100),Refs!$B$2) -> 22.222222 | V94: =IFERROR((((2*(ABS((V92-V93))))/(V93+V92))*100),Refs!$B$2) -> 2.2988506 | W94: =IFERROR((((2*(ABS((W92-W93))))/(W93+W92))*100),Refs!$B$2) -> 17.142857 | X94: =IFERROR((((2*(ABS((X92-X93))))/(X93+X92))*100),Refs!$B$2) -> N/A | Y94: =IFERROR((((2*(ABS((Y92-Y93))))/(Y93+Y92))*100),Refs!$B$2) -> 7.4074074
A95: Comments
A96: Action
A97: Result
A98: X11 | B98: 40395 | C98: M | D98: <0.5 | E98: 33.7 | F98: 300 | G98: <0.5 | I98: 1640 | J98: 2.5 | M98: <0.5 | O98: 2540 | Q98: 370 | S98: <0.5 | T98: 7.37 | U98: 1400 | X98: 8
A99: X11 | B99: 40395 | C99: DUPLICATE | D99: <0.5 | E99: 33.9 | F99: 310 | G99: <0.5 | I99: 1570 | J99: 2.1 | M99: <0.5 | O99: 2540 | Q99: 370 | S99: <0.5 | T99: 7.37 | U99: 1400 | X99: 7
A100: RPD (%) | D100: =IFERROR((((2*(ABS((D98-D99))))/(D99+D98))*100),Refs!$B$2) -> N/A | E100: =IFERROR((((2*(ABS((E98-E99))))/(E99+E98))*100),Refs!$B$2) -> 0.59171598 | F100: =IFERROR((((2*(ABS((F98-F99))))/(F99+F98))*100),Refs!$B$2) -> 3.2786885 | G100: =IFERROR((((2*(ABS((G98-G99))))/(G99+G98))*100),Refs!$B$2) -> N/A | H100: =IFERROR((((2*(ABS((H98-H99))))/(H99+H98))*100),Refs!$B$2) -> N/A | I100: =IFERROR((((2*(ABS((I98-I99))))/(I99+I98))*100),Refs!$B$2) -> 4.3613707 | J100: =IFERROR((((2*(ABS((J98-J99))))/(J99+J98))*100),Refs!$B$2) -> 17.391304 | K100: =IFERROR((((2*(ABS((K98-K99))))/(K99+K98))*100),Refs!$B$2) -> N/A | ... S100: =IFERROR((((2*(ABS((S98-S99))))/(S99+S98))*100),Refs!$B$2) -> N/A | T100: =IFERROR((ABS(T99-T98)),Refs!$B$2) -> 0 | U100: =IFERROR((((2*(ABS((U98-U99))))/(U99+U98))*100),Refs!$B$2) -> 0 | V100: =IFERROR((((2*(ABS((V98-V99))))/(V99+V98))*100),Refs!$B$2) -> N/A | W100: =IFERROR((((2*(ABS((W98-W99))))/(W99+W98))*100),Refs!$B$2) -> N/A | X100: =IFERROR((((2*(ABS((X98-X99))))/(X99+X98))*100),Refs!$B$2) -> 13.333333 | Y100: =IFERROR((((2*(ABS((Y98-Y99))))/(Y99+Y98))*100),Refs!$B$2) -> N/A
A101: Comments
A102: Action
A103: Result
A104: A30 | B104: 40395 | C104: M | D104: <0.5 | E104: 21 | F104: 13 | G104: <0.5 | I104: 116 | J104: <0.5 | M104: <0.5 | O104: 312 | Q104: 15 | S104: <0.5 | T104: 6.75 | U104: 130 | X104: <1
...

Sheet Diss. Metals
D1: Ag-d | E1: Al-d | F1: As-d | G1: Ba-d | H1: B-d | I1: Be-d | J1: Bi-d | K1: Ca-d | L1: Cd-d | M1: Co-d | N1: Cr-d | O1: Cu-d | P1: Fe-d | Q1: Hg-d | R1: K-d | S1: Li-d | T1: Mg-d | U1: Mn-d | V1: Mo-d | W1: Na-d | X1: Ni-d | Y1: Pb-d | Z1: Sb-d | AA1: S-d | AB1: Se-d | AC1: Si-d | AD1: Sn-d | AE1: Sr-d | AF1: Ti-d | AG1: Tl-d | AH1: U-d | AI1: V-d | AJ1: Zn-d | AK1: Zr-d
A2: Station | B2: Date | C2: Sample Type | D2: µg/L | E2: µg/L | F2: µg/L | G2: µg/L | H2: µg/L | I2: µg/L | J2: µg/L | K2: mg/L | L2: µg/L | M2: µg/L | N2: µg/L | O2: µg/L | P2: µg/L | Q2: µg/L | R2: mg/L | S2: mg/L | T2: mg/L | U2: µg/L | V2: µg/L | W2: mg/L | X2: µg/L | Y2: µg/L | Z2: µg/L | AA2: mg/L | AB2: µg/L | AC2: µg/L | AD2: µg/L | AE2: µg/L | AF2: µg/L | AG2: µg/L | AH2: µg/L | AI2: µg/L | AJ2: µg/L | AK2: µg/L
A3: X10 | B3: 40189.545 | C3: M | D3: <0.005 | E3: 1.7 | F3: 0.14 | G3: 69.8 | H3: <50.0 | I3: <0.01 | J3: <0.005 | K3: 47.3 | L3: 0.015 | M3: 0.054 | N3: <0.1 | O3: 0.41 | P3: 34 | R3: 1.14 | S3: 0.0068 | T3: 11.5 | U3: 25.5 | V3: 0.67 | W3: 3.06 | X3: 0.79 | Y3: 0.202 | Z3: 0.07 | AA3: 11 | AB3: 0.42 | AC3: 6080 | AD3: <0.01 | AE3: 192 | AF3: <0.5 | AG3: <0.002 | AH3: 2.54 | AI3: <0.2 | AJ3: 43.6 | AK3: <0.1
A4: X10 | B4: 40189.604 | C4: DUPLICATE | D4: <0.005 | E4: 1.1 | F4: 0.16 | G4: 69.4 | H4: <50.0 | I4: <0.01 | J4: <0.005 | K4: 47.2 | L4: 0.012 | M4: 0.049 | N4: <0.1 | O4: 0.37 | P4: 32 | R4: 1.12 | S4: 0.0066 | T4: 11.3 | U4: 24.2 | V4: 0.69 | W4: 3.02 | X4: 0.75 | Y4: 0.077 | Z4: 0.08 | AA4: 10 | AB4: 0.42 | AC4: 5670 | AD4: <0.01 | AE4: 187 | AF4: <0.5 | AG4: <0.002 | AH4: 2.57 | AI4: <0.2 | AJ4: 42.8 | AK4: <0.1
A5: RPD (%) | D5: =IFERROR((((2*(ABS((D3-D4))))/(D4+D3))*100),Refs!$C$7) -> N/A | E5: =IFERROR((((2*(ABS((E3-E4))))/(E4+E3))*100),Refs!$C$7) -> 42.857143 | F5: =IFERROR((((2*(ABS((F3-F4))))/(F4+F3))*100),Refs!$C$7) -> 13.333333 | G5: =IFERROR((((2*(ABS((G3-G4))))/(G4+G3))*100),Refs!$C$7) -> 0.57471264 | H5: =IFERROR((((2*(ABS((H3-H4))))/(H4+H3))*100),Refs!$C$7) -> N/A | I5: =IFERROR((((2*(ABS((I3-I4))))/(I4+I3))*100),Refs!$C$7) -> N/A | J5: =IFERROR((((2*(ABS((J3-J4))))/(J4+J3))*100),Refs!$C$7) -> N/A | K5: =IFERROR((((2*(ABS((K3-K4))))/(K4+K3))*100),Refs!$C$7) -> 0.21164021 | ... AK5: =IFERROR((((2*(ABS((AK3-AK4))))/(AK4+AK3))*100),Refs!$C$7) -> N/A
A6: Comments | Y6: Both values > PQL and correctly entered into emLine. Lab noted on main sample that "Dissolved greater than total. Reanalysis yields similar results."
A7: Action | Y7: Let Value Stand
A8: Result | Y8: Discrepancy between values remains.
A9: X3 | B9: 40231 | C9: M | D9: <0.005 | E9: 1.7 | F9: 0.2 | G9: 69.1 | H9: <50.0 | I9: <0.01 | J9: <0.005 | K9: 47.8 | L9: 0.011 | M9: 0.105 | N9: <0.1 | O9: 0.29 | P9: 28 | R9: 1.19 | S9: 0.0079 | T9: 10.6 | U9: 48.8 | V9: 0.75 | W9: 3.38 | X9: 0.58 | Y9: 0.041 | Z9: 0.05 | AA9: 11 | AB9: 0.39 | AC9: 6170 | AD9: <0.01 | AE9: 199 | AF9: <0.5 | AG9: <0.002 | AH9: 2.68 | AI9: <0.2 | AJ9: 20 | AK9: <0.1
A10: X3 | B10: 40231 | C10: DUPLICATE | D10: <0.005 | E10: 2.1 | F10: 0.22 | G10: 69.6 | H10: <50.0 | I10: <0.01 | J10: <0.005 | K10: 46.6 | L10: 0.011 | M10: 0.101 | N10: <0.1 | O10: 0.28 | P10: 29 | R10: 1.15 | S10: 0.0081 | T10: 10.6 | U10: 48.3 | V10: 0.79 | W10: 3.4 | X10: 0.58 | Y10: 0.088 | Z10: 0.05 | AA10: 10 | AB10: 0.41 | AC10: 5740 | AD10: <0.01 | AE10: 200 | AF10: <0.5 | AG10: <0.002 | AH10: 2.72 | AI10: <0.2 | AJ10: 20.2 | AK10: <0.1
A11: RPD (%) | D11: =IFERROR((((2*(ABS((D9-D10))))/(D10+D9))*100),Refs!$C$7) -> N/A | E11: =IFERROR((((2*(ABS((E9-E10))))/(E10+E9))*100),Refs!$C$7) -> 21.052632 | F11: =IFERROR((((2*(ABS((F9-F10))))/(F10+F9))*100),Refs!$C$7) -> 9.5238095 | G11: =IFERROR((((2*(ABS((G9-G10))))/(G10+G9))*100),Refs!$C$7) -> 0.72098053 | H11: =IFERROR((((2*(ABS((H9-H10))))/(H10+H9))*100),Refs!$C$7) -> N/A | I11: =IFERROR((((2*(ABS((I9-I10))))/(I10+I9))*100),Refs!$C$7) -> N/A | J11: =IFERROR((((2*(ABS((J9-J10))))/(J10+J9))*100),Refs!$C$7) -> N/A | K11: =IFERROR((((2*(ABS((K9-K10))))/(K10+K9))*100),Refs!$C$7) -> 2.5423729 | ... AK11: =IFERROR((((2*(ABS((AK9-AK10))))/(AK10+AK9))*100),Refs!$C$7) -> N/A
A12: Comments | Y12: Both values > PQL and correctly entered into emLine.
A13: Action | Y13: Let Value Stand
A14: Result | Y14: Discrepancy between values remains.
A15: X11 | B15: 40241 | C15: M | D15: <0.03 | E15: 4 | F15: 3.3 | G15: 51.4 | H15: <300.0 | I15: <0.05 | J15: <0.03 | K15: 519 | L15: 0.11 | M15: 33.4 | N15: <0.5 | O15: <0.3 | P15: 5800 | R15: 7.9 | S15: 0.022 | T15: 104 | U15: 28200 | V15: 0.5 | W15: 36.8 | X15: 38.5 | Y15: 2.41 | Z15: <0.1 | AA15: 526 | AB15: <0.2 | AC15: 7840 | AD15: <0.05 | AE15: 1380 | AF15: <3.0 | AG15: 0.05 | AH15: 5.88 | AI15: <1.0 | AJ15: 13.5 | AK15: <0.5
A16: X11 | B16: 40241 | C16: DUPLICATE | D16: <0.03 | E16: 3 | F16: 3.2 | G16: 51.5 | H16: <300.0 | I16: <0.05 | J16: <0.03 | K16: 496 | L16: 0.14 | M16: 32.4 | N16: <0.5 | O16: <0.3 | P16: 5700 | R16: 7.7 | S16: 0.023 | T16: 102 | U16: 27200 | V16: 0.4 | W16: 35.8 | X16: 38 | Y16: 13.4 | Z16: <0.1 | AA16: 483 | AB16: <0.2 | AC16: 7190 | AD16: <0.05 | AE16: 1370 | AF16: <3.0 | AG16: 0.05 | AH16: 6.05 | AI16: <1.0 | AJ16: 54 | AK16: <0.5
A17: RPD (%) | D17: =IFERROR((((2*(ABS((D15-D16))))/(D16+D15))*100),Refs!$C$7) -> N/A | E17: =IFERROR((((2*(ABS((E15-E16))))/(E16+E15))*100),Refs!$C$7) -> 28.571429 | F17: =IFERROR((((2*(ABS((F15-F16))))/(F16+F15))*100),Refs!$C$7) -> 3.0769231 | G17: =IFERROR((((2*(ABS((G15-G16))))/(G16+G15))*100),Refs!$C$7) -> 0.19436346 | H17: =IFERROR((((2*(ABS((H15-H16))))/(H16+H15))*100),Refs!$C$7) -> N/A | I17: =IFERROR((((2*(ABS((I15-I16))))/(I16+I15))*100),Refs!$C$7) -> N/A | J17: =IFERROR((((2*(ABS((J15-J16))))/(J16+J15))*100),Refs!$C$7) -> N/A | K17: =IFERROR((((2*(ABS((K15-K16))))/(K16+K15))*100),Refs!$C$7) -> 4.5320197 | ... AK17: =IFERROR((((2*(ABS((AK15-AK16))))/(AK16+AK15))*100),Refs!$C$7) -> N/A
A18: Comments | Y18: Both values > PQL and correctly entered into emLine. | AJ18: Both values > PQL and correctly entered into emLine.
A19: Action | Y19: Request Retest | AJ19: Request Retest
A20: Result | Y20: Retest performed, see results below. | AJ20: Retest performed, see results below.
A21: X11 Retest | B21: 40291 | C21: M | Y21: 2.65 | AJ21: 13.5
A22: X11 Retest | B22: 40291 | C22: DUPLICATE | Y22: 14.8 | AJ22: 68.9
A23: RPD (%) | D23: =IFERROR((((2*(ABS((D21-D22))))/(D22+D21))*100),Refs!$C$7) -> N/A | E23: =IFERROR((((2*(ABS((E21-E22))))/(E22+E21))*100),Refs!$C$7) -> N/A | F23: =IFERROR((((2*(ABS((F21-F22))))/(F22+F21))*100),Refs!$C$7) -> N/A | G23: =IFERROR((((2*(ABS((G21-G22))))/(G22+G21))*100),Refs!$C$7) -> N/A | H23: =IFERROR((((2*(ABS((H21-H22))))/(H22+H21))*100),Refs!$C$7) -> N/A | I23: =IFERROR((((2*(ABS((I21-I22))))/(I22+I21))*100),Refs!$C$7) -> N/A | J23: =IFERROR((((2*(ABS((J21-J22))))/(J22+J21))*100),Refs!$C$7) -> N/A | K23: =IFERROR((((2*(ABS((K21-K22))))/(K22+K21))*100),Refs!$C$7) -> N/A | ... AK23: =IFERROR((((2*(ABS((AK21-AK22))))/(AK22+AK21))*100),Refs!$C$7) -> N/A
A24: Comments | Y24: Retest for April 23 X11 sample and duplicate. Both values > PQL and correctly entered into emLine. Duplicate will be performed at X11 at next sampling event. | AJ24: Retest for April 23 X11 sample and duplicate. Both values > PQL and correctly entered into emLine. Duplicate will be performed at X11 at next sampling event.
A25: Action | Y25: Let Value Stand | AJ25: Let Value Stand
A26: Result | Y26: New values entered into emLine. | AJ26: New values entered into emLine.
A27: A30 | B27: 40265 | C27: M | D27: <0.02 | E27: 28 | F27: <0.1 | G27: 21 | H27: <50.0 | I27: <0.1 | J27: <1.0 | K27: 17.6 | L27: 2.69 | M27: 0.6 | N27: <1.0 | O27: 11.8 | P27: <5.0 | Q27: <0.02 | R27: 0.67 | S27: 0.008 | T27: 8.1 | U27: 29 | V27: <1.0 | W27: 2.2 | X27: 10 | Y27: 2.7 | Z27: <0.5 | AA27: 20 | AB27: 0.3 | AC27: 6120 | AD27: <5.0 | AE27: 79 | AF27: <5.0 | AG27: <0.05 | AH27: 0.5 | AI27: <5.0 | AJ27: 2960 | AK27: <0.5
A28: A30 | B28: 40265 | C28: DUPLICATE | D28: <0.02 | E28: 28 | F28: <0.1 | G28: 21 | H28: <50.0 | I28: <0.1 | J28: <1.0 | K28: 19.1 | L28: 2.99 | M28: 0.6 | N28: <1.0 | O28: 12.5 | P28: <5.0 | Q28: <0.02 | R28: 0.7 | S28: 0.008 | T28: 8.81 | U28: 31 | V28: <1.0 | W28: 2.35 | X28: 11 | Y28: 2.4 | Z28: <0.5 | AA28: 22 | AB28: 0.3 | AC28: 5280 | AD28: <5.0 | AE28: 79 | AF28: <5.0 | AG28: <0.05 | AH28: 0.5 | AI28: <5.0 | AJ28: 3200 | AK28: <0.5
A29: RPD (%) | D29: =IFERROR((((2*(ABS((D27-D28))))/(D28+D27))*100),Refs!$C$7) -> N/A | E29: =IFERROR((((2*(ABS((E27-E28))))/(E28+E27))*100),Refs!$C$7) -> 0 | F29: =IFERROR((((2*(ABS((F27-F28))))/(F28+F27))*100),Refs!$C$7) -> N/A | G29: =IFERROR((((2*(ABS((G27-G28))))/(G28+G27))*100),Refs!$C$7) -> 0 | H29: =IFERROR((((2*(ABS((H27-H28))))/(H28+H27))*100),Refs!$C$7) -> N/A | I29: =IFERROR((((2*(ABS((I27-I28))))/(I28+I27))*100),Refs!$C$7) -> N/A | J29: =IFERROR((((2*(ABS((J27-J28))))/(J28+J27))*100),Refs!$C$7) -> N/A | K29: =IFERROR((((2*(ABS((K27-K28))))/(K28+K27))*100),Refs!$C$7) -> 8.1743869 | ... AK29: =IFERROR((((2*(ABS((AK27-AK28))))/(AK28+AK27))*100),Refs!$C$7) -> N/A
A30: Comments
A31: Action
A32: Result
A33: X14 | B33: 40274 | C33: M | D33: <0.005 | E33: 1.2 | F33: 0.33 | G33: 60.5 | H33: <50 | I33: <0.01 | J33: <0.005 | K33: 196 | L33: 0.102 | M33: 8.93 | N33: <0.1 | O33: 0.3 | P33: 165 | R33: 3.59 | S33: 0.0133 | T33: 40.6 | U33: 7300 | V33: 0.92 | W33: 14.9 | X33: 14.9 | Y33: 0.075 | Z33: 0.09 | AA33: 173 | AB33: 0.34 | AC33: 5800 | AD33: <0.01 | AE33: 590 | AF33: 0.6 | AG33: 0.052 | AH33: 4.57 | AI33: <0.2 | AJ33: 108 | AK33: <0.1
A34: X14 | B34: 40274 | C34: DUPLICATE | D34: <0.005 | E34: 1 | F34: 0.34 | G34: 61.6 | H34: <50 | I34: <0.01 | J34: <0.005 | K34: 192 | L34: 0.088 | M34: 8.94 | N34: <0.1 | O34: 0.27 | P34: 206 | R34: 3.52 | S34: 0.0135 | T34: 40.3 | U34: 7200 | V34: 1 | W34: 14.9 | X34: 15.1 | Y34: 0.049 | Z34: 0.09 | AA34: 174 | AB34: 0.35 | AC34: 5630 | AD34: <0.01 | AE34: 593 | AF34: <0.5 | AG34: 0.058 | AH34: 4.56 | AI34: <0.2 | AJ34: 109 | AK34: <0.1
A35: RPD (%) | D35: =IFERROR((((2*(ABS((D33-D34))))/(D34+D33))*100),Refs!$C$7) -> N/A | E35: =IFERROR((((2*(ABS((E33-E34))))/(E34+E33))*100),Refs!$C$7) -> 18.181818 | F35: =IFERROR((((2*(ABS((F33-F34))))/(F34+F33))*100),Refs!$C$7) -> 2.9850746 | G35: =IFERROR((((2*(ABS((G33-G34))))/(G34+G33))*100),Refs!$C$7) -> 1.8018018 | H35: =IFERROR((((2*(ABS((H33-H34))))/(H34+H33))*100),Refs!$C$7) -> N/A | I35: =IFERROR((((2*(ABS((I33-I34))))/(I34+I33))*100),Refs!$C$7) -> N/A | J35: =IFERROR((((2*(ABS((J33-J34))))/(J34+J33))*100),Refs!$C$7) -> N/A | K35: =IFERROR((((2*(ABS((K33-K34))))/(K34+K33))*100),Refs!$C$7) -> 2.0618557 | ... AK35: =IFERROR((((2*(ABS((AK33-AK34))))/(AK34+AK33))*100),Refs!$C$7) -> N/A
A36: Comments
A37: Action
A38: Result
A39: X10 | B39: 40281 | C39: M | D39: <0.005 | E39: 2.1 | F39: 0.12 | G39: 69.6 | H39: <50 | I39: <0.01 | J39: <0.005 | K39: 45.1 | L39: 0.014 | M39: 0.035 | N39: <0.1 | O39: 0.35 | P39: 35 | R39: 1.1 | S39: 8.4 | T39: 10.7 | U39: 14.9 | V39: 0.8 | W39: 3.15 | X39: 0.76 | Y39: 0.412 | Z39: 0.07 | AA39: 11 | AB39: 0.46 | AC39: 4940 | AD39: 0.02 | AE39: 208 | AF39: <0.5 | AG39: 0.003 | AH39: 3.01 | AI39: <0.2 | AJ39: 43.4 | AK39: <0.1
B40: 40281 | C40: DUPLICATE | D40: <0.005 | E40: 1.6 | F40: 0.11 | G40: 67.6 | H40: <50 | I40: <0.01 | J40: <0.005 | K40: 44.8 | L40: 0.012 | M40: 0.037 | N40: <0.1 | O40: 0.26 | P40: 28 | R40: 1.07 | S40: 8 | T40: 10.5 | U40: 14.1 | V40: 0.81 | W40: 3.06 | X40: 0.65 | Y40: 0.233 | Z40: 0.07 | AA40: <10 | AB40: 0.44 | AC40: 4990 | AD40: <0.01 | AE40: 203 | AF40: <0.5 | AG40: <0.002 | AH40: 2.99 | AI40: <0.2 | AJ40: 40.9 | AK40: <0.1
A41: RPD (%) | D41: =IFERROR((((2*(ABS((D39-D40))))/(D40+D39))*100),Refs!$C$7) -> N/A | E41: =IFERROR((((2*(ABS((E39-E40))))/(E40+E39))*100),Refs!$C$7) -> 27.027027 | F41: =IFERROR((((2*(ABS((F39-F40))))/(F40+F39))*100),Refs!$C$7) -> 8.6956522 | G41: =IFERROR((((2*(ABS((G39-G40))))/(G40+G39))*100),Refs!$C$7) -> 2.9154519 | H41: =IFERROR((((2*(ABS((H39-H40))))/(H40+H39))*100),Refs!$C$7) -> N/A | I41: =IFERROR((((2*(ABS((I39-I40))))/(I40+I39))*100),Refs!$C$7) -> N/A | J41: =IFERROR((((2*(ABS((J39-J40))))/(J40+J39))*100),Refs!$C$7) -> N/A | K41: =IFERROR((((2*(ABS((K39-K40))))/(K40+K39))*100),Refs!$C$7) -> 0.66740823 | ... AK41: =IFERROR((((2*(ABS((AK39-AK40))))/(AK40+AK39))*100),Refs!$C$7) -> N/A
A42: Comments | Y42: Both values > PQL and correctly entered into emLine.
A43: Action | Y43: Let Value Stand
A44: Result | Y44: Discrepancy between values remains.
A45: X5P | B45: 40301 | C45: M | D45: <0.005 | E45: 2 | F45: 0.09 | G45: 20.1 | H45: <50 | I45: <0.01 | J45: 0.017 | K45: 169 | L45: 0.056 | M45: 1.76 | N45: <0.1 | O45: 0.29 | P45: 7 | R45: 2.81 | S45: 0.0136 | T45: 16.7 | U45: 1100 | V45: 0.49 | W45: 7.75 | X45: 3.18 | Y45: 0.196 | Z45: 0.15 | AA45: 166 | AB45: 0.15 | AC45: 1460 | AD45: <0.01 | AE45: 484 | AF45: <3 | AG45: 0.33 | AH45: 1.8 | AI45: <1 | AJ45: 216 | AK45: <0.5
A46: X5P | B46: 40301 | C46: DUPLICATE | D46: <0.005 | E46: 3.3 | F46: 0.1 | G46: 21.2 | H46: <50 | I46: <0.01 | J46: <0.005 | K46: 147 | L46: 0.057 | M46: 2.01 | N46: <0.1 | O46: 0.41 | P46: 10 | R46: 2.47 | S46: 0.0127 | T46: 16.2 | U46: 1230 | V46: 0.49 | W46: 7.18 | X46: 3.52 | Y46: 0.397 | Z46: 0.15 | AA46: 145 | AB46: 0.14 | AC46: 1380 | AD46: <0.01 | AE46: 446 | AF46: <3 | AG46: 0.36 | AH46: 1.83 | AI46: <1 | AJ46: 223 | AK46: <0.5
A47: RPD (%) | D47: =IFERROR((((2*(ABS((D45-D46))))/(D46+D45))*100),Refs!$C$7) -> N/A | E47: =IFERROR((((2*(ABS((E45-E46))))/(E46+E45))*100),Refs!$C$7) -> 49.056604 | F47: =IFERROR((((2*(ABS((F45-F46))))/(F46+F45))*100),Refs!$C$7) -> 10.526316 | G47: =IFERROR((((2*(ABS((G45-G46))))/(G46+G45))*100),Refs!$C$7) -> 5.3268765 | H47: =IFERROR((((2*(ABS((H45-H46))))/(H46+H45))*100),Refs!$C$7) -> N/A | I47: =IFERROR((((2*(ABS((I45-I46))))/(I46+I45))*100),Refs!$C$7) -> N/A | J47: =IFERROR((((2*(ABS((J45-J46))))/(J46+J45))*100),Refs!$C$7) -> N/A | K47: =IFERROR((((2*(ABS((K45-K46))))/(K46+K45))*100),Refs!$C$7) -> 13.924051 | ... AK47: =IFERROR((((2*(ABS((AK45-AK46))))/(AK46+AK45))*100),Refs!$C$7) -> N/A
A48: Comments | Y48: Both values > PQL and correctly entered into emLine.
A49: Action | Y49: Let Value Stand
A50: Result | Y50: Discrepancy between values remains.
A51: X5 | B51: 40323 | C51: M | D51: <0.03 | E51: 4 | F51: <0.1 | G51: 18.3 | H51: <300 | I51: <0.05 | J51: <0.03 | K51: 238 | L51: 0.16 | M51: 11.2 | N51: <0.5 | O51: <0.3 | P51: 27 | R51: 4.6 | S51: 0.025 | T51: 53.1 | U51: 6270 | V51: 0.4 | W51: 16.6 | X51: 17 | Y51: 0.66 | Z51: <0.1 | AA51: 273 | AB51: <0.2 | AC51: 2740 | AD51: <0.05 | AE51: 669 | AF51: <3 | AG51: 0.33 | AH51: 1.8 | AI51: <1 | AJ51: 216 | AK51: <0.5
A52: X5 | B52: 40323 | C52: DUPLICATE | D52: <0.03 | E52: 7 | F52: 0.2 | G52: 18.7 | H52: <300 | I52: <0.05 | J52: <0.03 | K52: 245 | L52: 0.14 | M52: 11.1 | N52: <0.5 | O52: 0.5 | P52: 35 | R52: 4.8 | S52: 0.026 | T52: 55.4 | U52: 6330 | V52: <0.3 | W52: 17 | X52: 16.6 | Y52: 0.57 | Z52: <0.1 | AA52: 269 | AB52: <0.2 | AC52: 2780 | AD52: <0.05 | AE52: 684 | AF52: <3 | AG52: 0.36 | AH52: 1.83 | AI52: <1 | AJ52: 223 | AK52: <0.5
A53: RPD (%) | D53: =IFERROR((((2*(ABS((D51-D52))))/(D52+D51))*100),Refs!$C$7) -> N/A | E53: =IFERROR((((2*(ABS((E51-E52))))/(E52+E51))*100),Refs!$C$7) -> 54.545455 | F53: =IFERROR((((2*(ABS((F51-F52))))/(F52+F51))*100),Refs!$C$7) -> N/A | G53: =IFERROR((((2*(ABS((G51-G52))))/(G52+G51))*100),Refs!$C$7) -> 2.1621622 | H53: =IFERROR((((2*(ABS((H51-H52))))/(H52+H51))*100),Refs!$C$7) -> N/A | I53: =IFERROR((((2*(ABS((I51-I52))))/(I52+I51))*100),Refs!$C$7) -> N/A | J53: =IFERROR((((2*(ABS((J51-J52))))/(J52+J51))*100),Refs!$C$7) -> N/A | K53: =IFERROR((((2*(ABS((K51-K52))))/(K52+K51))*100),Refs!$C$7) -> 2.8985507 | ... AK53: =IFERROR((((2*(ABS((AK51-AK52))))/(AK52+AK51))*100),Refs!$C$7) -> N/A
A54: Comments | E54: Both values correctly entered into emLine; however, main sample value not > PQL. Therefore, RPD analysis not valid in this case.
A55: Action | E55: Let Value Stand
A56: Result | E56: Discrepancy between values remains.
E57: RPD > 50%
E58: RPD > 100%
A66: X14 | B66: 40330 | C66: M | D66: <0.005 | E66: 18.4 | F66: 0.32 | G66: 28.5 | H66: <50 | I66: <0.01 | J66: 0.014 | K66: 38.7 | L66: 0.028 | M66: 1.47 | N66: <0.1 | O66: 0.77 | P66: 138 | R66: 0.96 | S66: 0.0039 | T66: 8.69 | U66: 984 | V66: 0.3 | W66: 2.9 | X66: 2.7 | Y66: 1.82 | Z66: 0.07 | AA66: 30 | AB66: 0.13 | AC66: 3460 | AD66: <0.01 | AE66: 138 | AF66: <0.5 | AG66: 0.031 | AH66: 0.796 | AI66: <0.2 | AJ66: 30.8 | AK66: <0.1
A67: X14 | B67: 40330 | C67: DUPLICATE | D67: <0.005 | E67: 18.4 | F67: 0.31 | G67: 28.3 | H67: <50 | I67: <0.01 | J67: 0.014 | K67: 38.5 | L67: 0.022 | M67: 1.49 | N67: <0.1 | O67: 2 | P67: 124 | R67: 0.94 | S67: 0.0038 | T67: 8.7 | U67: 972 | V67: 0.31 | W67: 2.86 | X67: 2.75 | Y67: 0.887 | Z67: 0.07 | AA67: 28 | AB67: 0.12 | AC67: 3370 | AD67: <0.01 | AE67: 138 | AF67: <0.5 | AG67: 0.029 | AH67: 0.78 | AI67: <0.2 | AJ67: 29.9 | AK67: <0.1
A68: RPD (%) | D68: =IFERROR((((2*(ABS((D66-D67))))/(D67+D66))*100),Refs!$C$7) -> N/A | E68: =IFERROR((((2*(ABS((E66-E67))))/(E67+E66))*100),Refs!$C$7) -> 0 | F68: =IFERROR((((2*(ABS((F66-F67))))/(F67+F66))*100),Refs!$C$7) -> 3.1746032 | G68: =IFERROR((((2*(ABS((G66-G67))))/(G67+G66))*100),Refs!$C$7) -> 0.70422535 | H68: =IFERROR((((2*(ABS((H66-H67))))/(H67+H66))*100),Refs!$C$7) -> N/A | I68: =IFERROR((((2*(ABS((I66-I67))))/(I67+I66))*100),Refs!$C$7) -> N/A | J68: =IFERROR((((2*(ABS((J66-J67))))/(J67+J66))*100),Refs!$C$7) -> 0 | K68: =IFERROR((((2*(ABS((K66-K67))))/(K67+K66))*100),Refs!$C$7) -> 0.51813472 | ... AK68: =IFERROR((((2*(ABS((AK66-AK67))))/(AK67+AK66))*100),Refs!$C$7) -> N/A
A69: Comments | O69: Both values > PQL and correctly entered into emLine. Lab noted on duplicate sample that "Dissolved greater than total. Reanalysis yields similar results." | Y69: Both values > PQL and correctly entered into emLine. Lab noted on main sample that "Dissolved greater than total. Reanalysis yields similar results."
A70: Action | O70: Let Value Stand | Y70: Let Value Stand
A71: Result | O71: Discrepancy between values remains. | Y71: Discrepancy between values remains.
A72: X3 | B72: 40333 | C72: M | D72: <0.005 | E72: 23.8 | F72: 0.32 | G72: 23.8 | H72: <50 | I72: <0.01 | J72: <0.005 | K72: 13.1 | L72: 0.015 | M72: 0.037 | N72: <0.1 | O72: 0.74 | P72: 77 | R72: 0.54 | S72: 0.0014 | T72: 2.93 | U72: 8.85 | V72: 0.2 | W72: 1.48 | X72: 0.44 | Y72: 0.992 | Z72: 0.06 | AA72: <10 | AB72: 0.09 | AC72: 3940 | AD72: 0.02 | AE72: 58 | AF72: <0.5 | AG72: <0.002 | AH72: 0.505 | AI72: <0.2 | AJ72: 4.5 | AK72: <0.1
A73: X3 | B73: 40333 | C73: DUPLICATE | D73: <0.005 | E73: 24.4 | F73: 0.31 | G73: 24.5 | H73: <50 | I73: <0.01 | J73: 0.017 | K73: 12.7 | L73: 0.027 | M73: 0.04 | N73: <0.1 | O73: 0.94 | P73: 75 | R73: 0.54 | S73: 0.0014 | T73: 2.89 | U73: 9.16 | V73: 0.22 | W73: 1.46 | X73: 0.48 | Y73: 1.15 | Z73: 0.06 | AA73: <10 | AB73: 0.08 | AC73: 3860 | AD73: <0.01 | AE73: 59.8 | AF73: <0.5 | AG73: <0.002 | AH73: 0.503 | AI73: <0.2 | AJ73: 5 | AK73: <0.1
A74: RPD (%) | D74: =IFERROR((((2*(ABS((D72-D73))))/(D73+D72))*100),Refs!$C$7) -> N/A | E74: =IFERROR((((2*(ABS((E72-E73))))/(E73+E72))*100),Refs!$C$7) -> 2.4896266 | F74: =IFERROR((((2*(ABS((F72-F73))))/(F73+F72))*100),Refs!$C$7) -> 3.1746032 | G74: =IFERROR((((2*(ABS((G72-G73))))/(G73+G72))*100),Refs!$C$7) -> 2.8985507 | H74: =IFERROR((((2*(ABS((H72-H73))))/(H73+H72))*100),Refs!$C$7) -> N/A | I74: =IFERROR((((2*(ABS((I72-I73))))/(I73+I72))*100),Refs!$C$7) -> N/A | J74: =IFERROR((((2*(ABS((J72-J73))))/(J73+J72))*100),Refs!$C$7) -> N/A | K74: =IFERROR((((2*(ABS((K72-K73))))/(K73+K72))*100),Refs!$C$7) -> 3.1007752 | ... AK74: =IFERROR((((2*(ABS((AK72-AK73))))/(AK73+AK72))*100),Refs!$C$7) -> N/A
A75: Comments | L75: Both values correctly entered into emLine; however, main sample value not > PQL. Therefore, RPD analysis not valid in this case.
A76: Action | L76: Let Value Stand
A77: Result | L77: Discrepancy between values remains.
A78: A30 | B78: 40344 | C78: M | D78: 0.07 | E78: 599 | F78: <0.1 | G78: 20 | H78: <50 | I78: 0.6 | J78: <1 | K78: 20.3 | L78: 14 | M78: 9.1 | N78: <1 | O78: 120 | P78: 8 | R78: 0.91 | S78: 0.016 | T78: 17.3 | U78: 366 | V78: <1 | W78: 2.55 | X78: 32 | Y78: 29.9 | Z78: <0.5 | AA78: 48 | AB78: 0.2 | AC78: 7310 | AD78: <5 | AE78: 99 | AF78: <5 | AG78: <0.05 | AH78: 1.2 | AI78: <5 | AJ78: 9350 | AK78: <0.5
A79: A30 | B79: 40344 | C79: DUPLICATE | D79: 0.08 | E79: 592 | F79: <0.1 | G79: 20 | H79: <50 | I79: 0.5 | J79: <1 | K79: 20.1 | L79: 13.9 | M79: 8.9 | N79: <1 | O79: 118 | P79: 12 | R79: 0.92 | S79: 0.015 | T79: 16.8 | U79: 362 | V79: <1 | W79: 2.52 | X79: 32 | Y79: 29.9 | Z79: <0.5 | AA79: 48 | AB79: 0.2 | AC79: 7350 | AD79: <5 | AE79: 96 | AF79: <5 | AG79: <0.05 | AH79: 1.2 | AI79: <5 | AJ79: 9240 | AK79: <0.5
A80: RPD (%) | D80: =IFERROR((((2*(ABS((D78-D79))))/(D79+D78))*100),Refs!$C$7) -> 13.333333 | E80: =IFERROR((((2*(ABS((E78-E79))))/(E79+E78))*100),Refs!$C$7) -> 1.1754828 | F80: =IFERROR((((2*(ABS((F78-F79))))/(F79+F78))*100),Refs!$C$7) -> N/A | G80: =IFERROR((((2*(ABS((G78-G79))))/(G79+G78))*100),Refs!$C$7) -> 0 | H80: =IFERROR((((2*(ABS((H78-H79))))/(H79+H78))*100),Refs!$C$7) -> N/A | I80: =IFERROR((((2*(ABS((I78-I79))))/(I79+I78))*100),Refs!$C$7) -> 18.181818 | J80: =IFERROR((((2*(ABS((J78-J79))))/(J79+J78))*100),Refs!$C$7) -> N/A | K80: =IFERROR((((2*(ABS((K78-K79))))/(K79+K78))*100),Refs!$C$7) -> 0.99009901 | ... AK80: =IFERROR((((2*(ABS((AK78-AK79))))/(AK79+AK78))*100),Refs!$C$7) -> N/A
A81: Comments
A82: Action
A83: Result
A84: X14 | B84: 40344 | C84: M | D84: <0.005 | E84: 8.4 | F84: 0.34 | G84: 33.5 | H84: <50 | I84: <0.01 | J84: <0.005 | K84: 60.9 | L84: 0.04 | M84: 2.7 | N84: <0.1 | O84: 0.57 | P84: 173 | Q84: <0.01 | R84: 1.35 | S84: 0.0061 | T84: 14.3 | U84: 1710 | V84: 0.35 | W84: 4.62 | X84: 4.48 | Y84: 0.448 | Z84: 0.08 | AA84: 53 | AB84: 0.18 | AC84: 4090 | AD84: <0.01 | AE84: 199 | AF84: <0.5 | AG84: 0.051 | AH84: 1.15 | AI84: <0.2 | AJ84: 46 | AK84: <0.1
A85: X14 | B85: 40344 | C85: DUPLICATE | D85: <0.005 | E85: 8.2 | F85: 0.33 | G85: 33.1 | H85: <50 | I85: <0.01 | J85: <0.005 | K85: 60.7 | L85: 0.035 | M85: 2.65 | N85: <0.1 | O85: 0.6 | P85: 181 | Q85: <0.01 | R85: 1.32 | S85: 0.006 | T85: 14.2 | U85: 1710 | V85: 0.33 | W85: 4.6 | X85: 4.45 | Y85: 0.376 | Z85: 0.08 | AA85: 53 | AB85: 0.19 | AC85: 4020 | AD85: <0.01 | AE85: 203 | AF85: <0.5 | AG85: 0.051 | AH85: 1.11 | AI85: <0.2 | AJ85: 44.4 | AK85: <0.1
A86: RPD (%) | D86: =IFERROR((((2*(ABS((D84-D85))))/(D85+D84))*100),Refs!$C$7) -> N/A | E86: =IFERROR((((2*(ABS((E84-E85))))/(E85+E84))*100),Refs!$C$7) -> 2.4096386 | F86: =IFERROR((((2*(ABS((F84-F85))))/(F85+F84))*100),Refs!$C$7) -> 2.9850746 | G86: =IFERROR((((2*(ABS((G84-G85))))/(G85+G84))*100),Refs!$C$7) -> 1.2012012 | H86: =IFERROR((((2*(ABS((H84-H85))))/(H85+H84))*100),Refs!$C$7) -> N/A | I86: =IFERROR((((2*(ABS((I84-I85))))/(I85+I84))*100),Refs!$C$7) -> N/A | J86: =IFERROR((((2*(ABS((J84-J85))))/(J85+J84))*100),Refs!$C$7) -> N/A | K86: =IFERROR((((2*(ABS((K84-K85))))/(K85+K84))*100),Refs!$C$7) -> 0.32894737 | ... AK86: =IFERROR((((2*(ABS((AK84-AK85))))/(AK85+AK84))*100),Refs!$C$7) -> N/A
A87: Comments
A88: Action
A89: Result
A90: R7 | B90: 40367 | C90: M | D90: <0.005 | E90: 15.6 | F90: 0.55 | G90: 38.8 | H90: <50 | I90: <0.01 | J90: 0.01 | K90: 17.8 | L90: 0.02 | M90: 0.032 | N90: <0.1 | O90: 0.59 | P90: 92 | R90: 0.41 | S90: 0.0023 | T90: 3.57 | U90: 11.7 | V90: 0.35 | W90: 1.52 | X90: 0.34 | Y90: 1.8 | Z90: 0.09 | AA90: <10 | AB90: 0.18 | AC90: 4220 | AD90: <0.01 | AE90: 79.4 | AF90: <0.5 | AG90: 0.003 | AH90: 0.656 | AI90: <0.2 | AJ90: 5.2 | AK90: <0.1
A91: R7 | B91: 40367 | C91: DUPLICATE | D91: <0.005 | E91: 14.6 | F91: 0.5 | G91: 37.8 | H91: <50 | I91: <0.01 | J91: 0.041 | K91: 17.3 | L91: 0.027 | M91: 0.033 | N91: <0.1 | O91: 0.61 | P91: 90 | R91: 0.42 | S91: 0.0022 | T91: 3.47 | U91: 11.5 | V91: 0.35 | W91: 1.46 | X91: 0.28 | Y91: 1.95 | Z91: 0.08 | AA91: <10 | AB91: 0.17 | AC91: 4090 | AD91: <0.01 | AE91: 78.4 | AF91: <0.5 | AG91: 0.003 | AH91: 0.65 | AI91: <0.2 | AJ91: 5.6 | AK91: <0.1
A92: RPD (%) | D92: =IFERROR((((2*(ABS((D90-D91))))/(D91+D90))*100),Refs!$C$7) -> N/A | E92: =IFERROR((((2*(ABS((E90-E91))))/(E91+E90))*100),Refs!$C$7) -> 6.6225166 | F92: =IFERROR((((2*(ABS((F90-F91))))/(F91+F90))*100),Refs!$C$7) -> 9.5238095 | G92: =IFERROR((((2*(ABS((G90-G91))))/(G91+G90))*100),Refs!$C$7) -> 2.6109661 | H92: =IFERROR((((2*(ABS((H90-H91))))/(H91+H90))*100),Refs!$C$7) -> N/A | I92: =IFERROR((((2*(ABS((I90-I91))))/(I91+I90))*100),Refs!$C$7) -> N/A | J92: =IFERROR((((2*(ABS((J90-J91))))/(J91+J90))*100),Refs!$C$7) -> 121.56863 | K92: =IFERROR((((2*(ABS((K90-K91))))/(K91+K90))*100),Refs!$C$7) -> 2.8490028 | ... AK92: =IFERROR((((2*(ABS((AK90-AK91))))/(AK91+AK90))*100),Refs!$C$7) -> N/A
A93: Comments | J93: Both values correctly entered into emLine; however, main sample value not > PQL. Therefore, RPD analysis not valid in this case.
A94: Action | J94: Let Value Stand
A95: Result | J95: Discrepancy between values remains.
A96: NWID | B96: 40369 | C96: M | D96: <0.005 | E96: 10 | F96: 0.21 | G96: 48.6 | H96: <50 | I96: <0.01 | J96: <0.005 | K96: 48.8 | L96: 0.07 | M96: 0.045 | N96: <0.1 | O96: 1.38 | P96: 24 | R96: 1.5 | S96: 0.0053 | T96: 6.66 | U96: 3.35 | V96: 0.27 | W96: 2.86 | X96: 0.8 | Y96: 4.14 | Z96: 0.06 | AA96: 13 | AB96: 0.22 | AC96: 6720 | AD96: <0.01 | AE96: 192 | AF96: <0.5 | AG96: 0.006 | AH96: 0.995 | AI96: <0.2 | AJ96: 31.3 | AK96: <0.1
A97: NWID | B97: 40369 | C97: DUPLICATE | D97: <0.005 | E97: 8.9 | F97: 0.2 | G97: 47.2 | H97: <50 | I97: <0.01 | J97: <0.005 | K97: 47.7 | L97: 0.061 | M97: 0.031 | N97: <0.1 | O97: 1.27 | P97: 24 | R97: 1.44 | S97: 0.0053 | T97: 6.29 | U97: 0.84 | V97: 0.34 | W97: 2.7 | X97: 0.69 | Y97: 2.76 | Z97: 0.06 | AA97: 12 | AB97: 0.2 | AC97: 6770 | AD97: 0.02 | AE97: 189 | AF97: <0.5 | AG97: 0.008 | AH97: 0.96 | AI97: 0.3 | AJ97: 19.4 | AK97: <0.1
A98: RPD (%) | D98: =IFERROR((((2*(ABS((D96-D97))))/(D97+D96))*100),Refs!$C$7) -> N/A | E98: =IFERROR((((2*(ABS((E96-E97))))/(E97+E96))*100),Refs!$C$7) -> 11.640212 | F98: =IFERROR((((2*(ABS((F96-F97))))/(F97+F96))*100),Refs!$C$7) -> 4.8780488 | G98: =IFERROR((((2*(ABS((G96-G97))))/(G97+G96))*100),Refs!$C$7) -> 2.9227557 | H98: =IFERROR((((2*(ABS((H96-H97))))/(H97+H96))*100),Refs!$C$7) -> N/A | I98: =IFERROR((((2*(ABS((I96-I97))))/(I97+I96))*100),Refs!$C$7) -> N/A | J98: =IFERROR((((2*(ABS((J96-J97))))/(J97+J96))*100),Refs!$C$7) -> N/A | K98: =IFERROR((((2*(ABS((K96-K97))))/(K97+K96))*100),Refs!$C$7) -> 2.2797927 | ... AK98: =IFERROR((((2*(ABS((AK96-AK97))))/(AK97+AK96))*100),Refs!$C$7) -> N/A
A99: Comments | U99: Both values > PQL and correctly entered into emLine. Lab noted on main sample that "Dissolved greater than total. Reanalysis yields similar results."
A100: Action | U100: Let Value Stand
A101: Result | U101: Discrepancy between values remains. Retest not requested because lab already reanalyzed.
A102: X14 | B102: 40386 | C102: M | D102: <0.005 | E102: 6.7 | F102: 0.37 | G102: 42.1 | H102: <50 | I102: <0.01 | J102: <0.005 | K102: 91.2 | L102: 0.083 | M102: 4.01 | N102: <0.1 | O102: 1.52 | P102: 196 | R102: 2.29 | S102: 0.0109 | T102: 21.6 | U102: 2330 | V102: 0.51 | W102: 6.91 | X102: 6.15 | Y102: 3.28 | Z102: 0.13 | AA102: 91 | AB102: 0.18 | AC102: 4170 | AD102: 0.02 | AE102: 317 | AF102: <0.5 | AG102: 0.127 | AH102: 1.38 | AI102: <0.2 | AJ102: 72.1 | AK102: <0.1
A103: X14 | B103: 40386 | C103: DUPLICATE | D103: <0.005 | E103: 5.9 | F103: 0.38 | G103: 42.5 | H103: <50 | I103: <0.01 | J103: <0.005 | K103: 93 | L103: 0.08 | M103: 4.04 | N103: <0.1 | O103: 1.24 | P103: 215 | R103: 2.26 | S103: 0.0107 | T103: 21.9 | U103: 2340 | V103: 0.47 | W103: 6.93 | X103: 6.49 | Y103: 1.79 | Z103: 0.11 | AA103: 92 | AB103: 0.18 | AC103: 4260 | AD103: 0.02 | AE103: 315 | AF103: <0.5 | AG103: 0.123 | AH103: 1.35 | AI103: <0.2 | AJ103: 70.2 | AK103: <0.1
A104: RPD (%) | D104: =IFERROR((((2*(ABS((D102-D103))))/(D103+D102))*100),Refs!$C$7) -> N/A | E104: =IFERROR((((2*(ABS((E102-E103))))/(E103+E102))*100),Refs!$C$7) -> 12.698413 | F104: =IFERROR((((2*(ABS((F102-F103))))/(F103+F102))*100),Refs!$C$7) -> 2.6666667 | G104: =IFERROR((((2*(ABS((G102-G103))))/(G103+G102))*100),Refs!$C$7) -> 0.94562648 | H104: =IFERROR((((2*(ABS((H102-H103))))/(H103+H102))*100),Refs!$C$7) -> N/A | I104: =IFERROR((((2*(ABS((I102-I103))))/(I103+I102))*100),Refs!$C$7) -> N/A | J104: =IFERROR((((2*(ABS((J102-J103))))/(J103+J102))*100),Refs!$C$7) -> N/A | K104: =IFERROR((((2*(ABS((K102-K103))))/(K103+K102))*100),Refs!$C$7) -> 1.9543974 | ... AK104: =IFERROR((((2*(ABS((AK102-AK103))))/(AK103+AK102))*100),Refs!$C$7) -> N/A
A105: Comments | Y105: Both values > PQL and correctly entered into emLine. Lab noted on both samples that "Dissolved greater than total. Reanalysis yields similar results."
A106: Action | Y106: Let Value Stand
A107: Result | Y107: Discrepancy between values remains.
...

Sheet Total Metals
D1: Ag | E1: Al | F1: As | G1: B | H1: Ba | I1: Be | J1: Bi | K1: Ca | L1: Cd | M1: Co | N1: Cr | O1: Cu | P1: Fe | Q1: Hg | R1: K | S1: Li | T1: Mg | U1: Mn | V1: Mo | W1: Na | X1: Ni | Y1: Pb | Z1: S | AA1: Sb | AB1: Se | AC1: Si | AD1: Sn | AE1: Sr | AF1: Ti | AG1: Tl | AH1: U | AI1: V | AJ1: Zn | AK1: Zr
A2: Station | B2: Date | C2: Sample Type | D2: µg/L | E2: µg/L | F2: µg/L | G2: µg/L | H2: µg/L | I2: µg/L | J2: µg/L | K2: mg/L | L2: µg/L | M2: ug/L | N2: µg/L | O2: µg/L | P2: µg/L | Q2: µg/L | R2: mg/L | S2: mg/L | T2: mg/L | U2: µg/L | V2: µg/L | W2: mg/L | X2: µg/L | Y2: µg/L | Z2: mg/L | AA2: µg/L | AB2: µg/L | AC2: µg/L | AD2: µg/L | AE2: µg/L | AF2: µg/L | AG2: µg/L | AH2: µg/L | AI2: µg/L | AJ2: µg/L | AK2: µg/L
A3: X10 | B3: 40189.545 | C3: M | D3: <0.005 | E3: 3.1 | F3: 0.19 | G3: <50 | H3: 70.6 | I3: <0.01 | J3: <0.005 | K3: 47.1 | L3: 0.016 | M3: 0.049 | N3: <0.1 | O3: 0.37 | P3: 104 | R3: 1.12 | S3: 0.0066 | T3: 11.5 | U3: 26.4 | V3: 0.67 | W3: 3.03 | X3: 0.79 | Y3: 0.145 | Z3: 11 | AA3: 0.07 | AB3: 0.42 | AC3: 5850 | AD3: <0.01 | AE3: 192 | AF3: <0.5 | AG3: <0.002 | AH3: 2.53 | AI3: <0.2 | AJ3: 44.7 | AK3: <0.1
A4: X10 | B4: 40189.604 | C4: DUPLICATE | D4: <0.005 | E4: 2.7 | F4: 0.18 | G4: <50 | H4: 70.8 | I4: <0.01 | J4: <0.005 | K4: 47.8 | L4: 0.009 | M4: 0.053 | N4: <0.1 | O4: 0.38 | P4: 104 | R4: 1.14 | S4: 0.0067 | T4: 11.3 | U4: 26.1 | V4: 0.69 | W4: 3.01 | X4: 0.77 | Y4: 0.223 | Z4: 11 | AA4: 0.07 | AB4: 0.43 | AC4: 5870 | AD4: <0.01 | AE4: 192 | AF4: <0.5 | AG4: <0.002 | AH4: 2.51 | AI4: <0.2 | AJ4: 45.2 | AK4: <0.1
A5: RPD (%) | D5: =IFERROR((((2*(ABS((D3-D4))))/(D4+D3))*100),Refs!$C$13) -> N/A | E5: =IFERROR((((2*(ABS((E3-E4))))/(E4+E3))*100),Refs!$C$13) -> 13.793103 | F5: =IFERROR((((2*(ABS((F3-F4))))/(F4+F3))*100),Refs!$C$13) -> 5.4054054 | G5: =IFERROR((((2*(ABS((G3-G4))))/(G4+G3))*100),Refs!$C$13) -> N/A | H5: =IFERROR((((2*(ABS((H3-H4))))/(H4+H3))*100),Refs!$C$13) -> 0.28288543 | I5: =IFERROR((((2*(ABS((I3-I4))))/(I4+I3))*100),Refs!$C$13) -> N/A | J5: =IFERROR((((2*(ABS((J3-J4))))/(J4+J3))*100),Refs!$C$13) -> N/A | K5: =IFERROR((((2*(ABS((K3-K4))))/(K4+K3))*100),Refs!$C$13) -> 1.4752371 | ... AK5: =IFERROR((((2*(ABS((AK3-AK4))))/(AK4+AK3))*100),Refs!$C$13) -> N/A
A6: Comments | L6: Both values correctly entered into emLine; however, neither value > PQL. Therefore, RPD analysis not valid in this case.
A7: Action | L7: Let Value Stand
A8: Result | L8: Discrepancy between values remains.
A9: X3 | B9: 40231 | C9: M | D9: <0.005 | E9: 2.8 | F9: 0.29 | G9: <50 | H9: 69.6 | I9: <0.01 | J9: <0.005 | K9: 47.6 | L9: 0.012 | M9: 0.118 | N9: <0.1 | O9: 0.4 | P9: 72 | R9: 1.19 | S9: 0.0079 | T9: 10.9 | U9: 50.4 | V9: 0.73 | W9: 3.47 | X9: 0.62 | Y9: 0.11 | Z9: 12 | AA9: 0.06 | AB9: 0.41 | AC9: 6350 | AD9: <0.01 | AE9: 199 | AF9: <0.5 | AG9: <0.002 | AH9: 2.78 | AI9: <0.2 | AJ9: 20 | AK9: <0.1
A10: X3 | B10: 40231 | C10: DUPLICATE | D10: <0.005 | E10: 3.1 | F10: 0.31 | G10: <50 | H10: 71.4 | I10: <0.01 | J10: <0.005 | K10: 47.7 | L10: 0.012 | M10: 0.105 | N10: <0.1 | O10: 0.29 | P10: 74 | R10: 1.18 | S10: 0.0079 | T10: 10.9 | U10: 50.3 | V10: 0.75 | W10: 3.43 | X10: 0.64 | Y10: 0.126 | Z10: 11 | AA10: 0.06 | AB10: 0.41 | AC10: 6390 | AD10: <0.01 | AE10: 199 | AF10: <0.5 | AG10: <0.002 | AH10: 2.82 | AI10: <0.2 | AJ10: 20.3 | AK10: <0.1
A11: RPD (%) | D11: =IFERROR((((2*(ABS((D9-D10))))/(D10+D9))*100),Refs!$C$13) -> N/A | E11: =IFERROR((((2*(ABS((E9-E10))))/(E10+E9))*100),Refs!$C$13) -> 10.169492 | F11: =IFERROR((((2*(ABS((F9-F10))))/(F10+F9))*100),Refs!$C$13) -> 6.6666667 | G11: =IFERROR((((2*(ABS((G9-G10))))/(G10+G9))*100),Refs!$C$13) -> N/A | H11: =IFERROR((((2*(ABS((H9-H10))))/(H10+H9))*100),Refs!$C$13) -> 2.5531915 | I11: =IFERROR((((2*(ABS((I9-I10))))/(I10+I9))*100),Refs!$C$13) -> N/A | J11: =IFERROR((((2*(ABS((J9-J10))))/(J10+J9))*100),Refs!$C$13) -> N/A | K11: =IFERROR((((2*(ABS((K9-K10))))/(K10+K9))*100),Refs!$C$13) -> 0.20986359 | ... AK11: =IFERROR((((2*(ABS((AK9-AK10))))/(AK10+AK9))*100),Refs!$C$13) -> N/A
A12: Comments
A13: Action
A14: Result
A15: X14 | B15: 40274 | C15: M | D15: <0.005 | E15: 2.6 | F15: 0.42 | G15: <50 | H15: 58.8 | I15: <0.01 | J15: <0.005 | K15: 193 | L15: 0.095 | M15: 8.96 | N15: 0.2 | O15: 0.32 | P15: 442 | R15: 3.49 | S15: 0.0134 | T15: 41.2 | U15: 7240 | V15: 0.95 | W15: 15.1 | X15: 15.2 | Y15: 0.129 | Z15: 184 | AA15: 0.09 | AB15: 0.36 | AC15: 6070 | AD15: <0.01 | AE15: 585 | AF15: <0.5 | AG15: 0.054 | AH15: 4.46 | AI15: <0.2 | AJ15: 110 | AK15: <0.1
A16: X14 | B16: 40274 | C16: DUPLICATE | D16: <0.005 | E16: 2.9 | F16: 0.39 | G16: <50 | H16: 58.6 | I16: <0.01 | J16: <0.005 | K16: 187 | L16: 0.086 | M16: 8.76 | N16: <0.1 | O16: 0.3 | P16: 399 | R16: 3.33 | S16: 0.0133 | T16: 40.2 | U16: 6990 | V16: 0.91 | W16: 14.6 | X16: 15.2 | Y16: 0.138 | Z16: 177 | AA16: 0.09 | AB16: 0.35 | AC16: 5780 | AD16: <0.01 | AE16: 568 | AF16: <0.5 | AG16: 0.052 | AH16: 4.39 | AI16: <0.2 | AJ16: 110 | AK16: <0.1
A17: RPD (%) | D17: =IFERROR((((2*(ABS((D15-D16))))/(D16+D15))*100),Refs!$C$13) -> N/A | E17: =IFERROR((((2*(ABS((E15-E16))))/(E16+E15))*100),Refs!$C$13) -> 10.909091 | F17: =IFERROR((((2*(ABS((F15-F16))))/(F16+F15))*100),Refs!$C$13) -> 7.4074074 | G17: =IFERROR((((2*(ABS((G15-G16))))/(G16+G15))*100),Refs!$C$13) -> N/A | H17: =IFERROR((((2*(ABS((H15-H16))))/(H16+H15))*100),Refs!$C$13) -> 0.3407155 | I17: =IFERROR((((2*(ABS((I15-I16))))/(I16+I15))*100),Refs!$C$13) -> N/A | J17: =IFERROR((((2*(ABS((J15-J16))))/(J16+J15))*100),Refs!$C$13) -> N/A | K17: =IFERROR((((2*(ABS((K15-K16))))/(K16+K15))*100),Refs!$C$13) -> 3.1578947 | ... AK17: =IFERROR((((2*(ABS((AK15-AK16))))/(AK16+AK15))*100),Refs!$C$13) -> N/A
A18: Comments
A19: Action
A20: Result
A21: X10 | B21: 40281 | C21: M | D21: <0.005 | E21: 3.8 | F21: 0.18 | G21: <50 | H21: 71.3 | I21: <0.01 | J21: <0.005 | K21: 47.6 | L21: 0.02 | M21: 0.041 | N21: <0.1 | O21: 0.32 | P21: 91 | R21: 1.16 | S21: 0.008 | T21: 10.5 | U21: 16 | V21: 0.79 | W21: 2.99 | X21: 0.66 | Y21: 0.572 | Z21: 11 | AA21: 0.07 | AB21: 0.4 | AC21: 5480 | AD21: <0.01 | AE21: 204 | AF21: <0.5 | AG21: <0.002 | AH21: 2.92 | AI21: <0.2 | AJ21: 45.7 | AK21: <0.1
A22: X10 | B22: 40281 | C22: DUPLICATE | D22: <0.005 | E22: 4.1 | F22: 0.17 | G22: <50 | H22: 70.5 | I22: <0.01 | J22: <0.005 | K22: 46.5 | L22: 0.014 | M22: 0.04 | N22: <0.1 | O22: 0.23 | P22: 92 | R22: 1.13 | S22: 0.008 | T22: 10.4 | U22: 15.6 | V22: 0.83 | W22: 2.97 | X22: 0.64 | Y22: 0.374 | Z22: <10 | AA22: 0.06 | AB22: 0.45 | AC22: 5480 | AD22: <0.01 | AE22: 202 | AF22: <0.5 | AG22: <0.002 | AH22: 2.92 | AI22: <0.2 | AJ22: 43 | AK22: <0.1
A23: RPD (%) | D23: =IFERROR((((2*(ABS((D21-D22))))/(D22+D21))*100),Refs!$C$13) -> N/A | E23: =IFERROR((((2*(ABS((E21-E22))))/(E22+E21))*100),Refs!$C$13) -> 7.5949367 | F23: =IFERROR((((2*(ABS((F21-F22))))/(F22+F21))*100),Refs!$C$13) -> 5.7142857 | G23: =IFERROR((((2*(ABS((G21-G22))))/(G22+G21))*100),Refs!$C$13) -> N/A | H23: =IFERROR((((2*(ABS((H21-H22))))/(H22+H21))*100),Refs!$C$13) -> 1.1283498 | I23: =IFERROR((((2*(ABS((I21-I22))))/(I22+I21))*100),Refs!$C$13) -> N/A | J23: =IFERROR((((2*(ABS((J21-J22))))/(J22+J21))*100),Refs!$C$13) -> N/A | K23: =IFERROR((((2*(ABS((K21-K22))))/(K22+K21))*100),Refs!$C$13) -> 2.3379384 | ... AK23: =IFERROR((((2*(ABS((AK21-AK22))))/(AK22+AK21))*100),Refs!$C$13) -> N/A
A24: Comments
A25: Action
A26: Result
A27: X5P | B27: 40301 | C27: M | D27: <0.005 | E27: 16.7 | F27: 0.18 | G27: <50 | H27: 19.2 | I27: <0.01 | J27: <0.005 | K27: 161 | L27: 0.059 | M27: 1.8 | N27: <0.1 | O27: 0.57 | P27: 172 | R27: 2.61 | S27: 0.0122 | T27: 16.4 | U27: 1100 | V27: 0.47 | W27: 7.44 | X27: 3.24 | Y27: 2.96 | Z27: 165 | AA27: 0.14 | AB27: 0.14 | AC27: 1600 | AD27: <0.01 | AE27: 464 | AF27: <0.5 | AG27: 0.165 | AH27: 1.06 | AI27: <0.2 | AJ27: 62.8 | AK27: <0.1
A28: X5P | B28: 40301 | C28: DUPLICATE | D28: <0.005 | E28: 10.9 | F28: 0.14 | G28: <50 | H28: 21.3 | I28: <0.01 | J28: <0.005 | K28: 158 | L28: 0.064 | M28: 1.99 | N28: <0.1 | O28: 0.39 | P28: 45 | R28: 2.64 | S28: 0.0129 | T28: 16.6 | U28: 1280 | V28: 0.49 | W28: 7.44 | X28: 3.52 | Y28: 1.7 | Z28: 163 | AA28: 0.14 | AB28: 0.13 | AC28: 1600 | AD28: <0.01 | AE28: 455 | AF28: 0.7 | AG28: 0.151 | AH28: 1.16 | AI28: <0.2 | AJ28: 61.8 | AK28: <0.1
A29: RPD (%) | D29: =IFERROR((((2*(ABS((D27-D28))))/(D28+D27))*100),Refs!$C$13) -> N/A | E29: =IFERROR((((2*(ABS((E27-E28))))/(E28+E27))*100),Refs!$C$13) -> 42.028986 | F29: =IFERROR((((2*(ABS((F27-F28))))/(F28+F27))*100),Refs!$C$13) -> 25 | G29: =IFERROR((((2*(ABS((G27-G28))))/(G28+G27))*100),Refs!$C$13) -> N/A | H29: =IFERROR((((2*(ABS((H27-H28))))/(H28+H27))*100),Refs!$C$13) -> 10.37037 | I29: =IFERROR((((2*(ABS((I27-I28))))/(I28+I27))*100),Refs!$C$13) -> N/A | J29: =IFERROR((((2*(ABS((J27-J28))))/(J28+J27))*100),Refs!$C$13) -> N/A | K29: =IFERROR((((2*(ABS((K27-K28))))/(K28+K27))*100),Refs!$C$13) -> 1.8808777 | ... AK29: =IFERROR((((2*(ABS((AK27-AK28))))/(AK28+AK27))*100),Refs!$C$13) -> N/A
A30: Comments | P30: Both values > PQL and correctly entered into emLine. | Y30: Both values > PQL and correctly entered into emLine.
A31: Action | P31: Request Retest | Y31: Let Value Stand
A32: Result | P32: Retest performed, see results below. | Y32: Discrepancy between values remains.
A33: X5P Retest | B33: 40301 | C33: M | P33: 234
A34: X5P Retest | B34: 40301 | C34: DUPLICATE | P34: 71
A35: RPD (%) | D35: =IFERROR((((2*(ABS((D33-D34))))/(D34+D33))*100),Refs!$C$13) -> N/A | E35: =IFERROR((((2*(ABS((E33-E34))))/(E34+E33))*100),Refs!$C$13) -> N/A | F35: =IFERROR((((2*(ABS((F33-F34))))/(F34+F33))*100),Refs!$C$13) -> N/A | G35: =IFERROR((((2*(ABS((G33-G34))))/(G34+G33))*100),Refs!$C$13) -> N/A | H35: =IFERROR((((2*(ABS((H33-H34))))/(H34+H33))*100),Refs!$C$13) -> N/A | I35: =IFERROR((((2*(ABS((I33-I34))))/(I34+I33))*100),Refs!$C$13) -> N/A | J35: =IFERROR((((2*(ABS((J33-J34))))/(J34+J33))*100),Refs!$C$13) -> N/A | K35: =IFERROR((((2*(ABS((K33-K34))))/(K34+K33))*100),Refs!$C$13) -> N/A | ... AK35: =IFERROR((((2*(ABS((AK33-AK34))))/(AK34+AK33))*100),Refs!$C$13) -> N/A
A36: Comments | P36: Retest for May 3 X5P sample and duplicate. Both values > PQL and correctly entered into emLine.
A37: Action | P37: Let Value Stand
A38: Result | P38: New values entered into emLine.
A39: X5 | B39: 40323 | C39: M | D39: <0.005 | E39: 5.2 | F39: 0.21 | G39: <50 | H39: 18.7 | I39: <0.01 | J39: <0.005 | K39: 251 | L39: 0.119 | M39: 11.5 | N39: <0.1 | O39: 0.53 | P39: 151 | Q39: <0.01 | R39: 5.14 | S39: 0.0265 | T39: 56.6 | U39: 6410 | V39: 0.51 | W39: 17.9 | X39: 16.6 | Y39: 1.12 | Z39: 299 | AA39: 0.12 | AB39: 0.14 | AC39: 2640 | AD39: <0.01 | AE39: 763 | AF39: <0.5 | AG39: 0.375 | AH39: 2.04 | AI39: <0.2 | AJ39: 191 | AK39: <0.1
A40: X5 | B40: 40323 | C40: DUPLICATE | D40: <0.005 | E40: 5.7 | F40: 0.19 | G40: <50 | H40: 19.6 | I40: <0.01 | J40: <0.005 | K40: 256 | L40: 0.144 | M40: 12.1 | N40: <0.1 | O40: 0.58 | P40: 159 | Q40: <0.01 | R40: 5.24 | S40: 0.0266 | T40: 59.1 | U40: 6560 | V40: 0.58 | W40: 18.7 | X40: 17.4 | Y40: 1.16 | Z40: 301 | AA40: 0.13 | AB40: 0.13 | AC40: 2740 | AD40: <0.01 | AE40: 782 | AF40: <0.5 | AG40: 0.394 | AH40: 2.13 | AI40: <0.2 | AJ40: 200 | AK40: <0.1
A41: RPD (%) | D41: =IFERROR((((2*(ABS((D39-D40))))/(D40+D39))*100),Refs!$C$13) -> N/A | E41: =IFERROR((((2*(ABS((E39-E40))))/(E40+E39))*100),Refs!$C$13) -> 9.1743119 | F41: =IFERROR((((2*(ABS((F39-F40))))/(F40+F39))*100),Refs!$C$13) -> 10 | G41: =IFERROR((((2*(ABS((G39-G40))))/(G40+G39))*100),Refs!$C$13) -> N/A | H41: =IFERROR((((2*(ABS((H39-H40))))/(H40+H39))*100),Refs!$C$13) -> 4.6997389 | I41: =IFERROR((((2*(ABS((I39-I40))))/(I40+I39))*100),Refs!$C$13) -> N/A | J41: =IFERROR((((2*(ABS((J39-J40))))/(J40+J39))*100),Refs!$C$13) -> N/A | K41: =IFERROR((((2*(ABS((K39-K40))))/(K40+K39))*100),Refs!$C$13) -> 1.9723866 | ... AK41: =IFERROR((((2*(ABS((AK39-AK40))))/(AK40+AK39))*100),Refs!$C$13) -> N/A
A42: Comments
A43: Action
A44: Result
A45: X14 | B45: 40330 | C45: M | D45: <0.005 | E45: 34.3 | F45: 0.38 | G45: <50 | H45: 27.3 | I45: <0.01 | J45: 0.01 | K45: 41.1 | L45: 0.038 | M45: 1.57 | N45: <0.1 | O45: 1.14 | P45: 233 | R45: 1.03 | S45: 0.004 | T45: 9.29 | U45: 1030 | V45: 0.3 | W45: 3.81 | X45: 3.05 | Y45: 1.06 | Z45: 34 | AA45: 0.07 | AB45: 0.13 | AC45: 3720 | AD45: <0.01 | AE45: 133 | AF45: <0.5 | AG45: 0.031 | AH45: 0.765 | AI45: <0.2 | AJ45: 42.6 | AK45: <0.1
A46: X14 | B46: 40330 | C46: DUPLICATE | D46: <0.005 | E46: 35.1 | F46: 0.39 | G46: <50 | H46: 27.8 | I46: <0.01 | J46: 0.029 | K46: 41.8 | L46: 0.03 | M46: 1.62 | N46: <0.1 | O46: 1.05 | P46: 233 | R46: 1.04 | S46: 0.0041 | T46: 9.3 | U46: 1050 | V46: 0.32 | W46: 3.29 | X46: 3.19 | Y46: 0.908 | Z46: 33 | AA46: 0.07 | AB46: 0.13 | AC46: 3760 | AD46: <0.01 | AE46: 139 | AF46: 1.1 | AG46: 0.031 | AH46: 0.8 | AI46: <0.2 | AJ46: 43.1 | AK46: <0.1
A47: RPD (%) | D47: =IFERROR((((2*(ABS((D45-D46))))/(D46+D45))*100),Refs!$C$13) -> N/A | E47: =IFERROR((((2*(ABS((E45-E46))))/(E46+E45))*100),Refs!$C$13) -> 2.3054755 | F47: =IFERROR((((2*(ABS((F45-F46))))/(F46+F45))*100),Refs!$C$13) -> 2.5974026 | G47: =IFERROR((((2*(ABS((G45-G46))))/(G46+G45))*100),Refs!$C$13) -> N/A | H47: =IFERROR((((2*(ABS((H45-H46))))/(H46+H45))*100),Refs!$C$13) -> 1.814882 | I47: =IFERROR((((2*(ABS((I45-I46))))/(I46+I45))*100),Refs!$C$13) -> N/A | J47: =IFERROR((((2*(ABS((J45-J46))))/(J46+J45))*100),Refs!$C$13) -> 97.435897 | K47: =IFERROR((((2*(ABS((K45-K46))))/(K46+K45))*100),Refs!$C$13) -> 1.6887817 | ... AK47: =IFERROR((((2*(ABS((AK45-AK46))))/(AK46+AK45))*100),Refs!$C$13) -> N/A
A48: Comments | J48: Both values correctly entered into emLine; however, main sample value not > PQL. Therefore, RPD analysis not valid in this case.
A49: Action | J49: Let Value Stand
A50: Result | J50: Discrepancy between values remains.
A51: X3 | B51: 40333 | C51: M | D51: <0.005 | E51: 62.9 | F51: 0.38 | G51: <50 | H51: 25.1 | I51: 0.02 | J51: 0.01 | K51: 13 | L51: 0.018 | M51: 0.089 | N51: <0.1 | O51: 0.76 | P51: 183 | R51: 0.55 | S51: 0.0016 | T51: 2.95 | U51: 20 | V51: 0.2 | W51: 1.47 | X51: 0.48 | Y51: 0.747 | Z51: <10 | AA51: 0.05 | AB51: 0.08 | AC51: 3900 | AD51: <0.01 | AE51: 60.7 | AF51: 1.5 | AG51: 0.003 | AH51: 0.534 | AI51: <0.2 | AJ51: 11.2 | AK51: <0.1
A52: X3 | B52: 40333 | C52: DUPLICATE | D52: <0.005 | E52: 66.7 | F52: 0.4 | G52: <50 | H52: 25.3 | I52: <0.01 | J52: 0.021 | K52: 13.3 | L52: 0.012 | M52: 0.061 | N52: <0.1 | O52: 0.74 | P52: 186 | R52: 0.55 | S52: 0.0015 | T52: 3 | U52: 15.7 | V52: 0.21 | W52: 1.5 | X52: 0.44 | Y52: 0.587 | Z52: <10 | AA52: 0.05 | AB52: 0.09 | AC52: 3870 | AD52: <0.01 | AE52: 60.8 | AF52: 1.4 | AG52: <0.002 | AH52: 0.544 | AI52: <0.2 | AJ52: 3.9 | AK52: <0.1
A53: RPD (%) | D53: =IFERROR((((2*(ABS((D51-D52))))/(D52+D51))*100),Refs!$C$13) -> N/A | E53: =IFERROR((((2*(ABS((E51-E52))))/(E52+E51))*100),Refs!$C$13) -> 5.8641975 | F53: =IFERROR((((2*(ABS((F51-F52))))/(F52+F51))*100),Refs!$C$13) -> 5.1282051 | G53: =IFERROR((((2*(ABS((G51-G52))))/(G52+G51))*100),Refs!$C$13) -> N/A | H53: =IFERROR((((2*(ABS((H51-H52))))/(H52+H51))*100),Refs!$C$13) -> 0.79365079 | I53: =IFERROR((((2*(ABS((I51-I52))))/(I52+I51))*100),Refs!$C$13) -> N/A | J53: =IFERROR((((2*(ABS((J51-J52))))/(J52+J51))*100),Refs!$C$13) -> 70.967742 | K53: =IFERROR((((2*(ABS((K51-K52))))/(K52+K51))*100),Refs!$C$13) -> 2.2813688 | ... AK53: =IFERROR((((2*(ABS((AK51-AK52))))/(AK52+AK51))*100),Refs!$C$13) -> N/A
A54: Comments | J54: Both values correctly entered into emLine; however, neither value > PQL. Therefore, RPD analysis not valid in this case. | AJ54: Both values > PQL and correctly entered into emLine.
A55: Action | J55: Let Value Stand | AJ55: Let Value Stand
A56: Result | J56: Discrepancy between values remains. | AJ56: Discrepancy between values remains.
A57: X14 | B57: 40344 | C57: M | D57: <0.005 | E57: 16.2 | F57: 0.4 | G57: <50 | H57: 33.6 | I57: <0.01 | J57: <0.005 | K57: 59.7 | L57: 0.038 | M57: 2.76 | N57: <0.1 | O57: 0.71 | P57: 245 | Q57: <0.01 | R57: 1.39 | S57: 0.0058 | T57: 14.6 | U57: 1740 | V57: 0.4 | W57: 4.56 | X57: 4.41 | Y57: 0.532 | Z57: 55 | AA57: 0.08 | AB57: 0.18 | AC57: 4000 | AD57: <0.01 | AE57: 207 | AF57: <0.5 | AG57: 0.051 | AH57: 1.12 | AI57: <0.2 | AJ57: 48.4 | AK57: <0.1
A58: X14 | B58: 40344 | C58: DUPLICATE | D58: <0.005 | E58: 19 | F58: 0.41 | G58: <50 | H58: 33.4 | I58: <0.01 | J58: 0.008 | K58: 57.3 | L58: 0.042 | M58: 2.69 | N58: <0.1 | O58: 0.79 | P58: 259 | Q58: <0.01 | R58: 1.41 | S58: 0.006 | T58: 14.5 | U58: 1750 | V58: 0.39 | W58: 4.56 | X58: 4.44 | Y58: 0.579 | Z58: 55 | AA58: 0.08 | AB58: 0.18 | AC58: 3680 | AD58: <0.01 | AE58: 211 | AF58: <0.5 | AG58: 0.051 | AH58: 1.13 | AI58: <0.2 | AJ58: 48.2 | AK58: <0.1
A59: RPD (%) | D59: =IFERROR((((2*(ABS((D57-D58))))/(D58+D57))*100),Refs!$C$13) -> N/A | E59: =IFERROR((((2*(ABS((E57-E58))))/(E58+E57))*100),Refs!$C$13) -> 15.909091 | F59: =IFERROR((((2*(ABS((F57-F58))))/(F58+F57))*100),Refs!$C$13) -> 2.4691358 | G59: =IFERROR((((2*(ABS((G57-G58))))/(G58+G57))*100),Refs!$C$13) -> N/A | H59: =IFERROR((((2*(ABS((H57-H58))))/(H58+H57))*100),Refs!$C$13) -> 0.59701493 | I59: =IFERROR((((2*(ABS((I57-I58))))/(I58+I57))*100),Refs!$C$13) -> N/A | J59: =IFERROR((((2*(ABS((J57-J58))))/(J58+J57))*100),Refs!$C$13) -> N/A | K59: =IFERROR((((2*(ABS((K57-K58))))/(K58+K57))*100),Refs!$C$13) -> 4.1025641 | ... AK59: =IFERROR((((2*(ABS((AK57-AK58))))/(AK58+AK57))*100),Refs!$C$13) -> N/A
A60: Comments
A61: Action
A62: Result
A63: R7 | B63: 40367 | C63: M | D63: <0.005 | E63: 31.1 | F63: 0.66 | G63: <50 | H63: 40.4 | I63: <0.01 | J63: 0.009 | K63: 16.8 | L63: 0.012 | M63: 0.05 | N63: <0.1 | O63: 0.99 | P63: 142 | R63: 0.41 | S63: 0.0024 | T63: 4.01 | U63: 16.4 | V63: 0.37 | W63: 1.61 | X63: 0.4 | Y63: 0.592 | Z63: <10 | AA63: 0.08 | AB63: 0.16 | AC63: 4140 | AD63: <0.01 | AE63: 79.1 | AF63: 0.7 | AG63: <0.002 | AH63: 0.714 | AI63: <0.2 | AJ63: 2 | AK63: <0.1
A64: R7 | B64: 40367 | C64: DUPLICATE | D64: <0.005 | E64: 34.1 | F64: 0.66 | G64: <50 | H64: 38.6 | I64: <0.01 | J64: 0.153 | K64: 17.9 | L64: 0.013 | M64: 0.046 | N64: <0.1 | O64: 0.74 | P64: 163 | R64: 0.43 | S64: 0.0024 | T64: 3.9 | U64: 18.1 | V64: 0.36 | W64: 1.63 | X64: 0.48 | Y64: 0.611 | Z64: <10 | AA64: 0.08 | AB64: 0.17 | AC64: 4330 | AD64: <0.01 | AE64: 76.4 | AF64: 1.7 | AG64: <0.002 | AH64: 0.689 | AI64: <0.2 | AJ64: 3.9 | AK64: <0.1
A65: RPD (%) | D65: =IFERROR((((2*(ABS((D63-D64))))/(D64+D63))*100),Refs!$C$13) -> N/A | E65: =IFERROR((((2*(ABS((E63-E64))))/(E64+E63))*100),Refs!$C$13) -> 9.202454 | F65: =IFERROR((((2*(ABS((F63-F64))))/(F64+F63))*100),Refs!$C$13) -> 0 | G65: =IFERROR((((2*(ABS((G63-G64))))/(G64+G63))*100),Refs!$C$13) -> N/A | H65: =IFERROR((((2*(ABS((H63-H64))))/(H64+H63))*100),Refs!$C$13) -> 4.556962 | I65: =IFERROR((((2*(ABS((I63-I64))))/(I64+I63))*100),Refs!$C$13) -> N/A | J65: =IFERROR((((2*(ABS((J63-J64))))/(J64+J63))*100),Refs!$C$13) -> 177.77778 | K65: =IFERROR((((2*(ABS((K63-K64))))/(K64+K63))*100),Refs!$C$13) -> 6.3400576 | ... AK65: =IFERROR((((2*(ABS((AK63-AK64))))/(AK64+AK63))*100),Refs!$C$13) -> N/A
A66: Comments | J66: Both values correctly entered into emLine; however, main sample value not > PQL. Therefore, RPD analysis not valid in this case. | AF66: Both values correctly entered into emLine; however, neither value > PQL. Therefore, RPD analysis not valid in this case. | AJ66: Both values > PQL and correctly entered into emLine.
A67: Action | J67: Let Value Stand | AF67: Let Value Stand | AJ67: Let Value Stand
A68: Result | J68: Discrepancy between values remains. | AF68: Discrepancy between values remains. | AJ68: Discrepancy between values remains.
E69: RPD > 50%
E70: RPD > 100%
A73: NWID | B73: 40369 | C73: M | D73: <0.005 | E73: 6.7 | F73: 0.2 | G73: <50 | H73: 47.1 | I73: <0.01 | J73: <0.005 | K73: 52.8 | L73: 0.056 | M73: 0.016 | N73: <0.1 | O73: 1.08 | P73: 9 | R73: 1.47 | S73: 0.0059 | T73: 6.44 | U73: 1.1 | V73: 0.3 | W73: 2.75 | X73: 0.53 | Y73: 0.238 | Z73: 12 | AA73: 0.06 | AB73: 0.21 | AC73: 7530 | AD73: <0.01 | AE73: 187 | AF73: <0.5 | AG73: 0.003 | AH73: 0.929 | AI73: <0.2 | AJ73: 16 | AK73: <0.1
A74: NWID | B74: 40369 | C74: DUPLICATE | D74: <0.005 | E74: 6.8 | F74: 0.2 | G74: <50 | H74: 47.9 | I74: <0.01 | J74: <0.005 | K74: 48.3 | L74: 0.067 | M74: 0.016 | N74: <0.1 | O74: 1.19 | P74: 7 | R74: 1.48 | S74: 0.0059 | T74: 6.66 | U74: 1.05 | V74: 0.28 | W74: 2.9 | X74: 0.58 | Y74: 0.241 | Z74: 13 | AA74: 0.06 | AB74: 0.19 | AC74: 6750 | AD74: <0.01 | AE74: 192 | AF74: <0.5 | AG74: 0.009 | AH74: 0.885 | AI74: <0.2 | AJ74: 17.6 | AK74: <0.1
A75: RPD (%) | D75: =IFERROR((((2*(ABS((D73-D74))))/(D74+D73))*100),Refs!$C$13) -> N/A | E75: =IFERROR((((2*(ABS((E73-E74))))/(E74+E73))*100),Refs!$C$13) -> 1.4814815 | F75: =IFERROR((((2*(ABS((F73-F74))))/(F74+F73))*100),Refs!$C$13) -> 0 | G75: =IFERROR((((2*(ABS((G73-G74))))/(G74+G73))*100),Refs!$C$13) -> N/A | H75: =IFERROR((((2*(ABS((H73-H74))))/(H74+H73))*100),Refs!$C$13) -> 1.6842105 | I75: =IFERROR((((2*(ABS((I73-I74))))/(I74+I73))*100),Refs!$C$13) -> N/A | J75: =IFERROR((((2*(ABS((J73-J74))))/(J74+J73))*100),Refs!$C$13) -> N/A | K75: =IFERROR((((2*(ABS((K73-K74))))/(K74+K73))*100),Refs!$C$13) -> 8.9020772 | ... AK75: =IFERROR((((2*(ABS((AK73-AK74))))/(AK74+AK73))*100),Refs!$C$13) -> N/A
A76: Comments | AG76: Both values correctly entered into emLine; however, neither value > PQL. Therefore, RPD analysis not valid in this case.
A77: Action | AG77: Let Value Stand
A78: Result | AG78: Discrepancy between values remains.
A79: X14 | B79: 40386 | C79: M | D79: <0.005 | E79: 11.1 | F79: 0.45 | G79: <50 | H79: 43.3 | I79: <0.01 | J79: <0.005 | K79: 94.1 | L79: 0.054 | M79: 4.07 | N79: <0.1 | O79: 0.58 | P79: 382 | Q79: <0.01 | R79: 2.04 | S79: 0.0115 | T79: 21 | U79: 2330 | V79: 0.53 | W79: 6.59 | X79: 6.29 | Y79: 0.889 | Z79: 89 | AA79: 0.12 | AB79: 0.19 | AC79: 4430 | AD79: <0.01 | AE79: 316 | AF79: <0.5 | AG79: 0.123 | AH79: 1.35 | AI79: <0.2 | AJ79: 72.6 | AK79: <0.1
A80: X14 | B80: 40386 | C80: DUPLICATE | D80: <0.005 | E80: 10.6 | F80: 0.47 | G80: <50 | H80: 44.1 | I80: <0.01 | J80: <0.005 | K80: 94.9 | L80: 0.053 | M80: 4.34 | N80: <0.1 | O80: 0.62 | P80: 383 | Q80: <0.01 | R80: 2.12 | S80: 0.0117 | T80: 22.3 | U80: 2430 | V80: 0.49 | W80: 6.91 | X80: 6.31 | Y80: 0.736 | Z80: 93 | AA80: 0.12 | AB80: 0.21 | AC80: 4520 | AD80: <0.01 | AE80: 320 | AF80: <0.5 | AG80: 0.124 | AH80: 1.33 | AI80: <0.2 | AJ80: 74.8 | AK80: <0.1
A81: RPD (%) | D81: =IFERROR((((2*(ABS((D79-D80))))/(D80+D79))*100),Refs!$C$13) -> N/A | E81: =IFERROR((((2*(ABS((E79-E80))))/(E80+E79))*100),Refs!$C$13) -> 4.6082949 | F81: =IFERROR((((2*(ABS((F79-F80))))/(F80+F79))*100),Refs!$C$13) -> 4.3478261 | G81: =IFERROR((((2*(ABS((G79-G80))))/(G80+G79))*100),Refs!$C$13) -> N/A | H81: =IFERROR((((2*(ABS((H79-H80))))/(H80+H79))*100),Refs!$C$13) -> 1.8306636 | I81: =IFERROR((((2*(ABS((I79-I80))))/(I80+I79))*100),Refs!$C$13) -> N/A | J81: =IFERROR((((2*(ABS((J79-J80))))/(J80+J79))*100),Refs!$C$13) -> N/A | K81: =IFERROR((((2*(ABS((K79-K80))))/(K80+K79))*100),Refs!$C$13) -> 0.84656085 | ... AK81: =IFERROR((((2*(ABS((AK79-AK80))))/(AK80+AK79))*100),Refs!$C$13) -> N/A
A82: Comments
A83: Action
A84: Result
A85: X14 | B85: 40414 | C85: M | D85: <0.005 | E85: 21.1 | F85: 0.52 | G85: <50 | H85: 43.2 | I85: <0.01 | J85: <0.005 | K85: 73.1 | L85: 0.04 | M85: 2.11 | N85: <0.1 | O85: 0.58 | P85: 400 | R85: 1.63 | S85: 0.008 | T85: 16.2 | U85: 1380 | V85: 0.48 | W85: 5.53 | X85: 3.44 | Y85: 0.54 | Z85: 61 | AA85: 0.09 | AB85: 0.18 | AC85: 4180 | AD85: <0.01 | AE85: 253 | AF85: <0.5 | AG85: 0.084 | AH85: 1.25 | AI85: <0.2 | AJ85: 42.4 | AK85: <0.1
A86: X14 | B86: 40414 | C86: DUPLICATE | D86: <0.005 | E86: 8.6 | F86: 0.5 | G86: <50 | H86: 44.5 | I86: <0.01 | J86: <0.005 | K86: 75.4 | L86: 0.039 | M86: 2.17 | N86: <0.1 | O86: 0.8 | P86: 431 | R86: 1.61 | S86: 0.0081 | T86: 16.4 | U86: 1390 | V86: 0.49 | W86: 5.43 | X86: 3.59 | Y86: 1.41 | Z86: 61 | AA86: 0.08 | AB86: 0.21 | AC86: 4100 | AD86: <0.01 | AE86: 251 | AF86: <0.5 | AG86: 0.084 | AH86: 1.31 | AI86: <0.2 | AJ86: 44.8 | AK86: <0.1
A87: RPD (%) | D87: =IFERROR((((2*(ABS((D85-D86))))/(D86+D85))*100),Refs!$C$13) -> N/A | E87: =IFERROR((((2*(ABS((E85-E86))))/(E86+E85))*100),Refs!$C$13) -> 84.175084 | F87: =IFERROR((((2*(ABS((F85-F86))))/(F86+F85))*100),Refs!$C$13) -> 3.9215686 | G87: =IFERROR((((2*(ABS((G85-G86))))/(G86+G85))*100),Refs!$C$13) -> N/A | H87: =IFERROR((((2*(ABS((H85-H86))))/(H86+H85))*100),Refs!$C$13) -> 2.9646522 | I87: =IFERROR((((2*(ABS((I85-I86))))/(I86+I85))*100),Refs!$C$13) -> N/A | J87: =IFERROR((((2*(ABS((J85-J86))))/(J86+J85))*100),Refs!$C$13) -> N/A | K87: =IFERROR((((2*(ABS((K85-K86))))/(K86+K85))*100),Refs!$C$13) -> 3.0976431 | ... AK87: =IFERROR((((2*(ABS((AK85-AK86))))/(AK86+AK85))*100),Refs!$C$13) -> N/A
A88: Comments | E88: Both values > PQL and correctly entered into emLine. | Y88: Both values > PQL and correctly entered into emLine.
A89: Action | E89: Let Value Stand | Y89: Let Value Stand
A90: Result | E90: Discrepancy between values remains. | Y90: Discrepancy between values remains.
A91: X5 | B91: 40421 | C91: M | D91: <0.03 | E91: 6 | F91: 0.3 | G91: <300 | H91: 14.8 | I91: <0.05 | J91: <0.03 | K91: 298 | L91: 0.17 | M91: 14.3 | N91: <0.5 | O91: 0.5 | P91: 516 | Q91: <0.05 | R91: 7 | S91: 0.041 | T91: 67.9 | U91: 7780 | V91: 0.5 | W91: 20 | X91: 18.2 | Y91: 1.99 | Z91: 376 | AA91: 0.3 | AB91: <0.2 | AC91: 2500 | AD91: <0.05 | AE91: 933 | AF91: <3 | AG91: 0.69 | AH91: 1.13 | AI91: <1 | AJ91: 206 | AK91: <0.5
A92: X5 | B92: 40421 | C92: DUPLICATE | D92: <0.03 | E92: 5 | F92: 0.3 | G92: <300 | H92: 16.1 | I92: <0.05 | J92: <0.03 | K92: 297 | L92: 0.16 | M92: 14.2 | N92: <0.5 | O92: 0.6 | P92: 520 | Q92: <0.05 | R92: 6.9 | S92: 0.043 | T92: 66.8 | U92: 7590 | V92: 0.5 | W92: 19.6 | X92: 19.1 | Y92: 2.16 | Z92: 361 | AA92: 0.3 | AB92: <0.2 | AC92: 2410 | AD92: <0.05 | AE92: 1010 | AF92: <3 | AG92: 0.75 | AH92: 1.22 | AI92: <1 | AJ92: 206 | AK92: <0.5
A93: RPD (%) | D93: =IFERROR((((2*(ABS((D91-D92))))/(D92+D91))*100),Refs!$C$13) -> N/A | E93: =IFERROR((((2*(ABS((E91-E92))))/(E92+E91))*100),Refs!$C$13) -> 18.181818 | F93: =IFERROR((((2*(ABS((F91-F92))))/(F92+F91))*100),Refs!$C$13) -> 0 | G93: =IFERROR((((2*(ABS((G91-G92))))/(G92+G91))*100),Refs!$C$13) -> N/A | H93: =IFERROR((((2*(ABS((H91-H92))))/(H92+H91))*100),Refs!$C$13) -> 8.4142395 | I93: =IFERROR((((2*(ABS((I91-I92))))/(I92+I91))*100),Refs!$C$13) -> N/A | J93: =IFERROR((((2*(ABS((J91-J92))))/(J92+J91))*100),Refs!$C$13) -> N/A | K93: =IFERROR((((2*(ABS((K91-K92))))/(K92+K91))*100),Refs!$C$13) -> 0.33613445 | ... AK93: =IFERROR((((2*(ABS((AK91-AK92))))/(AK92+AK91))*100),Refs!$C$13) -> N/A
A94: Comments
A95: Action
A96: Result
A97: X2 | B97: 40469 | C97: M | D97: <0.005 | E97: 8.8 | F97: 0.55 | G97: <50 | H97: 53.1 | I97: <0.01 | J97: <0.005 | K97: 33.2 | L97: 0.018 | M97: 0.181 | N97: <0.1 | O97: 0.42 | P97: 215 | R97: 0.8 | S97: 0.0051 | T97: 7.69 | U97: 74.6 | V97: 0.53 | W97: 2.59 | X97: 0.64 | Y97: 0.524 | Z97: <10 | AA97: 0.06 | AB97: 0.39 | AC97: 5630 | AD97: <0.01 | AE97: 141 | AF97: <0.5 | AG97: 0.004 | AH97: 1.46 | AI97: <0.2 | AJ97: 14.2 | AK97: <0.1
A98: X2 | B98: 40469 | C98: DUPLICATE | D98: <0.005 | E98: 10.5 | F98: 0.56 | G98: <50 | H98: 53.7 | I98: <0.01 | J98: <0.005 | K98: 32.7 | L98: 0.02 | M98: 0.155 | N98: <0.1 | O98: 0.42 | P98: 216 | R98: 0.75 | S98: 0.0051 | T98: 7.34 | U98: 74.3 | V98: 0.54 | W98: 2.4 | X98: 0.59 | Y98: 0.717 | Z98: <10 | AA98: 0.06 | AB98: 0.31 | AC98: 5540 | AD98: <0.01 | AE98: 139 | AF98: <0.5 | AG98: 0.004 | AH98: 1.51 | AI98: <0.2 | AJ98: 15.4 | AK98: <0.1
A99: RPD (%) | D99: =IFERROR((((2*(ABS((D97-D98))))/(D98+D97))*100),Refs!$C$13) -> N/A | E99: =IFERROR((((2*(ABS((E97-E98))))/(E98+E97))*100),Refs!$C$13) -> 17.61658 | F99: =IFERROR((((2*(ABS((F97-F98))))/(F98+F97))*100),Refs!$C$13) -> 1.8018018 | G99: =IFERROR((((2*(ABS((G97-G98))))/(G98+G97))*100),Refs!$C$13) -> N/A | H99: =IFERROR((((2*(ABS((H97-H98))))/(H98+H97))*100),Refs!$C$13) -> 1.1235955 | I99: =IFERROR((((2*(ABS((I97-I98))))/(I98+I97))*100),Refs!$C$13) -> N/A | J99: =IFERROR((((2*(ABS((J97-J98))))/(J98+J97))*100),Refs!$C$13) -> N/A | K99: =IFERROR((((2*(ABS((K97-K98))))/(K98+K97))*100),Refs!$C$13) -> 1.5174507 | ... AK99: =IFERROR((((2*(ABS((AK97-AK98))))/(AK98+AK97))*100),Refs!$C$13) -> N/A
A100: Comments
A101: Action
A102: Result
...

Sheet Refs
A1: Request Retest
A2: Change Value | B2: N/A
A3: Let Value Stand
A4: Remove Value
A6: Request Retest
A7: Change Value | C7: N/A
A8: Let Value Stand
A9: Remove Value
A10: Request Retest
A12: Request Retest
A13: Change Value | C13: N/A
A14: Let Value Stand
A15: Remove Value
