Workbook

Sheet General
D1: Acid(pH4.5) | E1: Acid(pH8.3) | F1: ALK | G1: ALKPP | H1: CaCO3 | I1: CaCO3-d | J1: Chloride | K1: CN(wad) | L1: CNTHIO | M1: CO3 | N1: Colour | O1: COND | P1: DOC | Q1: HCO3 | R1: NH3 | S1: OH | T1: pH | U1: SO4-d | V1: TDS | W1: TOC | X1: TSS | Y1: TURB
A2: Station | B2: Date | C2: Sample Type | D2: mg/L | E2: mg/L | F2: mg/L | G2: mg/L | H2: mg/L | I2: mg/L | J2: mg/L | K2: mg/L | L2: mg/L | M2: mg/L | N2: TCU | O2: µmho/cm | P2: mg/L | Q2: mg/L | R2: mg/L | S2: mg/L | U2: mg/L | V2: mg/L | W2: mg/L | X2: mg/L | Y2: NTU
A3: X10 | B3: 40189.545 | C3: M | F3: 140 | G3: <0.5 | H3: 165 | I3: 166 | J3: <0.5 | M3: <0.5 | O3: 326 | P3: 1 | Q3: 170 | R3: <0.01 | S3: <0.5 | T3: 8 | U3: 26 | V3: 220 | W3: 0.8 | X3: <1.0 | Y3: 0.8
A4: X10 | B4: 40189.604 | C4: DUPLICATE | F4: 140 | G4: <0.5 | H4: 166 | I4: 164 | J4: 0.6 | M4: <0.5 | O4: 315 | P4: 0.9 | Q4: 170 | R4: 0.08 | S4: <0.5 | T4: 8.1 | U4: 30 | V4: 190 | W4: 0.9 | X4: <1.0 | Y4: 0.7
A5: RPD (%) | D5: =IFERROR((((2*(ABS((D3-D4))))/(D4+D3))*100),Refs!$B$2) -> N/A | E5: =IFERROR((((2*(ABS((E3-E4))))/(E4+E3))*100),Refs!$B$2) -> N/A | F5: =IFERROR((((2*(ABS((F3-F4))))/(F4+F3))*100),Refs!$B$2) -> 0 | G5: =IFERROR((((2*(ABS((G3-G4))))/(G4+G3))*100),Refs!$B$2) -> N/A | H5: =IFERROR((((2*(ABS((H3-H4))))/(H4+H3))*100),Refs!$B$2) -> 0.60422961 | I5: =IFERROR((((2*(ABS((I3-I4))))/(I4+I3))*100),Refs!$B$2) -> 1.2121212 | J5: =IFERROR((((2*(ABS((J3-J4))))/(J4+J3))*100),Refs!$B$2) -> N/A | K5: =IFERROR((((2*(ABS((K3-K4))))/(K4+K3))*100),Refs!$B$2) -> N/A | ... S5: =IFERROR((((2*(ABS((S3-S4))))/(S4+S3))*100),Refs!$B$2) -> N/A | T5: =IFERROR((ABS(T4-T3)),Refs!$B$2) -> 0.1 | U5: =IFERROR((((2*(ABS((U3-U4))))/(U4+U3))*100),Refs!$B$2) -> 14.285714 | V5: =IFERROR((((2*(ABS((V3-V4))))/(V4+V3))*100),Refs!$B$2) -> 14.634146 | W5: =IFERROR((((2*(ABS((W3-W4))))/(W4+W3))*100),Refs!$B$2) -> 11.764706 | X5: =IFERROR((((2*(ABS((X3-X4))))/(X4+X3))*100),Refs!$B$2) -> N/A | Y5: =IFERROR((((2*(ABS((Y3-Y4))))/(Y4+Y3))*100),Refs!$B$2) -> 13.333333
A6: Comments
A7: Action
A8: Result
A9: X3 | B9: 40231 | C9: M | F9: 140 | G9: <0.5 | H9: 164 | I9: 163 | J9: 1.7 | M9: <0.5 | O9: 314 | P9: 1.4 | Q9: 170 | R9: <0.01 | S9: <0.5 | T9: 7.9 | U9: 28 | V9: 180 | W9: 1.2 | X9: <1.0
A10: X3 | B10: 40231 | C10: DUPLICATE | F10: 140 | G10: <0.5 | H10: 164 | I10: 160 | J10: <0.5 | M10: <0.5 | O10: 318 | P10: 1.7 | Q10: 170 | R10: <0.01 | S10: <0.5 | T10: 7.9 | U10: 29 | V10: 230 | W10: 1.5 | X10: <1.0 | Y10: 0.6
A11: RPD (%) | D11: =IFERROR((((2*(ABS((D9-D10))))/(D10+D9))*100),Refs!$B$2) -> N/A | E11: =IFERROR((((2*(ABS((E9-E10))))/(E10+E9))*100),Refs!$B$2) -> N/A | F11: =IFERROR((((2*(ABS((F9-F10))))/(F10+F9))*100),Refs!$B$2) -> 0 | G11: =IFERROR((((2*(ABS((G9-G10))))/(G10+G9))*100),Refs!$B$2) -> N/A | H11: =IFERROR((((2*(ABS((H9-H10))))/(H10+H9))*100),Refs!$B$2) -> 0 | I11: =IFERROR((((2*(ABS((I9-I10))))/(I10+I9))*100),Refs!$B$2) -> 1.8575851 | J11: =IFERROR((((2*(ABS((J9-J10))))/(J10+J9))*100),Refs!$B$2) -> N/A | K11: =IFERROR((((2*(ABS((K9-K10))))/(K10+K9))*100),Refs!$B$2) -> N/A | ... S11: =IFERROR((((2*(ABS((S9-S10))))/(S10+S9))*100),Refs!$B$2) -> N/A | T11: =IFERROR((ABS(T10-T9)),Refs!$B$2) -> 0 | U11: =IFERROR((((2*(ABS((U9-U10))))/(U10+U9))*100),Refs!$B$2) -> 3.5087719 | V11: =IFERROR((((2*(ABS((V9-V10))))/(V10+V9))*100),Refs!$B$2) -> 24.390244 | W11: =IFERROR((((2*(ABS((W9-W10))))/(W10+W9))*100),Refs!$B$2) -> 22.222222 | X11: =IFERROR((((2*(ABS((X9-X10))))/(X10+X9))*100),Refs!$B$2) -> N/A | Y11: =IFERROR((((2*(ABS((Y9-Y10))))/(Y10+Y9))*100),Refs!$B$2) -> 200
A12: Comments | Y12: Turbidity not run on main sample. Accidentally requested for duplicate sample.
A13: Action | Y13: Let Value Stand
A14: Result | Y14: No turbidity value for main sample.
A15: X11 | B15: 40241 | C15: M | D15: <0.5 | E15: 37.3 | F15: 330 | G15: <0.5 | I15: 1720 | J15: 2.6 | M15: <0.5 | O15: 2650 | Q15: 400 | S15: <0.5 | T15: 7.6 | U15: 1500 | X15: 12
A16: X11 | B16: 40241 | C16: DUPLICATE | D16: <0.5 | E16: 34.6 | F16: 330 | G16: <0.5 | I16: 1660 | J16: 2.5 | M16: <0.5 | O16: 2670 | Q16: 400 | S16: <0.5 | T16: 7.7 | U16: 1500 | X16: 12
A17: RPD (%) | D17: =IFERROR((((2*(ABS((D15-D16))))/(D16+D15))*100),Refs!$B$2) -> N/A | E17: =IFERROR((((2*(ABS((E15-E16))))/(E16+E15))*100),Refs!$B$2) -> 7.5104312 | F17: =IFERROR((((2*(ABS((F15-F16))))/(F16+F15))*100),Refs!$B$2) -> 0 | G17: =IFERROR((((2*(ABS((G15-G16))))/(G16+G15))*100),Refs!$B$2) -> N/A | H17: =IFERROR((((2*(ABS((H15-H16))))/(H16+H15))*100),Refs!$B$2) -> N/A | I17: =IFERROR((((2*(ABS((I15-I16))))/(I16+I15))*100),Refs!$B$2) -> 3.5502959 | J17: =IFERROR((((2*(ABS((J15-J16))))/(J16+J15))*100),Refs!$B$2) -> 3.9215686 | K17: =IFERROR((((2*(ABS((K15-K16))))/(K16+K15))*100),Refs!$B$2) -> N/A | ... S17: =IFERROR((((2*(ABS((S15-S16))))/(S16+S15))*100),Refs!$B$2) -> N/A | T17: =IFERROR((ABS(T16-T15)),Refs!$B$2) -> 0.1 | U17: =IFERROR((((2*(ABS((U15-U16))))/(U16+U15))*100),Refs!$B$2) -> 0 | V17: =IFERROR((((2*(ABS((V15-V16))))/(V16+V15))*100),Refs!$B$2) -> N/A | W17: =IFERROR((((2*(ABS((W15-W16))))/(W16+W15))*100),Refs!$B$2) -> N/A | X17: =IFERROR((((2*(ABS((X15-X16))))/(X16+X15))*100),Refs!$B$2) -> 0 | Y17: =IFERROR((((2*(ABS((Y15-Y16))))/(Y16+Y15))*100),Refs!$B$2) -> N/A
A18: Comments
A19: Action
A20: Result
A21: A30 | B21: 40265 | C21: M | D21: <0.5 | E21: 6.3 | F21: 28 | G21: <0.5 | I21: 77.3 | J21: <0.5 | M21: <0.5 | O21: 201 | Q21: 34 | S21: <0.5 | T21: 7.3 | U21: 56 | X21: <1.0
A22: A30 | B22: 40265 | C22: DUPLICATE | D22: <0.5 | E22: 7.2 | F22: 29 | G22: <0.5 | I22: 83.9 | J22: <0.5 | M22: <0.5 | O22: 204 | Q22: 36 | S22: <0.5 | T22: 7.4 | U22: 64 | X22: 2
A23: RPD (%) | D23: =IFERROR((((2*(ABS((D21-D22))))/(D22+D21))*100),Refs!$B$2) -> N/A | E23: =IFERROR((((2*(ABS((E21-E22))))/(E22+E21))*100),Refs!$B$2) -> 13.333333 | F23: =IFERROR((((2*(ABS((F21-F22))))/(F22+F21))*100),Refs!$B$2) -> 3.5087719 | G23: =IFERROR((((2*(ABS((G21-G22))))/(G22+G21))*100),Refs!$B$2) -> N/A | H23: =IFERROR((((2*(ABS((H21-H22))))/(H22+H21))*100),Refs!$B$2) -> N/A | I23: =IFERROR((((2*(ABS((I21-I22))))/(I22+I21))*100),Refs!$B$2) -> 8.1885856 | J23: =IFERROR((((2*(ABS((J21-J22))))/(J22+J21))*100),Refs!$B$2) -> N/A | K23: =IFERROR((((2*(ABS((K21-K22))))/(K22+K21))*100),Refs!$B$2) -> N/A | ... S23: =IFERROR((((2*(ABS((S21-S22))))/(S22+S21))*100),Refs!$B$2) -> N/A | T23: =IFERROR((ABS(T22-T21)),Refs!$B$2) -> 0.1 | U23: =IFERROR((((2*(ABS((U21-U22))))/(U22+U21))*100),Refs!$B$2) -> 13.333333 | V23: =IFERROR((((2*(ABS((V21-V22))))/(V22+V21))*100),Refs!$B$2) -> N/A | W23: =IFERROR((((2*(ABS((W21-W22))))/(W22+W21))*100),Refs!$B$2) -> N/A | X23: =IFERROR((((2*(ABS((X21-X22))))/(X22+X21))*100),Refs!$B$2) -> N/A | Y23: =IFERROR((((2*(ABS((Y21-Y22))))/(Y22+Y21))*100),Refs!$B$2) -> N/A
A24: Comments
A25: Action
A26: Result
A27: X14 | B27: 40274 | C27: M | F27: 210 | G27: <0.5 | H27: 652 | I27: 657 | J27: 0.8 | M27: <0.5 | O27: 1170 | P27: 1.3 | Q27: 260 | R27: 0.29 | S27: <0.5 | T27: 8 | U27: 490 | V27: 880 | W27: 1 | X27: <1
A28: X14 | B28: 40274 | C28: DUPLICATE | F28: 210 | G28: <0.5 | H28: 634 | I28: 645 | J28: 0.6 | M28: <0.5 | O28: 1170 | P28: 1.3 | Q28: 250 | R28: 0.3 | S28: <0.5 | T28: 7.9 | U28: 470 | V28: 840 | W28: 1.3 | X28: <1
A29: RPD (%) | D29: =IFERROR((((2*(ABS((D27-D28))))/(D28+D27))*100),Refs!$B$2) -> N/A | E29: =IFERROR((((2*(ABS((E27-E28))))/(E28+E27))*100),Refs!$B$2) -> N/A | F29: =IFERROR((((2*(ABS((F27-F28))))/(F28+F27))*100),Refs!$B$2) -> 0 | G29: =IFERROR((((2*(ABS((G27-G28))))/(G28+G27))*100),Refs!$B$2) -> N/A | H29: =IFERROR((((2*(ABS((H27-H28))))/(H28+H27))*100),Refs!$B$2) -> 2.7993779 | I29: =IFERROR((((2*(ABS((I27-I28))))/(I28+I27))*100),Refs!$B$2) -> 1.843318 | J29: =IFERROR((((2*(ABS((J27-J28))))/(J28+J27))*100),Refs!$B$2) -> 28.571429 | K29: =IFERROR((((2*(ABS((K27-K28))))/(K28+K27))*100),Refs!$B$2) -> N/A | ... S29: =IFERROR((((2*(ABS((S27-S28))))/(S28+S27))*100),Refs!$B$2) -> N/A | T29: =IFERROR((ABS(T28-T27)),Refs!$B$2) -> 0.1 | U29: =IFERROR((((2*(ABS((U27-U28))))/(U28+U27))*100),Refs!$B$2) -> 4.1666667 | V29: =IFERROR((((2*(ABS((V27-V28))))/(V28+V27))*100),Refs!$B$2) -> 4.6511628 | W29: =IFERROR((((2*(ABS((W27-W28))))/(W28+W27))*100),Refs!$B$2) -> 26.086957 | X29: =IFERROR((((2*(ABS((X27-X28))))/(X28+X27))*100),Refs!$B$2) -> N/A | Y29: =IFERROR((((2*(ABS((Y27-Y28))))/(Y28+Y27))*100),Refs!$B$2) -> N/A
A30: Comments
A31: Action
A32: Result
A33: X10 | B33: 40281 | C33: M | F33: 150 | G33: <0.5 | H33: 162 | I33: 157 | J33: <0.5 | M33: <0.5 | O33: 340 | P33: 1 | Q33: 180 | R33: <0.01 | S33: <0.5 | T33: 7.9 | U33: 30 | V33: 200 | X33: <1
A34: X10 | B34: 40281 | C34: DUPLICATE | F34: 150 | G34: <0.5 | H34: 159 | I34: 155 | J34: <0.5 | M34: <0.5 | O34: 331 | P34: 1 | Q34: 180 | R34: 0.07 | S34: <0.5 | T34: 7.8 | U34: 31 | V34: 180 | W34: 1 | X34: <1
A35: RPD (%) | D35: =IFERROR((((2*(ABS((D33-D34))))/(D34+D33))*100),Refs!$B$2) -> N/A | E35: =IFERROR((((2*(ABS((E33-E34))))/(E34+E33))*100),Refs!$B$2) -> N/A | F35: =IFERROR((((2*(ABS((F33-F34))))/(F34+F33))*100),Refs!$B$2) -> 0 | G35: =IFERROR((((2*(ABS((G33-G34))))/(G34+G33))*100),Refs!$B$2) -> N/A | H35: =IFERROR((((2*(ABS((H33-H34))))/(H34+H33))*100),Refs!$B$2) -> 1.8691589 | I35: =IFERROR((((2*(ABS((I33-I34))))/(I34+I33))*100),Refs!$B$2) -> 1.2820513 | J35: =IFERROR((((2*(ABS((J33-J34))))/(J34+J33))*100),Refs!$B$2) -> N/A | K35: =IFERROR((((2*(ABS((K33-K34))))/(K34+K33))*100),Refs!$B$2) -> N/A | ... S35: =IFERROR((((2*(ABS((S33-S34))))/(S34+S33))*100),Refs!$B$2) -> N/A | T35: =IFERROR((ABS(T34-T33)),Refs!$B$2) -> 0.1 | U35: =IFERROR((((2*(ABS((U33-U34))))/(U34+U33))*100),Refs!$B$2) -> 3.2786885 | V35: =IFERROR((((2*(ABS((V33-V34))))/(V34+V33))*100),Refs!$B$2) -> 10.526316 | W35: =IFERROR((((2*(ABS((W33-W34))))/(W34+W33))*100),Refs!$B$2) -> 200 | X35: =IFERROR((((2*(ABS((X33-X34))))/(X34+X33))*100),Refs!$B$2) -> N/A | Y35: =IFERROR((((2*(ABS((Y33-Y34))))/(Y34+Y33))*100),Refs!$B$2) -> N/A
A36: Comments | W36: TOC not run on main sample because appropriate sample accidentally not sent in.
A37: Action | W37: Let Value Stand
A38: Result | W38: No TOC value for main sample.
A39: X5P | B39: 40301 | C39: M | F39: 53 | G39: <0.5 | H39: 468 | I39: 490 | J39: <0.5 | M39: <0.5 | O39: 877 | Q39: 64 | R39: 0.24 | S39: <0.5 | T39: 7.8 | U39: 420 | V39: 650 | X39: 3
A40: X5P | B40: 40301 | C40: DUPLICATE | F40: 58 | G40: <0.5 | H40: 463 | I40: 433 | J40: <0.5 | M40: <0.5 | O40: 859 | Q40: 71 | R40: 0.24 | S40: <0.5 | T40: 7.8 | U40: 420 | V40: 640 | X40: 2
...

Sheet Diss. Metals
D1: Ag-d | E1: Al-d | F1: As-d | G1: Ba-d | H1: B-d | I1: Be-d | J1: Bi-d | K1: Ca-d | L1: Cd-d | M1: Co-d | N1: Cr-d | O1: Cu-d | P1: Fe-d | Q1: Hg-d | R1: K-d | S1: Li-d | T1: Mg-d | U1: Mn-d | V1: Mo-d | W1: Na-d | X1: Ni-d | Y1: Pb-d | Z1: Sb-d | AA1: S-d | AB1: Se-d | AC1: Si-d | AD1: Sn-d | AE1: Sr-d | AF1: Ti-d | AG1: Tl-d | AH1: U-d | AI1: V-d | AJ1: Zn-d | AK1: Zr-d
A2: Station | B2: Date | C2: Sample Type | D2: µg/L | E2: µg/L | F2: µg/L | G2: µg/L | H2: µg/L | I2: µg/L | J2: µg/L | K2: mg/L | L2: µg/L | M2: µg/L | N2: µg/L | O2: µg/L | P2: µg/L | Q2: µg/L | R2: mg/L | S2: mg/L | T2: mg/L | U2: µg/L | V2: µg/L | W2: mg/L | X2: µg/L | Y2: µg/L | Z2: µg/L | AA2: mg/L | AB2: µg/L | AC2: µg/L | AD2: µg/L | AE2: µg/L | AF2: µg/L | AG2: µg/L | AH2: µg/L | AI2: µg/L | AJ2: µg/L | AK2: µg/L
A3: X10 | B3: 40189.545 | C3: M | D3: <0.005 | E3: 1.7 | F3: 0.14 | G3: 69.8 | H3: <50.0 | I3: <0.01 | J3: <0.005 | K3: 47.3 | L3: 0.015 | M3: 0.054 | N3: <0.1 | O3: 0.41 | P3: 34 | R3: 1.14 | S3: 0.0068 | T3: 11.5 | U3: 25.5 | V3: 0.67 | W3: 3.06 | X3: 0.79 | Y3: 0.202 | Z3: 0.07 | AA3: 11 | AB3: 0.42 | AC3: 6080 | AD3: <0.01 | AE3: 192 | AF3: <0.5 | AG3: <0.002 | AH3: 2.54 | AI3: <0.2 | AJ3: 43.6 | AK3: <0.1
A4: X10 | B4: 40189.604 | C4: DUPLICATE | D4: <0.005 | E4: 1.1 | F4: 0.16 | G4: 69.4 | H4: <50.0 | I4: <0.01 | J4: <0.005 | K4: 47.2 | L4: 0.012 | M4: 0.049 | N4: <0.1 | O4: 0.37 | P4: 32 | R4: 1.12 | S4: 0.0066 | T4: 11.3 | U4: 24.2 | V4: 0.69 | W4: 3.02 | X4: 0.75 | Y4: 0.077 | Z4: 0.08 | AA4: 10 | AB4: 0.42 | AC4: 5670 | AD4: <0.01 | AE4: 187 | AF4: <0.5 | AG4: <0.002 | AH4: 2.57 | AI4: <0.2 | AJ4: 42.8 | AK4: <0.1
A5: RPD (%) | D5: =IFERROR((((2*(ABS((D3-D4))))/(D4+D3))*100),Refs!$C$7) -> N/A | E5: =IFERROR((((2*(ABS((E3-E4))))/(E4+E3))*100),Refs!$C$7) -> 42.857143 | F5: =IFERROR((((2*(ABS((F3-F4))))/(F4+F3))*100),Refs!$C$7) -> 13.333333 | G5: =IFERROR((((2*(ABS((G3-G4))))/(G4+G3))*100),Refs!$C$7) -> 0.57471264 | H5: =IFERROR((((2*(ABS((H3-H4))))/(H4+H3))*100),Refs!$C$7) -> N/A | I5: =IFERROR((((2*(ABS((I3-I4))))/(I4+I3))*100),Refs!$C$7) -> N/A | J5: =IFERROR((((2*(ABS((J3-J4))))/(J4+J3))*100),Refs!$C$7) -> N/A | K5: =IFERROR((((2*(ABS((K3-K4))))/(K4+K3))*100),Refs!$C$7) -> 0.21164021 | ... AK5: =IFERROR((((2*(ABS((AK3-AK4))))/(AK4+AK3))*100),Refs!$C$7) -> N/A
A6: Comments | Y6: Both values > PQL and correctly entered into emLine. Lab noted on main sample that "Dissolved greater than total. Reanalysis yields similar results."
A7: Action | Y7: Let Value Stand
A8: Result | Y8: Discrepancy between values remains.
A9: X3 | B9: 40231 | C9: M | D9: <0.005 | E9: 1.7 | F9: 0.2 | G9: 69.1 | H9: <50.0 | I9: <0.01 | J9: <0.005 | K9: 47.8 | L9: 0.011 | M9: 0.105 | N9: <0.1 | O9: 0.29 | P9: 28 | R9: 1.19 | S9: 0.0079 | T9: 10.6 | U9: 48.8 | V9: 0.75 | W9: 3.38 | X9: 0.58 | Y9: 0.041 | Z9: 0.05 | AA9: 11 | AB9: 0.39 | AC9: 6170 | AD9: <0.01 | AE9: 199 | AF9: <0.5 | AG9: <0.002 | AH9: 2.68 | AI9: <0.2 | AJ9: 20 | AK9: <0.1
A10: X3 | B10: 40231 | C10: DUPLICATE | D10: <0.005 | E10: 2.1 | F10: 0.22 | G10: 69.6 | H10: <50.0 | I10: <0.01 | J10: <0.005 | K10: 46.6 | L10: 0.011 | M10: 0.101 | N10: <0.1 | O10: 0.28 | P10: 29 | R10: 1.15 | S10: 0.0081 | T10: 10.6 | U10: 48.3 | V10: 0.79 | W10: 3.4 | X10: 0.58 | Y10: 0.088 | Z10: 0.05 | AA10: 10 | AB10: 0.41 | AC10: 5740 | AD10: <0.01 | AE10: 200 | AF10: <0.5 | AG10: <0.002 | AH10: 2.72 | AI10: <0.2 | AJ10: 20.2 | AK10: <0.1
A11: RPD (%) | D11: =IFERROR((((2*(ABS((D9-D10))))/(D10+D9))*100),Refs!$C$7) -> N/A | E11: =IFERROR((((2*(ABS((E9-E10))))/(E10+E9))*100),Refs!$C$7) -> 21.052632 | F11: =IFERROR((((2*(ABS((F9-F10))))/(F10+F9))*100),Refs!$C$7) -> 9.5238095 | G11: =IFERROR((((2*(ABS((G9-G10))))/(G10+G9))*100),Refs!$C$7) -> 0.72098053 | H11: =IFERROR((((2*(ABS((H9-H10))))/(H10+H9))*100),Refs!$C$7) -> N/A | I11: =IFERROR((((2*(ABS((I9-I10))))/(I10+I9))*100),Refs!$C$7) -> N/A | J11: =IFERROR((((2*(ABS((J9-J10))))/(J10+J9))*100),Refs!$C$7) -> N/A | K11: =IFERROR((((2*(ABS((K9-K10))))/(K10+K9))*100),Refs!$C$7) -> 2.5423729 | ... AK11: =IFERROR((((2*(ABS((AK9-AK10))))/(AK10+AK9))*100),Refs!$C$7) -> N/A
A12: Comments | Y12: Both values > PQL and correctly entered into emLine.
A13: Action | Y13: Let Value Stand
A14: Result | Y14: Discrepancy between values remains.
A15: X11 | B15: 40241 | C15: M | D15: <0.03 | E15: 4 | F15: 3.3 | G15: 51.4 | H15: <300.0 | I15: <0.05 | J15: <0.03 | K15: 519 | L15: 0.11 | M15: 33.4 | N15: <0.5 | O15: <0.3 | P15: 5800 | R15: 7.9 | S15: 0.022 | T15: 104 | U15: 28200 | V15: 0.5 | W15: 36.8 | X15: 38.5 | Y15: 2.41 | Z15: <0.1 | AA15: 526 | AB15: <0.2 | AC15: 7840 | AD15: <0.05 | AE15: 1380 | AF15: <3.0 | AG15: 0.05 | AH15: 5.88 | AI15: <1.0 | AJ15: 13.5 | AK15: <0.5
A16: X11 | B16: 40241 | C16: DUPLICATE | D16: <0.03 | E16: 3 | F16: 3.2 | G16: 51.5 | H16: <300.0 | I16: <0.05 | J16: <0.03 | K16: 496 | L16: 0.14 | M16: 32.4 | N16: <0.5 | O16: <0.3 | P16: 5700 | R16: 7.7 | S16: 0.023 | T16: 102 | U16: 27200 | V16: 0.4 | W16: 35.8 | X16: 38 | Y16: 13.4 | Z16: <0.1 | AA16: 483 | AB16: <0.2 | AC16: 7190 | AD16: <0.05 | AE16: 1370 | AF16: <3.0 | AG16: 0.05 | AH16: 6.05 | AI16: <1.0 | AJ16: 54 | AK16: <0.5
A17: RPD (%) | D17: =IFERROR((((2*(ABS((D15-D16))))/(D16+D15))*100),Refs!$C$7) -> N/A | E17: =IFERROR((((2*(ABS((E15-E16))))/(E16+E15))*100),Refs!$C$7) -> 28.571429 | F17: =IFERROR((((2*(ABS((F15-F16))))/(F16+F15))*100),Refs!$C$7) -> 3.0769231 | G17: =IFERROR((((2*(ABS((G15-G16))))/(G16+G15))*100),Refs!$C$7) -> 0.19436346 | H17: =IFERROR((((2*(ABS((H15-H16))))/(H16+H15))*100),Refs!$C$7) -> N/A | I17: =IFERROR((((2*(ABS((I15-I16))))/(I16+I15))*100),Refs!$C$7) -> N/A | J17: =IFERROR((((2*(ABS((J15-J16))))/(J16+J15))*100),Refs!$C$7) -> N/A | K17: =IFERROR((((2*(ABS((K15-K16))))/(K16+K15))*100),Refs!$C$7) -> 4.5320197 | ... AK17: =IFERROR((((2*(ABS((AK15-AK16))))/(AK16+AK15))*100),Refs!$C$7) -> N/A
A18: Comments | Y18: Both values > PQL and correctly entered into emLine. | AJ18: Both values > PQL and correctly entered into emLine.
A19: Action | Y19: Request Retest | AJ19: Request Retest
A20: Result | Y20: Retest performed, see results below. | AJ20: Retest performed, see results below.
A21: X11 Retest | B21: 40291 | C21: M | Y21: 2.65 | AJ21: 13.5
A22: X11 Retest | B22: 40291 | C22: DUPLICATE | Y22: 14.8 | AJ22: 68.9
A23: RPD (%) | D23: =IFERROR((((2*(ABS((D21-D22))))/(D22+D21))*100),Refs!$C$7) -> N/A | E23: =IFERROR((((2*(ABS((E21-E22))))/(E22+E21))*100),Refs!$C$7) -> N/A | F23: =IFERROR((((2*(ABS((F21-F22))))/(F22+F21))*100),Refs!$C$7) -> N/A | G23: =IFERROR((((2*(ABS((G21-G22))))/(G22+G21))*100),Refs!$C$7) -> N/A | H23: =IFERROR((((2*(ABS((H21-H22))))/(H22+H21))*100),Refs!$C$7) -> N/A | I23: =IFERROR((((2*(ABS((I21-I22))))/(I22+I21))*100),Refs!$C$7) -> N/A | J23: =IFERROR((((2*(ABS((J21-J22))))/(J22+J21))*100),Refs!$C$7) -> N/A | K23: =IFERROR((((2*(ABS((K21-K22))))/(K22+K21))*100),Refs!$C$7) -> N/A | ... AK23: =IFERROR((((2*(ABS((AK21-AK22))))/(AK22+AK21))*100),Refs!$C$7) -> N/A
A24: Comments | Y24: Retest for April 23 X11 sample and duplicate. Both values > PQL and correctly entered into emLine. Duplicate will be performed at X11 at next sampling event. | AJ24: Retest for April 23 X11 sample and duplicate. Both values > PQL and correctly entered into emLine. Duplicate will be performed at X11 at next sampling event.
A25: Action | Y25: Let Value Stand | AJ25: Let Value Stand
A26: Result | Y26: New values entered into emLine. | AJ26: New values entered into emLine.
A27: A30 | B27: 40265 | C27: M | D27: <0.02 | E27: 28 | F27: <0.1 | G27: 21 | H27: <50.0 | I27: <0.1 | J27: <1.0 | K27: 17.6 | L27: 2.69 | M27: 0.6 | N27: <1.0 | O27: 11.8 | P27: <5.0 | Q27: <0.02 | R27: 0.67 | S27: 0.008 | T27: 8.1 | U27: 29 | V27: <1.0 | W27: 2.2 | X27: 10 | Y27: 2.7 | Z27: <0.5 | AA27: 20 | AB27: 0.3 | AC27: 6120 | AD27: <5.0 | AE27: 79 | AF27: <5.0 | AG27: <0.05 | AH27: 0.5 | AI27: <5.0 | AJ27: 2960 | AK27: <0.5
A28: A30 | B28: 40265 | C28: DUPLICATE | D28: <0.02 | E28: 28 | F28: <0.1 | G28: 21 | H28: <50.0 | I28: <0.1 | J28: <1.0 | K28: 19.1 | L28: 2.99 | M28: 0.6 | N28: <1.0 | O28: 12.5 | P28: <5.0 | Q28: <0.02 | R28: 0.7 | S28: 0.008 | T28: 8.81 | U28: 31 | V28: <1.0 | W28: 2.35 | X28: 11 | Y28: 2.4 | Z28: <0.5 | AA28: 22 | AB28: 0.3 | AC28: 5280 | AD28: <5.0 | AE28: 79 | AF28: <5.0 | AG28: <0.05 | AH28: 0.5 | AI28: <5.0 | AJ28: 3200 | AK28: <0.5
A29: RPD (%) | D29: =IFERROR((((2*(ABS((D27-D28))))/(D28+D27))*100),Refs!$C$7) -> N/A | E29: =IFERROR((((2*(ABS((E27-E28))))/(E28+E27))*100),Refs!$C$7) -> 0 | F29: =IFERROR((((2*(ABS((F27-F28))))/(F28+F27))*100),Refs!$C$7) -> N/A | G29: =IFERROR((((2*(ABS((G27-G28))))/(G28+G27))*100),Refs!$C$7) -> 0 | H29: =IFERROR((((2*(ABS((H27-H28))))/(H28+H27))*100),Refs!$C$7) -> N/A | I29: =IFERROR((((2*(ABS((I27-I28))))/(I28+I27))*100),Refs!$C$7) -> N/A | J29: =IFERROR((((2*(ABS((J27-J28))))/(J28+J27))*100),Refs!$C$7) -> N/A | K29: =IFERROR((((2*(ABS((K27-K28))))/(K28+K27))*100),Refs!$C$7) -> 8.1743869 | ... AK29: =IFERROR((((2*(ABS((AK27-AK28))))/(AK28+AK27))*100),Refs!$C$7) -> N/A
A30: Comments
A31: Action
A32: Result
A33: X14 | B33: 40274 | C33: M | D33: <0.005 | E33: 1.2 | F33: 0.33 | G33: 60.5 | H33: <50 | I33: <0.01 | J33: <0.005 | K33: 196 | L33: 0.102 | M33: 8.93 | N33: <0.1 | O33: 0.3 | P33: 165 | R33: 3.59 | S33: 0.0133 | T33: 40.6 | U33: 7300 | V33: 0.92 | W33: 14.9 | X33: 14.9 | Y33: 0.075 | Z33: 0.09 | AA33: 173 | AB33: 0.34 | AC33: 5800 | AD33: <0.01 | AE33: 590 | AF33: 0.6 | AG33: 0.052 | AH33: 4.57 | AI33: <0.2 | AJ33: 108 | AK33: <0.1
A34: X14 | B34: 40274 | C34: DUPLICATE | D34: <0.005 | E34: 1 | F34: 0.34 | G34: 61.6 | H34: <50 | I34: <0.01 | J34: <0.005 | K34: 192 | L34: 0.088 | M34: 8.94 | N34: <0.1 | O34: 0.27 | P34: 206 | R34: 3.52 | S34: 0.0135 | T34: 40.3 | U34: 7200 | V34: 1 | W34: 14.9 | X34: 15.1 | Y34: 0.049 | Z34: 0.09 | AA34: 174 | AB34: 0.35 | AC34: 5630 | AD34: <0.01 | AE34: 593 | AF34: <0.5 | AG34: 0.058 | AH34: 4.56 | AI34: <0.2 | AJ34: 109 | AK34: <0.1
A35: RPD (%) | D35: =IFERROR((((2*(ABS((D33-D34))))/(D34+D33))*100),Refs!$C$7) -> N/A | E35: =IFERROR((((2*(ABS((E33-E34))))/(E34+E33))*100),Refs!$C$7) -> 18.181818 | F35: =IFERROR((((2*(ABS((F33-F34))))/(F34+F33))*100),Refs!$C$7) -> 2.9850746 | G35: =IFERROR((((2*(ABS((G33-G34))))/(G34+G33))*100),Refs!$C$7) -> 1.8018018 | H35: =IFERROR((((2*(ABS((H33-H34))))/(H34+H33))*100),Refs!$C$7) -> N/A | I35: =IFERROR((((2*(ABS((I33-I34))))/(I34+I33))*100),Refs!$C$7) -> N/A | J35: =IFERROR((((2*(ABS((J33-J34))))/(J34+J33))*100),Refs!$C$7) -> N/A | K35: =IFERROR((((2*(ABS((K33-K34))))/(K34+K33))*100),Refs!$C$7) -> 2.0618557 | ... AK35: =IFERROR((((2*(ABS((AK33-AK34))))/(AK34+AK33))*100),Refs!$C$7) -> N/A
A36: Comments
A37: Action
A38: Result
A39: X10 | B39: 40281 | C39: M | D39: <0.005 | E39: 2.1 | F39: 0.12 | G39: 69.6 | H39: <50 | I39: <0.01 | J39: <0.005 | K39: 45.1 | L39: 0.014 | M39: 0.035 | N39: <0.1 | O39: 0.35 | P39: 35 | R39: 1.1 | S39: 8.4 | T39: 10.7 | U39: 14.9 | V39: 0.8 | W39: 3.15 | X39: 0.76 | Y39: 0.412 | Z39: 0.07 | AA39: 11 | AB39: 0.46 | AC39: 4940 | AD39: 0.02 | AE39: 208 | AF39: <0.5 | AG39: 0.003 | AH39: 3.01 | AI39: <0.2 | AJ39: 43.4 | AK39: <0.1
B40: 40281 | C40: DUPLICATE | D40: <0.005 | E40: 1.6 | F40: 0.11 | G40: 67.6 | H40: <50 | I40: <0.01 | J40: <0.005 | K40: 44.8 | L40: 0.012 | M40: 0.037 | N40: <0.1 | O40: 0.26 | P40: 28 | R40: 1.07 | S40: 8 | T40: 10.5 | U40: 14.1 | V40: 0.81 | W40: 3.06 | X40: 0.65 | Y40: 0.233 | Z40: 0.07 | AA40: <10 | AB40: 0.44 | AC40: 4990 | AD40: <0.01 | AE40: 203 | AF40: <0.5 | AG40: <0.002 | AH40: 2.99 | AI40: <0.2 | AJ40: 40.9 | AK40: <0.1
...

Sheet Total Metals
D1: Ag | E1: Al | F1: As | G1: B | H1: Ba | I1: Be | J1: Bi | K1: Ca | L1: Cd | M1: Co | N1: Cr | O1: Cu | P1: Fe | Q1: Hg | R1: K | S1: Li | T1: Mg | U1: Mn | V1: Mo | W1: Na | X1: Ni | Y1: Pb | Z1: S | AA1: Sb | AB1: Se | AC1: Si | AD1: Sn | AE1: Sr | AF1: Ti | AG1: Tl | AH1: U | AI1: V | AJ1: Zn | AK1: Zr
A2: Station | B2: Date | C2: Sample Type | D2: µg/L | E2: µg/L | F2: µg/L | G2: µg/L | H2: µg/L | I2: µg/L | J2: µg/L | K2: mg/L | L2: µg/L | M2: ug/L | N2: µg/L | O2: µg/L | P2: µg/L | Q2: µg/L | R2: mg/L | S2: mg/L | T2: mg/L | U2: µg/L | V2: µg/L | W2: mg/L | X2: µg/L | Y2: µg/L | Z2: mg/L | AA2: µg/L | AB2: µg/L | AC2: µg/L | AD2: µg/L | AE2: µg/L | AF2: µg/L | AG2: µg/L | AH2: µg/L | AI2: µg/L | AJ2: µg/L | AK2: µg/L
A3: X10 | B3: 40189.545 | C3: M | D3: <0.005 | E3: 3.1 | F3: 0.19 | G3: <50 | H3: 70.6 | I3: <0.01 | J3: <0.005 | K3: 47.1 | L3: 0.016 | M3: 0.049 | N3: <0.1 | O3: 0.37 | P3: 104 | R3: 1.12 | S3: 0.0066 | T3: 11.5 | U3: 26.4 | V3: 0.67 | W3: 3.03 | X3: 0.79 | Y3: 0.145 | Z3: 11 | AA3: 0.07 | AB3: 0.42 | AC3: 5850 | AD3: <0.01 | AE3: 192 | AF3: <0.5 | AG3: <0.002 | AH3: 2.53 | AI3: <0.2 | AJ3: 44.7 | AK3: <0.1
A4: X10 | B4: 40189.604 | C4: DUPLICATE | D4: <0.005 | E4: 2.7 | F4: 0.18 | G4: <50 | H4: 70.8 | I4: <0.01 | J4: <0.005 | K4: 47.8 | L4: 0.009 | M4: 0.053 | N4: <0.1 | O4: 0.38 | P4: 104 | R4: 1.14 | S4: 0.0067 | T4: 11.3 | U4: 26.1 | V4: 0.69 | W4: 3.01 | X4: 0.77 | Y4: 0.223 | Z4: 11 | AA4: 0.07 | AB4: 0.43 | AC4: 5870 | AD4: <0.01 | AE4: 192 | AF4: <0.5 | AG4: <0.002 | AH4: 2.51 | AI4: <0.2 | AJ4: 45.2 | AK4: <0.1
A5: RPD (%) | D5: =IFERROR((((2*(ABS((D3-D4))))/(D4+D3))*100),Refs!$C$13) -> N/A | E5: =IFERROR((((2*(ABS((E3-E4))))/(E4+E3))*100),Refs!$C$13) -> 13.793103 | F5: =IFERROR((((2*(ABS((F3-F4))))/(F4+F3))*100),Refs!$C$13) -> 5.4054054 | G5: =IFERROR((((2*(ABS((G3-G4))))/(G4+G3))*100),Refs!$C$13) -> N/A | H5: =IFERROR((((2*(ABS((H3-H4))))/(H4+H3))*100),Refs!$C$13) -> 0.28288543 | I5: =IFERROR((((2*(ABS((I3-I4))))/(I4+I3))*100),Refs!$C$13) -> N/A | J5: =IFERROR((((2*(ABS((J3-J4))))/(J4+J3))*100),Refs!$C$13) -> N/A | K5: =IFERROR((((2*(ABS((K3-K4))))/(K4+K3))*100),Refs!$C$13) -> 1.4752371 | ... AK5: =IFERROR((((2*(ABS((AK3-AK4))))/(AK4+AK3))*100),Refs!$C$13) -> N/A
A6: Comments | L6: Both values correctly entered into emLine; however, neither value > PQL. Therefore, RPD analysis not valid in this case.
A7: Action | L7: Let Value Stand
A8: Result | L8: Discrepancy between values remains.
A9: X3 | B9: 40231 | C9: M | D9: <0.005 | E9: 2.8 | F9: 0.29 | G9: <50 | H9: 69.6 | I9: <0.01 | J9: <0.005 | K9: 47.6 | L9: 0.012 | M9: 0.118 | N9: <0.1 | O9: 0.4 | P9: 72 | R9: 1.19 | S9: 0.0079 | T9: 10.9 | U9: 50.4 | V9: 0.73 | W9: 3.47 | X9: 0.62 | Y9: 0.11 | Z9: 12 | AA9: 0.06 | AB9: 0.41 | AC9: 6350 | AD9: <0.01 | AE9: 199 | AF9: <0.5 | AG9: <0.002 | AH9: 2.78 | AI9: <0.2 | AJ9: 20 | AK9: <0.1
A10: X3 | B10: 40231 | C10: DUPLICATE | D10: <0.005 | E10: 3.1 | F10: 0.31 | G10: <50 | H10: 71.4 | I10: <0.01 | J10: <0.005 | K10: 47.7 | L10: 0.012 | M10: 0.105 | N10: <0.1 | O10: 0.29 | P10: 74 | R10: 1.18 | S10: 0.0079 | T10: 10.9 | U10: 50.3 | V10: 0.75 | W10: 3.43 | X10: 0.64 | Y10: 0.126 | Z10: 11 | AA10: 0.06 | AB10: 0.41 | AC10: 6390 | AD10: <0.01 | AE10: 199 | AF10: <0.5 | AG10: <0.002 | AH10: 2.82 | AI10: <0.2 | AJ10: 20.3 | AK10: <0.1
A11: RPD (%) | D11: =IFERROR((((2*(ABS((D9-D10))))/(D10+D9))*100),Refs!$C$13) -> N/A | E11: =IFERROR((((2*(ABS((E9-E10))))/(E10+E9))*100),Refs!$C$13) -> 10.169492 | F11: =IFERROR((((2*(ABS((F9-F10))))/(F10+F9))*100),Refs!$C$13) -> 6.6666667 | G11: =IFERROR((((2*(ABS((G9-G10))))/(G10+G9))*100),Refs!$C$13) -> N/A | H11: =IFERROR((((2*(ABS((H9-H10))))/(H10+H9))*100),Refs!$C$13) -> 2.5531915 | I11: =IFERROR((((2*(ABS((I9-I10))))/(I10+I9))*100),Refs!$C$13) -> N/A | J11: =IFERROR((((2*(ABS((J9-J10))))/(J10+J9))*100),Refs!$C$13) -> N/A | K11: =IFERROR((((2*(ABS((K9-K10))))/(K10+K9))*100),Refs!$C$13) -> 0.20986359 | ... AK11: =IFERROR((((2*(ABS((AK9-AK10))))/(AK10+AK9))*100),Refs!$C$13) -> N/A
A12: Comments
A13: Action
A14: Result
A15: X14 | B15: 40274 | C15: M | D15: <0.005 | E15: 2.6 | F15: 0.42 | G15: <50 | H15: 58.8 | I15: <0.01 | J15: <0.005 | K15: 193 | L15: 0.095 | M15: 8.96 | N15: 0.2 | O15: 0.32 | P15: 442 | R15: 3.49 | S15: 0.0134 | T15: 41.2 | U15: 7240 | V15: 0.95 | W15: 15.1 | X15: 15.2 | Y15: 0.129 | Z15: 184 | AA15: 0.09 | AB15: 0.36 | AC15: 6070 | AD15: <0.01 | AE15: 585 | AF15: <0.5 | AG15: 0.054 | AH15: 4.46 | AI15: <0.2 | AJ15: 110 | AK15: <0.1
A16: X14 | B16: 40274 | C16: DUPLICATE | D16: <0.005 | E16: 2.9 | F16: 0.39 | G16: <50 | H16: 58.6 | I16: <0.01 | J16: <0.005 | K16: 187 | L16: 0.086 | M16: 8.76 | N16: <0.1 | O16: 0.3 | P16: 399 | R16: 3.33 | S16: 0.0133 | T16: 40.2 | U16: 6990 | V16: 0.91 | W16: 14.6 | X16: 15.2 | Y16: 0.138 | Z16: 177 | AA16: 0.09 | AB16: 0.35 | AC16: 5780 | AD16: <0.01 | AE16: 568 | AF16: <0.5 | AG16: 0.052 | AH16: 4.39 | AI16: <0.2 | AJ16: 110 | AK16: <0.1
A17: RPD (%) | D17: =IFERROR((((2*(ABS((D15-D16))))/(D16+D15))*100),Refs!$C$13) -> N/A | E17: =IFERROR((((2*(ABS((E15-E16))))/(E16+E15))*100),Refs!$C$13) -> 10.909091 | F17: =IFERROR((((2*(ABS((F15-F16))))/(F16+F15))*100),Refs!$C$13) -> 7.4074074 | G17: =IFERROR((((2*(ABS((G15-G16))))/(G16+G15))*100),Refs!$C$13) -> N/A | H17: =IFERROR((((2*(ABS((H15-H16))))/(H16+H15))*100),Refs!$C$13) -> 0.3407155 | I17: =IFERROR((((2*(ABS((I15-I16))))/(I16+I15))*100),Refs!$C$13) -> N/A | J17: =IFERROR((((2*(ABS((J15-J16))))/(J16+J15))*100),Refs!$C$13) -> N/A | K17: =IFERROR((((2*(ABS((K15-K16))))/(K16+K15))*100),Refs!$C$13) -> 3.1578947 | ... AK17: =IFERROR((((2*(ABS((AK15-AK16))))/(AK16+AK15))*100),Refs!$C$13) -> N/A
A18: Comments
A19: Action
A20: Result
A21: X10 | B21: 40281 | C21: M | D21: <0.005 | E21: 3.8 | F21: 0.18 | G21: <50 | H21: 71.3 | I21: <0.01 | J21: <0.005 | K21: 47.6 | L21: 0.02 | M21: 0.041 | N21: <0.1 | O21: 0.32 | P21: 91 | R21: 1.16 | S21: 0.008 | T21: 10.5 | U21: 16 | V21: 0.79 | W21: 2.99 | X21: 0.66 | Y21: 0.572 | Z21: 11 | AA21: 0.07 | AB21: 0.4 | AC21: 5480 | AD21: <0.01 | AE21: 204 | AF21: <0.5 | AG21: <0.002 | AH21: 2.92 | AI21: <0.2 | AJ21: 45.7 | AK21: <0.1
A22: X10 | B22: 40281 | C22: DUPLICATE | D22: <0.005 | E22: 4.1 | F22: 0.17 | G22: <50 | H22: 70.5 | I22: <0.01 | J22: <0.005 | K22: 46.5 | L22: 0.014 | M22: 0.04 | N22: <0.1 | O22: 0.23 | P22: 92 | R22: 1.13 | S22: 0.008 | T22: 10.4 | U22: 15.6 | V22: 0.83 | W22: 2.97 | X22: 0.64 | Y22: 0.374 | Z22: <10 | AA22: 0.06 | AB22: 0.45 | AC22: 5480 | AD22: <0.01 | AE22: 202 | AF22: <0.5 | AG22: <0.002 | AH22: 2.92 | AI22: <0.2 | AJ22: 43 | AK22: <0.1
A23: RPD (%) | D23: =IFERROR((((2*(ABS((D21-D22))))/(D22+D21))*100),Refs!$C$13) -> N/A | E23: =IFERROR((((2*(ABS((E21-E22))))/(E22+E21))*100),Refs!$C$13) -> 7.5949367 | F23: =IFERROR((((2*(ABS((F21-F22))))/(F22+F21))*100),Refs!$C$13) -> 5.7142857 | G23: =IFERROR((((2*(ABS((G21-G22))))/(G22+G21))*100),Refs!$C$13) -> N/A | H23: =IFERROR((((2*(ABS((H21-H22))))/(H22+H21))*100),Refs!$C$13) -> 1.1283498 | I23: =IFERROR((((2*(ABS((I21-I22))))/(I22+I21))*100),Refs!$C$13) -> N/A | J23: =IFERROR((((2*(ABS((J21-J22))))/(J22+J21))*100),Refs!$C$13) -> N/A | K23: =IFERROR((((2*(ABS((K21-K22))))/(K22+K21))*100),Refs!$C$13) -> 2.3379384 | ... AK23: =IFERROR((((2*(ABS((AK21-AK22))))/(AK22+AK21))*100),Refs!$C$13) -> N/A
A24: Comments
A25: Action
A26: Result
A27: X5P | B27: 40301 | C27: M | D27: <0.005 | E27: 16.7 | F27: 0.18 | G27: <50 | H27: 19.2 | I27: <0.01 | J27: <0.005 | K27: 161 | L27: 0.059 | M27: 1.8 | N27: <0.1 | O27: 0.57 | P27: 172 | R27: 2.61 | S27: 0.0122 | T27: 16.4 | U27: 1100 | V27: 0.47 | W27: 7.44 | X27: 3.24 | Y27: 2.96 | Z27: 165 | AA27: 0.14 | AB27: 0.14 | AC27: 1600 | AD27: <0.01 | AE27: 464 | AF27: <0.5 | AG27: 0.165 | AH27: 1.06 | AI27: <0.2 | AJ27: 62.8 | AK27: <0.1
A28: X5P | B28: 40301 | C28: DUPLICATE | D28: <0.005 | E28: 10.9 | F28: 0.14 | G28: <50 | H28: 21.3 | I28: <0.01 | J28: <0.005 | K28: 158 | L28: 0.064 | M28: 1.99 | N28: <0.1 | O28: 0.39 | P28: 45 | R28: 2.64 | S28: 0.0129 | T28: 16.6 | U28: 1280 | V28: 0.49 | W28: 7.44 | X28: 3.52 | Y28: 1.7 | Z28: 163 | AA28: 0.14 | AB28: 0.13 | AC28: 1600 | AD28: <0.01 | AE28: 455 | AF28: 0.7 | AG28: 0.151 | AH28: 1.16 | AI28: <0.2 | AJ28: 61.8 | AK28: <0.1
A29: RPD (%) | D29: =IFERROR((((2*(ABS((D27-D28))))/(D28+D27))*100),Refs!$C$13) -> N/A | E29: =IFERROR((((2*(ABS((E27-E28))))/(E28+E27))*100),Refs!$C$13) -> 42.028986 | F29: =IFERROR((((2*(ABS((F27-F28))))/(F28+F27))*100),Refs!$C$13) -> 25 | G29: =IFERROR((((2*(ABS((G27-G28))))/(G28+G27))*100),Refs!$C$13) -> N/A | H29: =IFERROR((((2*(ABS((H27-H28))))/(H28+H27))*100),Refs!$C$13) -> 10.37037 | I29: =IFERROR((((2*(ABS((I27-I28))))/(I28+I27))*100),Refs!$C$13) -> N/A | J29: =IFERROR((((2*(ABS((J27-J28))))/(J28+J27))*100),Refs!$C$13) -> N/A | K29: =IFERROR((((2*(ABS((K27-K28))))/(K28+K27))*100),Refs!$C$13) -> 1.8808777 | ... AK29: =IFERROR((((2*(ABS((AK27-AK28))))/(AK28+AK27))*100),Refs!$C$13) -> N/A
A30: Comments | P30: Both values > PQL and correctly entered into emLine. | Y30: Both values > PQL and correctly entered into emLine.
A31: Action | P31: Request Retest | Y31: Let Value Stand
A32: Result | P32: Retest performed, see results below. | Y32: Discrepancy between values remains.
A33: X5P Retest | B33: 40301 | C33: M | P33: 234
A34: X5P Retest | B34: 40301 | C34: DUPLICATE | P34: 71
A35: RPD (%) | D35: =IFERROR((((2*(ABS((D33-D34))))/(D34+D33))*100),Refs!$C$13) -> N/A | E35: =IFERROR((((2*(ABS((E33-E34))))/(E34+E33))*100),Refs!$C$13) -> N/A | F35: =IFERROR((((2*(ABS((F33-F34))))/(F34+F33))*100),Refs!$C$13) -> N/A | G35: =IFERROR((((2*(ABS((G33-G34))))/(G34+G33))*100),Refs!$C$13) -> N/A | H35: =IFERROR((((2*(ABS((H33-H34))))/(H34+H33))*100),Refs!$C$13) -> N/A | I35: =IFERROR((((2*(ABS((I33-I34))))/(I34+I33))*100),Refs!$C$13) -> N/A | J35: =IFERROR((((2*(ABS((J33-J34))))/(J34+J33))*100),Refs!$C$13) -> N/A | K35: =IFERROR((((2*(ABS((K33-K34))))/(K34+K33))*100),Refs!$C$13) -> N/A | ... AK35: =IFERROR((((2*(ABS((AK33-AK34))))/(AK34+AK33))*100),Refs!$C$13) -> N/A
A36: Comments | P36: Retest for May 3 X5P sample and duplicate. Both values > PQL and correctly entered into emLine.
A37: Action | P37: Let Value Stand
A38: Result | P38: New values entered into emLine.
A39: X5 | B39: 40323 | C39: M | D39: <0.005 | E39: 5.2 | F39: 0.21 | G39: <50 | H39: 18.7 | I39: <0.01 | J39: <0.005 | K39: 251 | L39: 0.119 | M39: 11.5 | N39: <0.1 | O39: 0.53 | P39: 151 | Q39: <0.01 | R39: 5.14 | S39: 0.0265 | T39: 56.6 | U39: 6410 | V39: 0.51 | W39: 17.9 | X39: 16.6 | Y39: 1.12 | Z39: 299 | AA39: 0.12 | AB39: 0.14 | AC39: 2640 | AD39: <0.01 | AE39: 763 | AF39: <0.5 | AG39: 0.375 | AH39: 2.04 | AI39: <0.2 | AJ39: 191 | AK39: <0.1
A40: X5 | B40: 40323 | C40: DUPLICATE | D40: <0.005 | E40: 5.7 | F40: 0.19 | G40: <50 | H40: 19.6 | I40: <0.01 | J40: <0.005 | K40: 256 | L40: 0.144 | M40: 12.1 | N40: <0.1 | O40: 0.58 | P40: 159 | Q40: <0.01 | R40: 5.24 | S40: 0.0266 | T40: 59.1 | U40: 6560 | V40: 0.58 | W40: 18.7 | X40: 17.4 | Y40: 1.16 | Z40: 301 | AA40: 0.13 | AB40: 0.13 | AC40: 2740 | AD40: <0.01 | AE40: 782 | AF40: <0.5 | AG40: 0.394 | AH40: 2.13 | AI40: <0.2 | AJ40: 200 | AK40: <0.1
...

Sheet Refs
A1: Request Retest
A2: Change Value | B2: N/A
A3: Let Value Stand
A4: Remove Value
A6: Request Retest
A7: Change Value | C7: N/A
A8: Let Value Stand
A9: Remove Value
A10: Request Retest
A12: Request Retest
A13: Change Value | C13: N/A
A14: Let Value Stand
A15: Remove Value
