Workbook

Sheet General
D1: Acid(pH4.5) | E1: Acid(pH8.3) | F1: ALK | G1: ALKPP | H1: CaCO3 | I1: CaCO3-d | J1: Chloride | K1: CN(wad) | L1: CNTHIO | M1: CO3 | N1: Colour | O1: COND | P1: DOC | Q1: HCO3 | R1: NH3 | S1: NO2 | T1: NO2/3 | U1: NO3 | V1: OH | W1: pH | X1: SO4-d | Y1: TDS | Z1: TOC | AA1: TSS | AB1: TURB
A2: Station | B2: Date | C2: Sample Type | D2: mg/L | E2: mg/L | F2: mg/L | G2: mg/L | H2: mg/L | I2: mg/L | J2: mg/L | K2: mg/L | L2: mg/L | M2: mg/L | N2: TCU | O2: µmho/cm | P2: mg/L | Q2: mg/L | R2: mg/L | S2: mg/L | T2: mg/L | U2: mg/L | V2: mg/L | W2: (blank) | X2: mg/L | Y2: mg/L | Z2: mg/L | AA2: mg/L | AB2: NTU
A3: V5 | B3: 40184.545 | C3: M | F3: 310 | G3: <0.5 | H3: 465 | I3: 525 | J3: 2.7 | M3: <0.5 | O3: 841 | P3: 3.3 | Q3: 380 | R3: <0.01 | V3: <0.5 | W3: 8 | X3: 160 | Y3: 450 | Z3: 3.1 | AA3: 32
A4: V5 | B4: 40184.54 | C4: DUPLICATE | F4: 310 | G4: <0.5 | H4: 472 | I4: 511 | J4: 2.8 | M4: <0.5 | O4: 846 | P4: 2.5 | Q4: 380 | R4: <0.01 | V4: <0.5 | W4: 8 | X4: 150 | Y4: 560 | Z4: 2.6 | AA4: 28
A5: RPD (%) | D5: =IFERROR((((2*(ABS((D3-D4))))/(D4+D3))*100),Refs!$B$2) -> N/A | E5: =IFERROR((((2*(ABS((E3-E4))))/(E4+E3))*100),Refs!$B$2) -> N/A | F5: =IFERROR((((2*(ABS((F3-F4))))/(F4+F3))*100),Refs!$B$2) -> 0 | G5: =IFERROR((((2*(ABS((G3-G4))))/(G4+G3))*100),Refs!$B$2) -> N/A | H5: =IFERROR((((2*(ABS((H3-H4))))/(H4+H3))*100),Refs!$B$2) -> 1.4941302 | I5: =IFERROR((((2*(ABS((I3-I4))))/(I4+I3))*100),Refs!$B$2) -> 2.7027027 | J5: =IFERROR((((2*(ABS((J3-J4))))/(J4+J3))*100),Refs!$B$2) -> 3.6363636 | K5: =IFERROR((((2*(ABS((K3-K4))))/(K4+K3))*100),Refs!$B$2) -> N/A | ... V5: =IFERROR((((2*(ABS((V3-V4))))/(V4+V3))*100),Refs!$B$2) -> N/A | W5: =IFERROR((ABS(W4-W3)),Refs!$B$2) -> 0 | X5: =IFERROR((((2*(ABS((X3-X4))))/(X4+X3))*100),Refs!$B$2) -> 6.4516129 | Y5: =IFERROR((((2*(ABS((Y3-Y4))))/(Y4+Y3))*100),Refs!$B$2) -> 21.782178 | Z5: =IFERROR((((2*(ABS((Z3-Z4))))/(Z4+Z3))*100),Refs!$B$2) -> 17.54386 | AA5: =IFERROR((((2*(ABS((AA3-AA4))))/(AA4+AA3))*100),Refs!$B$2) -> 13.333333 | AB5: =IFERROR((((2*(ABS((AB3-AB4))))/(AB4+AB3))*100),Refs!$B$2) -> N/A
A6: Comments
A7: Action
A8: Result
A9: V15 | B9: 40185.542 | C9: M | D9: <0.5 | E9: 52.8 | F9: 510 | G9: <0.5 | I9: 3180 | J9: 2 | M9: <0.5 | O9: 4020 | Q9: 620 | V9: <0.5 | W9: 7.5 | X9: 2500 | AA9: <1.0
A10: V15 | B10: 40185.545 | C10: DUPLICATE | D10: <0.5 | E10: 56 | F10: 510 | G10: <0.5 | I10: 3170 | J10: 2 | M10: <0.5 | O10: 4030 | Q10: 620 | V10: <0.5 | W10: 7.5 | X10: 2500 | AA10: <1.0
A11: RPD (%) | D11: =IFERROR((((2*(ABS((D9-D10))))/(D10+D9))*100),Refs!$B$2) -> N/A | E11: =IFERROR((((2*(ABS((E9-E10))))/(E10+E9))*100),Refs!$B$2) -> 5.8823529 | F11: =IFERROR((((2*(ABS((F9-F10))))/(F10+F9))*100),Refs!$B$2) -> 0 | G11: =IFERROR((((2*(ABS((G9-G10))))/(G10+G9))*100),Refs!$B$2) -> N/A | H11: =IFERROR((((2*(ABS((H9-H10))))/(H10+H9))*100),Refs!$B$2) -> N/A | I11: =IFERROR((((2*(ABS((I9-I10))))/(I10+I9))*100),Refs!$B$2) -> 0.31496063 | J11: =IFERROR((((2*(ABS((J9-J10))))/(J10+J9))*100),Refs!$B$2) -> 0 | K11: =IFERROR((((2*(ABS((K9-K10))))/(K10+K9))*100),Refs!$B$2) -> N/A | ... V11: =IFERROR((((2*(ABS((V9-V10))))/(V10+V9))*100),Refs!$B$2) -> N/A | W11: =IFERROR((ABS(W10-W9)),Refs!$B$2) -> 0 | X11: =IFERROR((((2*(ABS((X9-X10))))/(X10+X9))*100),Refs!$B$2) -> 0 | Y11: =IFERROR((((2*(ABS((Y9-Y10))))/(Y10+Y9))*100),Refs!$B$2) -> N/A | Z11: =IFERROR((((2*(ABS((Z9-Z10))))/(Z10+Z9))*100),Refs!$B$2) -> N/A | AA11: =IFERROR((((2*(ABS((AA9-AA10))))/(AA10+AA9))*100),Refs!$B$2) -> N/A | AB11: =IFERROR((((2*(ABS((AB9-AB10))))/(AB10+AB9))*100),Refs!$B$2) -> N/A
A12: Comments
A13: Action
A14: Result
A15: V2A | B15: 40212 | C15: M | F15: 440 | G15: <0.5 | H15: 1790 | I15: 1730 | J15: 2 | M15: <0.5 | O15: 2550 | P15: 4.2 | Q15: 530 | R15: 0.03 | V15: <0.5 | W15: 8.1 | X15: 1000 | Y15: 2300 | Z15: 4.8 | AA15: 6
A16: V2A | B16: 40212 | C16: DUPLICATE | F16: 420 | G16: <0.5 | H16: 1830 | I16: 1720 | J16: 1.9 | M16: <0.5 | O16: 2520 | P16: 3.4 | Q16: 520 | R16: 0.04 | V16: <0.5 | W16: 8 | X16: 1100 | Y16: 2300 | Z16: 3.4 | AA16: 6
A17: RPD (%) | D17: =IFERROR((((2*(ABS((D15-D16))))/(D16+D15))*100),Refs!$B$2) -> N/A | E17: =IFERROR((((2*(ABS((E15-E16))))/(E16+E15))*100),Refs!$B$2) -> N/A | F17: =IFERROR((((2*(ABS((F15-F16))))/(F16+F15))*100),Refs!$B$2) -> 4.6511628 | G17: =IFERROR((((2*(ABS((G15-G16))))/(G16+G15))*100),Refs!$B$2) -> N/A | H17: =IFERROR((((2*(ABS((H15-H16))))/(H16+H15))*100),Refs!$B$2) -> 2.2099448 | I17: =IFERROR((((2*(ABS((I15-I16))))/(I16+I15))*100),Refs!$B$2) -> 0.57971014 | J17: =IFERROR((((2*(ABS((J15-J16))))/(J16+J15))*100),Refs!$B$2) -> 5.1282051 | K17: =IFERROR((((2*(ABS((K15-K16))))/(K16+K15))*100),Refs!$B$2) -> N/A | ... V17: =IFERROR((((2*(ABS((V15-V16))))/(V16+V15))*100),Refs!$B$2) -> N/A | W17: =IFERROR((ABS(W16-W15)),Refs!$B$2) -> 0.1 | X17: =IFERROR((((2*(ABS((X15-X16))))/(X16+X15))*100),Refs!$B$2) -> 9.5238095 | Y17: =IFERROR((((2*(ABS((Y15-Y16))))/(Y16+Y15))*100),Refs!$B$2) -> 0 | Z17: =IFERROR((((2*(ABS((Z15-Z16))))/(Z16+Z15))*100),Refs!$B$2) -> 34.146341 | AA17: =IFERROR((((2*(ABS((AA15-AA16))))/(AA16+AA15))*100),Refs!$B$2) -> 0 | AB17: =IFERROR((((2*(ABS((AB15-AB16))))/(AB16+AB15))*100),Refs!$B$2) -> N/A
A18: Comments
A19: Action
A20: Result
A21: V1 | B21: 40227 | C21: M | F21: 49 | G21: <0.5 | H21: 50.8 | I21: 57.3 | J21: <0.5 | M21: <0.5 | O21: 118 | P21: 0.8 | Q21: 60 | R21: 0.03 | V21: <0.5 | W21: 7.8 | X21: 11 | Y21: 68 | Z21: <0.5 | AA21: <1.0
A22: V1 | B22: 40227 | C22: DUPLICATE | F22: 46 | G22: <0.5 | H22: 53 | I22: 55.5 | J22: <0.5 | M22: <0.5 | O22: 119 | P22: 1.2 | Q22: 56 | R22: <0.01 | V22: <0.5 | W22: 7.8 | X22: 12 | Y22: 54 | Z22: 0.7 | AA22: <1.0
A23: RPD (%) | D23: =IFERROR((((2*(ABS((D21-D22))))/(D22+D21))*100),Refs!$B$2) -> N/A | E23: =IFERROR((((2*(ABS((E21-E22))))/(E22+E21))*100),Refs!$B$2) -> N/A | F23: =IFERROR((((2*(ABS((F21-F22))))/(F22+F21))*100),Refs!$B$2) -> 6.3157895 | G23: =IFERROR((((2*(ABS((G21-G22))))/(G22+G21))*100),Refs!$B$2) -> N/A | H23: =IFERROR((((2*(ABS((H21-H22))))/(H22+H21))*100),Refs!$B$2) -> 4.238921 | I23: =IFERROR((((2*(ABS((I21-I22))))/(I22+I21))*100),Refs!$B$2) -> 3.1914894 | J23: =IFERROR((((2*(ABS((J21-J22))))/(J22+J21))*100),Refs!$B$2) -> N/A | K23: =IFERROR((((2*(ABS((K21-K22))))/(K22+K21))*100),Refs!$B$2) -> N/A | ... V23: =IFERROR((((2*(ABS((V21-V22))))/(V22+V21))*100),Refs!$B$2) -> N/A | W23: =IFERROR((ABS(W22-W21)),Refs!$B$2) -> 0 | X23: =IFERROR((((2*(ABS((X21-X22))))/(X22+X21))*100),Refs!$B$2) -> 8.6956522 | Y23: =IFERROR((((2*(ABS((Y21-Y22))))/(Y22+Y21))*100),Refs!$B$2) -> 22.95082 | Z23: =IFERROR((((2*(ABS((Z21-Z22))))/(Z22+Z21))*100),Refs!$B$2) -> N/A | AA23: =IFERROR((((2*(ABS((AA21-AA22))))/(AA22+AA21))*100),Refs!$B$2) -> N/A | AB23: =IFERROR((((2*(ABS((AB21-AB22))))/(AB22+AB21))*100),Refs!$B$2) -> N/A
A24: Comments
A25: Action
A26: Result
A27: V2 | B27: 40239 | C27: M | F27: 360 | G27: <0.5 | H27: 1560 | I27: 1680 | J27: 1.4 | L27: <0.0005 | M27: <0.5 | N27: 10 | O27: 2230 | P27: 2.9 | Q27: 440 | R27: <0.01 | V27: <0.5 | W27: 8.1 | X27: 1100 | Y27: 2100 | Z27: 3.3 | AA27: 2 | AB27: 0.5
A28: V2 | B28: 40239 | C28: DUPLICATE | F28: 360 | G28: <0.5 | H28: 1510 | I28: 1620 | J28: 1.3 | L28: <0.0005 | M28: <0.5 | N28: <5.0 | O28: 2240 | P28: 1.7 | Q28: 440 | R28: 0.04 | V28: <0.5 | W28: 8.1 | X28: 1100 | Y28: 2000 | Z28: 2.7 | AA28: <1.0 | AB28: 0.5
A29: RPD (%) | D29: =IFERROR((((2*(ABS((D27-D28))))/(D28+D27))*100),Refs!$B$2) -> N/A | E29: =IFERROR((((2*(ABS((E27-E28))))/(E28+E27))*100),Refs!$B$2) -> N/A | F29: =IFERROR((((2*(ABS((F27-F28))))/(F28+F27))*100),Refs!$B$2) -> 0 | G29: =IFERROR((((2*(ABS((G27-G28))))/(G28+G27))*100),Refs!$B$2) -> N/A | H29: =IFERROR((((2*(ABS((H27-H28))))/(H28+H27))*100),Refs!$B$2) -> 3.257329 | I29: =IFERROR((((2*(ABS((I27-I28))))/(I28+I27))*100),Refs!$B$2) -> 3.6363636 | J29: =IFERROR((((2*(ABS((J27-J28))))/(J28+J27))*100),Refs!$B$2) -> 7.4074074 | K29: =IFERROR((((2*(ABS((K27-K28))))/(K28+K27))*100),Refs!$B$2) -> N/A | ... V29: =IFERROR((((2*(ABS((V27-V28))))/(V28+V27))*100),Refs!$B$2) -> N/A | W29: =IFERROR((ABS(W28-W27)),Refs!$B$2) -> 0 | X29: =IFERROR((((2*(ABS((X27-X28))))/(X28+X27))*100),Refs!$B$2) -> 0 | Y29: =IFERROR((((2*(ABS((Y27-Y28))))/(Y28+Y27))*100),Refs!$B$2) -> 4.8780488 | Z29: =IFERROR((((2*(ABS((Z27-Z28))))/(Z28+Z27))*100),Refs!$B$2) -> 20 | AA29: =IFERROR((((2*(ABS((AA27-AA28))))/(AA28+AA27))*100),Refs!$B$2) -> N/A | AB29: =IFERROR((((2*(ABS((AB27-AB28))))/(AB28+AB27))*100),Refs!$B$2) -> 0
A30: Comments | P30: Both values correctly entered into emLine; however, duplicate value not > PQL. Therefore, RPD analysis not valid in this case.
A31: Action | P31: Let Value Stand
A32: Result | P32: Discrepancy between values remains.
A33: V5 | B33: 40267 | C33: M | F33: 300 | G33: <0.5 | H33: 460 | I33: 465 | J33: 2.3 | M33: <0.5 | O33: 837 | P33: 2.2 | Q33: 370 | R33: 0.02 | V33: <0.5 | W33: 8.2 | X33: 180 | Y33: 540 | Z33: 3 | AA33: 6
A34: V5 | B34: 40267 | C34: DUPLICATE | F34: 310 | G34: <0.5 | H34: 485 | I34: 462 | J34: 2.8 | M34: <0.5 | O34: 837 | P34: 2 | Q34: 370 | R34: <0.01 | V34: <0.5 | W34: 8.2 | X34: 180 | Y34: 560 | Z34: 2 | AA34: 3
A35: RPD (%) | D35: =IFERROR((((2*(ABS((D33-D34))))/(D34+D33))*100),Refs!$B$2) -> N/A | E35: =IFERROR((((2*(ABS((E33-E34))))/(E34+E33))*100),Refs!$B$2) -> N/A | F35: =IFERROR((((2*(ABS((F33-F34))))/(F34+F33))*100),Refs!$B$2) -> 3.2786885 | G35: =IFERROR((((2*(ABS((G33-G34))))/(G34+G33))*100),Refs!$B$2) -> N/A | H35: =IFERROR((((2*(ABS((H33-H34))))/(H34+H33))*100),Refs!$B$2) -> 5.2910053 | I35: =IFERROR((((2*(ABS((I33-I34))))/(I34+I33))*100),Refs!$B$2) -> 0.64724919 | J35: =IFERROR((((2*(ABS((J33-J34))))/(J34+J33))*100),Refs!$B$2) -> 19.607843 | K35: =IFERROR((((2*(ABS((K33-K34))))/(K34+K33))*100),Refs!$B$2) -> N/A | ... V35: =IFERROR((((2*(ABS((V33-V34))))/(V34+V33))*100),Refs!$B$2) -> N/A | W35: =IFERROR((ABS(W34-W33)),Refs!$B$2) -> 0 | X35: =IFERROR((((2*(ABS((X33-X34))))/(X34+X33))*100),Refs!$B$2) -> 0 | Y35: =IFERROR((((2*(ABS((Y33-Y34))))/(Y34+Y33))*100),Refs!$B$2) -> 3.6363636 | Z35: =IFERROR((((2*(ABS((Z33-Z34))))/(Z34+Z33))*100),Refs!$B$2) -> 40 | AA35: =IFERROR((((2*(ABS((AA33-AA34))))/(AA34+AA33))*100),Refs!$B$2) -> 66.666667 | AB35: =IFERROR((((2*(ABS((AB33-AB34))))/(AB34+AB33))*100),Refs!$B$2) -> N/A
A36: Comments | AA36: Both values correctly entered into emLine; however, duplicate value not > PQL. Therefore, RPD analysis not valid in this case.
A37: Action | AA37: Let Value Stand
A38: Result | AA38: Discrepancy between values remains.
A39: V8 | B39: 40267 | C39: M | F39: 250 | G39: <0.5 | H39: 429 | I39: 431 | J39: 1.8 | M39: <0.5 | O39: 802 | P39: 2 | Q39: 300 | R39: <0.01 | V39: <0.5 | W39: 8.3 | X39: 200 | Y39: 510 | Z39: 2.5 | AA39: 2
A40: V8 | B40: 40267 | C40: DUPLICATE | F40: 250 | G40: <0.5 | H40: 449 | I40: 434 | J40: 1.4 | M40: <0.5 | O40: 796 | P40: 2.1 | Q40: 300 | R40: <0.01 | V40: <0.5 | W40: 8.2 | X40: 160 | Y40: 530 | Z40: 2.5 | AA40: 2
A41: RPD (%) | D41: =IFERROR((((2*(ABS((D39-D40))))/(D40+D39))*100),Refs!$B$2) -> N/A | E41: =IFERROR((((2*(ABS((E39-E40))))/(E40+E39))*100),Refs!$B$2) -> N/A | F41: =IFERROR((((2*(ABS((F39-F40))))/(F40+F39))*100),Refs!$B$2) -> 0 | G41: =IFERROR((((2*(ABS((G39-G40))))/(G40+G39))*100),Refs!$B$2) -> N/A | H41: =IFERROR((((2*(ABS((H39-H40))))/(H40+H39))*100),Refs!$B$2) -> 4.5558087 | I41: =IFERROR((((2*(ABS((I39-I40))))/(I40+I39))*100),Refs!$B$2) -> 0.69364162 | J41: =IFERROR((((2*(ABS((J39-J40))))/(J40+J39))*100),Refs!$B$2) -> 25 | K41: =IFERROR((((2*(ABS((K39-K40))))/(K40+K39))*100),Refs!$B$2) -> N/A | ... V41: =IFERROR((((2*(ABS((V39-V40))))/(V40+V39))*100),Refs!$B$2) -> N/A | W41: =IFERROR((ABS(W40-W39)),Refs!$B$2) -> 0.1 | X41: =IFERROR((((2*(ABS((X39-X40))))/(X40+X39))*100),Refs!$B$2) -> 22.222222 | Y41: =IFERROR((((2*(ABS((Y39-Y40))))/(Y40+Y39))*100),Refs!$B$2) -> 3.8461538 | Z41: =IFERROR((((2*(ABS((Z39-Z40))))/(Z40+Z39))*100),Refs!$B$2) -> 0 | AA41: =IFERROR((((2*(ABS((AA39-AA40))))/(AA40+AA39))*100),Refs!$B$2) -> 0 | AB41: =IFERROR((((2*(ABS((AB39-AB40))))/(AB40+AB39))*100),Refs!$B$2) -> N/A
A42: Comments
A43: Action
A44: Result
A45: V15 | B45: 40275 | C45: M | D45: <0.5 | E45: 69.4 | F45: 500 | G45: <0.5 | I45: 3180 | J45: 1.6 | M45: <0.5 | O45: 3990 | Q45: 610 | V45: <0.5 | W45: 8 | X45: 1900 | AA45: <1
A46: V15 | B46: 40275 | C46: DUPLICATE | D46: <0.5 | E46: 62.7 | F46: 490 | G46: <0.5 | I46: 3000 | J46: 1.3 | M46: <0.5 | O46: 3870 | Q46: 600 | V46: <0.5 | W46: 8 | X46: 2000 | AA46: <1
A47: RPD (%) | D47: =IFERROR((((2*(ABS((D45-D46))))/(D46+D45))*100),Refs!$B$2) -> N/A | E47: =IFERROR((((2*(ABS((E45-E46))))/(E46+E45))*100),Refs!$B$2) -> 10.14383 | F47: =IFERROR((((2*(ABS((F45-F46))))/(F46+F45))*100),Refs!$B$2) -> 2.020202 | G47: =IFERROR((((2*(ABS((G45-G46))))/(G46+G45))*100),Refs!$B$2) -> N/A | H47: =IFERROR((((2*(ABS((H45-H46))))/(H46+H45))*100),Refs!$B$2) -> N/A | I47: =IFERROR((((2*(ABS((I45-I46))))/(I46+I45))*100),Refs!$B$2) -> 5.8252427 | J47: =IFERROR((((2*(ABS((J45-J46))))/(J46+J45))*100),Refs!$B$2) -> 20.689655 | K47: =IFERROR((((2*(ABS((K45-K46))))/(K46+K45))*100),Refs!$B$2) -> N/A | ... V47: =IFERROR((((2*(ABS((V45-V46))))/(V46+V45))*100),Refs!$B$2) -> N/A | W47: =IFERROR((ABS(W46-W45)),Refs!$B$2) -> 0 | X47: =IFERROR((((2*(ABS((X45-X46))))/(X46+X45))*100),Refs!$B$2) -> 5.1282051 | Y47: =IFERROR((((2*(ABS((Y45-Y46))))/(Y46+Y45))*100),Refs!$B$2) -> N/A | Z47: =IFERROR((((2*(ABS((Z45-Z46))))/(Z46+Z45))*100),Refs!$B$2) -> N/A | AA47: =IFERROR((((2*(ABS((AA45-AA46))))/(AA46+AA45))*100),Refs!$B$2) -> N/A | AB47: =IFERROR((((2*(ABS((AB45-AB46))))/(AB46+AB45))*100),Refs!$B$2) -> N/A
A48: Comments
A49: Action
A50: Result
A51: V1 | B51: 40288 | C51: M | F51: 46 | G51: <0.5 | H51: 51.2 | I51: 55 | J51: <0.5 | M51: <0.5 | O51: 113 | P51: 1.5 | Q51: 56 | R51: 0.02 | V51: <0.5 | W51: 7.8 | X51: 12 | Y51: 46 | Z51: 1 | AA51: <1
A52: V1 | B52: 40288 | C52: DUPLICATE | F52: 46 | G52: <0.5 | H52: 50.6 | I52: 55.9 | J52: <0.5 | M52: <0.5 | O52: 113 | P52: 1.3 | Q52: 56 | R52: <0.01 | V52: <0.5 | W52: 7.9 | X52: 11 | Y52: 56 | Z52: 1.3 | AA52: <1
A53: RPD (%) | D53: =IFERROR((((2*(ABS((D51-D52))))/(D52+D51))*100),Refs!$B$2) -> N/A | E53: =IFERROR((((2*(ABS((E51-E52))))/(E52+E51))*100),Refs!$B$2) -> N/A | F53: =IFERROR((((2*(ABS((F51-F52))))/(F52+F51))*100),Refs!$B$2) -> 0 | G53: =IFERROR((((2*(ABS((G51-G52))))/(G52+G51))*100),Refs!$B$2) -> N/A | H53: =IFERROR((((2*(ABS((H51-H52))))/(H52+H51))*100),Refs!$B$2) -> 1.1787819 | I53: =IFERROR((((2*(ABS((I51-I52))))/(I52+I51))*100),Refs!$B$2) -> 1.6230839 | J53: =IFERROR((((2*(ABS((J51-J52))))/(J52+J51))*100),Refs!$B$2) -> N/A | K53: =IFERROR((((2*(ABS((K51-K52))))/(K52+K51))*100),Refs!$B$2) -> N/A | ... V53: =IFERROR((((2*(ABS((V51-V52))))/(V52+V51))*100),Refs!$B$2) -> N/A | W53: =IFERROR((ABS(W52-W51)),Refs!$B$2) -> 0.1 | X53: =IFERROR((((2*(ABS((X51-X52))))/(X52+X51))*100),Refs!$B$2) -> 8.6956522 | Y53: =IFERROR((((2*(ABS((Y51-Y52))))/(Y52+Y51))*100),Refs!$B$2) -> 19.607843 | Z53: =IFERROR((((2*(ABS((Z51-Z52))))/(Z52+Z51))*100),Refs!$B$2) -> 26.086957 | AA53: =IFERROR((((2*(ABS((AA51-AA52))))/(AA52+AA51))*100),Refs!$B$2) -> N/A | AB53: =IFERROR((((2*(ABS((AB51-AB52))))/(AB52+AB51))*100),Refs!$B$2) -> N/A
A54: Comments
A55: Action
A56: Result
E57: RPD > 50%
A62: MOOSE SEEP | B62: 40299 | C62: M | D62: <0.5 | E62: 4.5 | F62: 330 | G62: <0.5 | I62: 1600 | J62: 0.9 | M62: <0.5 | O62: 2240 | Q62: 400 | V62: <0.5 | W62: 8 | X62: 1100 | AA62: <1
A63: MOOSE SEEP | B63: 40299 | C63: DUPLICATE | D63: <0.5 | E63: 4 | F63: 330 | G63: <0.5 | I63: 1490 | J63: 0.9 | M63: <0.5 | O63: 2230 | Q63: 400 | V63: <0.5 | W63: 8.1 | X63: 1100 | AA63: 2
A64: RPD (%) | D64: =IFERROR((((2*(ABS((D62-D63))))/(D63+D62))*100),Refs!$B$2) -> N/A | E64: =IFERROR((((2*(ABS((E62-E63))))/(E63+E62))*100),Refs!$B$2) -> 11.764706 | F64: =IFERROR((((2*(ABS((F62-F63))))/(F63+F62))*100),Refs!$B$2) -> 0 | G64: =IFERROR((((2*(ABS((G62-G63))))/(G63+G62))*100),Refs!$B$2) -> N/A | H64: =IFERROR((((2*(ABS((H62-H63))))/(H63+H62))*100),Refs!$B$2) -> N/A | I64: =IFERROR((((2*(ABS((I62-I63))))/(I63+I62))*100),Refs!$B$2) -> 7.1197411 | J64: =IFERROR((((2*(ABS((J62-J63))))/(J63+J62))*100),Refs!$B$2) -> 0 | K64: =IFERROR((((2*(ABS((K62-K63))))/(K63+K62))*100),Refs!$B$2) -> N/A | ... V64: =IFERROR((((2*(ABS((V62-V63))))/(V63+V62))*100),Refs!$B$2) -> N/A | W64: =IFERROR((ABS(W63-W62)),Refs!$B$2) -> 0.1 | X64: =IFERROR((((2*(ABS((X62-X63))))/(X63+X62))*100),Refs!$B$2) -> 0 | Y64: =IFERROR((((2*(ABS((Y62-Y63))))/(Y63+Y62))*100),Refs!$B$2) -> N/A | Z64: =IFERROR((((2*(ABS((Z62-Z63))))/(Z63+Z62))*100),Refs!$B$2) -> N/A | AA64: =IFERROR((((2*(ABS((AA62-AA63))))/(AA63+AA62))*100),Refs!$B$2) -> N/A | AB64: =IFERROR((((2*(ABS((AB62-AB63))))/(AB63+AB62))*100),Refs!$B$2) -> N/A
A65: Comments
A66: Action
A67: Result
A68: LCD | B68: 40310 | C68: M | F68: <0.5 | G68: <0.5 | H68: 1020 | I68: 980 | J68: <0.5 | M68: <0.5 | O68: 2400 | Q68: <0.5 | R68: 0.6 | V68: <0.5 | W68: 3.9 | X68: 1600 | Y68: 2400 | AA68: 21
A69: LCD | B69: 40310 | C69: DUPLICATE | F69: <0.5 | G69: <0.5 | H69: 1040 | I69: 1020 | J69: <0.5 | M69: <0.5 | O69: 2400 | Q69: <0.5 | R69: 0.71 | V69: <0.5 | W69: 3.6 | X69: 1600 | Y69: 2500 | AA69: 14
A70: RPD (%) | D70: =IFERROR((((2*(ABS((D68-D69))))/(D69+D68))*100),Refs!$B$2) -> N/A | E70: =IFERROR((((2*(ABS((E68-E69))))/(E69+E68))*100),Refs!$B$2) -> N/A | F70: =IFERROR((((2*(ABS((F68-F69))))/(F69+F68))*100),Refs!$B$2) -> N/A | G70: =IFERROR((((2*(ABS((G68-G69))))/(G69+G68))*100),Refs!$B$2) -> N/A | H70: =IFERROR((((2*(ABS((H68-H69))))/(H69+H68))*100),Refs!$B$2) -> 1.9417476 | I70: =IFERROR((((2*(ABS((I68-I69))))/(I69+I68))*100),Refs!$B$2) -> 4 | J70: =IFERROR((((2*(ABS((J68-J69))))/(J69+J68))*100),Refs!$B$2) -> N/A | K70: =IFERROR((((2*(ABS((K68-K69))))/(K69+K68))*100),Refs!$B$2) -> N/A | ... V70: =IFERROR((((2*(ABS((V68-V69))))/(V69+V68))*100),Refs!$B$2) -> N/A | W70: =IFERROR((ABS(W69-W68)),Refs!$B$2) -> 0.3 | X70: =IFERROR((((2*(ABS((X68-X69))))/(X69+X68))*100),Refs!$B$2) -> 0 | Y70: =IFERROR((((2*(ABS((Y68-Y69))))/(Y69+Y68))*100),Refs!$B$2) -> 4.0816327 | Z70: =IFERROR((((2*(ABS((Z68-Z69))))/(Z69+Z68))*100),Refs!$B$2) -> N/A | AA70: =IFERROR((((2*(ABS((AA68-AA69))))/(AA69+AA68))*100),Refs!$B$2) -> 40 | AB70: =IFERROR((((2*(ABS((AB68-AB69))))/(AB69+AB68))*100),Refs!$B$2) -> N/A
A71: Comments
A72: Action
A73: Result
A74: V2A | B74: 40316 | C74: M | F74: 350 | G74: <0.5 | H74: 1370 | I74: 1540 | M74: <0.5 | O74: 2240 | P74: 3.4 | Q74: 430 | R74: 0.016 | V74: <0.5 | W74: 8.2 | X74: 1200 | Y74: 2100 | Z74: 3.4 | AA74: 2
A75: V2A | B75: 40316 | C75: DUPLICATE | F75: 350 | G75: <0.5 | H75: 1430 | I75: 1550 | M75: <0.5 | O75: 2250 | P75: 3.4 | Q75: 430 | R75: 0.015 | V75: <0.5 | W75: 8.1 | X75: 1100 | Y75: 2100 | Z75: 3.6 | AA75: 2
A76: RPD (%) | D76: =IFERROR((((2*(ABS((D74-D75))))/(D75+D74))*100),Refs!$B$2) -> N/A | E76: =IFERROR((((2*(ABS((E74-E75))))/(E75+E74))*100),Refs!$B$2) -> N/A | F76: =IFERROR((((2*(ABS((F74-F75))))/(F75+F74))*100),Refs!$B$2) -> 0 | G76: =IFERROR((((2*(ABS((G74-G75))))/(G75+G74))*100),Refs!$B$2) -> N/A | H76: =IFERROR((((2*(ABS((H74-H75))))/(H75+H74))*100),Refs!$B$2) -> 4.2857143 | I76: =IFERROR((((2*(ABS((I74-I75))))/(I75+I74))*100),Refs!$B$2) -> 0.64724919 | J76: =IFERROR((((2*(ABS((J74-J75))))/(J75+J74))*100),Refs!$B$2) -> N/A | K76: =IFERROR((((2*(ABS((K74-K75))))/(K75+K74))*100),Refs!$B$2) -> N/A | ... V76: =IFERROR((((2*(ABS((V74-V75))))/(V75+V74))*100),Refs!$B$2) -> N/A | W76: =IFERROR((ABS(W75-W74)),Refs!$B$2) -> 0.1 | X76: =IFERROR((((2*(ABS((X74-X75))))/(X75+X74))*100),Refs!$B$2) -> 8.6956522 | Y76: =IFERROR((((2*(ABS((Y74-Y75))))/(Y75+Y74))*100),Refs!$B$2) -> 0 | Z76: =IFERROR((((2*(ABS((Z74-Z75))))/(Z75+Z74))*100),Refs!$B$2) -> 5.7142857 | AA76: =IFERROR((((2*(ABS((AA74-AA75))))/(AA75+AA74))*100),Refs!$B$2) -> 0 | AB76: =IFERROR((((2*(ABS((AB74-AB75))))/(AB75+AB74))*100),Refs!$B$2) -> N/A
A77: Comments
A78: Action
A79: Result
A80: LCD | B80: 40345 | C80: M | F80: <0.5 | G80: <0.5 | H80: 2930 | I80: 2950 | J80: <0.5 | M80: <0.5 | O80: 5950 | Q80: <0.5 | R80: 1.5 | V80: <0.5 | W80: 3.49 | X80: 5400 | Y80: 7700 | AA80: 11
A81: LCD | B81: 40345 | C81: DUPLICATE | F81: <0.5 | G81: <0.5 | H81: 3030 | I81: 2990 | J81: <0.5 | M81: <0.5 | O81: 5960 | Q81: <0.5 | R81: 1.5 | V81: <0.5 | W81: 3.42 | X81: 5400 | Y81: 7900 | AA81: 9
A82: RPD (%) | D82: =IFERROR((((2*(ABS((D80-D81))))/(D81+D80))*100),Refs!$B$2) -> N/A | E82: =IFERROR((((2*(ABS((E80-E81))))/(E81+E80))*100),Refs!$B$2) -> N/A | F82: =IFERROR((((2*(ABS((F80-F81))))/(F81+F80))*100),Refs!$B$2) -> N/A | G82: =IFERROR((((2*(ABS((G80-G81))))/(G81+G80))*100),Refs!$B$2) -> N/A | H82: =IFERROR((((2*(ABS((H80-H81))))/(H81+H80))*100),Refs!$B$2) -> 3.3557047 | I82: =IFERROR((((2*(ABS((I80-I81))))/(I81+I80))*100),Refs!$B$2) -> 1.3468013 | J82: =IFERROR((((2*(ABS((J80-J81))))/(J81+J80))*100),Refs!$B$2) -> N/A | K82: =IFERROR((((2*(ABS((K80-K81))))/(K81+K80))*100),Refs!$B$2) -> N/A | ... V82: =IFERROR((((2*(ABS((V80-V81))))/(V81+V80))*100),Refs!$B$2) -> N/A | W82: =IFERROR((ABS(W81-W80)),Refs!$B$2) -> 0.07 | X82: =IFERROR((((2*(ABS((X80-X81))))/(X81+X80))*100),Refs!$B$2) -> 0 | Y82: =IFERROR((((2*(ABS((Y80-Y81))))/(Y81+Y80))*100),Refs!$B$2) -> 2.5641026 | Z82: =IFERROR((((2*(ABS((Z80-Z81))))/(Z81+Z80))*100),Refs!$B$2) -> N/A | AA82: =IFERROR((((2*(ABS((AA80-AA81))))/(AA81+AA80))*100),Refs!$B$2) -> 20 | AB82: =IFERROR((((2*(ABS((AB80-AB81))))/(AB81+AB80))*100),Refs!$B$2) -> N/A
A83: Comments
A84: Action
A85: Result
A86: V25 | B86: 40365 | C86: M | F86: 30 | G86: <0.5 | H86: 1560 | I86: 1590 | J86: <0.5 | M86: <0.5 | O86: 2280 | Q86: 37 | R86: 0.24 | V86: <0.5 | W86: 7.71 | X86: 1500 | Y86: 2100 | AA86: 2
A87: V25 | B87: 40365 | C87: DUPLICATE | F87: 30 | G87: <0.5 | H87: 1580 | I87: 1600 | J87: <0.5 | M87: <0.5 | O87: 2230 | Q87: 37 | R87: 0.25 | V87: <0.5 | W87: 7.51 | X87: 1600 | Y87: 2100 | AA87: 2
A88: RPD (%) | D88: =IFERROR((((2*(ABS((D86-D87))))/(D87+D86))*100),Refs!$B$2) -> N/A | E88: =IFERROR((((2*(ABS((E86-E87))))/(E87+E86))*100),Refs!$B$2) -> N/A | F88: =IFERROR((((2*(ABS((F86-F87))))/(F87+F86))*100),Refs!$B$2) -> 0 | G88: =IFERROR((((2*(ABS((G86-G87))))/(G87+G86))*100),Refs!$B$2) -> N/A | H88: =IFERROR((((2*(ABS((H86-H87))))/(H87+H86))*100),Refs!$B$2) -> 1.2738854 | I88: =IFERROR((((2*(ABS((I86-I87))))/(I87+I86))*100),Refs!$B$2) -> 0.62695925 | J88: =IFERROR((((2*(ABS((J86-J87))))/(J87+J86))*100),Refs!$B$2) -> N/A | K88: =IFERROR((((2*(ABS((K86-K87))))/(K87+K86))*100),Refs!$B$2) -> N/A | ... V88: =IFERROR((((2*(ABS((V86-V87))))/(V87+V86))*100),Refs!$B$2) -> N/A | W88: =IFERROR((ABS(W87-W86)),Refs!$B$2) -> 0.2 | X88: =IFERROR((((2*(ABS((X86-X87))))/(X87+X86))*100),Refs!$B$2) -> 6.4516129 | Y88: =IFERROR((((2*(ABS((Y86-Y87))))/(Y87+Y86))*100),Refs!$B$2) -> 0 | Z88: =IFERROR((((2*(ABS((Z86-Z87))))/(Z87+Z86))*100),Refs!$B$2) -> N/A | AA88: =IFERROR((((2*(ABS((AA86-AA87))))/(AA87+AA86))*100),Refs!$B$2) -> 0 | AB88: =IFERROR((((2*(ABS((AB86-AB87))))/(AB87+AB86))*100),Refs!$B$2) -> N/A
A89: Comments
A90: Action
A91: Result
A92: V2A | B92: 40366 | C92: M | F92: 390 | G92: 9.2 | H92: 1670 | I92: 1610 | J92: 0.9 | M92: 11 | O92: 2370 | P92: 4.7 | Q92: 460 | R92: <0.05 | V92: <0.5 | W92: 8.35 | X92: 1200 | Y92: 2300 | Z92: 4.4 | AA92: 2
A93: V2A | B93: 40366 | C93: DUPLICATE | F93: 400 | G93: 7.5 | H93: 1630 | I93: 1610 | J93: 0.8 | M93: 8.9 | O93: 2460 | P93: 3.7 | Q93: 470 | R93: <0.05 | V93: <0.5 | W93: 8.34 | X93: 1200 | Y93: 2300 | Z93: 3.9 | AA93: 2
A94: RPD (%) | D94: =IFERROR((((2*(ABS((D92-D93))))/(D93+D92))*100),Refs!$B$2) -> N/A | E94: =IFERROR((((2*(ABS((E92-E93))))/(E93+E92))*100),Refs!$B$2) -> N/A | F94: =IFERROR((((2*(ABS((F92-F93))))/(F93+F92))*100),Refs!$B$2) -> 2.5316456 | G94: =IFERROR((((2*(ABS((G92-G93))))/(G93+G92))*100),Refs!$B$2) -> 20.359281 | H94: =IFERROR((((2*(ABS((H92-H93))))/(H93+H92))*100),Refs!$B$2) -> 2.4242424 | I94: =IFERROR((((2*(ABS((I92-I93))))/(I93+I92))*100),Refs!$B$2) -> 0 | J94: =IFERROR((((2*(ABS((J92-J93))))/(J93+J92))*100),Refs!$B$2) -> 11.764706 | K94: =IFERROR((((2*(ABS((K92-K93))))/(K93+K92))*100),Refs!$B$2) -> N/A | ... V94: =IFERROR((((2*(ABS((V92-V93))))/(V93+V92))*100),Refs!$B$2) -> N/A | W94: =IFERROR((ABS(W93-W92)),Refs!$B$2) -> 0.01 | X94: =IFERROR((((2*(ABS((X92-X93))))/(X93+X92))*100),Refs!$B$2) -> 0 | Y94: =IFERROR((((2*(ABS((Y92-Y93))))/(Y93+Y92))*100),Refs!$B$2) -> 0 | Z94: =IFERROR((((2*(ABS((Z92-Z93))))/(Z93+Z92))*100),Refs!$B$2) -> 12.048193 | AA94: =IFERROR((((2*(ABS((AA92-AA93))))/(AA93+AA92))*100),Refs!$B$2) -> 0 | AB94: =IFERROR((((2*(ABS((AB92-AB93))))/(AB93+AB92))*100),Refs!$B$2) -> N/A
A95: Comments
A96: Action
A97: Result
A98: V25 BSP | B98: 40372 | C98: M | F98: 40 | G98: <0.5 | H98: 1440 | I98: 1470 | J98: <0.5 | L98: <0.0005 | M98: <0.5 | N98: <5 | O98: 2080 | Q98: 49 | R98: 0.09 | V98: <0.5 | W98: 7.65 | X98: 1300 | Y98: 2000 | AA98: <1 | AB98: 0.4
A99: V25 BSP | B99: 40372 | C99: DUPLICATE | F99: 39 | G99: <0.5 | H99: 1430 | I99: 1440 | J99: <0.5 | L99: <0.0005 | M99: <0.5 | N99: <5 | O99: 2080 | Q99: 47 | R99: 0.1 | V99: <0.5 | W99: 7.59 | X99: 1300 | Y99: 2000 | AA99: <1 | AB99: 0.4
A100: RPD (%) | D100: =IFERROR((((2*(ABS((D98-D99))))/(D99+D98))*100),Refs!$B$2) -> N/A | E100: =IFERROR((((2*(ABS((E98-E99))))/(E99+E98))*100),Refs!$B$2) -> N/A | F100: =IFERROR((((2*(ABS((F98-F99))))/(F99+F98))*100),Refs!$B$2) -> 2.5316456 | G100: =IFERROR((((2*(ABS((G98-G99))))/(G99+G98))*100),Refs!$B$2) -> N/A | H100: =IFERROR((((2*(ABS((H98-H99))))/(H99+H98))*100),Refs!$B$2) -> 0.69686411 | I100: =IFERROR((((2*(ABS((I98-I99))))/(I99+I98))*100),Refs!$B$2) -> 2.0618557 | J100: =IFERROR((((2*(ABS((J98-J99))))/(J99+J98))*100),Refs!$B$2) -> N/A | K100: =IFERROR((((2*(ABS((K98-K99))))/(K99+K98))*100),Refs!$B$2) -> N/A | ... V100: =IFERROR((((2*(ABS((V98-V99))))/(V99+V98))*100),Refs!$B$2) -> N/A | W100: =IFERROR((ABS(W99-W98)),Refs!$B$2) -> 0.06 | X100: =IFERROR((((2*(ABS((X98-X99))))/(X99+X98))*100),Refs!$B$2) -> 0 | Y100: =IFERROR((((2*(ABS((Y98-Y99))))/(Y99+Y98))*100),Refs!$B$2) -> 0 | Z100: =IFERROR((((2*(ABS((Z98-Z99))))/(Z99+Z98))*100),Refs!$B$2) -> N/A | AA100: =IFERROR((((2*(ABS((AA98-AA99))))/(AA99+AA98))*100),Refs!$B$2) -> N/A | AB100: =IFERROR((((2*(ABS((AB98-AB99))))/(AB99+AB98))*100),Refs!$B$2) -> 0
A101: Comments
A102: Action
A103: Result
A104: V15 | B104: 40381 | C104: M | D104: <0.5 | E104: 44.5 | F104: 540 | G104: <0.5 | I104: 3160 | J104: 1.7 | M104: <0.5 | O104: 3930 | Q104: 660 | V104: <0.5 | W104: 7.7 | X104: 2700 | AA104: 2
...

Sheet Diss. Metals
D1: Ag-d | E1: Al-d | F1: As-d | G1: Ba-d | H1: B-d | I1: Be-d | J1: Bi-d | K1: Ca-d | L1: Cd-d | M1: Co-d | N1: Cr-d | O1: Cu-d | P1: Fe-d | Q1: Hg-d | R1: K-d | S1: Li-d | T1: Mg-d | U1: Mn-d | V1: Mo-d | W1: Na-d | X1: Ni-d | Y1: Pb-d | Z1: Sb-d | AA1: S-d | AB1: Se-d | AC1: Si-d | AD1: Sn-d | AE1: Sr-d | AF1: Ti-d | AG1: Tl-d | AH1: U-d | AI1: V-d | AJ1: Zn-d | AK1: Zr-d
A2: Station | B2: Date | C2: Sample Type | D2: µg/L | E2: µg/L | F2: µg/L | G2: µg/L | H2: µg/L | I2: µg/L | J2: µg/L | K2: mg/L | L2: µg/L | M2: µg/L | N2: µg/L | O2: µg/L | P2: µg/L | Q2: µg/L | R2: mg/L | S2: mg/L | T2: mg/L | U2: µg/L | V2: µg/L | W2: mg/L | X2: µg/L | Y2: µg/L | Z2: µg/L | AA2: mg/L | AB2: µg/L | AC2: µg/L | AD2: µg/L | AE2: µg/L | AF2: µg/L | AG2: µg/L | AH2: µg/L | AI2: µg/L | AJ2: µg/L | AK2: µg/L
A3: V5 | B3: 40184.545 | C3: M | D3: <0.005 | E3: 1.9 | F3: 0.45 | G3: 88.7 | H3: <50.0 | I3: <0.01 | J3: <0.005 | K3: 121 | L3: 0.059 | M3: 0.044 | N3: <0.1 | O3: 0.66 | P3: 11 | R3: 1.69 | S3: 0.0065 | T3: 53.9 | U3: 12.2 | V3: 2.47 | W3: 5.64 | X3: 1.82 | Y3: 0.192 | Z3: 0.17 | AA3: 70 | AB3: 4.8 | AC3: 5980 | AD3: <0.01 | AE3: 424 | AF3: <0.5 | AG3: <0.002 | AH3: 7.15 | AI3: <0.2 | AJ3: 3.2 | AK3: <0.1
A4: V5 | B4: 40184.54 | C4: DUPLICATE | D4: <0.005 | E4: 2.1 | F4: 0.4 | G4: 89.3 | H4: <50.0 | I4: <0.01 | J4: <0.005 | K4: 118 | L4: 0.057 | M4: 0.043 | N4: <0.1 | O4: 0.66 | P4: 10 | R4: 1.61 | S4: 0.0064 | T4: 52.6 | U4: 11.8 | V4: 2.48 | W4: 5.52 | X4: 1.76 | Y4: 0.385 | Z4: 0.17 | AA4: 67 | AB4: 4.65 | AC4: 5620 | AD4: <0.01 | AE4: 428 | AF4: <0.5 | AG4: <0.002 | AH4: 7.11 | AI4: <0.2 | AJ4: 3.5 | AK4: <0.1
A5: RPD (%) | D5: =IFERROR((((2*(ABS((D3-D4))))/(D4+D3))*100),Refs!$C$9) -> N/A | E5: =IFERROR((((2*(ABS((E3-E4))))/(E4+E3))*100),Refs!$C$9) -> 10 | F5: =IFERROR((((2*(ABS((F3-F4))))/(F4+F3))*100),Refs!$C$9) -> 11.764706 | G5: =IFERROR((((2*(ABS((G3-G4))))/(G4+G3))*100),Refs!$C$9) -> 0.6741573 | H5: =IFERROR((((2*(ABS((H3-H4))))/(H4+H3))*100),Refs!$C$9) -> N/A | I5: =IFERROR((((2*(ABS((I3-I4))))/(I4+I3))*100),Refs!$C$9) -> N/A | J5: =IFERROR((((2*(ABS((J3-J4))))/(J4+J3))*100),Refs!$C$9) -> N/A | K5: =IFERROR((((2*(ABS((K3-K4))))/(K4+K3))*100),Refs!$C$9) -> 2.5104603 | ... AK5: =IFERROR((((2*(ABS((AK3-AK4))))/(AK4+AK3))*100),Refs!$C$9) -> N/A
A6: Comments | Y6: Both values > PQL and correctly entered into emLine.
A7: Action | Y7: Let Value Stand
A8: Result | Y8: Discrepancy between values remains.
A9: V15 | B9: 40185.542 | C9: M | D9: <0.03 | E9: 5 | F9: 0.5 | G9: 51.7 | H9: <300.0 | I9: <0.05 | J9: <0.03 | K9: 494 | L9: 1.9 | M9: 0.05 | N9: <0.5 | O9: 1.9 | P9: 17 | R9: 6.55 | S9: 0.023 | T9: 472 | U9: 1.1 | V9: 0.7 | W9: 15.9 | X9: 122 | Y9: 0.35 | Z9: <0.1 | AA9: 940 | AB9: 0.8 | AC9: 6750 | AD9: <0.05 | AE9: 1620 | AF9: <3.0 | AG9: <0.01 | AH9: 57.3 | AI9: <1.0 | AJ9: 2910 | AK9: <0.5
A10: V15 | B10: 40185.545 | C10: DUPLICATE | D10: <0.03 | E10: 6 | F10: 0.5 | G10: 51.5 | H10: <300.0 | I10: <0.05 | J10: <0.03 | K10: 492 | L10: 1.81 | M10: 0.08 | N10: <0.5 | O10: 2 | P10: 20 | R10: 6.55 | S10: 0.024 | T10: 470 | U10: 1.2 | V10: 0.7 | W10: 15.8 | X10: 123 | Y10: 0.69 | Z10: <0.1 | AA10: 941 | AB10: 0.8 | AC10: 6660 | AD10: 0.06 | AE10: 1620 | AF10: <3.0 | AG10: <0.01 | AH10: 56.8 | AI10: <1.0 | AJ10: 2930 | AK10: <0.5
A11: RPD (%) | D11: =IFERROR((((2*(ABS((D9-D10))))/(D10+D9))*100),Refs!$C$9) -> N/A | E11: =IFERROR((((2*(ABS((E9-E10))))/(E10+E9))*100),Refs!$C$9) -> 18.181818 | F11: =IFERROR((((2*(ABS((F9-F10))))/(F10+F9))*100),Refs!$C$9) -> 0 | G11: =IFERROR((((2*(ABS((G9-G10))))/(G10+G9))*100),Refs!$C$9) -> 0.3875969 | H11: =IFERROR((((2*(ABS((H9-H10))))/(H10+H9))*100),Refs!$C$9) -> N/A | I11: =IFERROR((((2*(ABS((I9-I10))))/(I10+I9))*100),Refs!$C$9) -> N/A | J11: =IFERROR((((2*(ABS((J9-J10))))/(J10+J9))*100),Refs!$C$9) -> N/A | K11: =IFERROR((((2*(ABS((K9-K10))))/(K10+K9))*100),Refs!$C$9) -> 0.40567951 | ... AK11: =IFERROR((((2*(ABS((AK9-AK10))))/(AK10+AK9))*100),Refs!$C$9) -> N/A
A12: Comments | Y12: Both values > PQL and correctly entered into emLine.
A13: Action | Y13: Let Value Stand
A14: Result | Y14: Discrepancy between values remains.
A15: V2A | B15: 40212 | C15: M | D15: <0.03 | E15: 2 | F15: 1 | G15: 92.8 | H15: <300.0 | I15: <0.05 | J15: <0.03 | K15: 344 | L15: 0.43 | M15: 0.1 | N15: <0.5 | O15: 1.6 | P15: <5.0 | R15: 3.94 | S15: 0.01 | T15: 211 | U15: 7.5 | V15: 2.3 | W15: 13.9 | X15: 34.2 | Y15: 0.82 | Z15: 0.4 | AA15: 421 | AB15: 0.7 | AC15: 5860 | AD15: <0.05 | AE15: 1080 | AF15: <3.0 | AG15: 0.02 | AH15: 41 | AI15: <1.0 | AJ15: 680 | AK15: <0.5
A16: V2A | B16: 40212 | C16: DUPLICATE | D16: <0.03 | E16: 3 | F16: 1 | G16: 93.2 | H16: <300.0 | I16: <0.05 | J16: <0.03 | K16: 343 | L16: 0.46 | M16: 0.13 | N16: <0.5 | O16: 1.6 | P16: <5.0 | R16: 3.93 | S16: 0.01 | T16: 211 | U16: 7.3 | V16: 2.4 | W16: 13.6 | X16: 33.5 | Y16: 0.91 | Z16: 0.4 | AA16: 419 | AB16: 0.7 | AC16: 5770 | AD16: <0.05 | AE16: 1130 | AF16: <3.0 | AG16: <0.01 | AH16: 40.8 | AI16: <1.0 | AJ16: 687 | AK16: <0.5
A17: RPD (%) | D17: =IFERROR((((2*(ABS((D15-D16))))/(D16+D15))*100),Refs!$C$9) -> N/A | E17: =IFERROR((((2*(ABS((E15-E16))))/(E16+E15))*100),Refs!$C$9) -> 40 | F17: =IFERROR((((2*(ABS((F15-F16))))/(F16+F15))*100),Refs!$C$9) -> 0 | G17: =IFERROR((((2*(ABS((G15-G16))))/(G16+G15))*100),Refs!$C$9) -> 0.43010753 | H17: =IFERROR((((2*(ABS((H15-H16))))/(H16+H15))*100),Refs!$C$9) -> N/A | I17: =IFERROR((((2*(ABS((I15-I16))))/(I16+I15))*100),Refs!$C$9) -> N/A | J17: =IFERROR((((2*(ABS((J15-J16))))/(J16+J15))*100),Refs!$C$9) -> N/A | K17: =IFERROR((((2*(ABS((K15-K16))))/(K16+K15))*100),Refs!$C$9) -> 0.29112082 | ... AK17: =IFERROR((((2*(ABS((AK15-AK16))))/(AK16+AK15))*100),Refs!$C$9) -> N/A
A18: Comments
A19: Action
A20: Result
A21: V1 | B21: 40227 | C21: M | D21: <0.005 | E21: 4.1 | F21: 0.29 | G21: 39.3 | H21: <50.0 | I21: <0.01 | J21: <0.005 | K21: 17.9 | L21: <0.005 | M21: 0.012 | N21: <0.1 | O21: 0.27 | P21: 2 | R21: 0.59 | S21: 0.0015 | T21: 3.08 | U21: 0.09 | V21: 0.72 | W21: 2.32 | X21: 0.22 | Y21: 0.053 | Z21: 0.05 | AA21: 4 | AB21: 0.19 | AC21: 5310 | AD21: <0.01 | AE21: 83.6 | AF21: <0.5 | AG21: <0.002 | AH21: 1.39 | AI21: <0.2 | AJ21: 0.7 | AK21: <0.1
A22: V1 | B22: 40227 | C22: DUPLICATE | D22: <0.005 | E22: 4 | F22: 0.29 | G22: 39.4 | H22: <50.0 | I22: <0.01 | J22: <0.005 | K22: 17.3 | L22: <0.005 | M22: 0.012 | N22: <0.1 | O22: 0.2 | P22: 2 | R22: 0.56 | S22: 0.0016 | T22: 3.01 | U22: <0.05 | V22: 0.71 | W22: 2.29 | X22: 0.21 | Y22: 0.026 | Z22: 0.05 | AA22: 5 | AB22: 0.2 | AC22: 5220 | AD22: <0.01 | AE22: 84.9 | AF22: <0.5 | AG22: <0.002 | AH22: 1.41 | AI22: <0.2 | AJ22: 1 | AK22: <0.1
A23: RPD (%) | D23: =IFERROR((((2*(ABS((D21-D22))))/(D22+D21))*100),Refs!$C$9) -> N/A | E23: =IFERROR((((2*(ABS((E21-E22))))/(E22+E21))*100),Refs!$C$9) -> 2.4691358 | F23: =IFERROR((((2*(ABS((F21-F22))))/(F22+F21))*100),Refs!$C$9) -> 0 | G23: =IFERROR((((2*(ABS((G21-G22))))/(G22+G21))*100),Refs!$C$9) -> 0.25412961 | H23: =IFERROR((((2*(ABS((H21-H22))))/(H22+H21))*100),Refs!$C$9) -> N/A | I23: =IFERROR((((2*(ABS((I21-I22))))/(I22+I21))*100),Refs!$C$9) -> N/A | J23: =IFERROR((((2*(ABS((J21-J22))))/(J22+J21))*100),Refs!$C$9) -> N/A | K23: =IFERROR((((2*(ABS((K21-K22))))/(K22+K21))*100),Refs!$C$9) -> 3.4090909 | ... AK23: =IFERROR((((2*(ABS((AK21-AK22))))/(AK22+AK21))*100),Refs!$C$9) -> N/A
A24: Comments | Y24: Both values > PQL and correctly entered into emLine.
A25: Action | Y25: Let Value Stand
A26: Result | Y26: Discrepancy between values remains.
A27: V2 | B27: 40239 | C27: M | D27: <0.03 | E27: 2 | F27: 0.9 | G27: 66.3 | H27: <300.0 | I27: <0.05 | J27: <0.03 | K27: 351 | L27: 0.17 | M27: <0.03 | N27: <0.5 | O27: 0.9 | P27: 9 | Q27: <0.05 | R27: 2.84 | S27: 0.005 | T27: 195 | U27: 0.7 | V27: 1.8 | W27: 12.4 | X27: 2.2 | Y27: 0.21 | Z27: 0.2 | AA27: 442 | AB27: 0.6 | AC27: 5760 | AD27: <0.05 | AE27: 959 | AF27: <3.0 | AG27: <0.01 | AH27: 29.9 | AI27: <1.0 | AJ27: 23.2 | AK27: <0.5
A28: V2 | B28: 40239 | C28: DUPLICATE | D28: 0.06 | E28: 2 | F28: 0.8 | G28: 66.6 | H28: <300.0 | I28: <0.05 | J28: <0.03 | K28: 344 | L28: 0.16 | M28: <0.03 | N28: <0.5 | O28: 0.9 | P28: 10 | R28: 2.76 | S28: 0.005 | T28: 184 | U28: 0.5 | V28: 1.7 | W28: 11.5 | X28: 2.4 | Y28: 0.27 | Z28: 0.2 | AA28: 432 | AB28: 0.6 | AC28: 5810 | AD28: <0.05 | AE28: 949 | AF28: <3.0 | AG28: <0.01 | AH28: 30 | AI28: <1.0 | AJ28: 22.3 | AK28: <0.5
A29: RPD (%) | D29: =IFERROR((((2*(ABS((D27-D28))))/(D28+D27))*100),Refs!$C$9) -> N/A | E29: =IFERROR((((2*(ABS((E27-E28))))/(E28+E27))*100),Refs!$C$9) -> 0 | F29: =IFERROR((((2*(ABS((F27-F28))))/(F28+F27))*100),Refs!$C$9) -> 11.764706 | G29: =IFERROR((((2*(ABS((G27-G28))))/(G28+G27))*100),Refs!$C$9) -> 0.45146727 | H29: =IFERROR((((2*(ABS((H27-H28))))/(H28+H27))*100),Refs!$C$9) -> N/A | I29: =IFERROR((((2*(ABS((I27-I28))))/(I28+I27))*100),Refs!$C$9) -> N/A | J29: =IFERROR((((2*(ABS((J27-J28))))/(J28+J27))*100),Refs!$C$9) -> N/A | K29: =IFERROR((((2*(ABS((K27-K28))))/(K28+K27))*100),Refs!$C$9) -> 2.0143885 | ... AK29: =IFERROR((((2*(ABS((AK27-AK28))))/(AK28+AK27))*100),Refs!$C$9) -> N/A
A30: Comments
A31: Action
A32: Result
A33: V5 | B33: 40267 | C33: M | D33: <0.005 | E33: 2 | F33: 0.43 | G33: 81.4 | H33: <50.0 | I33: <0.01 | J33: <0.005 | K33: 104 | L33: 0.048 | M33: 0.06 | N33: <0.1 | O33: 0.61 | P33: 11 | R33: 1.46 | S33: 0.0067 | T33: 50.1 | U33: 8.7 | V33: 2.69 | W33: 5.64 | X33: 1.72 | Y33: 0.101 | Z33: 0.16 | AA33: 59 | AB33: 3.74 | AC33: 5290 | AD33: <0.01 | AE33: 404 | AF33: <0.5 | AG33: 0.003 | AH33: 7.59 | AI33: <0.2 | AJ33: 2.9 | AK33: <0.1
A34: V5 | B34: 40267 | C34: DUPLICATE | D34: <0.005 | E34: 2.1 | F34: 0.41 | G34: 78.9 | H34: <50.0 | I34: <0.01 | J34: <0.005 | K34: 102 | L34: 0.04 | M34: 0.059 | N34: <0.1 | O34: 0.59 | P34: 10 | R34: 1.44 | S34: 0.0066 | T34: 50.4 | U34: 8.65 | V34: 2.62 | W34: 5.74 | X34: 1.74 | Y34: 0.169 | Z34: 0.16 | AA34: 57 | AB34: 3.58 | AC34: 5170 | AD34: <0.01 | AE34: 397 | AF34: <0.5 | AG34: 0.003 | AH34: 7.47 | AI34: <0.2 | AJ34: 3.1 | AK34: <0.1
A35: RPD (%) | D35: =IFERROR((((2*(ABS((D33-D34))))/(D34+D33))*100),Refs!$C$9) -> N/A | E35: =IFERROR((((2*(ABS((E33-E34))))/(E34+E33))*100),Refs!$C$9) -> 4.8780488 | F35: =IFERROR((((2*(ABS((F33-F34))))/(F34+F33))*100),Refs!$C$9) -> 4.7619048 | G35: =IFERROR((((2*(ABS((G33-G34))))/(G34+G33))*100),Refs!$C$9) -> 3.1191516 | H35: =IFERROR((((2*(ABS((H33-H34))))/(H34+H33))*100),Refs!$C$9) -> N/A | I35: =IFERROR((((2*(ABS((I33-I34))))/(I34+I33))*100),Refs!$C$9) -> N/A | J35: =IFERROR((((2*(ABS((J33-J34))))/(J34+J33))*100),Refs!$C$9) -> N/A | K35: =IFERROR((((2*(ABS((K33-K34))))/(K34+K33))*100),Refs!$C$9) -> 1.9417476 | ... AK35: =IFERROR((((2*(ABS((AK33-AK34))))/(AK34+AK33))*100),Refs!$C$9) -> N/A
A36: Comments | Y36: Both values > PQL and correctly entered into emLine.
A37: Action | Y37: Let Value Stand
A38: Result | Y38: Discrepancy between values remains.
A39: V8 | B39: 40267 | C39: M | D39: <0.005 | E39: 2.5 | F39: 0.39 | G39: 73.6 | H39: <50.0 | I39: <0.01 | J39: <0.005 | K39: 94.1 | L39: 0.061 | M39: 0.057 | N39: <0.1 | O39: 0.81 | P39: 15 | R39: 1.33 | S39: 0.0069 | T39: 47.6 | U39: 5.69 | V39: 1.47 | W39: 5.55 | X39: 2.27 | Y39: 0.199 | Z39: 0.16 | AA39: 67 | AB39: 1.94 | AC39: 5070 | AD39: <0.01 | AE39: 406 | AF39: <0.5 | AG39: 0.008 | AH39: 10.6 | AI39: <0.2 | AJ39: 13.2 | AK39: <0.1
A40: V8 | B40: 40267 | C40: DUPLICATE | D40: <0.005 | E40: 2 | F40: 0.43 | G40: 78.5 | H40: <50.0 | I40: <0.01 | J40: <0.005 | K40: 98.3 | L40: 0.059 | M40: 0.076 | N40: <0.1 | O40: 0.57 | P40: 30 | R40: 1.41 | S40: 0.007 | T40: 45.9 | U40: 6.06 | V40: 1.55 | W40: 5.28 | X40: 2.36 | Y40: 0.137 | Z40: 0.17 | AA40: 71 | AB40: 1.93 | AC40: 4340 | AD40: <0.01 | AE40: 408 | AF40: <0.5 | AG40: 0.007 | AH40: 10.5 | AI40: <0.2 | AJ40: 13.3 | AK40: <0.1
A41: RPD (%) | D41: =IFERROR((((2*(ABS((D39-D40))))/(D40+D39))*100),Refs!$C$9) -> N/A | E41: =IFERROR((((2*(ABS((E39-E40))))/(E40+E39))*100),Refs!$C$9) -> 22.222222 | F41: =IFERROR((((2*(ABS((F39-F40))))/(F40+F39))*100),Refs!$C$9) -> 9.7560976 | G41: =IFERROR((((2*(ABS((G39-G40))))/(G40+G39))*100),Refs!$C$9) -> 6.4431295 | H41: =IFERROR((((2*(ABS((H39-H40))))/(H40+H39))*100),Refs!$C$9) -> N/A | I41: =IFERROR((((2*(ABS((I39-I40))))/(I40+I39))*100),Refs!$C$9) -> N/A | J41: =IFERROR((((2*(ABS((J39-J40))))/(J40+J39))*100),Refs!$C$9) -> N/A | K41: =IFERROR((((2*(ABS((K39-K40))))/(K40+K39))*100),Refs!$C$9) -> 4.3659044 | ... AK41: =IFERROR((((2*(ABS((AK39-AK40))))/(AK40+AK39))*100),Refs!$C$9) -> N/A
A42: Comments | P42: Both values > PQL and entered correctly into emLine.
A43: Action | P43: Let Value Stand
A44: Result | P44: Discrepancy between values remains.
A45: V15 | B45: 40275 | C45: M | D45: <0.03 | E45: 5 | F45: 0.4 | G45: 46.6 | H45: <300 | I45: <0.05 | J45: <0.03 | K45: 471 | L45: 1.94 | M45: 0.06 | N45: <0.5 | O45: 2.2 | P45: 13 | R45: 6.4 | S45: 0.025 | T45: 488 | U45: 0.4 | V45: 0.7 | W45: 15.9 | X45: 130 | Y45: 0.24 | Z45: <0.1 | AA45: 819 | AB45: 0.8 | AC45: 5870 | AD45: <0.05 | AE45: 1640 | AF45: 4 | AG45: <0.01 | AH45: 57.7 | AI45: <1 | AJ45: 3500 | AK45: <0.5
A46: V15 | B46: 40275 | C46: DUPLICATE | D46: 0.06 | E46: 6 | F46: 0.4 | G46: 46.2 | H46: <300 | I46: <0.05 | J46: <0.03 | K46: 450 | L46: 1.85 | M46: 0.06 | N46: <0.5 | O46: 2 | P46: 14 | R46: 6.2 | S46: 0.024 | T46: 456 | U46: 0.5 | V46: 0.9 | W46: 15.4 | X46: 118 | Y46: 0.25 | Z46: 0.2 | AA46: 788 | AB46: 0.8 | AC46: 5830 | AD46: <0.05 | AE46: 1550 | AF46: <3 | AG46: <0.01 | AH46: 55.3 | AI46: <1 | AJ46: 3170 | AK46: <0.5
A47: RPD (%) | D47: =IFERROR((((2*(ABS((D45-D46))))/(D46+D45))*100),Refs!$C$9) -> N/A | E47: =IFERROR((((2*(ABS((E45-E46))))/(E46+E45))*100),Refs!$C$9) -> 18.181818 | F47: =IFERROR((((2*(ABS((F45-F46))))/(F46+F45))*100),Refs!$C$9) -> 0 | G47: =IFERROR((((2*(ABS((G45-G46))))/(G46+G45))*100),Refs!$C$9) -> 0.86206897 | H47: =IFERROR((((2*(ABS((H45-H46))))/(H46+H45))*100),Refs!$C$9) -> N/A | I47: =IFERROR((((2*(ABS((I45-I46))))/(I46+I45))*100),Refs!$C$9) -> N/A | J47: =IFERROR((((2*(ABS((J45-J46))))/(J46+J45))*100),Refs!$C$9) -> N/A | K47: =IFERROR((((2*(ABS((K45-K46))))/(K46+K45))*100),Refs!$C$9) -> 4.5602606 | ... AK47: =IFERROR((((2*(ABS((AK45-AK46))))/(AK46+AK45))*100),Refs!$C$9) -> N/A
A48: Comments
A49: Action
A50: Result
A51: V1 | B51: 40288 | C51: M | D51: <0.005 | E51: 9.5 | F51: 0.3 | G51: 38.7 | H51: <50 | I51: <0.01 | J51: 0.007 | K51: 17.3 | L51: 0.007 | M51: 0.019 | N51: <0.1 | O51: 0.25 | P51: 12 | R51: 0.66 | S51: 0.0014 | T51: 2.87 | U51: 1.35 | V51: 0.71 | W51: 2.21 | X51: 0.26 | Y51: 1.02 | Z51: 0.05 | AA51: <10 | AB51: 0.19 | AC51: 5330 | AD51: <0.01 | AE51: 78.4 | AF51: <0.5 | AG51: <0.002 | AH51: 1.45 | AI51: <0.2 | AJ51: 2.2 | AK51: <0.1
A52: V1 | B52: 40288 | C52: DUPLICATE | D52: 0.006 | E52: 5.4 | F52: 0.32 | G52: 37.8 | H52: <50 | I52: <0.01 | J52: <0.005 | K52: 17.6 | L52: 0.011 | M52: 0.015 | N52: <0.1 | O52: 0.26 | P52: 72 | R52: 0.66 | S52: 0.0014 | T52: 2.91 | U52: 1.03 | V52: 0.69 | W52: 2.23 | X52: 0.27 | Y52: 0.479 | Z52: 0.05 | AA52: <10 | AB52: 0.2 | AC52: 5110 | AD52: <0.01 | AE52: 79.7 | AF52: <0.5 | AG52: <0.002 | AH52: 1.47 | AI52: <0.2 | AJ52: 44.9 | AK52: <0.1
A53: RPD (%) | D53: =IFERROR((((2*(ABS((D51-D52))))/(D52+D51))*100),Refs!$C$9) -> N/A | E53: =IFERROR((((2*(ABS((E51-E52))))/(E52+E51))*100),Refs!$C$9) -> 55.033557 | F53: =IFERROR((((2*(ABS((F51-F52))))/(F52+F51))*100),Refs!$C$9) -> 6.4516129 | G53: =IFERROR((((2*(ABS((G51-G52))))/(G52+G51))*100),Refs!$C$9) -> 2.3529412 | H53: =IFERROR((((2*(ABS((H51-H52))))/(H52+H51))*100),Refs!$C$9) -> N/A | I53: =IFERROR((((2*(ABS((I51-I52))))/(I52+I51))*100),Refs!$C$9) -> N/A | J53: =IFERROR((((2*(ABS((J51-J52))))/(J52+J51))*100),Refs!$C$9) -> N/A | K53: =IFERROR((((2*(ABS((K51-K52))))/(K52+K51))*100),Refs!$C$9) -> 1.7191977 | ... AK53: =IFERROR((((2*(ABS((AK51-AK52))))/(AK52+AK51))*100),Refs!$C$9) -> N/A
A54: Comments | E54: Both values > PQL and correctly entered into emLine. Lab noted on main sample that "Dissolved greater than total. Reanalysis yields similar results." | P54: Both values > PQL and correctly entered into emLine. Lab noted on both samples that "Dissolved greater than total. Reanalysis yields similar results." | Y54: Both values > PQL and correctly entered into emLine. Lab noted on main sample that "Dissolved greater than total. Reanalysis yields similar results." | AJ54: Both values > PQL and correctly entered into emLine. Lab noted on both samples that "Dissolved greater than total. Reanalysis yields similar results."
A55: Action | D55: Request Retest | E55: Request Retest | F55: Request Retest | G55: Request Retest | H55: Request Retest | I55: Request Retest | J55: Request Retest | K55: Request Retest | L55: Request Retest | M55: Request Retest | N55: Request Retest | O55: Request Retest | P55: Request Retest | Q55: Request Retest | R55: Request Retest | S55: Request Retest | T55: Request Retest | U55: Request Retest | V55: Request Retest | W55: Request Retest | X55: Request Retest | Y55: Request Retest | Z55: Request Retest | AA55: Request Retest | AB55: Request Retest | AC55: Request Retest | AD55: Request Retest | AE55: Request Retest | AF55: Request Retest | AG55: Request Retest | AH55: Request Retest | AI55: Request Retest | AJ55: Request Retest | AK55: Request Retest
A56: Result | D56: Retest performed, see results below. | E56: Retest performed, see results below. | F56: Retest performed, see results below. | G56: Retest performed, see results below. | H56: Retest performed, see results below. | I56: Retest performed, see results below. | J56: Retest performed, see results below. | K56: Retest performed, see results below. | L56: Retest performed, see results below. | M56: Retest performed, see results below. | N56: Retest performed, see results below. | O56: Retest performed, see results below. | P56: Retest performed, see results below. | Q56: Retest performed, see results below. | R56: Retest performed, see results below. | S56: Retest performed, see results below. | T56: Retest performed, see results below. | U56: Retest performed, see results below. | V56: Retest performed, see results below. | W56: Retest performed, see results below. | X56: Retest performed, see results below. | Y56: Retest performed, see results below. | Z56: Retest performed, see results below. | AA56: Retest performed, see results below. | AB56: Retest performed, see results below. | AC56: Retest performed, see results below. | AD56: Retest performed, see results below. | AE56: Retest performed, see results below. | AF56: Retest performed, see results below. | AG56: Retest performed, see results below. | AH56: Retest performed, see results below. | AI56: Retest performed, see results below. | AJ56: Retest performed, see results below. | AK56: Retest performed, see results below.
A57: V1 Retest | B57: 40288 | C57: M | D57: <0.005 | E57: 10.9 | F57: 0.3 | G57: 37.3 | H57: <50 | I57: <0.01 | J57: 0.01 | K57: 14.9 | L57: 0.006 | M57: 0.018 | N57: <0.1 | O57: 0.24 | P57: 15 | R57: 0.57 | S57: 0.0014 | T57: 2.62 | U57: 1.3 | V57: 0.66 | W57: 1.91 | X57: 0.19 | Y57: 1.63 | Z57: 0.05 | AA57: <10 | AB57: 0.19 | AC57: 4080 | AD57: <0.01 | AE57: 80.8 | AF57: <0.5 | AG57: <0.002 | AH57: 1.5 | AI57: <0.2 | AJ57: 2.6 | AK57: <0.1
A58: V1 Retest | B58: 40288 | C58: DUPLICATE | D58: 0.006 | E58: 5.4 | F58: 0.32 | G58: 37.8 | H58: <50 | I58: <0.01 | J58: <0.005 | K58: 17.6 | L58: 0.011 | M58: 0.015 | N58: <0.1 | O58: 0.26 | P58: 72 | R58: 0.66 | S58: 0.0013 | T58: 2.91 | U58: 1.03 | V58: 0.69 | W58: 2.23 | X58: 0.27 | Y58: 0.479 | Z58: 0.05 | AA58: <10 | AB58: 0.2 | AC58: 5110 | AD58: <0.01 | AE58: 79.7 | AF58: <0.5 | AG58: <0.002 | AH58: 1.47 | AI58: <0.2 | AJ58: 44.9 | AK58: <0.1
A59: RPD (%) | D59: =IFERROR((((2*(ABS((D57-D58))))/(D58+D57))*100),Refs!$C$9) -> N/A | E59: =IFERROR((((2*(ABS((E57-E58))))/(E58+E57))*100),Refs!$C$9) -> 67.484663 | F59: =IFERROR((((2*(ABS((F57-F58))))/(F58+F57))*100),Refs!$C$9) -> 6.4516129 | G59: =IFERROR((((2*(ABS((G57-G58))))/(G58+G57))*100),Refs!$C$9) -> 1.3315579 | H59: =IFERROR((((2*(ABS((H57-H58))))/(H58+H57))*100),Refs!$C$9) -> N/A | I59: =IFERROR((((2*(ABS((I57-I58))))/(I58+I57))*100),Refs!$C$9) -> N/A | J59: =IFERROR((((2*(ABS((J57-J58))))/(J58+J57))*100),Refs!$C$9) -> N/A | K59: =IFERROR((((2*(ABS((K57-K58))))/(K58+K57))*100),Refs!$C$9) -> 16.615385 | ... AK59: =IFERROR((((2*(ABS((AK57-AK58))))/(AK58+AK57))*100),Refs!$C$9) -> N/A
A60: Comments | D60: Retest of Apil 20 V1 sample and duplicate. | E60: Retest of April 20 V1 sample and duplicate. Both values > PQL and correctly entered into emLine. Lab noted on main sample that "Dissolved greater than total. Reanalysis yields similar results." | F60: Retest of April 20 V1 sample and duplicate. | G60: Retest of April 20 V1 sample and duplicate. | H60: Retest of April 20 V1 sample and duplicate. | I60: Retest of April 20 V1 sample and duplicate. | J60: Retest of April 20 V1 sample and duplicate. | K60: Retest of April 20 V1 sample and duplicate. | L60: Retest of April 20 V1 sample and duplicate. Both values correctly entered into emLine; however, neither value > PQL. Therefore, RPD analysis not valid in this case. | M60: Retest of April 20 V1 sample and duplicate. | N60: Retest of April 20 V1 sample and duplicate. | O60: Retest of April 20 V1 sample and duplicate. | P60: Retest for April 20 V1 sample and duplicate. Both values > PQL and correctly entered into emLine. Lab noted on both samples that "Dissolved greater than total. Reanalysis yields similar results." | Q60: Retest of April 20 V1 sample and duplicate. | R60: Retest of April 20 V1 sample and duplicate. | S60: Retest of April 20 V1 sample and duplicate. | T60: Retest of April 20 V1 sample and duplicate. | U60: Retest of April 20 V1 sample and duplicate. | V60: Retest of April 20 V1 sample and duplicate. | W60: Retest of April 20 V1 sample and duplicate. | X60: Retest of April 20 V1 sample and duplicate. | Y60: Retest of April 20 V1 sample and duplicate. Both values > PQL and correctly entered into emLine. | Z60: Retest of April 20 V1 sample and duplicate. | AA60: Retest of April 20 V1 sample and duplicate. | AB60: Retest of April 20 V1 sample and duplicate. | AC60: Retest of April 20 V1 sample and duplicate. | AD60: Retest of April 20 V1 sample and duplicate. | AE60: Retest of April 20 V1 sample and duplicate. | AF60: Retest of April 20 V1 sample and duplicate. | AG60: Retest of April 20 V1 sample and duplicate. | AH60: Retest of April 20 V1 sample and duplicate. | AI60: Retest of April 20 V1 sample and duplicate. | AJ60: Retest for April 20 V1 sample and duplicate. Both values > PQL and correctly entered into emLine. Lab noted on both samples that "Dissolved greater than total. Reanalysis yields similar results." | AK60: Retest of April 20 V1 sample and duplicate.
A61: Action | D61: Let Value Stand | E61: Let Value Stand | F61: Let Value Stand | G61: Let Value Stand | H61: Let Value Stand | I61: Let Value Stand | J61: Let Value Stand | K61: Let Value Stand | L61: Let Value Stand | M61: Let Value Stand | N61: Let Value Stand | O61: Let Value Stand | P61: Let Value Stand | Q61: Let Value Stand | R61: Let Value Stand | S61: Let Value Stand | T61: Let Value Stand | U61: Let Value Stand | V61: Let Value Stand | W61: Let Value Stand | X61: Let Value Stand | Y61: Let Value Stand | Z61: Let Value Stand | AA61: Let Value Stand | AB61: Let Value Stand | AC61: Let Value Stand | AD61: Let Value Stand | AE61: Let Value Stand | AF61: Let Value Stand | AG61: Let Value Stand | AH61: Let Value Stand | AI61: Let Value Stand | AJ61: Let Value Stand | AK61: Let Value Stand
A62: Result | D62: New values entered into emLine. | E62: New values entered into emLine. | F62: New values entered into emLine. | G62: New values entered into emLine. | H62: New values entered into emLine. | I62: New values entered into emLine. | J62: New values entered into emLine. | K62: New values entered into emLine. | L62: New values entered into emLine. | M62: New values entered into emLine. | N62: New values entered into emLine. | O62: New values entered into emLine. | P62: New values entered into emLine. | Q62: New values entered into emLine. | R62: New values entered into emLine. | S62: New values entered into emLine. | T62: New values entered into emLine. | U62: New values entered into emLine. | V62: New values entered into emLine. | W62: New values entered into emLine. | X62: New values entered into emLine. | Y62: New values entered into emLine. | Z62: New values entered into emLine. | AA62: New values entered into emLine. | AB62: New values entered into emLine. | AC62: New values entered into emLine. | AD62: New values entered into emLine. | AE62: New values entered into emLine. | AF62: New values entered into emLine. | AG62: New values entered into emLine. | AH62: New values entered into emLine. | AI62: New values entered into emLine. | AJ62: New values entered into emLine. | AK62: New values entered into emLine.
E63: RPD > 50% | V63: RPD > 50%
E64: RPD > 100% | V64: RPD > 100%
A70: MOOSE SEEP | B70: 40299 | C70: M | D70: 0.05 | E70: 4 | F70: 1.6 | G70: 39.4 | H70: <300 | I70: <0.05 | J70: <0.03 | K70: 304 | L70: 0.15 | M70: 0.04 | N70: <0.5 | O70: 1 | P70: 6 | R70: 3.4 | S70: 0.005 | T70: 204 | U70: 0.5 | V70: 2.9 | W70: 10.1 | X70: 1.7 | Y70: 0.37 | Z70: 0.3 | AA70: 434 | AB70: 0.8 | AC70: 4400 | AD70: <0.05 | AE70: 810 | AF70: <3 | AG70: <0.01 | AH70: 35.5 | AI70: <1 | AJ70: 7.7 | AK70: <0.5
A71: MOOSE SEEP | B71: 40299 | C71: DUPLICATE | D71: <0.03 | E71: 6 | F71: 1.7 | G71: 38.8 | H71: <300 | I71: <0.05 | J71: <0.03 | K71: 282 | L71: 0.16 | M71: 0.05 | N71: <0.5 | O71: 1 | P71: 6 | R71: 3.3 | S71: 0.006 | T71: 191 | U71: 2.5 | V71: 2.7 | W71: 9.6 | X71: 1.2 | Y71: 0.54 | Z71: 0.3 | AA71: 401 | AB71: 0.8 | AC71: 4380 | AD71: <0.05 | AE71: 767 | AF71: <3 | AG71: <0.01 | AH71: 33.5 | AI71: <1 | AJ71: 8.3 | AK71: <0.5
A72: RPD (%) | D72: =IFERROR((((2*(ABS((D70-D71))))/(D71+D70))*100),Refs!$C$9) -> N/A | E72: =IFERROR((((2*(ABS((E70-E71))))/(E71+E70))*100),Refs!$C$9) -> 40 | F72: =IFERROR((((2*(ABS((F70-F71))))/(F71+F70))*100),Refs!$C$9) -> 6.0606061 | G72: =IFERROR((((2*(ABS((G70-G71))))/(G71+G70))*100),Refs!$C$9) -> 1.5345269 | H72: =IFERROR((((2*(ABS((H70-H71))))/(H71+H70))*100),Refs!$C$9) -> N/A | I72: =IFERROR((((2*(ABS((I70-I71))))/(I71+I70))*100),Refs!$C$9) -> N/A | J72: =IFERROR((((2*(ABS((J70-J71))))/(J71+J70))*100),Refs!$C$9) -> N/A | K72: =IFERROR((((2*(ABS((K70-K71))))/(K71+K70))*100),Refs!$C$9) -> 7.5085324 | ... AK72: =IFERROR((((2*(ABS((AK70-AK71))))/(AK71+AK70))*100),Refs!$C$9) -> N/A
A73: Comments | U73: Both values correctly entered into emLine; however, main sample value not > PQL. Therefore, RPD analysis not valid in this case.
A74: Action | U74: Request Retest
A75: Result
A76: MOOSE SEEP Retest | B76: 40299 | C76: M | U76: 0.6
A77: MOOSE SEEP Retest | B77: 40299 | C77: DUPLICATE | U77: 2.5
A78: RPD (%) | D78: =IFERROR((((2*(ABS((D76-D77))))/(D77+D76))*100),Refs!$C$9) -> N/A | E78: =IFERROR((((2*(ABS((E76-E77))))/(E77+E76))*100),Refs!$C$9) -> N/A | F78: =IFERROR((((2*(ABS((F76-F77))))/(F77+F76))*100),Refs!$C$9) -> N/A | G78: =IFERROR((((2*(ABS((G76-G77))))/(G77+G76))*100),Refs!$C$9) -> N/A | H78: =IFERROR((((2*(ABS((H76-H77))))/(H77+H76))*100),Refs!$C$9) -> N/A | I78: =IFERROR((((2*(ABS((I76-I77))))/(I77+I76))*100),Refs!$C$9) -> N/A | J78: =IFERROR((((2*(ABS((J76-J77))))/(J77+J76))*100),Refs!$C$9) -> N/A | K78: =IFERROR((((2*(ABS((K76-K77))))/(K77+K76))*100),Refs!$C$9) -> N/A | ... AK78: =IFERROR((((2*(ABS((AK76-AK77))))/(AK77+AK76))*100),Refs!$C$9) -> N/A
A79: Comments | U79: Retest of May 1 Moose Seep sample and duplicate. Both values correctly entered into emLine; however, main sample value not > PQL. Therefore, RPD analysis not valid in this case.
A80: Action | U80: Let Value Stand
A81: Result | U81: Discrepancy between values remains.
A82: LCD | B82: 40310 | C82: M | D82: 0.14 | E82: 2910 | F82: 1.1 | G82: 26 | H82: <200 | I82: <0.4 | J82: <4 | K82: 115 | L82: 159 | M82: 623 | N82: <4 | O82: 55.5 | P82: 24500 | R82: 1.7 | S82: 0.023 | T82: 169 | U82: 78000 | V82: <4 | W82: 1.5 | X82: 517 | Y82: 37.3 | Z82: <2 | AA82: 535 | AB82: <0.4 | AC82: 2650 | AD82: <20 | AE82: 410 | AF82: <20 | AG82: <0.2 | AH82: 8.7 | AI82: <20 | AJ82: 224000 | AK82: <2
A83: LCD | B83: 40310 | C83: DUPLICATE | D83: 0.16 | E83: 2980 | F83: 0.9 | G83: 28 | H83: <200 | I83: 0.5 | J83: <4 | K83: 121 | L83: 168 | M83: 643 | N83: <4 | O83: 58.1 | P83: 25100 | R83: 1.8 | S83: 0.025 | T83: 174 | U83: 81500 | V83: <4 | W83: 1.5 | X83: 534 | Y83: 38.5 | Z83: <2 | AA83: 548 | AB83: <0.4 | AC83: 2660 | AD83: <20 | AE83: 423 | AF83: <20 | AG83: <0.2 | AH83: 9 | AI83: <20 | AJ83: 237000 | AK83: <2
A84: RPD (%) | D84: =IFERROR((((2*(ABS((D82-D83))))/(D83+D82))*100),Refs!$C$9) -> 13.333333 | E84: =IFERROR((((2*(ABS((E82-E83))))/(E83+E82))*100),Refs!$C$9) -> 2.37691 | F84: =IFERROR((((2*(ABS((F82-F83))))/(F83+F82))*100),Refs!$C$9) -> 20 | G84: =IFERROR((((2*(ABS((G82-G83))))/(G83+G82))*100),Refs!$C$9) -> 7.4074074 | H84: =IFERROR((((2*(ABS((H82-H83))))/(H83+H82))*100),Refs!$C$9) -> N/A | I84: =IFERROR((((2*(ABS((I82-I83))))/(I83+I82))*100),Refs!$C$9) -> N/A | J84: =IFERROR((((2*(ABS((J82-J83))))/(J83+J82))*100),Refs!$C$9) -> N/A | K84: =IFERROR((((2*(ABS((K82-K83))))/(K83+K82))*100),Refs!$C$9) -> 5.0847458 | ... AK84: =IFERROR((((2*(ABS((AK82-AK83))))/(AK83+AK82))*100),Refs!$C$9) -> N/A
A85: Comments
A86: Action
A87: Result
A88: V2A | B88: 40316 | C88: M | D88: <0.03 | E88: 9 | F88: 1.3 | G88: 58.8 | H88: <300 | I88: <0.05 | J88: <0.03 | K88: 282 | L88: 0.45 | M88: 0.27 | N88: <0.5 | O88: 1.3 | P88: 26 | R88: 3.9 | S88: 0.012 | T88: 203 | U88: 7.3 | V88: 2.1 | W88: 10.3 | X88: 46 | Y88: 0.77 | Z88: 0.5 | AA88: 367 | AB88: 0.5 | AC88: 5030 | AD88: 0.08 | AE88: 945 | AF88: <3 | AG88: 0.03 | AH88: 35.7 | AI88: <1 | AJ88: 811 | AK88: <0.5
A89: V2A | B89: 40316 | C89: DUPLICATE | D89: <0.03 | E89: 9 | F89: 1.3 | G89: 59.4 | H89: <300 | I89: <0.05 | J89: <0.03 | K89: 285 | L89: 0.41 | M89: 0.28 | N89: <0.5 | O89: 1.2 | P89: 30 | R89: 3.9 | S89: 0.011 | T89: 203 | U89: 8 | V89: 2 | W89: 10.2 | X89: 45.9 | Y89: 0.9 | Z89: 0.5 | AA89: 359 | AB89: 0.5 | AC89: 5010 | AD89: 0.1 | AE89: 960 | AF89: <3 | AG89: 0.04 | AH89: 35.7 | AI89: <1 | AJ89: 799 | AK89: <0.5
A90: RPD (%) | D90: =IFERROR((((2*(ABS((D88-D89))))/(D89+D88))*100),Refs!$C$9) -> N/A | E90: =IFERROR((((2*(ABS((E88-E89))))/(E89+E88))*100),Refs!$C$9) -> 0 | F90: =IFERROR((((2*(ABS((F88-F89))))/(F89+F88))*100),Refs!$C$9) -> 0 | G90: =IFERROR((((2*(ABS((G88-G89))))/(G89+G88))*100),Refs!$C$9) -> 1.0152284 | H90: =IFERROR((((2*(ABS((H88-H89))))/(H89+H88))*100),Refs!$C$9) -> N/A | I90: =IFERROR((((2*(ABS((I88-I89))))/(I89+I88))*100),Refs!$C$9) -> N/A | J90: =IFERROR((((2*(ABS((J88-J89))))/(J89+J88))*100),Refs!$C$9) -> N/A | K90: =IFERROR((((2*(ABS((K88-K89))))/(K89+K88))*100),Refs!$C$9) -> 1.0582011 | ... AK90: =IFERROR((((2*(ABS((AK88-AK89))))/(AK89+AK88))*100),Refs!$C$9) -> N/A
A91: Comments
A92: Action
A93: Result
A94: LCD | B94: 40345 | C94: M | D94: 1.1 | E94: 11600 | F94: 4 | G94: 22 | H94: <1000 | I94: 3 | J94: <20 | K94: 207 | L94: 541 | M94: 2520 | N94: <20 | O94: 258 | P94: 71600 | R94: 3 | S94: <0.1 | T94: 590 | U94: 317000 | V94: <20 | W94: 4 | X94: 1820 | Y94: 335 | Z94: <10 | AA94: 1720 | AB94: <2 | AC94: 7870 | AD94: <100 | AE94: 890 | AF94: <100 | AG94: <1 | AH94: 35 | AI94: <100 | AJ94: 820000 | AK94: <10
A95: LCD | B95: 40345 | C95: DUPLICATE | D95: 0.9 | E95: 11500 | F95: <2 | G95: 21 | H95: <1000 | I95: 3 | J95: <20 | K95: 217 | L95: 530 | M95: 2560 | N95: <20 | O95: 250 | P95: 69000 | R95: 3 | S95: <0.1 | T95: 595 | U95: 324000 | V95: <20 | W95: 4 | X95: 1770 | Y95: 329 | Z95: <10 | AA95: 1690 | AB95: <2 | AC95: 8560 | AD95: <100 | AE95: 877 | AF95: <100 | AG95: <1 | AH95: 33 | AI95: <100 | AJ95: 832000 | AK95: <10
A96: RPD (%) | D96: =IFERROR((((2*(ABS((D94-D95))))/(D95+D94))*100),Refs!$C$9) -> 20 | E96: =IFERROR((((2*(ABS((E94-E95))))/(E95+E94))*100),Refs!$C$9) -> 0.86580087 | F96: =IFERROR((((2*(ABS((F94-F95))))/(F95+F94))*100),Refs!$C$9) -> N/A | G96: =IFERROR((((2*(ABS((G94-G95))))/(G95+G94))*100),Refs!$C$9) -> 4.6511628 | H96: =IFERROR((((2*(ABS((H94-H95))))/(H95+H94))*100),Refs!$C$9) -> N/A | I96: =IFERROR((((2*(ABS((I94-I95))))/(I95+I94))*100),Refs!$C$9) -> 0 | J96: =IFERROR((((2*(ABS((J94-J95))))/(J95+J94))*100),Refs!$C$9) -> N/A | K96: =IFERROR((((2*(ABS((K94-K95))))/(K95+K94))*100),Refs!$C$9) -> 4.7169811 | ... AK96: =IFERROR((((2*(ABS((AK94-AK95))))/(AK95+AK94))*100),Refs!$C$9) -> N/A
A97: Comments
A98: Action
A99: Result
A100: V25 | B100: 40365 | C100: M | D100: 0.07 | E100: 12 | F100: 0.2 | G100: 19.1 | H100: <300 | I100: <0.05 | J100: <0.03 | K100: 474 | L100: 0.67 | M100: 0.39 | N100: <0.5 | O100: <0.3 | P100: 24 | Q100: <0.05 | R100: 2.9 | S100: 0.047 | T100: 99.7 | U100: 999 | V100: 0.5 | W100: 5 | X100: 0.4 | Y100: 0.3 | Z100: 0.2 | AA100: 538 | AB100: <0.2 | AC100: <500 | AD100: <0.05 | AE100: 1400 | AF100: <3 | AG100: 1.53 | AH100: 0.15 | AI100: <1 | AJ100: 4.9 | AK100: <0.5
A101: V25 | B101: 40365 | C101: DUPLICATE | D101: <0.03 | E101: 10 | F101: 0.2 | G101: 19.7 | H101: <300 | I101: <0.05 | J101: <0.03 | K101: 477 | L101: 0.7 | M101: 0.38 | N101: <0.5 | O101: <0.3 | P101: 15 | Q101: <0.05 | R101: 2.9 | S101: 0.048 | T101: 100 | U101: 990 | V101: 0.4 | W101: 5 | X101: 0.3 | Y101: 0.32 | Z101: <0.1 | AA101: 514 | AB101: 0.4 | AC101: <500 | AD101: <0.05 | AE101: 1440 | AF101: <3 | AG101: 1.62 | AH101: 0.13 | AI101: <1 | AJ101: 4.4 | AK101: <0.5
A102: RPD (%) | D102: =IFERROR((((2*(ABS((D100-D101))))/(D101+D100))*100),Refs!$C$9) -> N/A | E102: =IFERROR((((2*(ABS((E100-E101))))/(E101+E100))*100),Refs!$C$9) -> 18.181818 | F102: =IFERROR((((2*(ABS((F100-F101))))/(F101+F100))*100),Refs!$C$9) -> 0 | G102: =IFERROR((((2*(ABS((G100-G101))))/(G101+G100))*100),Refs!$C$9) -> 3.0927835 | H102: =IFERROR((((2*(ABS((H100-H101))))/(H101+H100))*100),Refs!$C$9) -> N/A | I102: =IFERROR((((2*(ABS((I100-I101))))/(I101+I100))*100),Refs!$C$9) -> N/A | J102: =IFERROR((((2*(ABS((J100-J101))))/(J101+J100))*100),Refs!$C$9) -> N/A | K102: =IFERROR((((2*(ABS((K100-K101))))/(K101+K100))*100),Refs!$C$9) -> 0.63091483 | ... AK102: =IFERROR((((2*(ABS((AK100-AK101))))/(AK101+AK100))*100),Refs!$C$9) -> N/A
A103: Comments
A104: Action
A105: Result
...

Sheet Total Metals
D1: Ag | E1: Al | F1: As | G1: B | H1: Ba | I1: Be | J1: Bi | K1: Ca | L1: Cd | M1: Co | N1: Cr | O1: Cu | P1: Fe | Q1: Hg | R1: K | S1: Li | T1: Mg | U1: Mn | V1: Mo | W1: Na | X1: Ni | Y1: P | Z1: Pb | AA1: S | AB1: Sb | AC1: Se | AD1: Si | AE1: Sn | AF1: Sr | AG1: Ti | AH1: Tl | AI1: U | AJ1: V | AK1: Zn | AL1: Zr
A2: Station | B2: Date | C2: Sample Type | D2: µg/L | E2: µg/L | F2: µg/L | G2: µg/L | H2: µg/L | I2: µg/L | J2: µg/L | K2: mg/L | L2: µg/L | M2: ug/L | N2: µg/L | O2: µg/L | P2: µg/L | Q2: µg/L | R2: mg/L | S2: mg/L | T2: mg/L | U2: µg/L | V2: µg/L | W2: mg/L | X2: µg/L | Y2: mg/L | Z2: µg/L | AA2: mg/L | AB2: µg/L | AC2: µg/L | AD2: µg/L | AE2: µg/L | AF2: µg/L | AG2: µg/L | AH2: µg/L | AI2: µg/L | AJ2: µg/L | AK2: µg/L | AL2: µg/L
A3: V5 | B3: 40184.545 | C3: M | D3: <0.005 | E3: 133 | F3: 0.59 | G3: <50 | H3: 92.9 | I3: <0.01 | J3: <0.005 | K3: 108 | L3: 0.06 | M3: 0.209 | N3: 0.4 | O3: 1.02 | P3: 248 | R3: 1.45 | S3: 0.0068 | T3: 47.7 | U3: 24.7 | V3: 2.26 | W3: 4.93 | X3: 2.26 | Z3: 0.717 | AA3: 57 | AB3: 0.17 | AC3: 4.37 | AD3: 5790 | AE3: <0.01 | AF3: 417 | AG3: 4.2 | AH3: 0.005 | AI3: 7.13 | AJ3: 0.4 | AK3: 4.9 | AL3: 0.2
A4: V5 | B4: 40184.54 | C4: DUPLICATE | D4: <0.005 | E4: 101 | F4: 0.58 | G4: <50 | H4: 91.5 | I4: <0.01 | J4: <0.005 | K4: 109 | L4: 0.07 | M4: 0.166 | N4: 0.3 | O4: 0.92 | P4: 203 | R4: 1.47 | S4: 0.0068 | T4: 48.6 | U4: 21 | V4: 2.31 | W4: 5.03 | X4: 2.42 | Z4: 0.696 | AA4: 57 | AB4: 0.19 | AC4: 4.86 | AD4: 6390 | AE4: <0.01 | AF4: 413 | AG4: 2.7 | AH4: 0.004 | AI4: 7 | AJ4: 0.4 | AK4: 4.8 | AL4: <0.1
A5: RPD (%) | D5: =IFERROR((((2*(ABS((D3-D4))))/(D4+D3))*100),Refs!$C$15) -> N/A | E5: =IFERROR((((2*(ABS((E3-E4))))/(E4+E3))*100),Refs!$C$15) -> 27.350427 | F5: =IFERROR((((2*(ABS((F3-F4))))/(F4+F3))*100),Refs!$C$15) -> 1.7094017 | G5: =IFERROR((((2*(ABS((G3-G4))))/(G4+G3))*100),Refs!$C$15) -> N/A | H5: =IFERROR((((2*(ABS((H3-H4))))/(H4+H3))*100),Refs!$C$15) -> 1.5184382 | I5: =IFERROR((((2*(ABS((I3-I4))))/(I4+I3))*100),Refs!$C$15) -> N/A | J5: =IFERROR((((2*(ABS((J3-J4))))/(J4+J3))*100),Refs!$C$15) -> N/A | K5: =IFERROR((((2*(ABS((K3-K4))))/(K4+K3))*100),Refs!$C$15) -> 0.92165899 | ... AL5: =IFERROR((((2*(ABS((AL3-AL4))))/(AL4+AL3))*100),Refs!$C$15) -> N/A
A6: Comments
A7: Action
A8: Result
A9: V2A | B9: 40212 | C9: M | D9: <0.03 | E9: 38 | F9: 1.1 | G9: <300 | H9: 95.4 | I9: <0.05 | J9: <0.03 | K9: 355 | L9: 0.37 | M9: 0.17 | N9: <0.5 | O9: 1.8 | P9: 91 | R9: 4.02 | S9: 0.01 | T9: 218 | U9: 9.2 | V9: 2.4 | W9: 14.2 | X9: 32.7 | Z9: 3.33 | AA9: 385 | AB9: 0.4 | AC9: 0.6 | AD9: 5780 | AE9: <0.05 | AF9: 1130 | AG9: <3 | AH9: 0.02 | AI9: 41.7 | AJ9: <1 | AK9: 667 | AL9: <0.5
A10: V2A | B10: 40212 | C10: DUPLICATE | D10: <0.03 | E10: 28 | F10: 1 | G10: <300 | H10: 95.8 | I10: <0.05 | J10: <0.03 | K10: 360 | L10: 0.4 | M10: 0.15 | N10: <0.5 | O10: 1.9 | P10: 63 | R10: 4.15 | S10: 0.01 | T10: 225 | U10: 8.8 | V10: 2.4 | W10: 14.3 | X10: 34.3 | Z10: 2.58 | AA10: 389 | AB10: 0.5 | AC10: 0.7 | AD10: 5720 | AE10: 0.06 | AF10: 1150 | AG10: <3 | AH10: <0.01 | AI10: 41.7 | AJ10: <1 | AK10: 706 | AL10: <0.5
A11: RPD (%) | D11: =IFERROR((((2*(ABS((D9-D10))))/(D10+D9))*100),Refs!$C$15) -> N/A | E11: =IFERROR((((2*(ABS((E9-E10))))/(E10+E9))*100),Refs!$C$15) -> 30.30303 | F11: =IFERROR((((2*(ABS((F9-F10))))/(F10+F9))*100),Refs!$C$15) -> 9.5238095 | G11: =IFERROR((((2*(ABS((G9-G10))))/(G10+G9))*100),Refs!$C$15) -> N/A | H11: =IFERROR((((2*(ABS((H9-H10))))/(H10+H9))*100),Refs!$C$15) -> 0.41841004 | I11: =IFERROR((((2*(ABS((I9-I10))))/(I10+I9))*100),Refs!$C$15) -> N/A | J11: =IFERROR((((2*(ABS((J9-J10))))/(J10+J9))*100),Refs!$C$15) -> N/A | K11: =IFERROR((((2*(ABS((K9-K10))))/(K10+K9))*100),Refs!$C$15) -> 1.3986014 | ... AL11: =IFERROR((((2*(ABS((AL9-AL10))))/(AL10+AL9))*100),Refs!$C$15) -> N/A
A12: Comments
A13: Action
A14: Result
A15: V1 | B15: 40227 | C15: M | D15: <0.005 | E15: 4 | F15: 0.27 | G15: <50.0 | H15: 36 | I15: <0.01 | J15: <0.005 | K15: 16 | L15: <0.005 | M15: 0.011 | N15: <0.1 | O15: 0.21 | P15: 4 | R15: 0.52 | S15: 0.0014 | T15: 2.66 | U15: 0.28 | V15: 0.62 | W15: 2.03 | X15: 0.22 | Z15: 0.084 | AA15: 4 | AB15: 0.03 | AC15: 0.19 | AD15: 5050 | AE15: <0.01 | AF15: 76.9 | AG15: <0.5 | AH15: <0.002 | AI15: 1.28 | AJ15: <0.2 | AK15: 0.6 | AL15: <0.1
A16: V1 | B16: 40227 | C16: DUPLICATE | D16: <0.005 | E16: 4.9 | F16: 0.26 | G16: <50.0 | H16: 36.3 | I16: <0.01 | J16: <0.005 | K16: 16.6 | L16: 0.008 | M16: 0.018 | N16: <0.1 | O16: 0.58 | P16: 4 | R16: 0.54 | S16: 0.0012 | T16: 2.83 | U16: 1.82 | V16: 0.69 | W16: 2.15 | X16: 0.57 | Z16: 0.758 | AA16: 4 | AB16: 0.03 | AC16: 0.19 | AD16: 4880 | AE16: <0.01 | AF16: 77.4 | AG16: <0.5 | AH16: <0.002 | AI16: 1.32 | AJ16: <0.2 | AK16: 12.5 | AL16: <0.1
A17: RPD (%) | D17: =IFERROR((((2*(ABS((D15-D16))))/(D16+D15))*100),Refs!$C$15) -> N/A | E17: =IFERROR((((2*(ABS((E15-E16))))/(E16+E15))*100),Refs!$C$15) -> 20.224719 | F17: =IFERROR((((2*(ABS((F15-F16))))/(F16+F15))*100),Refs!$C$15) -> 3.7735849 | G17: =IFERROR((((2*(ABS((G15-G16))))/(G16+G15))*100),Refs!$C$15) -> N/A | H17: =IFERROR((((2*(ABS((H15-H16))))/(H16+H15))*100),Refs!$C$15) -> 0.82987552 | I17: =IFERROR((((2*(ABS((I15-I16))))/(I16+I15))*100),Refs!$C$15) -> N/A | J17: =IFERROR((((2*(ABS((J15-J16))))/(J16+J15))*100),Refs!$C$15) -> N/A | K17: =IFERROR((((2*(ABS((K15-K16))))/(K16+K15))*100),Refs!$C$15) -> 3.6809816 | ... AL17: =IFERROR((((2*(ABS((AL15-AL16))))/(AL16+AL15))*100),Refs!$C$15) -> N/A
A18: Comments | O18: Both values correctly entered into emLine; however, main sample value not > PQL. Therefore, RPD analysis not valid in this case. | U18: Both values > PQL and correctly entered into emLine. | X18: Both values > PQL and correctly entered into emLine. | Z18: Both values > PQL and correctly entered into emLine. | AK18: Both values > PQL and correctly entered into emLine.
A19: Action | D19: Request Retest | E19: Request Retest | F19: Request Retest | G19: Request Retest | H19: Request Retest | I19: Request Retest | J19: Request Retest | K19: Request Retest | L19: Request Retest | M19: Request Retest | N19: Request Retest | O19: Request Retest | P19: Request Retest | R19: Request Retest | S19: Request Retest | T19: Request Retest | U19: Request Retest | V19: Request Retest | W19: Request Retest | X19: Request Retest | Z19: Request Retest | AA19: Request Retest | AB19: Request Retest | AC19: Request Retest | AD19: Request Retest | AE19: Request Retest | AF19: Request Retest | AG19: Request Retest | AH19: Request Retest | AI19: Request Retest | AJ19: Request Retest | AK19: Request Retest | AL19: Request Retest
A20: Result | D20: Retest performed, see results below. | E20: Retest performed, see results below. | F20: Retest performed, see results below. | G20: Retest performed, see results below. | H20: Retest performed, see results below. | I20: Retest performed, see results below. | J20: Retest performed, see results below. | K20: Retest performed, see results below. | L20: Retest performed, see results below. | M20: Retest performed, see results below. | N20: Retest performed, see results below. | O20: Retest performed, see results below. | P20: Retest performed, see results below. | R20: Retest performed, see results below. | S20: Retest performed, see results below. | T20: Retest performed, see results below. | U20: Retest performed, see results below. | V20: Retest performed, see results below. | W20: Retest performed, see results below. | X20: Retest performed, see results below. | Z20: Retest performed, see results below. | AA20: Retest performed, see results below. | AB20: Retest performed, see results below. | AC20: Retest performed, see results below. | AD20: Retest performed, see results below. | AE20: Retest performed, see results below. | AF20: Retest performed, see results below. | AG20: Retest performed, see results below. | AH20: Retest performed, see results below. | AI20: Retest performed, see results below. | AJ20: Retest performed, see results below. | AK20: Retest performed, see results below. | AL20: Retest performed, see results below.
A21: V1 Retest | B21: 40227 | C21: M | D21: <0.005 | E21: 5 | F21: 0.28 | G21: <50 | H21: 35.9 | I21: <0.01 | J21: <0.005 | K21: 16.3 | L21: <0.005 | M21: 0.012 | N21: <0.1 | O21: 0.21 | P21: 5 | R21: 0.54 | S21: 0.0013 | T21: 2.68 | U21: 0.28 | V21: 0.64 | W21: 2 | X21: 0.21 | Z21: 0.087 | AA21: 4 | AB21: 0.03 | AC21: 0.17 | AD21: 4560 | AE21: <0.01 | AF21: 74.3 | AG21: <0.5 | AH21: <0.002 | AI21: 1.25 | AJ21: <0.2 | AK21: 0.8 | AL21: <0.1
A22: V1 Retest | B22: 40227 | C22: DUPLICATE | D22: <0.005 | E22: 5.1 | F22: 0.28 | G22: <50 | H22: 36.3 | I22: <0.01 | J22: <0.005 | K22: 16.5 | L22: 0.008 | M22: 0.018 | N22: <0.1 | O22: 0.58 | P22: 5 | R22: 0.54 | S22: 0.0014 | T22: 2.73 | U22: 1.74 | V22: 0.69 | W22: 2.03 | X22: 0.52 | Z22: 0.743 | AA22: 4 | AB22: 0.03 | AC22: 0.18 | AD22: 4650 | AE22: <0.01 | AF22: 76.4 | AG22: <0.5 | AH22: <0.002 | AI22: 1.3 | AJ22: <0.2 | AK22: 11.6 | AL22: <0.1
A23: RPD (%) | D23: =IFERROR((((2*(ABS((D21-D22))))/(D22+D21))*100),Refs!$C$15) -> N/A | E23: =IFERROR((((2*(ABS((E21-E22))))/(E22+E21))*100),Refs!$C$15) -> 1.980198 | F23: =IFERROR((((2*(ABS((F21-F22))))/(F22+F21))*100),Refs!$C$15) -> 0 | G23: =IFERROR((((2*(ABS((G21-G22))))/(G22+G21))*100),Refs!$C$15) -> N/A | H23: =IFERROR((((2*(ABS((H21-H22))))/(H22+H21))*100),Refs!$C$15) -> 1.1080332 | I23: =IFERROR((((2*(ABS((I21-I22))))/(I22+I21))*100),Refs!$C$15) -> N/A | J23: =IFERROR((((2*(ABS((J21-J22))))/(J22+J21))*100),Refs!$C$15) -> N/A | K23: =IFERROR((((2*(ABS((K21-K22))))/(K22+K21))*100),Refs!$C$15) -> 1.2195122 | ... AL23: =IFERROR((((2*(ABS((AL21-AL22))))/(AL22+AL21))*100),Refs!$C$15) -> N/A
A24: Comments | D24: Retest for February 18 V1 sample and duplicate. | E24: Retest for February 18 V1 sample and duplicate. | F24: Retest for February 18 V1 sample and duplicate. | G24: Retest for February 18 V1 sample and duplicate. | H24: Retest for February 18 V1 sample and duplicate. | I24: Retest for February 18 V1 sample and duplicate. | J24: Retest for February 18 V1 sample and duplicate. | K24: Retest for February 18 V1 sample and duplicate. | L24: Retest for February 18 V1 sample and duplicate. | M24: Retest for February 18 V1 sample and duplicate. | N24: Retest for February 18 V1 sample and duplicate. | O24: Retest for February 18 V1 sample and duplicate. Both values correctly entered into emLine; however, main sample value not > PQL. | P24: Retest for February 18 V1 sample and duplicate. | R24: Retest for February 18 V1 sample and duplicate. | S24: Retest for February 18 V1 sample and duplicate. | T24: Retest for February 18 V1 sample and duplicate. | U24: Retest for February 18 V1 sample and duplicate. Both values > PQL and correctly entered into emLine. Duplicate will be performed at V1 at next sampling event. | V24: Retest for February 18 V1 sample and duplicate. | W24: Retest for February 18 V1 sample and duplicate. | X24: Retest for February 18 V1 sample and duplicate. Both values > PQL and correctly entered into emLine. Duplicate will be performed at V1 at next sampling event. | Z24: Retest for February 18 V1 sample and duplicate. Both values > PQL and correctly entered into emLine. Duplicate will be performed at V1 at next sampling event. | AA24: Retest for February 18 V1 sample and duplicate. | AB24: Retest for February 18 V1 sample and duplicate. | AC24: Retest for February 18 V1 sample and duplicate. | AD24: Retest for February 18 V1 sample and duplicate. | AE24: Retest for February 18 V1 sample and duplicate. | AF24: Retest for February 18 V1 sample and duplicate. | AG24: Retest for February 18 V1 sample and duplicate. | AH24: Retest for February 18 V1 sample and duplicate. | AI24: Retest for February 18 V1 sample and duplicate. | AJ24: Retest for February 18 V1 sample and duplicate. | AK24: Retest for February 18 V1 sample and duplicate. Both values > PQL and correctly entered into emLine. Duplicate will be performed at V1 at next sampling event. | AL24: Retest for February 18 V1 sample and duplicate.
A25: Action | D25: Let Value Stand | E25: Let Value Stand | F25: Let Value Stand | G25: Let Value Stand | H25: Let Value Stand | I25: Let Value Stand | J25: Let Value Stand | K25: Let Value Stand | L25: Let Value Stand | M25: Let Value Stand | N25: Let Value Stand | O25: Let Value Stand | P25: Let Value Stand | R25: Let Value Stand | S25: Let Value Stand | T25: Let Value Stand | U25: Let Value Stand | V25: Let Value Stand | W25: Let Value Stand | X25: Let Value Stand | Z25: Let Value Stand | AA25: Let Value Stand | AB25: Let Value Stand | AC25: Let Value Stand | AD25: Let Value Stand | AE25: Let Value Stand | AF25: Let Value Stand | AG25: Let Value Stand | AH25: Let Value Stand | AI25: Let Value Stand | AJ25: Let Value Stand | AK25: Let Value Stand | AL25: Let Value Stand
A26: Result | D26: New values entered into emLine. | E26: New values entered into emLine. | F26: New values entered into emLine. | G26: New values entered into emLine. | H26: New values entered into emLine. | I26: New values entered into emLine. | J26: New values entered into emLine. | K26: New values entered into emLine. | L26: New values entered into emLine. | M26: New values entered into emLine. | N26: New values entered into emLine. | O26: New values entered into emLine. | P26: New values entered into emLine. | R26: New values entered into emLine. | S26: New values entered into emLine. | T26: New values entered into emLine. | U26: New values entered into emLine. | V26: New values entered into emLine. | W26: New values entered into emLine. | X26: New values entered into emLine. | Z26: New values entered into emLine. | AA26: New values entered into emLine. | AB26: New values entered into emLine. | AC26: New values entered into emLine. | AD26: New values entered into emLine. | AE26: New values entered into emLine. | AF26: New values entered into emLine. | AG26: New values entered into emLine. | AH26: New values entered into emLine. | AI26: New values entered into emLine. | AJ26: New values entered into emLine. | AK26: New values entered into emLine. | AL26: New values entered into emLine.
A27: V2 | B27: 40239 | C27: M | D27: <0.03 | E27: 6 | F27: 0.9 | G27: <300 | H27: 65.7 | I27: <0.05 | J27: <0.03 | K27: 324 | L27: 0.19 | M27: 0.05 | N27: <0.5 | O27: 0.8 | P27: 16 | Q27: <0.05 | R27: 2.58 | S27: 0.004 | T27: 182 | U27: 1 | V27: 1.8 | W27: 11.5 | X27: 2.3 | Z27: 0.55 | AA27: 388 | AB27: 0.2 | AC27: 0.7 | AD27: 6350 | AE27: <0.05 | AF27: 906 | AG27: <3.0 | AH27: <0.01 | AI27: 29.6 | AJ27: <1.0 | AK27: 21.6 | AL27: <0.5
A28: V2 | B28: 40239 | C28: DUPLICATE | D28: <0.03 | E28: 6 | F28: 0.9 | G28: <300 | H28: 63.8 | I28: <0.05 | J28: <0.03 | K28: 309 | L28: 0.22 | M28: 0.05 | N28: <0.5 | O28: 0.9 | P28: 14 | R28: 2.47 | S28: 0.005 | T28: 179 | U28: 1.1 | V28: 1.7 | W28: 11.7 | X28: 2.1 | Z28: 0.54 | AA28: 406 | AB28: 0.2 | AC28: 0.7 | AD28: 5870 | AE28: <0.05 | AF28: 879 | AG28: <3.0 | AH28: <0.01 | AI28: 29.3 | AJ28: <1.0 | AK28: 22.5 | AL28: <0.5
A29: RPD (%) | D29: =IFERROR((((2*(ABS((D27-D28))))/(D28+D27))*100),Refs!$C$15) -> N/A | E29: =IFERROR((((2*(ABS((E27-E28))))/(E28+E27))*100),Refs!$C$15) -> 0 | F29: =IFERROR((((2*(ABS((F27-F28))))/(F28+F27))*100),Refs!$C$15) -> 0 | G29: =IFERROR((((2*(ABS((G27-G28))))/(G28+G27))*100),Refs!$C$15) -> N/A | H29: =IFERROR((((2*(ABS((H27-H28))))/(H28+H27))*100),Refs!$C$15) -> 2.9343629 | I29: =IFERROR((((2*(ABS((I27-I28))))/(I28+I27))*100),Refs!$C$15) -> N/A | J29: =IFERROR((((2*(ABS((J27-J28))))/(J28+J27))*100),Refs!$C$15) -> N/A | K29: =IFERROR((((2*(ABS((K27-K28))))/(K28+K27))*100),Refs!$C$15) -> 4.7393365 | ... AL29: =IFERROR((((2*(ABS((AL27-AL28))))/(AL28+AL27))*100),Refs!$C$15) -> N/A
A30: Comments
A31: Action
A32: Result
A33: V5 | B33: 40267 | C33: M | D33: <0.005 | E33: 23.8 | F33: 0.44 | G33: <50 | H33: 80.9 | I33: <0.01 | J33: <0.005 | K33: 102 | L33: 0.04 | M33: 0.091 | N33: <0.1 | O33: 0.66 | P33: 58 | R33: 1.47 | S33: 0.0064 | T33: 49.6 | U33: 11.6 | V33: 2.65 | W33: 5.49 | X33: 1.84 | Z33: 0.239 | AA33: 61 | AB33: 0.16 | AC33: 3.73 | AD33: 5570 | AE33: <0.01 | AF33: 401 | AG33: <0.5 | AH33: 0.003 | AI33: 7.39 | AJ33: 0.3 | AK33: 2.9 | AL33: <0.1
A34: V5 | B34: 40267 | C34: DUPLICATE | D34: <0.005 | E34: 60 | F34: 0.53 | G34: <50 | H34: 87.6 | I34: <0.01 | J34: <0.005 | K34: 110 | L34: 0.057 | M34: 0.138 | N34: 0.2 | O34: 0.76 | P34: 115 | R34: 1.59 | S34: 0.0067 | T34: 51.2 | U34: 15.6 | V34: 2.83 | W34: 5.69 | X34: 1.97 | Z34: 0.254 | AA34: 66 | AB34: 0.16 | AC34: 3.96 | AD34: 5280 | AE34: <0.01 | AF34: 433 | AG34: 2 | AH34: 0.005 | AI34: 7.75 | AJ34: 0.4 | AK34: 3.3 | AL34: <0.1
A35: RPD (%) | D35: =IFERROR((((2*(ABS((D33-D34))))/(D34+D33))*100),Refs!$C$15) -> N/A | E35: =IFERROR((((2*(ABS((E33-E34))))/(E34+E33))*100),Refs!$C$15) -> 86.396181 | F35: =IFERROR((((2*(ABS((F33-F34))))/(F34+F33))*100),Refs!$C$15) -> 18.556701 | G35: =IFERROR((((2*(ABS((G33-G34))))/(G34+G33))*100),Refs!$C$15) -> N/A | H35: =IFERROR((((2*(ABS((H33-H34))))/(H34+H33))*100),Refs!$C$15) -> 7.9525223 | I35: =IFERROR((((2*(ABS((I33-I34))))/(I34+I33))*100),Refs!$C$15) -> N/A | J35: =IFERROR((((2*(ABS((J33-J34))))/(J34+J33))*100),Refs!$C$15) -> N/A | K35: =IFERROR((((2*(ABS((K33-K34))))/(K34+K33))*100),Refs!$C$15) -> 7.5471698 | ... AL35: =IFERROR((((2*(ABS((AL33-AL34))))/(AL34+AL33))*100),Refs!$C$15) -> N/A
A36: Comments | E36: Both values > PQL and correctly entered into emLine. | P36: Both values > PQL and correctly entered into emLine. | AH36: Both values correctly entered into emLine; however, neither value > PQL. Therefore, RPD analysis not valid in this case.
A37: Action | E37: Let Value Stand | P37: Let Value Stand | AH37: Let Value Stand
A38: Result | E38: Discrepancy between values remains. | P38: Discrepancy between values remains. | AH38: Discrepancy between values remains.
A39: V8 | B39: 40267 | C39: M | D39: <0.005 | E39: 7.3 | F39: 0.42 | G39: <50 | H39: 73.7 | I39: <0.01 | J39: <0.005 | K39: 97.2 | L39: 0.057 | M39: 0.073 | N39: <0.1 | O39: 0.64 | P39: 30 | R39: 1.42 | S39: 0.0066 | T39: 45.2 | U39: 6.66 | V39: 1.47 | W39: 5.19 | X39: 2.14 | Z39: 0.234 | AA39: 76 | AB39: 0.17 | AC39: 1.97 | AD39: 5010 | AE39: <0.01 | AF39: 402 | AG39: <0.5 | AH39: 0.008 | AI39: 10.4 | AJ39: <0.2 | AK39: 12.7 | AL39: <0.1
A40: V8 | B40: 40267 | C40: DUPLICATE | D40: <0.005 | E40: 7.3 | F40: 0.45 | G40: <50 | H40: 72.8 | I40: <0.01 | J40: <0.005 | K40: 101 | L40: 0.067 | M40: 0.077 | N40: <0.1 | O40: 0.74 | P40: 30 | R40: 1.42 | S40: 0.0067 | T40: 47.8 | U40: 6.9 | V40: 1.53 | W40: 5.43 | X40: 2.3 | Z40: 0.147 | AA40: 81 | AB40: 0.17 | AC40: 2.1 | AD40: 4880 | AE40: <0.01 | AF40: 400 | AG40: <0.5 | AH40: 0.007 | AI40: 10.2 | AJ40: <0.2 | AK40: 12.6 | AL40: <0.1
A41: RPD (%) | D41: =IFERROR((((2*(ABS((D39-D40))))/(D40+D39))*100),Refs!$C$15) -> N/A | E41: =IFERROR((((2*(ABS((E39-E40))))/(E40+E39))*100),Refs!$C$15) -> 0 | F41: =IFERROR((((2*(ABS((F39-F40))))/(F40+F39))*100),Refs!$C$15) -> 6.8965517 | G41: =IFERROR((((2*(ABS((G39-G40))))/(G40+G39))*100),Refs!$C$15) -> N/A | H41: =IFERROR((((2*(ABS((H39-H40))))/(H40+H39))*100),Refs!$C$15) -> 1.2286689 | I41: =IFERROR((((2*(ABS((I39-I40))))/(I40+I39))*100),Refs!$C$15) -> N/A | J41: =IFERROR((((2*(ABS((J39-J40))))/(J40+J39))*100),Refs!$C$15) -> N/A | K41: =IFERROR((((2*(ABS((K39-K40))))/(K40+K39))*100),Refs!$C$15) -> 3.8345106 | ... AL41: =IFERROR((((2*(ABS((AL39-AL40))))/(AL40+AL39))*100),Refs!$C$15) -> N/A
A42: Comments
A43: Action
A44: Result
A45: V1 | B45: 40288 | C45: M | D45: <0.005 | E45: 5 | F45: 0.28 | G45: <50 | H45: 36.2 | I45: <0.01 | J45: <0.005 | K45: 16.1 | L45: 0.007 | M45: 0.014 | N45: <0.1 | O45: 0.21 | P45: 5 | R45: 0.59 | S45: 0.0014 | T45: 2.68 | U45: 0.61 | V45: 0.67 | W45: 2.09 | X45: 0.22 | Z45: 0.124 | AB45: 0.04 | AC45: 0.2 | AD45: 4810 | AE45: <0.01 | AF45: 77.5 | AG45: <0.5 | AH45: <0.002 | AI45: 1.4 | AJ45: <0.2 | AK45: 0.9 | AL45: <0.1
A46: V1 | B46: 40288 | C46: DUPLICATE | D46: <0.005 | E46: 8.3 | F46: 0.3 | G46: <50 | H46: 36.1 | I46: <0.01 | J46: <0.005 | K46: 15.6 | L46: <0.005 | M46: 0.023 | N46: <0.1 | O46: 0.26 | P46: 12 | R46: 0.59 | S46: 0.0014 | T46: 2.85 | U46: 0.89 | V46: 0.71 | W46: 2.08 | X46: 0.25 | Z46: 1.01 | AB46: 0.04 | AC46: 0.2 | AD46: 4370 | AE46: <0.01 | AF46: 78.6 | AG46: <0.5 | AH46: 0.004 | AI46: 1.47 | AJ46: <0.2 | AK46: 1.6 | AL46: <0.1
A47: RPD (%) | D47: =IFERROR((((2*(ABS((D45-D46))))/(D46+D45))*100),Refs!$C$15) -> N/A | E47: =IFERROR((((2*(ABS((E45-E46))))/(E46+E45))*100),Refs!$C$15) -> 49.62406 | F47: =IFERROR((((2*(ABS((F45-F46))))/(F46+F45))*100),Refs!$C$15) -> 6.8965517 | G47: =IFERROR((((2*(ABS((G45-G46))))/(G46+G45))*100),Refs!$C$15) -> N/A | H47: =IFERROR((((2*(ABS((H45-H46))))/(H46+H45))*100),Refs!$C$15) -> 0.27662517 | I47: =IFERROR((((2*(ABS((I45-I46))))/(I46+I45))*100),Refs!$C$15) -> N/A | J47: =IFERROR((((2*(ABS((J45-J46))))/(J46+J45))*100),Refs!$C$15) -> N/A | K47: =IFERROR((((2*(ABS((K45-K46))))/(K46+K45))*100),Refs!$C$15) -> 3.1545741 | ... AL47: =IFERROR((((2*(ABS((AL45-AL46))))/(AL46+AL45))*100),Refs!$C$15) -> N/A
A48: Comments | P48: Both values correctly entered into emLine; however, main sample value not > PQL. Therefore, RPD analysis not valid in this case. | Z48: Both values > PQL and correctly entered into emLine. | AK48: Both values > PQL and correctly entered into emLine.
A49: Action | D49: Request Retest | E49: Request Retest | F49: Request Retest | G49: Request Retest | H49: Request Retest | I49: Request Retest | J49: Request Retest | K49: Request Retest | L49: Request Retest | M49: Request Retest | N49: Request Retest | O49: Request Retest | P49: Request Retest | R49: Request Retest | S49: Request Retest | T49: Request Retest | U49: Request Retest | V49: Request Retest | W49: Request Retest | X49: Request Retest | Z49: Request Retest | AA49: Request Retest | AB49: Request Retest | AC49: Request Retest | AD49: Request Retest | AE49: Request Retest | AF49: Request Retest | AG49: Request Retest | AH49: Request Retest | AI49: Request Retest | AJ49: Request Retest | AK49: Request Retest | AL49: Request Retest
A50: Result | D50: Retest performed, see results below. | E50: Retest performed, see results below. | F50: Retest performed, see results below. | G50: Retest performed, see results below. | H50: Retest performed, see results below. | I50: Retest performed, see results below. | J50: Retest performed, see results below. | K50: Retest performed, see results below. | L50: Retest performed, see results below. | M50: Retest performed, see results below. | N50: Retest performed, see results below. | O50: Retest performed, see results below. | P50: Retest performed, see results below. | R50: Retest performed, see results below. | S50: Retest performed, see results below. | T50: Retest performed, see results below. | U50: Retest performed, see results below. | V50: Retest performed, see results below. | W50: Retest performed, see results below. | X50: Retest performed, see results below. | Z50: Retest performed, see results below. | AA50: Retest performed, see results below. | AB50: Retest performed, see results below. | AC50: Retest performed, see results below. | AD50: Retest performed, see results below. | AE50: Retest performed, see results below. | AF50: Retest performed, see results below. | AG50: Retest performed, see results below. | AH50: Retest performed, see results below. | AI50: Retest performed, see results below. | AJ50: Retest performed, see results below. | AK50: Retest performed, see results below. | AL50: Retest performed, see results below.
A51: V1 Retest | B51: 40288 | C51: M | D51: <0.005 | E51: 5.7 | F51: 0.24 | G51: <50 | H51: 37.4 | I51: <0.01 | J51: <0.005 | K51: 14.6 | L51: 0.007 | M51: 0.019 | N51: <0.1 | O51: 0.25 | P51: 7 | R51: 0.56 | S51: 0.0016 | T51: 2.43 | U51: 0.64 | V51: 0.6 | W51: 1.76 | X51: 0.18 | Z51: 0.373 | AA51: <10 | AB51: 0.03 | AC51: 0.18 | AD51: 4040 | AE51: <0.01 | AF51: 79.3 | AG51: <0.5 | AH51: <0.002 | AI51: 1.41 | AJ51: <0.2 | AK51: 0.8 | AL51: <0.1
A52: V1 Retest | B52: 40288 | C52: DUPLICATE | D52: <0.005 | E52: 15.1 | F52: 0.32 | G52: <50 | H52: 37.8 | I52: <0.01 | J52: <0.005 | K52: 14.6 | L52: <0.005 | M52: 0.023 | N52: <0.1 | O52: 0.33 | P52: 25 | R52: 0.57 | S52: 0.0016 | T52: 2.46 | U52: 0.96 | V52: 0.65 | W52: 1.78 | X52: 0.23 | Z52: 2.09 | AA52: <10 | AB52: 0.04 | AC52: 0.19 | AD52: 4030 | AE52: <0.01 | AF52: 80.4 | AG52: <0.5 | AH52: 0.003 | AI52: 1.45 | AJ52: <0.2 | AK52: 2.8 | AL52: <0.1
A53: RPD (%) | D53: =IFERROR((((2*(ABS((D51-D52))))/(D52+D51))*100),Refs!$C$15) -> N/A | E53: =IFERROR((((2*(ABS((E51-E52))))/(E52+E51))*100),Refs!$C$15) -> 90.384615 | F53: =IFERROR((((2*(ABS((F51-F52))))/(F52+F51))*100),Refs!$C$15) -> 28.571429 | G53: =IFERROR((((2*(ABS((G51-G52))))/(G52+G51))*100),Refs!$C$15) -> N/A | H53: =IFERROR((((2*(ABS((H51-H52))))/(H52+H51))*100),Refs!$C$15) -> 1.0638298 | I53: =IFERROR((((2*(ABS((I51-I52))))/(I52+I51))*100),Refs!$C$15) -> N/A | J53: =IFERROR((((2*(ABS((J51-J52))))/(J52+J51))*100),Refs!$C$15) -> N/A | K53: =IFERROR((((2*(ABS((K51-K52))))/(K52+K51))*100),Refs!$C$15) -> 0 | ... AL53: =IFERROR((((2*(ABS((AL51-AL52))))/(AL52+AL51))*100),Refs!$C$15) -> N/A
A54: Comments | D54: Retest for April 20 V1 sample and duplicate. | E54: Retest for April 20 V1 sample and duplicate. Both values > PQL and correctly entered into emLine. | F54: Retest for April 20 V1 sample and duplicate. | G54: Retest for April 20 V1 sample and duplicate. | H54: Retest for April 20 V1 sample and duplicate. | I54: Retest for April 20 V1 sample and duplicate. | J54: Retest for April 20 V1 sample and duplicate. | K54: Retest for April 20 V1 sample and duplicate. | L54: Retest for April 20 V1 sample and duplicate. | M54: Retest for April 20 V1 sample and duplicate. | N54: Retest for April 20 V1 sample and duplicate. | O54: Retest for April 20 V1 sample and duplicate. | P54: Retest for April 20 V1 sample and duplicate. Both values > PQL and correctly entered into emLine. | R54: Retest for April 20 V1 sample and duplicate. | S54: Retest for April 20 V1 sample and duplicate. | T54: Retest for April 20 V1 sample and duplicate. | U54: Retest for April 20 V1 sample and duplicate. | V54: Retest for April 20 V1 sample and duplicate. | W54: Retest for April 20 V1 sample and duplicate. | X54: Retest for April 20 V1 sample and duplicate. | Z54: Retest for April 20 V1 sample and duplicate. Both values > PQL and correctly entered into emLine. | AA54: Retest for April 20 V1 sample and duplicate. | AB54: Retest for April 20 V1 sample and duplicate. | AC54: Retest for April 20 V1 sample and duplicate. | AD54: Retest for April 20 V1 sample and duplicate. | AE54: Retest for April 20 V1 sample and duplicate. | AF54: Retest for April 20 V1 sample and duplicate. | AG54: Retest for April 20 V1 sample and duplicate. | AH54: Retest for April 20 V1 sample and duplicate. | AI54: Retest for April 20 V1 sample and duplicate. | AJ54: Retest for April 20 V1 sample and duplicate. | AK54: Retest for April 20 V1 sample and duplicate. Both values > PQL and correctly entered into emLine. | AL54: Retest for April 20 V1 sample and duplicate.
A55: Action | D55: Let Value Stand | E55: Let Value Stand | F55: Let Value Stand | G55: Let Value Stand | H55: Let Value Stand | I55: Let Value Stand | J55: Let Value Stand | K55: Let Value Stand | L55: Let Value Stand | M55: Let Value Stand | N55: Let Value Stand | O55: Let Value Stand | P55: Let Value Stand | R55: Let Value Stand | S55: Let Value Stand | T55: Let Value Stand | U55: Let Value Stand | V55: Let Value Stand | W55: Let Value Stand | X55: Let Value Stand | Z55: Let Value Stand | AA55: Let Value Stand | AB55: Let Value Stand | AC55: Let Value Stand | AD55: Let Value Stand | AE55: Let Value Stand | AF55: Let Value Stand | AG55: Let Value Stand | AH55: Let Value Stand | AI55: Let Value Stand | AJ55: Let Value Stand | AK55: Let Value Stand | AL55: Let Value Stand
A56: Result | D56: New values entered into emLine. | E56: New values entered into emLine. | F56: New values entered into emLine. | G56: New values entered into emLine. | H56: New values entered into emLine. | I56: New values entered into emLine. | J56: New values entered into emLine. | K56: New values entered into emLine. | L56: New values entered into emLine. | M56: New values entered into emLine. | N56: New values entered into emLine. | O56: New values entered into emLine. | P56: New values entered into emLine. | R56: New values entered into emLine. | S56: New values entered into emLine. | T56: New values entered into emLine. | U56: New values entered into emLine. | V56: New values entered into emLine. | W56: New values entered into emLine. | X56: New values entered into emLine. | Z56: New values entered into emLine. | AA56: New values entered into emLine. | AB56: New values entered into emLine. | AC56: New values entered into emLine. | AD56: New values entered into emLine. | AE56: New values entered into emLine. | AF56: New values entered into emLine. | AG56: New values entered into emLine. | AH56: New values entered into emLine. | AI56: New values entered into emLine. | AJ56: New values entered into emLine. | AK56: New values entered into emLine. | AL56: New values entered into emLine.
E57: RPD > 50% | W57: RPD > 50%
E58: RPD > 100% | W58: RPD > 100%
A68: LCD | B68: 40310 | C68: M | D68: 0.27 | E68: 3100 | F68: 1.3 | G68: <50 | H68: 31 | I68: 0.5 | J68: <1 | K68: 126 | L68: 156 | M68: 610 | N68: <1 | O68: 51.4 | P68: 26100 | Q68: <0.02 | R68: 1.98 | S68: 0.023 | T68: 171 | U68: 84900 | V68: <1 | W68: 1.53 | X68: 480 | Z68: 37.3 | AA68: 567 | AB68: <0.5 | AC68: 0.4 | AD68: 3050 | AE68: <5 | AF68: 406 | AG68: <5 | AH68: 0.25 | AI68: 8.1 | AJ68: <5 | AK68: 203000 | AL68: <0.5
A69: LCD | B69: 40310 | C69: DUPLICATE | D69: 0.3 | E69: 3080 | F69: 1.3 | G69: <50 | H69: 31 | I69: 0.5 | J69: <1 | K69: 128 | L69: 156 | M69: 630 | N69: <1 | O69: 53.6 | P69: 26600 | Q69: <0.02 | R69: 2.02 | S69: 0.024 | T69: 174 | U69: 87300 | V69: <1 | W69: 1.65 | X69: 500 | Z69: 37.8 | AA69: 577 | AB69: <0.5 | AC69: 0.3 | AD69: 3040 | AE69: <5 | AF69: 417 | AG69: <5 | AH69: 0.27 | AI69: 8.4 | AJ69: <5 | AK69: 209000 | AL69: <0.5
A70: RPD (%) | D70: =IFERROR((((2*(ABS((D68-D69))))/(D69+D68))*100),Refs!$C$15) -> 10.526316 | E70: =IFERROR((((2*(ABS((E68-E69))))/(E69+E68))*100),Refs!$C$15) -> 0.64724919 | F70: =IFERROR((((2*(ABS((F68-F69))))/(F69+F68))*100),Refs!$C$15) -> 0 | G70: =IFERROR((((2*(ABS((G68-G69))))/(G69+G68))*100),Refs!$C$15) -> N/A | H70: =IFERROR((((2*(ABS((H68-H69))))/(H69+H68))*100),Refs!$C$15) -> 0 | I70: =IFERROR((((2*(ABS((I68-I69))))/(I69+I68))*100),Refs!$C$15) -> 0 | J70: =IFERROR((((2*(ABS((J68-J69))))/(J69+J68))*100),Refs!$C$15) -> N/A | K70: =IFERROR((((2*(ABS((K68-K69))))/(K69+K68))*100),Refs!$C$15) -> 1.5748031 | ... AL70: =IFERROR((((2*(ABS((AL68-AL69))))/(AL69+AL68))*100),Refs!$C$15) -> N/A
A71: Comments
A72: Action
A73: Result
A74: V2A | B74: 40316 | C74: M | D74: <0.03 | E74: 8 | F74: 1.2 | G74: <300 | H74: 54 | I74: <0.05 | J74: <0.03 | K74: 250 | L74: 0.33 | M74: 0.26 | N74: <0.5 | O74: 1.2 | P74: 17 | R74: 3.3 | S74: 0.011 | T74: 181 | U74: 7.3 | V74: 1.9 | W74: 9.5 | X74: 42 | Z74: 0.54 | AA74: 391 | AB74: 0.5 | AC74: 0.6 | AD74: 4460 | AE74: <0.05 | AF74: 869 | AG74: <3 | AH74: 0.04 | AI74: 33.7 | AJ74: <1 | AK74: 747 | AL74: <0.5
A75: V2A | B75: 40316 | C75: DUPLICATE | D75: <0.03 | E75: 16 | F75: 1.3 | G75: <300 | H75: 55.7 | I75: <0.05 | J75: <0.03 | K75: 262 | L75: 0.31 | M75: 0.26 | N75: <0.5 | O75: 1.1 | P75: 34 | R75: 3.4 | S75: 0.011 | T75: 187 | U75: 7.9 | V75: 2.2 | W75: 9.7 | X75: 44.7 | Z75: 0.73 | AA75: 383 | AB75: 0.4 | AC75: 0.5 | AD75: 4210 | AE75: <0.05 | AF75: 888 | AG75: <3 | AH75: 0.04 | AI75: 33.5 | AJ75: <1 | AK75: 750 | AL75: <0.5
A76: RPD (%) | D76: =IFERROR((((2*(ABS((D74-D75))))/(D75+D74))*100),Refs!$C$15) -> N/A | E76: =IFERROR((((2*(ABS((E74-E75))))/(E75+E74))*100),Refs!$C$15) -> 66.666667 | F76: =IFERROR((((2*(ABS((F74-F75))))/(F75+F74))*100),Refs!$C$15) -> 8 | G76: =IFERROR((((2*(ABS((G74-G75))))/(G75+G74))*100),Refs!$C$15) -> N/A | H76: =IFERROR((((2*(ABS((H74-H75))))/(H75+H74))*100),Refs!$C$15) -> 3.0993619 | I76: =IFERROR((((2*(ABS((I74-I75))))/(I75+I74))*100),Refs!$C$15) -> N/A | J76: =IFERROR((((2*(ABS((J74-J75))))/(J75+J74))*100),Refs!$C$15) -> N/A | K76: =IFERROR((((2*(ABS((K74-K75))))/(K75+K74))*100),Refs!$C$15) -> 4.6875 | ... AL76: =IFERROR((((2*(ABS((AL74-AL75))))/(AL75+AL74))*100),Refs!$C$15) -> N/A
A77: Comments | E77: Both values > PQL and correctly entered into emLine. | P77: Both values correctly entered into emLine; however, main sample value not > PQL. Therefore, RPD analysis not valid in this case.
A78: Action | E78: Let Value Stand | P78: Let Value Stand
A79: Result | E79: Discrepancy between values remains. | P79: Discrepancy between values remains.
A80: LCD | B80: 40345 | C80: M | D80: <0.4 | E80: 11800 | F80: 4 | G80: <1000 | H80: 22 | I80: <2 | J80: <20 | K80: 212 | L80: 544 | M80: 2380 | N80: <20 | O80: 244 | P80: 62400 | R80: 3 | S80: <0.1 | T80: 583 | U80: 318000 | V80: <20 | W80: 4 | X80: 1680 | Z80: 320 | AA80: 1720 | AB80: <10 | AC80: <2 | AD80: 8330 | AE80: <100 | AF80: 863 | AG80: <100 | AH80: <1 | AI80: 32 | AJ80: <100 | AK80: 887000 | AL80: <10
A81: LCD | B81: 40345 | C81: DUPLICATE | D81: <0.4 | E81: 12000 | F81: 4 | G81: <1000 | H81: 23 | I81: <2 | J81: <20 | K81: 214 | L81: 564 | M81: 2500 | N81: <20 | O81: 267 | P81: 65400 | R81: 3 | S81: <0.1 | T81: 606 | U81: 331000 | V81: <20 | W81: 4 | X81: 1750 | Z81: 332 | AA81: 1800 | AB81: <10 | AC81: <2 | AD81: 8450 | AE81: <100 | AF81: 892 | AG81: <100 | AH81: <1 | AI81: 33 | AJ81: <100 | AK81: 926000 | AL81: <10
A82: RPD (%) | D82: =IFERROR((((2*(ABS((D80-D81))))/(D81+D80))*100),Refs!$C$15) -> N/A | E82: =IFERROR((((2*(ABS((E80-E81))))/(E81+E80))*100),Refs!$C$15) -> 1.6806723 | F82: =IFERROR((((2*(ABS((F80-F81))))/(F81+F80))*100),Refs!$C$15) -> 0 | G82: =IFERROR((((2*(ABS((G80-G81))))/(G81+G80))*100),Refs!$C$15) -> N/A | H82: =IFERROR((((2*(ABS((H80-H81))))/(H81+H80))*100),Refs!$C$15) -> 4.4444444 | I82: =IFERROR((((2*(ABS((I80-I81))))/(I81+I80))*100),Refs!$C$15) -> N/A | J82: =IFERROR((((2*(ABS((J80-J81))))/(J81+J80))*100),Refs!$C$15) -> N/A | K82: =IFERROR((((2*(ABS((K80-K81))))/(K81+K80))*100),Refs!$C$15) -> 0.93896714 | ... AL82: =IFERROR((((2*(ABS((AL80-AL81))))/(AL81+AL80))*100),Refs!$C$15) -> N/A
A83: Comments
A84: Action
A85: Result
A86: V25 | B86: 40365 | C86: M | D86: <0.03 | E86: 9 | F86: <0.1 | G86: <300 | H86: 20 | I86: <0.05 | J86: <0.03 | K86: 462 | L86: 1.07 | M86: 0.47 | N86: <0.5 | O86: 0.4 | P86: 15 | R86: 2.9 | S86: 0.05 | T86: 98.3 | U86: 1130 | V86: <0.3 | W86: 4.9 | X86: 0.6 | Z86: 0.3 | AA86: 564 | AB86: <0.1 | AC86: <0.2 | AD86: <500 | AE86: <0.05 | AF86: 1450 | AG86: <3 | AH86: 1.34 | AI86: 0.13 | AJ86: <1 | AK86: 58.9 | AL86: <0.5
A87: V25 | B87: 40365 | C87: DUPLICATE | D87: <0.03 | E87: 8 | F87: <0.1 | G87: <300 | H87: 20.4 | I87: <0.05 | J87: <0.03 | K87: 465 | L87: 1.16 | M87: 0.55 | N87: <0.5 | O87: 0.4 | P87: 14 | R87: 2.9 | S87: 0.05 | T87: 100 | U87: 1130 | V87: <0.3 | W87: 4.9 | X87: 0.4 | Z87: 0.27 | AA87: 564 | AB87: <0.1 | AC87: <0.2 | AD87: <500 | AE87: <0.05 | AF87: 1430 | AG87: <3 | AH87: 1.43 | AI87: 0.11 | AJ87: <1 | AK87: 60.6 | AL87: <0.5
A88: RPD (%) | D88: =IFERROR((((2*(ABS((D86-D87))))/(D87+D86))*100),Refs!$C$15) -> N/A | E88: =IFERROR((((2*(ABS((E86-E87))))/(E87+E86))*100),Refs!$C$15) -> 11.764706 | F88: =IFERROR((((2*(ABS((F86-F87))))/(F87+F86))*100),Refs!$C$15) -> N/A | G88: =IFERROR((((2*(ABS((G86-G87))))/(G87+G86))*100),Refs!$C$15) -> N/A | H88: =IFERROR((((2*(ABS((H86-H87))))/(H87+H86))*100),Refs!$C$15) -> 1.980198 | I88: =IFERROR((((2*(ABS((I86-I87))))/(I87+I86))*100),Refs!$C$15) -> N/A | J88: =IFERROR((((2*(ABS((J86-J87))))/(J87+J86))*100),Refs!$C$15) -> N/A | K88: =IFERROR((((2*(ABS((K86-K87))))/(K87+K86))*100),Refs!$C$15) -> 0.64724919 | ... AL88: =IFERROR((((2*(ABS((AL86-AL87))))/(AL87+AL86))*100),Refs!$C$15) -> N/A
A89: Comments
A90: Action
A91: Result
A92: V2A | B92: 40366 | C92: M | D92: <0.03 | E92: 9 | F92: 1 | G92: <300 | H92: 55.2 | I92: <0.05 | J92: <0.03 | K92: 292 | L92: 0.5 | M92: 0.07 | N92: <0.5 | O92: 1.3 | P92: 23 | R92: 4.1 | S92: 0.014 | T92: 227 | U92: 2.5 | V92: 2.5 | W92: 10.6 | X92: 51.9 | Z92: 1.32 | AA92: 427 | AB92: 0.6 | AC92: 0.5 | AD92: 4990 | AE92: 0.17 | AF92: 981 | AG92: <3 | AH92: 0.03 | AI92: 35.8 | AJ92: <1 | AK92: 811 | AL92: <0.5
A93: V2A | B93: 40366 | C93: DUPLICATE | D93: <0.03 | E93: 9 | F93: 1.1 | G93: <300 | H93: 55.9 | I93: <0.05 | J93: <0.03 | K93: 285 | L93: 0.5 | M93: 0.07 | N93: <0.5 | O93: 1.2 | P93: 20 | R93: 4.2 | S93: 0.014 | T93: 225 | U93: 2.7 | V93: 2.3 | W93: 10.5 | X93: 51.8 | Z93: 1.03 | AA93: 423 | AB93: 0.5 | AC93: 0.5 | AD93: 4750 | AE93: <0.05 | AF93: 976 | AG93: <3 | AH93: 0.03 | AI93: 35.1 | AJ93: <1 | AK93: 801 | AL93: <0.5
A94: RPD (%) | D94: =IFERROR((((2*(ABS((D92-D93))))/(D93+D92))*100),Refs!$C$15) -> N/A | E94: =IFERROR((((2*(ABS((E92-E93))))/(E93+E92))*100),Refs!$C$15) -> 0 | F94: =IFERROR((((2*(ABS((F92-F93))))/(F93+F92))*100),Refs!$C$15) -> 9.5238095 | G94: =IFERROR((((2*(ABS((G92-G93))))/(G93+G92))*100),Refs!$C$15) -> N/A | H94: =IFERROR((((2*(ABS((H92-H93))))/(H93+H92))*100),Refs!$C$15) -> 1.260126 | I94: =IFERROR((((2*(ABS((I92-I93))))/(I93+I92))*100),Refs!$C$15) -> N/A | J94: =IFERROR((((2*(ABS((J92-J93))))/(J93+J92))*100),Refs!$C$15) -> N/A | K94: =IFERROR((((2*(ABS((K92-K93))))/(K93+K92))*100),Refs!$C$15) -> 2.4263432 | ... AL94: =IFERROR((((2*(ABS((AL92-AL93))))/(AL93+AL92))*100),Refs!$C$15) -> N/A
A95: Comments
A96: Action
A97: Result
A98: V25 BSP | B98: 40372 | C98: M | D98: <0.03 | E98: 26 | F98: 0.2 | G98: <300 | H98: 32.1 | I98: <0.05 | J98: <0.03 | K98: 428 | L98: 0.92 | M98: 1.18 | N98: <0.5 | O98: 2.1 | P98: 40 | Q98: <0.05 | R98: 2.6 | S98: 0.041 | T98: 89.6 | U98: 844 | V98: 0.4 | W98: 5.1 | X98: 2.1 | Z98: 1.04 | AA98: 484 | AB98: <0.1 | AC98: <0.2 | AD98: 1180 | AE98: <0.05 | AF98: 1370 | AG98: <3 | AH98: 1.05 | AI98: 0.25 | AJ98: <1 | AK98: 56.7 | AL98: <0.5
A99: V25 BSP | B99: 40372 | C99: DUPLICATE | D99: <0.03 | E99: 29 | F99: 0.2 | G99: <300 | H99: 32.5 | I99: <0.05 | J99: <0.03 | K99: 427 | L99: 0.9 | M99: 1.15 | N99: <0.5 | O99: 1.9 | P99: 36 | Q99: <0.05 | R99: 2.6 | S99: 0.042 | T99: 89.4 | U99: 844 | V99: <0.3 | W99: 4.9 | X99: 2.2 | Z99: 0.76 | AA99: 488 | AB99: <0.1 | AC99: <0.2 | AD99: 1180 | AE99: <0.05 | AF99: 1390 | AG99: <3 | AH99: 1.05 | AI99: 0.28 | AJ99: <1 | AK99: 54.3 | AL99: <0.5
A100: RPD (%) | D100: =IFERROR((((2*(ABS((D98-D99))))/(D99+D98))*100),Refs!$C$15) -> N/A | E100: =IFERROR((((2*(ABS((E98-E99))))/(E99+E98))*100),Refs!$C$15) -> 10.909091 | F100: =IFERROR((((2*(ABS((F98-F99))))/(F99+F98))*100),Refs!$C$15) -> 0 | G100: =IFERROR((((2*(ABS((G98-G99))))/(G99+G98))*100),Refs!$C$15) -> N/A | H100: =IFERROR((((2*(ABS((H98-H99))))/(H99+H98))*100),Refs!$C$15) -> 1.2383901 | I100: =IFERROR((((2*(ABS((I98-I99))))/(I99+I98))*100),Refs!$C$15) -> N/A | J100: =IFERROR((((2*(ABS((J98-J99))))/(J99+J98))*100),Refs!$C$15) -> N/A | K100: =IFERROR((((2*(ABS((K98-K99))))/(K99+K98))*100),Refs!$C$15) -> 0.23391813 | ... AL100: =IFERROR((((2*(ABS((AL98-AL99))))/(AL99+AL98))*100),Refs!$C$15) -> N/A
A101: Comments
A102: Action
A103: Result
A104: V8 | B104: 40373 | C104: M | D104: <0.005 | E104: 235 | F104: 0.69 | G104: <50.0 | H104: 76.4 | I104: 0.02 | J104: <0.005 | K104: 103 | L104: 0.118 | M104: 0.329 | N104: 0.5 | O104: 1.32 | P104: 446 | R104: 1.07 | S104: 0.0081 | T104: 24.8 | U104: 29.4 | V104: 0.42 | W104: 2.49 | X104: 1.66 | Z104: 1.17 | AA104: 102 | AB104: 0.1 | AC104: 0.33 | AD104: 4590 | AE104: <0.01 | AF104: 366 | AG104: 7.8 | AH104: 0.052 | AI104: 2.12 | AJ104: 0.6 | AK104: 19 | AL104: 0.3
A105: V8 | B105: 40373 | C105: DUPLICATE | D105: <0.005 | E105: 222 | F105: 0.68 | G105: <50.0 | H105: 77.9 | I105: 0.02 | J105: <0.005 | K105: 104 | L105: 0.127 | M105: 0.352 | N105: 0.5 | O105: 1.37 | P105: 434 | R105: 1.07 | S105: 0.0081 | T105: 24.8 | U105: 30 | V105: 0.4 | W105: 2.48 | X105: 1.72 | Z105: 1.27 | AA105: 105 | AB105: 0.1 | AC105: 0.34 | AD105: 4460 | AE105: <0.01 | AF105: 364 | AG105: 7.9 | AH105: 0.057 | AI105: 2.11 | AJ105: 0.6 | AK105: 22 | AL105: 0.3
A106: RPD (%) | D106: =IFERROR((((2*(ABS((D104-D105))))/(D105+D104))*100),Refs!$C$15) -> N/A | E106: =IFERROR((((2*(ABS((E104-E105))))/(E105+E104))*100),Refs!$C$15) -> 5.6892779 | F106: =IFERROR((((2*(ABS((F104-F105))))/(F105+F104))*100),Refs!$C$15) -> 1.459854 | G106: =IFERROR((((2*(ABS((G104-G105))))/(G105+G104))*100),Refs!$C$15) -> N/A | H106: =IFERROR((((2*(ABS((H104-H105))))/(H105+H104))*100),Refs!$C$15) -> 1.9442644 | I106: =IFERROR((((2*(ABS((I104-I105))))/(I105+I104))*100),Refs!$C$15) -> 0 | J106: =IFERROR((((2*(ABS((J104-J105))))/(J105+J104))*100),Refs!$C$15) -> N/A | K106: =IFERROR((((2*(ABS((K104-K105))))/(K105+K104))*100),Refs!$C$15) -> 0.96618357 | ... AL106: =IFERROR((((2*(ABS((AL104-AL105))))/(AL105+AL104))*100),Refs!$C$15) -> 0
A107: Comments
A108: Action
A109: Result
...

Sheet Refs
A2: Change Value | B2: N/A
A3: Let Value Stand
A4: Remove Value
A8: Request Retest
A9: Change Value | C9: N/A
A10: Let Value Stand
A11: Remove Value
A14: Request Retest
A15: Change Value | C15: N/A
A16: Let Value Stand
A17: Remove Value
