Workbook

Sheet General
D1: Acid(pH4.5) | E1: Acid(pH8.3) | F1: ALK | G1: ALKPP | H1: CaCO3 | I1: CaCO3-d | J1: Chloride | K1: CN(wad) | L1: CNTHIO | M1: CO3 | N1: Colour | O1: COND | P1: DOC | Q1: HCO3 | R1: NH3 | S1: NO2 | T1: NO2/3 | U1: NO3 | V1: OH | W1: pH | X1: SO4-d | Y1: TDS | Z1: TOC | AA1: TSS | AB1: TURB
A2: Station | B2: Date | C2: Sample Type | D2: mg/L | E2: mg/L | F2: mg/L | G2: mg/L | H2: mg/L | I2: mg/L | J2: mg/L | K2: mg/L | L2: mg/L | M2: mg/L | N2: TCU | O2: µmho/cm | P2: mg/L | Q2: mg/L | R2: mg/L | S2: mg/L | T2: mg/L | U2: mg/L | V2: mg/L | W2: (blank) | X2: mg/L | Y2: mg/L | Z2: mg/L | AA2: mg/L | AB2: NTU
A3: V5 | B3: 40184.545 | C3: M | F3: 310 | G3: <0.5 | H3: 465 | I3: 525 | J3: 2.7 | M3: <0.5 | O3: 841 | P3: 3.3 | Q3: 380 | R3: <0.01 | V3: <0.5 | W3: 8 | X3: 160 | Y3: 450 | Z3: 3.1 | AA3: 32
A4: V5 | B4: 40184.54 | C4: DUPLICATE | F4: 310 | G4: <0.5 | H4: 472 | I4: 511 | J4: 2.8 | M4: <0.5 | O4: 846 | P4: 2.5 | Q4: 380 | R4: <0.01 | V4: <0.5 | W4: 8 | X4: 150 | Y4: 560 | Z4: 2.6 | AA4: 28
A5: RPD (%) | D5: =IFERROR((((2*(ABS((D3-D4))))/(D4+D3))*100),Refs!$B$2) -> N/A | E5: =IFERROR((((2*(ABS((E3-E4))))/(E4+E3))*100),Refs!$B$2) -> N/A | F5: =IFERROR((((2*(ABS((F3-F4))))/(F4+F3))*100),Refs!$B$2) -> 0 | G5: =IFERROR((((2*(ABS((G3-G4))))/(G4+G3))*100),Refs!$B$2) -> N/A | H5: =IFERROR((((2*(ABS((H3-H4))))/(H4+H3))*100),Refs!$B$2) -> 1.4941302 | I5: =IFERROR((((2*(ABS((I3-I4))))/(I4+I3))*100),Refs!$B$2) -> 2.7027027 | J5: =IFERROR((((2*(ABS((J3-J4))))/(J4+J3))*100),Refs!$B$2) -> 3.6363636 | K5: =IFERROR((((2*(ABS((K3-K4))))/(K4+K3))*100),Refs!$B$2) -> N/A | ... V5: =IFERROR((((2*(ABS((V3-V4))))/(V4+V3))*100),Refs!$B$2) -> N/A | W5: =IFERROR((ABS(W4-W3)),Refs!$B$2) -> 0 | X5: =IFERROR((((2*(ABS((X3-X4))))/(X4+X3))*100),Refs!$B$2) -> 6.4516129 | Y5: =IFERROR((((2*(ABS((Y3-Y4))))/(Y4+Y3))*100),Refs!$B$2) -> 21.782178 | Z5: =IFERROR((((2*(ABS((Z3-Z4))))/(Z4+Z3))*100),Refs!$B$2) -> 17.54386 | AA5: =IFERROR((((2*(ABS((AA3-AA4))))/(AA4+AA3))*100),Refs!$B$2) -> 13.333333 | AB5: =IFERROR((((2*(ABS((AB3-AB4))))/(AB4+AB3))*100),Refs!$B$2) -> N/A
A6: Comments
A7: Action
A8: Result
A9: V15 | B9: 40185.542 | C9: M | D9: <0.5 | E9: 52.8 | F9: 510 | G9: <0.5 | I9: 3180 | J9: 2 | M9: <0.5 | O9: 4020 | Q9: 620 | V9: <0.5 | W9: 7.5 | X9: 2500 | AA9: <1.0
A10: V15 | B10: 40185.545 | C10: DUPLICATE | D10: <0.5 | E10: 56 | F10: 510 | G10: <0.5 | I10: 3170 | J10: 2 | M10: <0.5 | O10: 4030 | Q10: 620 | V10: <0.5 | W10: 7.5 | X10: 2500 | AA10: <1.0
A11: RPD (%) | D11: =IFERROR((((2*(ABS((D9-D10))))/(D10+D9))*100),Refs!$B$2) -> N/A | E11: =IFERROR((((2*(ABS((E9-E10))))/(E10+E9))*100),Refs!$B$2) -> 5.8823529 | F11: =IFERROR((((2*(ABS((F9-F10))))/(F10+F9))*100),Refs!$B$2) -> 0 | G11: =IFERROR((((2*(ABS((G9-G10))))/(G10+G9))*100),Refs!$B$2) -> N/A | H11: =IFERROR((((2*(ABS((H9-H10))))/(H10+H9))*100),Refs!$B$2) -> N/A | I11: =IFERROR((((2*(ABS((I9-I10))))/(I10+I9))*100),Refs!$B$2) -> 0.31496063 | J11: =IFERROR((((2*(ABS((J9-J10))))/(J10+J9))*100),Refs!$B$2) -> 0 | K11: =IFERROR((((2*(ABS((K9-K10))))/(K10+K9))*100),Refs!$B$2) -> N/A | ... V11: =IFERROR((((2*(ABS((V9-V10))))/(V10+V9))*100),Refs!$B$2) -> N/A | W11: =IFERROR((ABS(W10-W9)),Refs!$B$2) -> 0 | X11: =IFERROR((((2*(ABS((X9-X10))))/(X10+X9))*100),Refs!$B$2) -> 0 | Y11: =IFERROR((((2*(ABS((Y9-Y10))))/(Y10+Y9))*100),Refs!$B$2) -> N/A | Z11: =IFERROR((((2*(ABS((Z9-Z10))))/(Z10+Z9))*100),Refs!$B$2) -> N/A | AA11: =IFERROR((((2*(ABS((AA9-AA10))))/(AA10+AA9))*100),Refs!$B$2) -> N/A | AB11: =IFERROR((((2*(ABS((AB9-AB10))))/(AB10+AB9))*100),Refs!$B$2) -> N/A
A12: Comments
A13: Action
A14: Result
A15: V2A | B15: 40212 | C15: M | F15: 440 | G15: <0.5 | H15: 1790 | I15: 1730 | J15: 2 | M15: <0.5 | O15: 2550 | P15: 4.2 | Q15: 530 | R15: 0.03 | V15: <0.5 | W15: 8.1 | X15: 1000 | Y15: 2300 | Z15: 4.8 | AA15: 6
A16: V2A | B16: 40212 | C16: DUPLICATE | F16: 420 | G16: <0.5 | H16: 1830 | I16: 1720 | J16: 1.9 | M16: <0.5 | O16: 2520 | P16: 3.4 | Q16: 520 | R16: 0.04 | V16: <0.5 | W16: 8 | X16: 1100 | Y16: 2300 | Z16: 3.4 | AA16: 6
A17: RPD (%) | D17: =IFERROR((((2*(ABS((D15-D16))))/(D16+D15))*100),Refs!$B$2) -> N/A | E17: =IFERROR((((2*(ABS((E15-E16))))/(E16+E15))*100),Refs!$B$2) -> N/A | F17: =IFERROR((((2*(ABS((F15-F16))))/(F16+F15))*100),Refs!$B$2) -> 4.6511628 | G17: =IFERROR((((2*(ABS((G15-G16))))/(G16+G15))*100),Refs!$B$2) -> N/A | H17: =IFERROR((((2*(ABS((H15-H16))))/(H16+H15))*100),Refs!$B$2) -> 2.2099448 | I17: =IFERROR((((2*(ABS((I15-I16))))/(I16+I15))*100),Refs!$B$2) -> 0.57971014 | J17: =IFERROR((((2*(ABS((J15-J16))))/(J16+J15))*100),Refs!$B$2) -> 5.1282051 | K17: =IFERROR((((2*(ABS((K15-K16))))/(K16+K15))*100),Refs!$B$2) -> N/A | ... V17: =IFERROR((((2*(ABS((V15-V16))))/(V16+V15))*100),Refs!$B$2) -> N/A | W17: =IFERROR((ABS(W16-W15)),Refs!$B$2) -> 0.1 | X17: =IFERROR((((2*(ABS((X15-X16))))/(X16+X15))*100),Refs!$B$2) -> 9.5238095 | Y17: =IFERROR((((2*(ABS((Y15-Y16))))/(Y16+Y15))*100),Refs!$B$2) -> 0 | Z17: =IFERROR((((2*(ABS((Z15-Z16))))/(Z16+Z15))*100),Refs!$B$2) -> 34.146341 | AA17: =IFERROR((((2*(ABS((AA15-AA16))))/(AA16+AA15))*100),Refs!$B$2) -> 0 | AB17: =IFERROR((((2*(ABS((AB15-AB16))))/(AB16+AB15))*100),Refs!$B$2) -> N/A
A18: Comments
A19: Action
A20: Result
A21: V1 | B21: 40227 | C21: M | F21: 49 | G21: <0.5 | H21: 50.8 | I21: 57.3 | J21: <0.5 | M21: <0.5 | O21: 118 | P21: 0.8 | Q21: 60 | R21: 0.03 | V21: <0.5 | W21: 7.8 | X21: 11 | Y21: 68 | Z21: <0.5 | AA21: <1.0
A22: V1 | B22: 40227 | C22: DUPLICATE | F22: 46 | G22: <0.5 | H22: 53 | I22: 55.5 | J22: <0.5 | M22: <0.5 | O22: 119 | P22: 1.2 | Q22: 56 | R22: <0.01 | V22: <0.5 | W22: 7.8 | X22: 12 | Y22: 54 | Z22: 0.7 | AA22: <1.0
A23: RPD (%) | D23: =IFERROR((((2*(ABS((D21-D22))))/(D22+D21))*100),Refs!$B$2) -> N/A | E23: =IFERROR((((2*(ABS((E21-E22))))/(E22+E21))*100),Refs!$B$2) -> N/A | F23: =IFERROR((((2*(ABS((F21-F22))))/(F22+F21))*100),Refs!$B$2) -> 6.3157895 | G23: =IFERROR((((2*(ABS((G21-G22))))/(G22+G21))*100),Refs!$B$2) -> N/A | H23: =IFERROR((((2*(ABS((H21-H22))))/(H22+H21))*100),Refs!$B$2) -> 4.238921 | I23: =IFERROR((((2*(ABS((I21-I22))))/(I22+I21))*100),Refs!$B$2) -> 3.1914894 | J23: =IFERROR((((2*(ABS((J21-J22))))/(J22+J21))*100),Refs!$B$2) -> N/A | K23: =IFERROR((((2*(ABS((K21-K22))))/(K22+K21))*100),Refs!$B$2) -> N/A | ... V23: =IFERROR((((2*(ABS((V21-V22))))/(V22+V21))*100),Refs!$B$2) -> N/A | W23: =IFERROR((ABS(W22-W21)),Refs!$B$2) -> 0 | X23: =IFERROR((((2*(ABS((X21-X22))))/(X22+X21))*100),Refs!$B$2) -> 8.6956522 | Y23: =IFERROR((((2*(ABS((Y21-Y22))))/(Y22+Y21))*100),Refs!$B$2) -> 22.95082 | Z23: =IFERROR((((2*(ABS((Z21-Z22))))/(Z22+Z21))*100),Refs!$B$2) -> N/A | AA23: =IFERROR((((2*(ABS((AA21-AA22))))/(AA22+AA21))*100),Refs!$B$2) -> N/A | AB23: =IFERROR((((2*(ABS((AB21-AB22))))/(AB22+AB21))*100),Refs!$B$2) -> N/A
A24: Comments
A25: Action
A26: Result
A27: V2 | B27: 40239 | C27: M | F27: 360 | G27: <0.5 | H27: 1560 | I27: 1680 | J27: 1.4 | L27: <0.0005 | M27: <0.5 | N27: 10 | O27: 2230 | P27: 2.9 | Q27: 440 | R27: <0.01 | V27: <0.5 | W27: 8.1 | X27: 1100 | Y27: 2100 | Z27: 3.3 | AA27: 2 | AB27: 0.5
A28: V2 | B28: 40239 | C28: DUPLICATE | F28: 360 | G28: <0.5 | H28: 1510 | I28: 1620 | J28: 1.3 | L28: <0.0005 | M28: <0.5 | N28: <5.0 | O28: 2240 | P28: 1.7 | Q28: 440 | R28: 0.04 | V28: <0.5 | W28: 8.1 | X28: 1100 | Y28: 2000 | Z28: 2.7 | AA28: <1.0 | AB28: 0.5
A29: RPD (%) | D29: =IFERROR((((2*(ABS((D27-D28))))/(D28+D27))*100),Refs!$B$2) -> N/A | E29: =IFERROR((((2*(ABS((E27-E28))))/(E28+E27))*100),Refs!$B$2) -> N/A | F29: =IFERROR((((2*(ABS((F27-F28))))/(F28+F27))*100),Refs!$B$2) -> 0 | G29: =IFERROR((((2*(ABS((G27-G28))))/(G28+G27))*100),Refs!$B$2) -> N/A | H29: =IFERROR((((2*(ABS((H27-H28))))/(H28+H27))*100),Refs!$B$2) -> 3.257329 | I29: =IFERROR((((2*(ABS((I27-I28))))/(I28+I27))*100),Refs!$B$2) -> 3.6363636 | J29: =IFERROR((((2*(ABS((J27-J28))))/(J28+J27))*100),Refs!$B$2) -> 7.4074074 | K29: =IFERROR((((2*(ABS((K27-K28))))/(K28+K27))*100),Refs!$B$2) -> N/A | ... V29: =IFERROR((((2*(ABS((V27-V28))))/(V28+V27))*100),Refs!$B$2) -> N/A | W29: =IFERROR((ABS(W28-W27)),Refs!$B$2) -> 0 | X29: =IFERROR((((2*(ABS((X27-X28))))/(X28+X27))*100),Refs!$B$2) -> 0 | Y29: =IFERROR((((2*(ABS((Y27-Y28))))/(Y28+Y27))*100),Refs!$B$2) -> 4.8780488 | Z29: =IFERROR((((2*(ABS((Z27-Z28))))/(Z28+Z27))*100),Refs!$B$2) -> 20 | AA29: =IFERROR((((2*(ABS((AA27-AA28))))/(AA28+AA27))*100),Refs!$B$2) -> N/A | AB29: =IFERROR((((2*(ABS((AB27-AB28))))/(AB28+AB27))*100),Refs!$B$2) -> 0
A30: Comments | P30: Both values correctly entered into emLine; however, duplicate value not > PQL. Therefore, RPD analysis not valid in this case.
A31: Action | P31: Let Value Stand
A32: Result | P32: Discrepancy between values remains.
A33: V5 | B33: 40267 | C33: M | F33: 300 | G33: <0.5 | H33: 460 | I33: 465 | J33: 2.3 | M33: <0.5 | O33: 837 | P33: 2.2 | Q33: 370 | R33: 0.02 | V33: <0.5 | W33: 8.2 | X33: 180 | Y33: 540 | Z33: 3 | AA33: 6
A34: V5 | B34: 40267 | C34: DUPLICATE | F34: 310 | G34: <0.5 | H34: 485 | I34: 462 | J34: 2.8 | M34: <0.5 | O34: 837 | P34: 2 | Q34: 370 | R34: <0.01 | V34: <0.5 | W34: 8.2 | X34: 180 | Y34: 560 | Z34: 2 | AA34: 3
A35: RPD (%) | D35: =IFERROR((((2*(ABS((D33-D34))))/(D34+D33))*100),Refs!$B$2) -> N/A | E35: =IFERROR((((2*(ABS((E33-E34))))/(E34+E33))*100),Refs!$B$2) -> N/A | F35: =IFERROR((((2*(ABS((F33-F34))))/(F34+F33))*100),Refs!$B$2) -> 3.2786885 | G35: =IFERROR((((2*(ABS((G33-G34))))/(G34+G33))*100),Refs!$B$2) -> N/A | H35: =IFERROR((((2*(ABS((H33-H34))))/(H34+H33))*100),Refs!$B$2) -> 5.2910053 | I35: =IFERROR((((2*(ABS((I33-I34))))/(I34+I33))*100),Refs!$B$2) -> 0.64724919 | J35: =IFERROR((((2*(ABS((J33-J34))))/(J34+J33))*100),Refs!$B$2) -> 19.607843 | K35: =IFERROR((((2*(ABS((K33-K34))))/(K34+K33))*100),Refs!$B$2) -> N/A | ... V35: =IFERROR((((2*(ABS((V33-V34))))/(V34+V33))*100),Refs!$B$2) -> N/A | W35: =IFERROR((ABS(W34-W33)),Refs!$B$2) -> 0 | X35: =IFERROR((((2*(ABS((X33-X34))))/(X34+X33))*100),Refs!$B$2) -> 0 | Y35: =IFERROR((((2*(ABS((Y33-Y34))))/(Y34+Y33))*100),Refs!$B$2) -> 3.6363636 | Z35: =IFERROR((((2*(ABS((Z33-Z34))))/(Z34+Z33))*100),Refs!$B$2) -> 40 | AA35: =IFERROR((((2*(ABS((AA33-AA34))))/(AA34+AA33))*100),Refs!$B$2) -> 66.666667 | AB35: =IFERROR((((2*(ABS((AB33-AB34))))/(AB34+AB33))*100),Refs!$B$2) -> N/A
A36: Comments | AA36: Both values correctly entered into emLine; however, duplicate value not > PQL. Therefore, RPD analysis not valid in this case.
A37: Action | AA37: Let Value Stand
A38: Result | AA38: Discrepancy between values remains.
A39: V8 | B39: 40267 | C39: M | F39: 250 | G39: <0.5 | H39: 429 | I39: 431 | J39: 1.8 | M39: <0.5 | O39: 802 | P39: 2 | Q39: 300 | R39: <0.01 | V39: <0.5 | W39: 8.3 | X39: 200 | Y39: 510 | Z39: 2.5 | AA39: 2
A40: V8 | B40: 40267 | C40: DUPLICATE | F40: 250 | G40: <0.5 | H40: 449 | I40: 434 | J40: 1.4 | M40: <0.5 | O40: 796 | P40: 2.1 | Q40: 300 | R40: <0.01 | V40: <0.5 | W40: 8.2 | X40: 160 | Y40: 530 | Z40: 2.5 | AA40: 2
...

Sheet Diss. Metals
D1: Ag-d | E1: Al-d | F1: As-d | G1: Ba-d | H1: B-d | I1: Be-d | J1: Bi-d | K1: Ca-d | L1: Cd-d | M1: Co-d | N1: Cr-d | O1: Cu-d | P1: Fe-d | Q1: Hg-d | R1: K-d | S1: Li-d | T1: Mg-d | U1: Mn-d | V1: Mo-d | W1: Na-d | X1: Ni-d | Y1: Pb-d | Z1: Sb-d | AA1: S-d | AB1: Se-d | AC1: Si-d | AD1: Sn-d | AE1: Sr-d | AF1: Ti-d | AG1: Tl-d | AH1: U-d | AI1: V-d | AJ1: Zn-d | AK1: Zr-d
A2: Station | B2: Date | C2: Sample Type | D2: µg/L | E2: µg/L | F2: µg/L | G2: µg/L | H2: µg/L | I2: µg/L | J2: µg/L | K2: mg/L | L2: µg/L | M2: µg/L | N2: µg/L | O2: µg/L | P2: µg/L | Q2: µg/L | R2: mg/L | S2: mg/L | T2: mg/L | U2: µg/L | V2: µg/L | W2: mg/L | X2: µg/L | Y2: µg/L | Z2: µg/L | AA2: mg/L | AB2: µg/L | AC2: µg/L | AD2: µg/L | AE2: µg/L | AF2: µg/L | AG2: µg/L | AH2: µg/L | AI2: µg/L | AJ2: µg/L | AK2: µg/L
A3: V5 | B3: 40184.545 | C3: M | D3: <0.005 | E3: 1.9 | F3: 0.45 | G3: 88.7 | H3: <50.0 | I3: <0.01 | J3: <0.005 | K3: 121 | L3: 0.059 | M3: 0.044 | N3: <0.1 | O3: 0.66 | P3: 11 | R3: 1.69 | S3: 0.0065 | T3: 53.9 | U3: 12.2 | V3: 2.47 | W3: 5.64 | X3: 1.82 | Y3: 0.192 | Z3: 0.17 | AA3: 70 | AB3: 4.8 | AC3: 5980 | AD3: <0.01 | AE3: 424 | AF3: <0.5 | AG3: <0.002 | AH3: 7.15 | AI3: <0.2 | AJ3: 3.2 | AK3: <0.1
A4: V5 | B4: 40184.54 | C4: DUPLICATE | D4: <0.005 | E4: 2.1 | F4: 0.4 | G4: 89.3 | H4: <50.0 | I4: <0.01 | J4: <0.005 | K4: 118 | L4: 0.057 | M4: 0.043 | N4: <0.1 | O4: 0.66 | P4: 10 | R4: 1.61 | S4: 0.0064 | T4: 52.6 | U4: 11.8 | V4: 2.48 | W4: 5.52 | X4: 1.76 | Y4: 0.385 | Z4: 0.17 | AA4: 67 | AB4: 4.65 | AC4: 5620 | AD4: <0.01 | AE4: 428 | AF4: <0.5 | AG4: <0.002 | AH4: 7.11 | AI4: <0.2 | AJ4: 3.5 | AK4: <0.1
A5: RPD (%) | D5: =IFERROR((((2*(ABS((D3-D4))))/(D4+D3))*100),Refs!$C$9) -> N/A | E5: =IFERROR((((2*(ABS((E3-E4))))/(E4+E3))*100),Refs!$C$9) -> 10 | F5: =IFERROR((((2*(ABS((F3-F4))))/(F4+F3))*100),Refs!$C$9) -> 11.764706 | G5: =IFERROR((((2*(ABS((G3-G4))))/(G4+G3))*100),Refs!$C$9) -> 0.6741573 | H5: =IFERROR((((2*(ABS((H3-H4))))/(H4+H3))*100),Refs!$C$9) -> N/A | I5: =IFERROR((((2*(ABS((I3-I4))))/(I4+I3))*100),Refs!$C$9) -> N/A | J5: =IFERROR((((2*(ABS((J3-J4))))/(J4+J3))*100),Refs!$C$9) -> N/A | K5: =IFERROR((((2*(ABS((K3-K4))))/(K4+K3))*100),Refs!$C$9) -> 2.5104603 | ... AK5: =IFERROR((((2*(ABS((AK3-AK4))))/(AK4+AK3))*100),Refs!$C$9) -> N/A
A6: Comments | Y6: Both values > PQL and correctly entered into emLine.
A7: Action | Y7: Let Value Stand
A8: Result | Y8: Discrepancy between values remains.
A9: V15 | B9: 40185.542 | C9: M | D9: <0.03 | E9: 5 | F9: 0.5 | G9: 51.7 | H9: <300.0 | I9: <0.05 | J9: <0.03 | K9: 494 | L9: 1.9 | M9: 0.05 | N9: <0.5 | O9: 1.9 | P9: 17 | R9: 6.55 | S9: 0.023 | T9: 472 | U9: 1.1 | V9: 0.7 | W9: 15.9 | X9: 122 | Y9: 0.35 | Z9: <0.1 | AA9: 940 | AB9: 0.8 | AC9: 6750 | AD9: <0.05 | AE9: 1620 | AF9: <3.0 | AG9: <0.01 | AH9: 57.3 | AI9: <1.0 | AJ9: 2910 | AK9: <0.5
A10: V15 | B10: 40185.545 | C10: DUPLICATE | D10: <0.03 | E10: 6 | F10: 0.5 | G10: 51.5 | H10: <300.0 | I10: <0.05 | J10: <0.03 | K10: 492 | L10: 1.81 | M10: 0.08 | N10: <0.5 | O10: 2 | P10: 20 | R10: 6.55 | S10: 0.024 | T10: 470 | U10: 1.2 | V10: 0.7 | W10: 15.8 | X10: 123 | Y10: 0.69 | Z10: <0.1 | AA10: 941 | AB10: 0.8 | AC10: 6660 | AD10: 0.06 | AE10: 1620 | AF10: <3.0 | AG10: <0.01 | AH10: 56.8 | AI10: <1.0 | AJ10: 2930 | AK10: <0.5
A11: RPD (%) | D11: =IFERROR((((2*(ABS((D9-D10))))/(D10+D9))*100),Refs!$C$9) -> N/A | E11: =IFERROR((((2*(ABS((E9-E10))))/(E10+E9))*100),Refs!$C$9) -> 18.181818 | F11: =IFERROR((((2*(ABS((F9-F10))))/(F10+F9))*100),Refs!$C$9) -> 0 | G11: =IFERROR((((2*(ABS((G9-G10))))/(G10+G9))*100),Refs!$C$9) -> 0.3875969 | H11: =IFERROR((((2*(ABS((H9-H10))))/(H10+H9))*100),Refs!$C$9) -> N/A | I11: =IFERROR((((2*(ABS((I9-I10))))/(I10+I9))*100),Refs!$C$9) -> N/A | J11: =IFERROR((((2*(ABS((J9-J10))))/(J10+J9))*100),Refs!$C$9) -> N/A | K11: =IFERROR((((2*(ABS((K9-K10))))/(K10+K9))*100),Refs!$C$9) -> 0.40567951 | ... AK11: =IFERROR((((2*(ABS((AK9-AK10))))/(AK10+AK9))*100),Refs!$C$9) -> N/A
A12: Comments | Y12: Both values > PQL and correctly entered into emLine.
A13: Action | Y13: Let Value Stand
A14: Result | Y14: Discrepancy between values remains.
A15: V2A | B15: 40212 | C15: M | D15: <0.03 | E15: 2 | F15: 1 | G15: 92.8 | H15: <300.0 | I15: <0.05 | J15: <0.03 | K15: 344 | L15: 0.43 | M15: 0.1 | N15: <0.5 | O15: 1.6 | P15: <5.0 | R15: 3.94 | S15: 0.01 | T15: 211 | U15: 7.5 | V15: 2.3 | W15: 13.9 | X15: 34.2 | Y15: 0.82 | Z15: 0.4 | AA15: 421 | AB15: 0.7 | AC15: 5860 | AD15: <0.05 | AE15: 1080 | AF15: <3.0 | AG15: 0.02 | AH15: 41 | AI15: <1.0 | AJ15: 680 | AK15: <0.5
A16: V2A | B16: 40212 | C16: DUPLICATE | D16: <0.03 | E16: 3 | F16: 1 | G16: 93.2 | H16: <300.0 | I16: <0.05 | J16: <0.03 | K16: 343 | L16: 0.46 | M16: 0.13 | N16: <0.5 | O16: 1.6 | P16: <5.0 | R16: 3.93 | S16: 0.01 | T16: 211 | U16: 7.3 | V16: 2.4 | W16: 13.6 | X16: 33.5 | Y16: 0.91 | Z16: 0.4 | AA16: 419 | AB16: 0.7 | AC16: 5770 | AD16: <0.05 | AE16: 1130 | AF16: <3.0 | AG16: <0.01 | AH16: 40.8 | AI16: <1.0 | AJ16: 687 | AK16: <0.5
A17: RPD (%) | D17: =IFERROR((((2*(ABS((D15-D16))))/(D16+D15))*100),Refs!$C$9) -> N/A | E17: =IFERROR((((2*(ABS((E15-E16))))/(E16+E15))*100),Refs!$C$9) -> 40 | F17: =IFERROR((((2*(ABS((F15-F16))))/(F16+F15))*100),Refs!$C$9) -> 0 | G17: =IFERROR((((2*(ABS((G15-G16))))/(G16+G15))*100),Refs!$C$9) -> 0.43010753 | H17: =IFERROR((((2*(ABS((H15-H16))))/(H16+H15))*100),Refs!$C$9) -> N/A | I17: =IFERROR((((2*(ABS((I15-I16))))/(I16+I15))*100),Refs!$C$9) -> N/A | J17: =IFERROR((((2*(ABS((J15-J16))))/(J16+J15))*100),Refs!$C$9) -> N/A | K17: =IFERROR((((2*(ABS((K15-K16))))/(K16+K15))*100),Refs!$C$9) -> 0.29112082 | ... AK17: =IFERROR((((2*(ABS((AK15-AK16))))/(AK16+AK15))*100),Refs!$C$9) -> N/A
A18: Comments
A19: Action
A20: Result
A21: V1 | B21: 40227 | C21: M | D21: <0.005 | E21: 4.1 | F21: 0.29 | G21: 39.3 | H21: <50.0 | I21: <0.01 | J21: <0.005 | K21: 17.9 | L21: <0.005 | M21: 0.012 | N21: <0.1 | O21: 0.27 | P21: 2 | R21: 0.59 | S21: 0.0015 | T21: 3.08 | U21: 0.09 | V21: 0.72 | W21: 2.32 | X21: 0.22 | Y21: 0.053 | Z21: 0.05 | AA21: 4 | AB21: 0.19 | AC21: 5310 | AD21: <0.01 | AE21: 83.6 | AF21: <0.5 | AG21: <0.002 | AH21: 1.39 | AI21: <0.2 | AJ21: 0.7 | AK21: <0.1
A22: V1 | B22: 40227 | C22: DUPLICATE | D22: <0.005 | E22: 4 | F22: 0.29 | G22: 39.4 | H22: <50.0 | I22: <0.01 | J22: <0.005 | K22: 17.3 | L22: <0.005 | M22: 0.012 | N22: <0.1 | O22: 0.2 | P22: 2 | R22: 0.56 | S22: 0.0016 | T22: 3.01 | U22: <0.05 | V22: 0.71 | W22: 2.29 | X22: 0.21 | Y22: 0.026 | Z22: 0.05 | AA22: 5 | AB22: 0.2 | AC22: 5220 | AD22: <0.01 | AE22: 84.9 | AF22: <0.5 | AG22: <0.002 | AH22: 1.41 | AI22: <0.2 | AJ22: 1 | AK22: <0.1
A23: RPD (%) | D23: =IFERROR((((2*(ABS((D21-D22))))/(D22+D21))*100),Refs!$C$9) -> N/A | E23: =IFERROR((((2*(ABS((E21-E22))))/(E22+E21))*100),Refs!$C$9) -> 2.4691358 | F23: =IFERROR((((2*(ABS((F21-F22))))/(F22+F21))*100),Refs!$C$9) -> 0 | G23: =IFERROR((((2*(ABS((G21-G22))))/(G22+G21))*100),Refs!$C$9) -> 0.25412961 | H23: =IFERROR((((2*(ABS((H21-H22))))/(H22+H21))*100),Refs!$C$9) -> N/A | I23: =IFERROR((((2*(ABS((I21-I22))))/(I22+I21))*100),Refs!$C$9) -> N/A | J23: =IFERROR((((2*(ABS((J21-J22))))/(J22+J21))*100),Refs!$C$9) -> N/A | K23: =IFERROR((((2*(ABS((K21-K22))))/(K22+K21))*100),Refs!$C$9) -> 3.4090909 | ... AK23: =IFERROR((((2*(ABS((AK21-AK22))))/(AK22+AK21))*100),Refs!$C$9) -> N/A
A24: Comments | Y24: Both values > PQL and correctly entered into emLine.
A25: Action | Y25: Let Value Stand
A26: Result | Y26: Discrepancy between values remains.
A27: V2 | B27: 40239 | C27: M | D27: <0.03 | E27: 2 | F27: 0.9 | G27: 66.3 | H27: <300.0 | I27: <0.05 | J27: <0.03 | K27: 351 | L27: 0.17 | M27: <0.03 | N27: <0.5 | O27: 0.9 | P27: 9 | Q27: <0.05 | R27: 2.84 | S27: 0.005 | T27: 195 | U27: 0.7 | V27: 1.8 | W27: 12.4 | X27: 2.2 | Y27: 0.21 | Z27: 0.2 | AA27: 442 | AB27: 0.6 | AC27: 5760 | AD27: <0.05 | AE27: 959 | AF27: <3.0 | AG27: <0.01 | AH27: 29.9 | AI27: <1.0 | AJ27: 23.2 | AK27: <0.5
A28: V2 | B28: 40239 | C28: DUPLICATE | D28: 0.06 | E28: 2 | F28: 0.8 | G28: 66.6 | H28: <300.0 | I28: <0.05 | J28: <0.03 | K28: 344 | L28: 0.16 | M28: <0.03 | N28: <0.5 | O28: 0.9 | P28: 10 | R28: 2.76 | S28: 0.005 | T28: 184 | U28: 0.5 | V28: 1.7 | W28: 11.5 | X28: 2.4 | Y28: 0.27 | Z28: 0.2 | AA28: 432 | AB28: 0.6 | AC28: 5810 | AD28: <0.05 | AE28: 949 | AF28: <3.0 | AG28: <0.01 | AH28: 30 | AI28: <1.0 | AJ28: 22.3 | AK28: <0.5
A29: RPD (%) | D29: =IFERROR((((2*(ABS((D27-D28))))/(D28+D27))*100),Refs!$C$9) -> N/A | E29: =IFERROR((((2*(ABS((E27-E28))))/(E28+E27))*100),Refs!$C$9) -> 0 | F29: =IFERROR((((2*(ABS((F27-F28))))/(F28+F27))*100),Refs!$C$9) -> 11.764706 | G29: =IFERROR((((2*(ABS((G27-G28))))/(G28+G27))*100),Refs!$C$9) -> 0.45146727 | H29: =IFERROR((((2*(ABS((H27-H28))))/(H28+H27))*100),Refs!$C$9) -> N/A | I29: =IFERROR((((2*(ABS((I27-I28))))/(I28+I27))*100),Refs!$C$9) -> N/A | J29: =IFERROR((((2*(ABS((J27-J28))))/(J28+J27))*100),Refs!$C$9) -> N/A | K29: =IFERROR((((2*(ABS((K27-K28))))/(K28+K27))*100),Refs!$C$9) -> 2.0143885 | ... AK29: =IFERROR((((2*(ABS((AK27-AK28))))/(AK28+AK27))*100),Refs!$C$9) -> N/A
A30: Comments
A31: Action
A32: Result
A33: V5 | B33: 40267 | C33: M | D33: <0.005 | E33: 2 | F33: 0.43 | G33: 81.4 | H33: <50.0 | I33: <0.01 | J33: <0.005 | K33: 104 | L33: 0.048 | M33: 0.06 | N33: <0.1 | O33: 0.61 | P33: 11 | R33: 1.46 | S33: 0.0067 | T33: 50.1 | U33: 8.7 | V33: 2.69 | W33: 5.64 | X33: 1.72 | Y33: 0.101 | Z33: 0.16 | AA33: 59 | AB33: 3.74 | AC33: 5290 | AD33: <0.01 | AE33: 404 | AF33: <0.5 | AG33: 0.003 | AH33: 7.59 | AI33: <0.2 | AJ33: 2.9 | AK33: <0.1
A34: V5 | B34: 40267 | C34: DUPLICATE | D34: <0.005 | E34: 2.1 | F34: 0.41 | G34: 78.9 | H34: <50.0 | I34: <0.01 | J34: <0.005 | K34: 102 | L34: 0.04 | M34: 0.059 | N34: <0.1 | O34: 0.59 | P34: 10 | R34: 1.44 | S34: 0.0066 | T34: 50.4 | U34: 8.65 | V34: 2.62 | W34: 5.74 | X34: 1.74 | Y34: 0.169 | Z34: 0.16 | AA34: 57 | AB34: 3.58 | AC34: 5170 | AD34: <0.01 | AE34: 397 | AF34: <0.5 | AG34: 0.003 | AH34: 7.47 | AI34: <0.2 | AJ34: 3.1 | AK34: <0.1
A35: RPD (%) | D35: =IFERROR((((2*(ABS((D33-D34))))/(D34+D33))*100),Refs!$C$9) -> N/A | E35: =IFERROR((((2*(ABS((E33-E34))))/(E34+E33))*100),Refs!$C$9) -> 4.8780488 | F35: =IFERROR((((2*(ABS((F33-F34))))/(F34+F33))*100),Refs!$C$9) -> 4.7619048 | G35: =IFERROR((((2*(ABS((G33-G34))))/(G34+G33))*100),Refs!$C$9) -> 3.1191516 | H35: =IFERROR((((2*(ABS((H33-H34))))/(H34+H33))*100),Refs!$C$9) -> N/A | I35: =IFERROR((((2*(ABS((I33-I34))))/(I34+I33))*100),Refs!$C$9) -> N/A | J35: =IFERROR((((2*(ABS((J33-J34))))/(J34+J33))*100),Refs!$C$9) -> N/A | K35: =IFERROR((((2*(ABS((K33-K34))))/(K34+K33))*100),Refs!$C$9) -> 1.9417476 | ... AK35: =IFERROR((((2*(ABS((AK33-AK34))))/(AK34+AK33))*100),Refs!$C$9) -> N/A
A36: Comments | Y36: Both values > PQL and correctly entered into emLine.
A37: Action | Y37: Let Value Stand
A38: Result | Y38: Discrepancy between values remains.
A39: V8 | B39: 40267 | C39: M | D39: <0.005 | E39: 2.5 | F39: 0.39 | G39: 73.6 | H39: <50.0 | I39: <0.01 | J39: <0.005 | K39: 94.1 | L39: 0.061 | M39: 0.057 | N39: <0.1 | O39: 0.81 | P39: 15 | R39: 1.33 | S39: 0.0069 | T39: 47.6 | U39: 5.69 | V39: 1.47 | W39: 5.55 | X39: 2.27 | Y39: 0.199 | Z39: 0.16 | AA39: 67 | AB39: 1.94 | AC39: 5070 | AD39: <0.01 | AE39: 406 | AF39: <0.5 | AG39: 0.008 | AH39: 10.6 | AI39: <0.2 | AJ39: 13.2 | AK39: <0.1
A40: V8 | B40: 40267 | C40: DUPLICATE | D40: <0.005 | E40: 2 | F40: 0.43 | G40: 78.5 | H40: <50.0 | I40: <0.01 | J40: <0.005 | K40: 98.3 | L40: 0.059 | M40: 0.076 | N40: <0.1 | O40: 0.57 | P40: 30 | R40: 1.41 | S40: 0.007 | T40: 45.9 | U40: 6.06 | V40: 1.55 | W40: 5.28 | X40: 2.36 | Y40: 0.137 | Z40: 0.17 | AA40: 71 | AB40: 1.93 | AC40: 4340 | AD40: <0.01 | AE40: 408 | AF40: <0.5 | AG40: 0.007 | AH40: 10.5 | AI40: <0.2 | AJ40: 13.3 | AK40: <0.1
...

Sheet Total Metals
D1: Ag | E1: Al | F1: As | G1: B | H1: Ba | I1: Be | J1: Bi | K1: Ca | L1: Cd | M1: Co | N1: Cr | O1: Cu | P1: Fe | Q1: Hg | R1: K | S1: Li | T1: Mg | U1: Mn | V1: Mo | W1: Na | X1: Ni | Y1: P | Z1: Pb | AA1: S | AB1: Sb | AC1: Se | AD1: Si | AE1: Sn | AF1: Sr | AG1: Ti | AH1: Tl | AI1: U | AJ1: V | AK1: Zn | AL1: Zr
A2: Station | B2: Date | C2: Sample Type | D2: µg/L | E2: µg/L | F2: µg/L | G2: µg/L | H2: µg/L | I2: µg/L | J2: µg/L | K2: mg/L | L2: µg/L | M2: ug/L | N2: µg/L | O2: µg/L | P2: µg/L | Q2: µg/L | R2: mg/L | S2: mg/L | T2: mg/L | U2: µg/L | V2: µg/L | W2: mg/L | X2: µg/L | Y2: mg/L | Z2: µg/L | AA2: mg/L | AB2: µg/L | AC2: µg/L | AD2: µg/L | AE2: µg/L | AF2: µg/L | AG2: µg/L | AH2: µg/L | AI2: µg/L | AJ2: µg/L | AK2: µg/L | AL2: µg/L
A3: V5 | B3: 40184.545 | C3: M | D3: <0.005 | E3: 133 | F3: 0.59 | G3: <50 | H3: 92.9 | I3: <0.01 | J3: <0.005 | K3: 108 | L3: 0.06 | M3: 0.209 | N3: 0.4 | O3: 1.02 | P3: 248 | R3: 1.45 | S3: 0.0068 | T3: 47.7 | U3: 24.7 | V3: 2.26 | W3: 4.93 | X3: 2.26 | Z3: 0.717 | AA3: 57 | AB3: 0.17 | AC3: 4.37 | AD3: 5790 | AE3: <0.01 | AF3: 417 | AG3: 4.2 | AH3: 0.005 | AI3: 7.13 | AJ3: 0.4 | AK3: 4.9 | AL3: 0.2
A4: V5 | B4: 40184.54 | C4: DUPLICATE | D4: <0.005 | E4: 101 | F4: 0.58 | G4: <50 | H4: 91.5 | I4: <0.01 | J4: <0.005 | K4: 109 | L4: 0.07 | M4: 0.166 | N4: 0.3 | O4: 0.92 | P4: 203 | R4: 1.47 | S4: 0.0068 | T4: 48.6 | U4: 21 | V4: 2.31 | W4: 5.03 | X4: 2.42 | Z4: 0.696 | AA4: 57 | AB4: 0.19 | AC4: 4.86 | AD4: 6390 | AE4: <0.01 | AF4: 413 | AG4: 2.7 | AH4: 0.004 | AI4: 7 | AJ4: 0.4 | AK4: 4.8 | AL4: <0.1
A5: RPD (%) | D5: =IFERROR((((2*(ABS((D3-D4))))/(D4+D3))*100),Refs!$C$15) -> N/A | E5: =IFERROR((((2*(ABS((E3-E4))))/(E4+E3))*100),Refs!$C$15) -> 27.350427 | F5: =IFERROR((((2*(ABS((F3-F4))))/(F4+F3))*100),Refs!$C$15) -> 1.7094017 | G5: =IFERROR((((2*(ABS((G3-G4))))/(G4+G3))*100),Refs!$C$15) -> N/A | H5: =IFERROR((((2*(ABS((H3-H4))))/(H4+H3))*100),Refs!$C$15) -> 1.5184382 | I5: =IFERROR((((2*(ABS((I3-I4))))/(I4+I3))*100),Refs!$C$15) -> N/A | J5: =IFERROR((((2*(ABS((J3-J4))))/(J4+J3))*100),Refs!$C$15) -> N/A | K5: =IFERROR((((2*(ABS((K3-K4))))/(K4+K3))*100),Refs!$C$15) -> 0.92165899 | ... AL5: =IFERROR((((2*(ABS((AL3-AL4))))/(AL4+AL3))*100),Refs!$C$15) -> N/A
A6: Comments
A7: Action
A8: Result
A9: V2A | B9: 40212 | C9: M | D9: <0.03 | E9: 38 | F9: 1.1 | G9: <300 | H9: 95.4 | I9: <0.05 | J9: <0.03 | K9: 355 | L9: 0.37 | M9: 0.17 | N9: <0.5 | O9: 1.8 | P9: 91 | R9: 4.02 | S9: 0.01 | T9: 218 | U9: 9.2 | V9: 2.4 | W9: 14.2 | X9: 32.7 | Z9: 3.33 | AA9: 385 | AB9: 0.4 | AC9: 0.6 | AD9: 5780 | AE9: <0.05 | AF9: 1130 | AG9: <3 | AH9: 0.02 | AI9: 41.7 | AJ9: <1 | AK9: 667 | AL9: <0.5
A10: V2A | B10: 40212 | C10: DUPLICATE | D10: <0.03 | E10: 28 | F10: 1 | G10: <300 | H10: 95.8 | I10: <0.05 | J10: <0.03 | K10: 360 | L10: 0.4 | M10: 0.15 | N10: <0.5 | O10: 1.9 | P10: 63 | R10: 4.15 | S10: 0.01 | T10: 225 | U10: 8.8 | V10: 2.4 | W10: 14.3 | X10: 34.3 | Z10: 2.58 | AA10: 389 | AB10: 0.5 | AC10: 0.7 | AD10: 5720 | AE10: 0.06 | AF10: 1150 | AG10: <3 | AH10: <0.01 | AI10: 41.7 | AJ10: <1 | AK10: 706 | AL10: <0.5
A11: RPD (%) | D11: =IFERROR((((2*(ABS((D9-D10))))/(D10+D9))*100),Refs!$C$15) -> N/A | E11: =IFERROR((((2*(ABS((E9-E10))))/(E10+E9))*100),Refs!$C$15) -> 30.30303 | F11: =IFERROR((((2*(ABS((F9-F10))))/(F10+F9))*100),Refs!$C$15) -> 9.5238095 | G11: =IFERROR((((2*(ABS((G9-G10))))/(G10+G9))*100),Refs!$C$15) -> N/A | H11: =IFERROR((((2*(ABS((H9-H10))))/(H10+H9))*100),Refs!$C$15) -> 0.41841004 | I11: =IFERROR((((2*(ABS((I9-I10))))/(I10+I9))*100),Refs!$C$15) -> N/A | J11: =IFERROR((((2*(ABS((J9-J10))))/(J10+J9))*100),Refs!$C$15) -> N/A | K11: =IFERROR((((2*(ABS((K9-K10))))/(K10+K9))*100),Refs!$C$15) -> 1.3986014 | ... AL11: =IFERROR((((2*(ABS((AL9-AL10))))/(AL10+AL9))*100),Refs!$C$15) -> N/A
A12: Comments
A13: Action
A14: Result
A15: V1 | B15: 40227 | C15: M | D15: <0.005 | E15: 4 | F15: 0.27 | G15: <50.0 | H15: 36 | I15: <0.01 | J15: <0.005 | K15: 16 | L15: <0.005 | M15: 0.011 | N15: <0.1 | O15: 0.21 | P15: 4 | R15: 0.52 | S15: 0.0014 | T15: 2.66 | U15: 0.28 | V15: 0.62 | W15: 2.03 | X15: 0.22 | Z15: 0.084 | AA15: 4 | AB15: 0.03 | AC15: 0.19 | AD15: 5050 | AE15: <0.01 | AF15: 76.9 | AG15: <0.5 | AH15: <0.002 | AI15: 1.28 | AJ15: <0.2 | AK15: 0.6 | AL15: <0.1
A16: V1 | B16: 40227 | C16: DUPLICATE | D16: <0.005 | E16: 4.9 | F16: 0.26 | G16: <50.0 | H16: 36.3 | I16: <0.01 | J16: <0.005 | K16: 16.6 | L16: 0.008 | M16: 0.018 | N16: <0.1 | O16: 0.58 | P16: 4 | R16: 0.54 | S16: 0.0012 | T16: 2.83 | U16: 1.82 | V16: 0.69 | W16: 2.15 | X16: 0.57 | Z16: 0.758 | AA16: 4 | AB16: 0.03 | AC16: 0.19 | AD16: 4880 | AE16: <0.01 | AF16: 77.4 | AG16: <0.5 | AH16: <0.002 | AI16: 1.32 | AJ16: <0.2 | AK16: 12.5 | AL16: <0.1
A17: RPD (%) | D17: =IFERROR((((2*(ABS((D15-D16))))/(D16+D15))*100),Refs!$C$15) -> N/A | E17: =IFERROR((((2*(ABS((E15-E16))))/(E16+E15))*100),Refs!$C$15) -> 20.224719 | F17: =IFERROR((((2*(ABS((F15-F16))))/(F16+F15))*100),Refs!$C$15) -> 3.7735849 | G17: =IFERROR((((2*(ABS((G15-G16))))/(G16+G15))*100),Refs!$C$15) -> N/A | H17: =IFERROR((((2*(ABS((H15-H16))))/(H16+H15))*100),Refs!$C$15) -> 0.82987552 | I17: =IFERROR((((2*(ABS((I15-I16))))/(I16+I15))*100),Refs!$C$15) -> N/A | J17: =IFERROR((((2*(ABS((J15-J16))))/(J16+J15))*100),Refs!$C$15) -> N/A | K17: =IFERROR((((2*(ABS((K15-K16))))/(K16+K15))*100),Refs!$C$15) -> 3.6809816 | ... AL17: =IFERROR((((2*(ABS((AL15-AL16))))/(AL16+AL15))*100),Refs!$C$15) -> N/A
A18: Comments | O18: Both values correctly entered into emLine; however, main sample value not > PQL. Therefore, RPD analysis not valid in this case. | U18: Both values > PQL and correctly entered into emLine. | X18: Both values > PQL and correctly entered into emLine. | Z18: Both values > PQL and correctly entered into emLine. | AK18: Both values > PQL and correctly entered into emLine.
A19: Action | D19: Request Retest | E19: Request Retest | F19: Request Retest | G19: Request Retest | H19: Request Retest | I19: Request Retest | J19: Request Retest | K19: Request Retest | L19: Request Retest | M19: Request Retest | N19: Request Retest | O19: Request Retest | P19: Request Retest | R19: Request Retest | S19: Request Retest | T19: Request Retest | U19: Request Retest | V19: Request Retest | W19: Request Retest | X19: Request Retest | Z19: Request Retest | AA19: Request Retest | AB19: Request Retest | AC19: Request Retest | AD19: Request Retest | AE19: Request Retest | AF19: Request Retest | AG19: Request Retest | AH19: Request Retest | AI19: Request Retest | AJ19: Request Retest | AK19: Request Retest | AL19: Request Retest
A20: Result | D20: Retest performed, see results below. | E20: Retest performed, see results below. | F20: Retest performed, see results below. | G20: Retest performed, see results below. | H20: Retest performed, see results below. | I20: Retest performed, see results below. | J20: Retest performed, see results below. | K20: Retest performed, see results below. | L20: Retest performed, see results below. | M20: Retest performed, see results below. | N20: Retest performed, see results below. | O20: Retest performed, see results below. | P20: Retest performed, see results below. | R20: Retest performed, see results below. | S20: Retest performed, see results below. | T20: Retest performed, see results below. | U20: Retest performed, see results below. | V20: Retest performed, see results below. | W20: Retest performed, see results below. | X20: Retest performed, see results below. | Z20: Retest performed, see results below. | AA20: Retest performed, see results below. | AB20: Retest performed, see results below. | AC20: Retest performed, see results below. | AD20: Retest performed, see results below. | AE20: Retest performed, see results below. | AF20: Retest performed, see results below. | AG20: Retest performed, see results below. | AH20: Retest performed, see results below. | AI20: Retest performed, see results below. | AJ20: Retest performed, see results below. | AK20: Retest performed, see results below. | AL20: Retest performed, see results below.
A21: V1 Retest | B21: 40227 | C21: M | D21: <0.005 | E21: 5 | F21: 0.28 | G21: <50 | H21: 35.9 | I21: <0.01 | J21: <0.005 | K21: 16.3 | L21: <0.005 | M21: 0.012 | N21: <0.1 | O21: 0.21 | P21: 5 | R21: 0.54 | S21: 0.0013 | T21: 2.68 | U21: 0.28 | V21: 0.64 | W21: 2 | X21: 0.21 | Z21: 0.087 | AA21: 4 | AB21: 0.03 | AC21: 0.17 | AD21: 4560 | AE21: <0.01 | AF21: 74.3 | AG21: <0.5 | AH21: <0.002 | AI21: 1.25 | AJ21: <0.2 | AK21: 0.8 | AL21: <0.1
A22: V1 Retest | B22: 40227 | C22: DUPLICATE | D22: <0.005 | E22: 5.1 | F22: 0.28 | G22: <50 | H22: 36.3 | I22: <0.01 | J22: <0.005 | K22: 16.5 | L22: 0.008 | M22: 0.018 | N22: <0.1 | O22: 0.58 | P22: 5 | R22: 0.54 | S22: 0.0014 | T22: 2.73 | U22: 1.74 | V22: 0.69 | W22: 2.03 | X22: 0.52 | Z22: 0.743 | AA22: 4 | AB22: 0.03 | AC22: 0.18 | AD22: 4650 | AE22: <0.01 | AF22: 76.4 | AG22: <0.5 | AH22: <0.002 | AI22: 1.3 | AJ22: <0.2 | AK22: 11.6 | AL22: <0.1
A23: RPD (%) | D23: =IFERROR((((2*(ABS((D21-D22))))/(D22+D21))*100),Refs!$C$15) -> N/A | E23: =IFERROR((((2*(ABS((E21-E22))))/(E22+E21))*100),Refs!$C$15) -> 1.980198 | F23: =IFERROR((((2*(ABS((F21-F22))))/(F22+F21))*100),Refs!$C$15) -> 0 | G23: =IFERROR((((2*(ABS((G21-G22))))/(G22+G21))*100),Refs!$C$15) -> N/A | H23: =IFERROR((((2*(ABS((H21-H22))))/(H22+H21))*100),Refs!$C$15) -> 1.1080332 | I23: =IFERROR((((2*(ABS((I21-I22))))/(I22+I21))*100),Refs!$C$15) -> N/A | J23: =IFERROR((((2*(ABS((J21-J22))))/(J22+J21))*100),Refs!$C$15) -> N/A | K23: =IFERROR((((2*(ABS((K21-K22))))/(K22+K21))*100),Refs!$C$15) -> 1.2195122 | ... AL23: =IFERROR((((2*(ABS((AL21-AL22))))/(AL22+AL21))*100),Refs!$C$15) -> N/A
A24: Comments | D24: Retest for February 18 V1 sample and duplicate. | E24: Retest for February 18 V1 sample and duplicate. | F24: Retest for February 18 V1 sample and duplicate. | G24: Retest for February 18 V1 sample and duplicate. | H24: Retest for February 18 V1 sample and duplicate. | I24: Retest for February 18 V1 sample and duplicate. | J24: Retest for February 18 V1 sample and duplicate. | K24: Retest for February 18 V1 sample and duplicate. | L24: Retest for February 18 V1 sample and duplicate. | M24: Retest for February 18 V1 sample and duplicate. | N24: Retest for February 18 V1 sample and duplicate. | O24: Retest for February 18 V1 sample and duplicate. Both values correctly entered into emLine; however, main sample value not > PQL. | P24: Retest for February 18 V1 sample and duplicate. | R24: Retest for February 18 V1 sample and duplicate. | S24: Retest for February 18 V1 sample and duplicate. | T24: Retest for February 18 V1 sample and duplicate. | U24: Retest for February 18 V1 sample and duplicate. Both values > PQL and correctly entered into emLine. Duplicate will be performed at V1 at next sampling event. | V24: Retest for February 18 V1 sample and duplicate. | W24: Retest for February 18 V1 sample and duplicate. | X24: Retest for February 18 V1 sample and duplicate. Both values > PQL and correctly entered into emLine. Duplicate will be performed at V1 at next sampling event. | Z24: Retest for February 18 V1 sample and duplicate. Both values > PQL and correctly entered into emLine. Duplicate will be performed at V1 at next sampling event. | AA24: Retest for February 18 V1 sample and duplicate. | AB24: Retest for February 18 V1 sample and duplicate. | AC24: Retest for February 18 V1 sample and duplicate. | AD24: Retest for February 18 V1 sample and duplicate. | AE24: Retest for February 18 V1 sample and duplicate. | AF24: Retest for February 18 V1 sample and duplicate. | AG24: Retest for February 18 V1 sample and duplicate. | AH24: Retest for February 18 V1 sample and duplicate. | AI24: Retest for February 18 V1 sample and duplicate. | AJ24: Retest for February 18 V1 sample and duplicate. | AK24: Retest for February 18 V1 sample and duplicate. Both values > PQL and correctly entered into emLine. Duplicate will be performed at V1 at next sampling event. | AL24: Retest for February 18 V1 sample and duplicate.
A25: Action | D25: Let Value Stand | E25: Let Value Stand | F25: Let Value Stand | G25: Let Value Stand | H25: Let Value Stand | I25: Let Value Stand | J25: Let Value Stand | K25: Let Value Stand | L25: Let Value Stand | M25: Let Value Stand | N25: Let Value Stand | O25: Let Value Stand | P25: Let Value Stand | R25: Let Value Stand | S25: Let Value Stand | T25: Let Value Stand | U25: Let Value Stand | V25: Let Value Stand | W25: Let Value Stand | X25: Let Value Stand | Z25: Let Value Stand | AA25: Let Value Stand | AB25: Let Value Stand | AC25: Let Value Stand | AD25: Let Value Stand | AE25: Let Value Stand | AF25: Let Value Stand | AG25: Let Value Stand | AH25: Let Value Stand | AI25: Let Value Stand | AJ25: Let Value Stand | AK25: Let Value Stand | AL25: Let Value Stand
A26: Result | D26: New values entered into emLine. | E26: New values entered into emLine. | F26: New values entered into emLine. | G26: New values entered into emLine. | H26: New values entered into emLine. | I26: New values entered into emLine. | J26: New values entered into emLine. | K26: New values entered into emLine. | L26: New values entered into emLine. | M26: New values entered into emLine. | N26: New values entered into emLine. | O26: New values entered into emLine. | P26: New values entered into emLine. | R26: New values entered into emLine. | S26: New values entered into emLine. | T26: New values entered into emLine. | U26: New values entered into emLine. | V26: New values entered into emLine. | W26: New values entered into emLine. | X26: New values entered into emLine. | Z26: New values entered into emLine. | AA26: New values entered into emLine. | AB26: New values entered into emLine. | AC26: New values entered into emLine. | AD26: New values entered into emLine. | AE26: New values entered into emLine. | AF26: New values entered into emLine. | AG26: New values entered into emLine. | AH26: New values entered into emLine. | AI26: New values entered into emLine. | AJ26: New values entered into emLine. | AK26: New values entered into emLine. | AL26: New values entered into emLine.
A27: V2 | B27: 40239 | C27: M | D27: <0.03 | E27: 6 | F27: 0.9 | G27: <300 | H27: 65.7 | I27: <0.05 | J27: <0.03 | K27: 324 | L27: 0.19 | M27: 0.05 | N27: <0.5 | O27: 0.8 | P27: 16 | Q27: <0.05 | R27: 2.58 | S27: 0.004 | T27: 182 | U27: 1 | V27: 1.8 | W27: 11.5 | X27: 2.3 | Z27: 0.55 | AA27: 388 | AB27: 0.2 | AC27: 0.7 | AD27: 6350 | AE27: <0.05 | AF27: 906 | AG27: <3.0 | AH27: <0.01 | AI27: 29.6 | AJ27: <1.0 | AK27: 21.6 | AL27: <0.5
A28: V2 | B28: 40239 | C28: DUPLICATE | D28: <0.03 | E28: 6 | F28: 0.9 | G28: <300 | H28: 63.8 | I28: <0.05 | J28: <0.03 | K28: 309 | L28: 0.22 | M28: 0.05 | N28: <0.5 | O28: 0.9 | P28: 14 | R28: 2.47 | S28: 0.005 | T28: 179 | U28: 1.1 | V28: 1.7 | W28: 11.7 | X28: 2.1 | Z28: 0.54 | AA28: 406 | AB28: 0.2 | AC28: 0.7 | AD28: 5870 | AE28: <0.05 | AF28: 879 | AG28: <3.0 | AH28: <0.01 | AI28: 29.3 | AJ28: <1.0 | AK28: 22.5 | AL28: <0.5
A29: RPD (%) | D29: =IFERROR((((2*(ABS((D27-D28))))/(D28+D27))*100),Refs!$C$15) -> N/A | E29: =IFERROR((((2*(ABS((E27-E28))))/(E28+E27))*100),Refs!$C$15) -> 0 | F29: =IFERROR((((2*(ABS((F27-F28))))/(F28+F27))*100),Refs!$C$15) -> 0 | G29: =IFERROR((((2*(ABS((G27-G28))))/(G28+G27))*100),Refs!$C$15) -> N/A | H29: =IFERROR((((2*(ABS((H27-H28))))/(H28+H27))*100),Refs!$C$15) -> 2.9343629 | I29: =IFERROR((((2*(ABS((I27-I28))))/(I28+I27))*100),Refs!$C$15) -> N/A | J29: =IFERROR((((2*(ABS((J27-J28))))/(J28+J27))*100),Refs!$C$15) -> N/A | K29: =IFERROR((((2*(ABS((K27-K28))))/(K28+K27))*100),Refs!$C$15) -> 4.7393365 | ... AL29: =IFERROR((((2*(ABS((AL27-AL28))))/(AL28+AL27))*100),Refs!$C$15) -> N/A
A30: Comments
A31: Action
A32: Result
A33: V5 | B33: 40267 | C33: M | D33: <0.005 | E33: 23.8 | F33: 0.44 | G33: <50 | H33: 80.9 | I33: <0.01 | J33: <0.005 | K33: 102 | L33: 0.04 | M33: 0.091 | N33: <0.1 | O33: 0.66 | P33: 58 | R33: 1.47 | S33: 0.0064 | T33: 49.6 | U33: 11.6 | V33: 2.65 | W33: 5.49 | X33: 1.84 | Z33: 0.239 | AA33: 61 | AB33: 0.16 | AC33: 3.73 | AD33: 5570 | AE33: <0.01 | AF33: 401 | AG33: <0.5 | AH33: 0.003 | AI33: 7.39 | AJ33: 0.3 | AK33: 2.9 | AL33: <0.1
A34: V5 | B34: 40267 | C34: DUPLICATE | D34: <0.005 | E34: 60 | F34: 0.53 | G34: <50 | H34: 87.6 | I34: <0.01 | J34: <0.005 | K34: 110 | L34: 0.057 | M34: 0.138 | N34: 0.2 | O34: 0.76 | P34: 115 | R34: 1.59 | S34: 0.0067 | T34: 51.2 | U34: 15.6 | V34: 2.83 | W34: 5.69 | X34: 1.97 | Z34: 0.254 | AA34: 66 | AB34: 0.16 | AC34: 3.96 | AD34: 5280 | AE34: <0.01 | AF34: 433 | AG34: 2 | AH34: 0.005 | AI34: 7.75 | AJ34: 0.4 | AK34: 3.3 | AL34: <0.1
A35: RPD (%) | D35: =IFERROR((((2*(ABS((D33-D34))))/(D34+D33))*100),Refs!$C$15) -> N/A | E35: =IFERROR((((2*(ABS((E33-E34))))/(E34+E33))*100),Refs!$C$15) -> 86.396181 | F35: =IFERROR((((2*(ABS((F33-F34))))/(F34+F33))*100),Refs!$C$15) -> 18.556701 | G35: =IFERROR((((2*(ABS((G33-G34))))/(G34+G33))*100),Refs!$C$15) -> N/A | H35: =IFERROR((((2*(ABS((H33-H34))))/(H34+H33))*100),Refs!$C$15) -> 7.9525223 | I35: =IFERROR((((2*(ABS((I33-I34))))/(I34+I33))*100),Refs!$C$15) -> N/A | J35: =IFERROR((((2*(ABS((J33-J34))))/(J34+J33))*100),Refs!$C$15) -> N/A | K35: =IFERROR((((2*(ABS((K33-K34))))/(K34+K33))*100),Refs!$C$15) -> 7.5471698 | ... AL35: =IFERROR((((2*(ABS((AL33-AL34))))/(AL34+AL33))*100),Refs!$C$15) -> N/A
A36: Comments | E36: Both values > PQL and correctly entered into emLine. | P36: Both values > PQL and correctly entered into emLine. | AH36: Both values correctly entered into emLine; however, neither value > PQL. Therefore, RPD analysis not valid in this case.
A37: Action | E37: Let Value Stand | P37: Let Value Stand | AH37: Let Value Stand
A38: Result | E38: Discrepancy between values remains. | P38: Discrepancy between values remains. | AH38: Discrepancy between values remains.
A39: V8 | B39: 40267 | C39: M | D39: <0.005 | E39: 7.3 | F39: 0.42 | G39: <50 | H39: 73.7 | I39: <0.01 | J39: <0.005 | K39: 97.2 | L39: 0.057 | M39: 0.073 | N39: <0.1 | O39: 0.64 | P39: 30 | R39: 1.42 | S39: 0.0066 | T39: 45.2 | U39: 6.66 | V39: 1.47 | W39: 5.19 | X39: 2.14 | Z39: 0.234 | AA39: 76 | AB39: 0.17 | AC39: 1.97 | AD39: 5010 | AE39: <0.01 | AF39: 402 | AG39: <0.5 | AH39: 0.008 | AI39: 10.4 | AJ39: <0.2 | AK39: 12.7 | AL39: <0.1
A40: V8 | B40: 40267 | C40: DUPLICATE | D40: <0.005 | E40: 7.3 | F40: 0.45 | G40: <50 | H40: 72.8 | I40: <0.01 | J40: <0.005 | K40: 101 | L40: 0.067 | M40: 0.077 | N40: <0.1 | O40: 0.74 | P40: 30 | R40: 1.42 | S40: 0.0067 | T40: 47.8 | U40: 6.9 | V40: 1.53 | W40: 5.43 | X40: 2.3 | Z40: 0.147 | AA40: 81 | AB40: 0.17 | AC40: 2.1 | AD40: 4880 | AE40: <0.01 | AF40: 400 | AG40: <0.5 | AH40: 0.007 | AI40: 10.2 | AJ40: <0.2 | AK40: 12.6 | AL40: <0.1
...

Sheet Refs
A2: Change Value | B2: N/A
A3: Let Value Stand
A4: Remove Value
A8: Request Retest
A9: Change Value | C9: N/A
A10: Let Value Stand
A11: Remove Value
A14: Request Retest
A15: Change Value | C15: N/A
A16: Let Value Stand
A17: Remove Value
