Workbook

Sheet Table1_DTWGWE
A1: Table 1. Depth to Water Measurements and Groundwater Elevations
A2: Faro Mine Remediation Project
A4: Location | B4: Top of Casing (m) | D4: Location | E4: Measuring Point Elevation (m) | G4: Location | H4: Measuring Point Elevation (m)
A5: CH15-106-MW001 | B5: 1324.266 | D5: CH15-106-MW002 | E5: 1322.16 | G5: CH15-106-MW003 | H5: 1298.438
A6: Date/Time | B6: Depth to Water (m) | C6: Groundwater Elevation (m) | D6: Date/Time | E6: Depth to Water (m) | F6: Groundwater Elevation (m) | G6: Date/Time | H6: Depth to Water (m) | I6: Groundwater Elevation (m)
A7: 42522.436 | B7: 2.94 | C7: =B$5-B7 -> 1321.326 | D7: 42522.438 | E7: 4.505 | F7: =E$5-E7 -> 1317.655 | G7: 42523.379 | H7: 12.677 | I7: =H$5-H7 -> 1285.761
A8: 42523.562 | B8: 2.988 | C8: =B$5-B8 -> 1321.278 | D8: 42523.558 | E8: 4.475 | F8: =E$5-E8 -> 1317.685 | G8: 42524.422 | H8: 12.725 | I8: =H$5-H8 -> 1285.713
A9: 42523.615 | B9: 2.988 | C9: =B$5-B9 -> 1321.278 | D9: 42525.393 | E9: 4.36 | F9: =E$5-E9 -> 1317.8 | G9: 42528.494 | H9: 12.605 | I9: =H$5-H9 -> 1285.833
A10: 42523.636 | B10: 2.987 | C10: =B$5-B10 -> 1321.279 | D10: 42527.36 | E10: 4.364 | F10: =E$5-E10 -> 1317.796 | G10: 42521.6 | H10: 12.702 | I10: =H$5-H10 -> 1285.736
A11: 42523.648 | B11: 2.987 | C11: =B$5-B11 -> 1321.279 | D11: 42528.375 | E11: 4.485 | F11: =E$5-E11 -> 1317.675 | G11: 42521.61 | H11: 12.686 | I11: =H$5-H11 -> 1285.752
A12: 42525.394 | B12: 3.038 | C12: =B$5-B12 -> 1321.228 | D12: 42521.541 | E12: 4.614 | F12: =E$5-E12 -> 1317.546
A13: 42521.565 | B13: 2.934 | C13: =B$5-B13 -> 1321.332 | D13: 42523.581 | E13: 4.361 | F13: =E$5-E13 -> 1317.799
A14: 42527.381 | B14: 3.045 | C14: =B$5-B14 -> 1321.221 | D14: 42523.59 | E14: 4.883 | F14: =E$5-E14 -> 1317.277
A15: 42527.396 | B15: 3.045 | C15: =B$5-B15 -> 1321.221 | D15: 42523.62 | E15: 5.355 | F15: =E$5-E15 -> 1316.805
A16: 42527.41 | B16: 3.045 | C16: =B$5-B16 -> 1321.221 | D16: 42523.645 | E16: 5.902 | F16: =E$5-E16 -> 1316.258
A17: 42527.435 | B17: 3.046 | C17: =B$5-B17 -> 1321.22 | D17: 42527.374 | E17: 4.33 | F17: =E$5-E17 -> 1317.83
A18: 42527.469 | B18: 3.049 | C18: =B$5-B18 -> 1321.217 | D18: 42527.386 | E18: 5.5 | F18: =E$5-E18 -> 1316.66
A19: 42527.497 | B19: 3.05 | C19: =B$5-B19 -> 1321.216 | D19: 42527.399 | E19: 5.538 | F19: =E$5-E19 -> 1316.622
A20: 42527.528 | B20: 3.052 | C20: =B$5-B20 -> 1321.214 | D20: 42527.407 | E20: 5.553 | F20: =E$5-E20 -> 1316.607
A21: 42527.572 | B21: 3.053 | C21: =B$5-B21 -> 1321.213 | D21: 42527.433 | E21: 5.572 | F21: =E$5-E21 -> 1316.588
A22: 42527.613 | B22: 3.053 | C22: =B$5-B22 -> 1321.213 | D22: 42527.465 | E22: 5.601 | F22: =E$5-E22 -> 1316.559
A23: 42527.652 | B23: 3.05 | C23: =B$5-B23 -> 1321.216 | D23: 42527.494 | E23: 5.613 | F23: =E$5-E23 -> 1316.547
... A25: 42527.705 | B25: 3.05 | C25: =B$5-B25 -> 1321.216 | D25: 42527.569 | E25: 5.647 | F25: =E$5-E25 -> 1316.513
D26: 42527.61 | E26: 5.65 | F26: =E$5-E26 -> 1316.51
D27: 42527.65 | E27: 5.66 | F27: =E$5-E27 -> 1316.5
D28: 42527.688 | E28: 5.662 | F28: =E$5-E28 -> 1316.498
D29: 42527.702 | E29: 5.67 | F29: =E$5-E29 -> 1316.49
A31: Location | B31: Measuring Point Elevation (m) | D31: Location | E31: Measuring Point Elevation (m) | G31: Location | H31: Measuring Point Elevation (m)
A32: CH15-106-MW004 | B32: 1298.347 | D32: CH15-106-MW005 | E32: 1311.853 | G32: CH15-106-MW006 | H32: 1311.634
A33: Date/Time | B33: Depth to Water (m) | C33: Groundwater Elevation (m) | D33: Date/Time | E33: Depth to Water (m) | F33: Groundwater Elevation (m) | G33: Date/Time | H33: Depth to Water (m) | I33: Groundwater Elevation (m)
A34: 42522.358 | B34: 12.08 | C34: =B$32-B34 -> 1286.267 | D34: 42522.39 | E34: 1.899 | F34: =E$32-E34 -> 1309.954 | G34: 42523.424 | H34: 1.275 | I34: =H$32-H34 -> 1310.359
A35: 42523.403 | B35: 12.194 | C35: =B$32-B35 -> 1286.153 | D35: 42522.473 | E35: 1.896 | F35: =E$32-E35 -> 1309.957 | G35: 42525.354 | H35: 1.3 | I35: =H$32-H35 -> 1310.334
A36: 42524.401 | B36: 12.27 | C36: =B$32-B36 -> 1286.077 | D36: 42522.513 | E36: 1.896 | F36: =E$32-E36 -> 1309.957 | G36: 42526.361 | H36: 1.297 | I36: =H$32-H36 -> 1310.337
A37: 42528.497 | B37: 13.358 | C37: =B$32-B37 -> 1284.989 | D37: 42526.379 | E37: 1.903 | F37: =E$32-E37 -> 1309.95 | G37: 42527.347 | H37: 1.31 | I37: =H$32-H37 -> 1310.324
A38: 42524.401 | B38: 12.27 | C38: =B$32-B38 -> 1286.077 | D38: 42528.403 | E38: 1.9 | F38: =E$32-E38 -> 1309.953 | G38: 42528.401 | H38: 1.209 | I38: =H$32-H38 -> 1310.425
A39: 42524.422 | B39: 12.1 | C39: =B$32-B39 -> 1286.247 | D39: 42523.438 | E39: 1.898 | F39: =E$32-E39 -> 1309.955 | G39: 42521.592 | H39: 1.266 | I39: =H$32-H39 -> 1310.368
A40: 42524.44 | B40: 13.465 | C40: =B$32-B40 -> 1284.882 | D40: 42526.397 | E40: 1.9 | F40: =E$32-E40 -> 1309.953 | G40: 42522.456 | H40: 1.255 | I40: =H$32-H40 -> 1310.379
D41: 42526.425 | E41: 1.905 | F41: =E$32-E41 -> 1309.948 | G41: 42522.471 | H41: 1.825 | I41: =H$32-H41 -> 1309.809
D42: 42526.454 | E42: 1.905 | F42: =E$32-E42 -> 1309.948 | G42: 42522.483 | H42: 1.908 | I42: =H$32-H42 -> 1309.726
D43: 42526.502 | E43: 1.905 | F43: =E$32-E43 -> 1309.948 | G43: 42522.492 | H43: 2.035 | I43: =H$32-H43 -> 1309.599
...

Sheet 2_WellDischarge
A1: Table 2. Aquifer Test Pumping Rates
A2: Faro Mine Remediation Project
B4: Time to Fill 1 Litre (s) | G4: Pumping Rate (L/s) | H4: Average per Step or Test (L/s)
A5: Date | B5: #1 | C5: #2 | D5: #3 | E5: #4 | F5: Average | J5: gpm | K5: m3/d | M5: L/s | N5: L/m | O5: gpm | P5: m3/d
A6: CH15-106-MW006 Step Test
A7: 42522.467 | B7: 9.75 | C7: 9.74 | F7: =AVERAGE(B7:E7) -> 9.745 | G7: =1/F7 -> 0.10261673 | H7: =AVERAGE(G7:G9) -> 0.10164955 | J7: =G7*60/3.78541 -> 1.626509 | K7: =G7*86400/1000 -> 8.8660852 | L7: =AVERAGE(J7:J8) -> 1.619067 | N7: =AVERAGE(#REF!) -> #REF! | O7: =AVERAGE(J7:J9) -> 1.611179 | P7: =AVERAGE(K7:K9) -> 8.7825214
A8: 42522.475 | B8: 9.8 | C8: 9.87 | F8: =AVERAGE(B8:E8) -> 9.835 | G8: =1/F8 -> 0.10167768 | J8: =G8*60/3.78541 -> 1.6116249 | K8: =G8*86400/1000 -> 8.7849517
A9: 42522.482 | B9: 10 | C9: 9.87 | F9: =AVERAGE(B9:E9) -> 9.935 | G9: =1/F9 -> 0.10065425 | J9: =G9*60/3.78541 -> 1.5954032 | K9: =G9*86400/1000 -> 8.6965274
A10: 42522.485 | B10: 8.25 | C10: 8.25 | D10: 8.12 | F10: =AVERAGE(B10:E10) -> 8.2066667 | G10: =1/F10 -> 0.12185215 | H10: =AVERAGE(G10:G11) -> 0.12227577 | J10: =G10*60/3.78541 -> 1.9313969 | K10: =G10*86400/1000 -> 10.528026 | N10: =AVERAGE(#REF!) -> #REF! | O10: =AVERAGE(J10:J11) -> 1.9381114 | P10: =AVERAGE(K10:K11) -> 10.564626
A11: 42522.492 | B11: 8.18 | C11: 8.12 | F11: =AVERAGE(B11:E11) -> 8.15 | G11: =1/F11 -> 0.12269939 | J11: =G11*60/3.78541 -> 1.9448258 | K11: =G11*86400/1000 -> 10.601227
A12: 42522.493 | B12: 6.37 | C12: 6.43 | D12: 6.51 | F12: =AVERAGE(B12:E12) -> 6.4366667 | G12: =1/F12 -> 0.15535992 | H12: =AVERAGE(G12:G13) -> 0.15650287 | J12: =G12*60/3.78541 -> 2.4625061 | K12: =G12*86400/1000 -> 13.423097 | N12: =AVERAGE(#REF!) -> #REF! | O12: =AVERAGE(J12:J13) -> 2.4806222 | P12: =AVERAGE(K12:K13) -> 13.521848
A13: 42522.506 | B13: 6.37 | C13: 6.35 | D13: 6.31 | F13: =AVERAGE(B13:E13) -> 6.3433333 | G13: =1/F13 -> 0.15764582 | J13: =G13*60/3.78541 -> 2.4987384 | K13: =G13*86400/1000 -> 13.620599
A14: 42522.508 | B14: 4.75 | C14: 4.87 | F14: =AVERAGE(B14:E14) -> 4.81 | G14: =1/F14 -> 0.20790021 | H14: =AVERAGE(G14:G15) -> 0.20869871 | J14: =G14*60/3.78541 -> 3.295287 | K14: =G14*86400/1000 -> 17.962578 | N14: =AVERAGE(#REF!) -> #REF! | O14: =AVERAGE(J14:J15) -> 3.3079435 | P14: =AVERAGE(K15) -> 18.100559
A15: 42522.51 | B15: 4.76 | C15: 4.75 | D15: 4.81 | F15: =AVERAGE(B15:E15) -> 4.7733333 | G15: =1/F15 -> 0.20949721 | J15: =G15*60/3.78541 -> 3.3206 | K15: =G15*86400/1000 -> 18.100559
A16: CH15-106-MW008 Step Test
A17: 42522.572 | B17: 27 | F17: =AVERAGE(B17:E17) -> 27 | G17: =1/F17 -> 0.037037037 | H17: =AVERAGE(G17:G22) -> 0.03276351 | I17: =H17*60 -> 1.9658106 | J17: =G17*60/3.78541 -> 0.58704928 | K17: =G17*86400/1000 -> 3.2 | N17: =AVERAGE(#REF!) -> #REF! | O17: =AVERAGE(J17:J22) -> 0.51931246 | P17: =AVERAGE(K17:K22) -> 2.8307672
A18: 42522.578 | B18: 47 | F18: =AVERAGE(B18:E18) -> 47 | G18: =1/F18 -> 0.021276596 | J18: =G18*60/3.78541 -> 0.33724108 | K18: =G18*86400/1000 -> 1.8382979
A19: 42522.588 | B19: 91 | F19: =AVERAGE(B19:E19) -> 91 | G19: =1/F19 -> 0.010989011 | J19: =G19*60/3.78541 -> 0.17417946 | K19: =G19*86400/1000 -> 0.94945055
A20: 42522.591 | B20: 13.7 | F20: =AVERAGE(B20:E20) -> 13.7 | G20: =1/F20 -> 0.072992701 | J20: =G20*60/3.78541 -> 1.1569584 | K20: =G20*86400/1000 -> 6.3065693
A21: 42522.594 | B21: 25 | F21: =AVERAGE(B21:E21) -> 25 | G21: =1/F21 -> 0.04 | J21: =G21*60/3.78541 -> 0.63401322 | K21: =G21*86400/1000 -> 3.456
A22: 42522.597 | B22: 70 | F22: =AVERAGE(B22:E22) -> 70 | G22: =1/F22 -> 0.014285714 | J22: =G22*60/3.78541 -> 0.22643329 | K22: =G22*86400/1000 -> 1.2342857
A23: CH15-106-MW006 Constant Rate #1 (pump fails) | K23: =G23*86400/1000 -> 0
A24: 42523.434 | B24: 3.43 | C24: 3.31 | D24: 3.5 | F24: =AVERAGE(B24:E24) -> 3.4133333 | G24: =1/F24 -> 0.29296875 | H24: =AVERAGE(G24:G25) -> 0.27993633 | J24: =G24*60/3.78541 -> 4.6436515 | K24: =G24*86400/1000 -> 25.3125
A25: 42523.444 | B25: 3.75 | C25: 3.75 | D25: 3.74 | F25: =AVERAGE(B25:E25) -> 3.7466667 | G25: =1/F25 -> 0.26690391 | J25: =G25*60/3.78541 -> 4.2305153 | K25: =G25*86400/1000 -> 23.060498
A26: CH15-106-MW002 Step Test | K26: =G26*86400/1000 -> 0
A27: 42523.587 | B27: 21.3 | C27: 19.9 | D27: 20.4 | F27: =AVERAGE(B27:E27) -> 20.533333 | G27: =1/F27 -> 0.048701299 | H27: =AVERAGE(G27:G29) -> 0.049157383 | J27: =G27*60/3.78541 -> 0.77193169 | K27: =G27*86400/1000 -> 4.2077922 | O27: =AVERAGE(J27:J29) -> 0.77916078 | P27: =AVERAGE(K27:K29) -> 4.2471979
A28: 42523.592 | B28: 20.1 | C28: 20.1 | F28: =AVERAGE(B28:E28) -> 20.1 | G28: =1/F28 -> 0.049751244 | J28: =G28*60/3.78541 -> 0.78857366 | K28: =G28*86400/1000 -> 4.2985075
A29: 42523.603 | B29: 20.5 | C29: 20.3 | D29: 20.4 | F29: =AVERAGE(B29:E29) -> 20.4 | G29: =1/F29 -> 0.049019608 | J29: =G29*60/3.78541 -> 0.77697699 | K29: =G29*86400/1000 -> 4.2352941
A30: 42523.607 | B30: 10.3 | C30: 10.3 | D30: 10.2 | F30: =AVERAGE(B30:E30) -> 10.266667 | G30: =1/F30 -> 0.097402597 | H30: =AVERAGE(G30:G31) -> 0.097561234 | J30: =G30*60/3.78541 -> 1.5438634 | K30: =G30*86400/1000 -> 8.4155844 | O30: =AVERAGE(J30:J31) -> 1.5463778 | P30: =AVERAGE(K30:K31) -> 8.4292906
A31: 42523.611 | B31: 10.4 | C31: 10.2 | D31: 10.1 | F31: =AVERAGE(B31:E31) -> 10.233333 | G31: =1/F31 -> 0.09771987 | J31: =G31*60/3.78541 -> 1.5488922 | K31: =G31*86400/1000 -> 8.4429967
A32: 42523.633 | B32: 7.8 | C32: 7.8 | D32: 7.8 | F32: =AVERAGE(B32:E32) -> 7.8 | G32: =1/F32 -> 0.12820513 | H32: =AVERAGE(G32:G33) -> 0.12875774 | J32: =G32*60/3.78541 -> 2.0320937 | K32: =G32*86400/1000 -> 11.076923 | O32: =AVERAGE(J32:J33) -> 2.0408527 | P32: =AVERAGE(K32:K33) -> 11.124668
A33: 42523.64 | B33: 7.8 | C33: 7.7 | D33: 7.7 | F33: =AVERAGE(B33:E33) -> 7.7333333 | G33: =1/F33 -> 0.12931034 | J33: =G33*60/3.78541 -> 2.0496117 | K33: =G33*86400/1000 -> 11.172414
A34: 42523.644 | B34: 6 | C34: 6 | D34: 6 | F34: =AVERAGE(B34:E34) -> 6 | G34: =1/F34 -> 0.16666667 | H34: =AVERAGE(G34:G35) -> 0.167603 | J34: =G34*60/3.78541 -> 2.6417218 | K34: =G34*86400/1000 -> 14.4 | O34: =AVERAGE(J34:J35) -> 2.6565629 | P34: =AVERAGE(K34:K35) -> 14.480899
A35: 42523.653 | B35: 6 | C35: 5.9 | D35: 5.9 | F35: =AVERAGE(B35:E35) -> 5.9333333 | G35: =1/F35 -> 0.16853933 | J35: =G35*60/3.78541 -> 2.671404 | K35: =G35*86400/1000 -> 14.561798
A36: CH15-106-MW004 Step Test | K36: =G36*86400/1000 -> 0
A37: 42524.43 | B37: 16.9 | F37: =AVERAGE(B37:E37) -> 16.9 | G37: =1/F37 -> 0.059171598 | H37: =AVERAGE(G37) -> 0.059171598 | J37: =G37*60/3.78541 -> 0.93788939 | K37: =G37*86400/1000 -> 5.112426
A38: CH15-106-MW006 Constant Rate #2 | K38: =G38*86400/1000 -> 0
A39: 42525.391 | B39: 3.9 | C39: 3.8 | D39: 3.8 | F39: =AVERAGE(B39:E39) -> 3.8333333 | G39: =1/F39 -> 0.26086957 | H39: =AVERAGE(G39:G51) -> 0.24913224 | J39: =G39*60/3.78541 -> 4.1348689 | K39: =G39*86400/1000 -> 22.53913 | N39: =AVERAGE(#REF!) -> #REF! | O39: =AVERAGE(J39:J51) -> 3.9488284 | P39: =AVERAGE(K39:K51) -> 21.525026
A40: 42525.401 | B40: 4.2 | C40: 4.1 | D40: 4.1 | F40: =AVERAGE(B40:E40) -> 4.1333333 | G40: =1/F40 -> 0.24193548 | J40: =G40*60/3.78541 -> 3.8347574 | K40: =G40*86400/1000 -> 20.903226
A41: 42525.42 | B41: 3.9 | C41: 3.9 | D41: 4 | F41: =AVERAGE(B41:E41) -> 3.9333333 | G41: =1/F41 -> 0.25423729 | J41: =G41*60/3.78541 -> 4.0297451 | K41: =G41*86400/1000 -> 21.966102
...

Sheet 3_ATsummary
A1: Table 3. Aquifer Test Pumping Rates
A2: Faro Mine Remediation Project
A4: Well ID | B4: Total Depth (mbgs) | C4: Screen Interval (mbgs) | D4: Depth to Bedrock (mbgs) | E4: Lithology at Screened Interval | F4: Role | G4: Test | H4: Pumping Rates (L/s) | I4: Pumping Duration (minutes) | J4: Drawdown (m) | K4: Specific Capacity (L/s per m) | L4: Hydraulic Conductivity | M4: Storativity
A5: Well Cluster 1
A6: CH15-106-MW007 | B6: =INDEX(construct!$D$2:$R$10,MATCH('3_ATsummary'!$A6,construct!$A$2:$A$10,0),MATCH('3_ATsummary'!B$4,construct!$D$1:$R$1,0)) -> 5.4864 | C6: =INDEX(construct!$D$2:$R$10,MATCH('3_ATsummary'!$A6,construct!$A$2:$A$10,0),MATCH('3_ATsummary'!C$4,construct!$D$1:$R$1,0)) -> 2.44 to 5.49 | D6: =INDEX(construct!$D$2:$R$10,MATCH('3_ATsummary'!$A6,construct!$A$2:$A$10,0),MATCH('3_ATsummary'!D$4,construct!$D$1:$R$1,0)) -> 4 | E6: =INDEX(construct!$D$2:$R$10,MATCH('3_ATsummary'!$A6,construct!$A$2:$A$10,0),MATCH('3_ATsummary'!E$4,construct!$D$1:$R$1,0)) -> Alluvium (Gravel with Sand) | F6: Observation Well | G6: Insufficient capacity for testing
A7: CH15-106-MW001 | B7: =INDEX(construct!$D$2:$R$10,MATCH('3_ATsummary'!$A7,construct!$A$2:$A$10,0),MATCH('3_ATsummary'!B$4,construct!$D$1:$R$1,0)) -> 10.5156 | C7: =INDEX(construct!$D$2:$R$10,MATCH('3_ATsummary'!$A7,construct!$A$2:$A$10,0),MATCH('3_ATsummary'!C$4,construct!$D$1:$R$1,0)) -> 7.47 to 10.52 | D7: =INDEX(construct!$D$2:$R$10,MATCH('3_ATsummary'!$A7,construct!$A$2:$A$10,0),MATCH('3_ATsummary'!D$4,construct!$D$1:$R$1,0)) -> 3.05 | E7: Bedrock | F7: Observation well
A8: CH15-106-MW002 | B8: =INDEX(construct!$D$2:$R$10,MATCH('3_ATsummary'!$A8,construct!$A$2:$A$10,0),MATCH('3_ATsummary'!B$4,construct!$D$1:$R$1,0)) -> 9.144 | C8: 6.1 to 9.14 | D8: =INDEX(construct!$D$2:$R$10,MATCH('3_ATsummary'!$A8,construct!$A$2:$A$10,0),MATCH('3_ATsummary'!D$4,construct!$D$1:$R$1,0)) -> 15.1 | E8: =INDEX(construct!$D$2:$R$10,MATCH('3_ATsummary'!$A8,construct!$A$2:$A$10,0),MATCH('3_ATsummary'!E$4,construct!$D$1:$R$1,0)) -> Alluvium (Sand and Gravel) | F8: Pumping well | G8: Step 1 | H8: 0.05 | I8: 30 | J8: 0.371 | K8: =H8/J8 -> 0.13477089 | O8: =SUM(I$8:I8) -> 30
G9: Step 2 | H9: 0.1 | I9: 30 | J9: 0.857 | K9: =H9/J9 -> 0.11668611 | O9: =SUM(I$8:I9) -> 60
G10: Step 3 | H10: 0.13 | I10: 22 | J10: 1.125 | K10: =H10/J10 -> 0.11555556 | O10: =SUM(I$8:I10) -> 82
G11: Step 4 | H11: 0.17 | I11: 21 | J11: 1.435 | K11: =H11/J11 -> 0.1184669 | O11: =SUM(I$8:I11) -> 103
G12: Constant-rate Test | H12: 0.13 | I12: 480 | J12: 1.345 | K12: =H12/J12 -> 0.096654275 | O12: =I12/60 -> 8
A13: Well Cluster 2 | E13: Screened Formation
A14: CH15-106-MW008 | B14: =INDEX(construct!$D$2:$R$10,MATCH('3_ATsummary'!$A14,construct!$A$2:$A$10,0),MATCH('3_ATsummary'!B$4,construct!$D$1:$R$1,0)) -> 10.3632 | C14: =INDEX(construct!$D$2:$R$10,MATCH('3_ATsummary'!$A14,construct!$A$2:$A$10,0),MATCH('3_ATsummary'!C$4,construct!$D$1:$R$1,0)) -> 7.32 to 10.36 | D14: =INDEX(construct!$D$2:$R$10,MATCH('3_ATsummary'!$A14,construct!$A$2:$A$10,0),MATCH('3_ATsummary'!D$4,construct!$D$1:$R$1,0)) -> > 10.5 | E14: =INDEX(construct!$D$2:$R$10,MATCH('3_ATsummary'!$A14,construct!$A$2:$A$10,0),MATCH('3_ATsummary'!E$4,construct!$D$1:$R$1,0)) -> Alluvium (Sand with Gravel) | F14: Pumping well, Observation Well | G14: Insufficient capacity for testing
A15: CH15-106-MW004 | B15: =INDEX(construct!$D$2:$R$10,MATCH('3_ATsummary'!$A15,construct!$A$2:$A$10,0),MATCH('3_ATsummary'!B$4,construct!$D$1:$R$1,0)) -> 14.9352 | C15: =INDEX(construct!$D$2:$R$10,MATCH('3_ATsummary'!$A15,construct!$A$2:$A$10,0),MATCH('3_ATsummary'!C$4,construct!$D$1:$R$1,0)) -> 8.84 to 14.94 | D15: =INDEX(construct!$D$2:$R$10,MATCH('3_ATsummary'!$A15,construct!$A$2:$A$10,0),MATCH('3_ATsummary'!D$4,construct!$D$1:$R$1,0)) -> > 14.9 | E15: =INDEX(construct!$D$2:$R$10,MATCH('3_ATsummary'!$A15,construct!$A$2:$A$10,0),MATCH('3_ATsummary'!E$4,construct!$D$1:$R$1,0)) -> Sandy Silt | F15: Pumping well, Observation Well | G15: Insufficient capacity for testing
A16: CH15-106-MW003 | B16: =INDEX(construct!$D$2:$R$10,MATCH('3_ATsummary'!$A16,construct!$A$2:$A$10,0),MATCH('3_ATsummary'!B$4,construct!$D$1:$R$1,0)) -> 13.716 | C16: =INDEX(construct!$D$2:$R$10,MATCH('3_ATsummary'!$A16,construct!$A$2:$A$10,0),MATCH('3_ATsummary'!C$4,construct!$D$1:$R$1,0)) -> 10.67 to 13.72 | D16: =INDEX(construct!$D$2:$R$10,MATCH('3_ATsummary'!$A16,construct!$A$2:$A$10,0),MATCH('3_ATsummary'!D$4,construct!$D$1:$R$1,0)) -> > 29.1 | E16: =INDEX(construct!$D$2:$R$10,MATCH('3_ATsummary'!$A16,construct!$A$2:$A$10,0),MATCH('3_ATsummary'!E$4,construct!$D$1:$R$1,0)) -> Alluvium (Sand with Gravel and Silt) | F16: Observation Well | G16: Insufficient depth of water for pumping
A17: Well Cluster 3 | E17: Screened Formation
A18: CH15-106-MW006 | B18: =INDEX(construct!$D$2:$R$10,MATCH('3_ATsummary'!$A18,construct!$A$2:$A$10,0),MATCH('3_ATsummary'!B$4,construct!$D$1:$R$1,0)) -> 5.97408 | C18: =INDEX(construct!$D$2:$R$10,MATCH('3_ATsummary'!$A18,construct!$A$2:$A$10,0),MATCH('3_ATsummary'!C$4,construct!$D$1:$R$1,0)) -> 2.93 to 5.97 | D18: =INDEX(construct!$D$2:$R$10,MATCH('3_ATsummary'!$A18,construct!$A$2:$A$10,0),MATCH('3_ATsummary'!D$4,construct!$D$1:$R$1,0)) -> > 6.25 | E18: =INDEX(construct!$D$2:$R$10,MATCH('3_ATsummary'!$A18,construct!$A$2:$A$10,0),MATCH('3_ATsummary'!E$4,construct!$D$1:$R$1,0)) -> Alluvium (Gravel with Sand) | F18: Pumping Well | G18: Step 1 | H18: 0.1 | I18: 30 | J18: 0.62 | K18: =H18/J18 -> 0.16129032 | N18: 30
G19: Step 2 | H19: 0.12 | I19: =N19-N18 -> 12 | J19: 0.74 | K19: =H19/J19 -> 0.16216216 | N19: 42 | O19: =SUM(I$18:I19) -> 42
G20: Step 3 | H20: 0.16 | I20: =N20-N19 -> 21 | J20: 0.95 | K20: =H20/J20 -> 0.16842105 | N20: 63 | O20: =SUM(I$18:I20) -> 63
G21: Step 4 | H21: 0.21 | I21: =N21-N20 -> 28 | J21: 1.26 | K21: =H21/J21 -> 0.16666667 | N21: 91 | O21: =SUM(I$18:I21) -> 91
G22: Constant-rate Test | H22: 0.25 | I22: 482 | J22: 1.84 | K22: =H22/J22 -> 0.13586957
A23: CH15-106-MW005 | B23: =INDEX(construct!$D$2:$R$10,MATCH('3_ATsummary'!$A23,construct!$A$2:$A$10,0),MATCH('3_ATsummary'!B$4,construct!$D$1:$R$1,0)) -> 6.096 | C23: =INDEX(construct!$D$2:$R$10,MATCH('3_ATsummary'!$A23,construct!$A$2:$A$10,0),MATCH('3_ATsummary'!C$4,construct!$D$1:$R$1,0)) -> 3.05 to 6.1 | D23: =INDEX(construct!$D$2:$R$10,MATCH('3_ATsummary'!$A23,construct!$A$2:$A$10,0),MATCH('3_ATsummary'!D$4,construct!$D$1:$R$1,0)) -> > 6.5 | E23: =INDEX(construct!$D$2:$R$10,MATCH('3_ATsummary'!$A23,construct!$A$2:$A$10,0),MATCH('3_ATsummary'!E$4,construct!$D$1:$R$1,0)) -> Alluvium (Gravel with Sand) | F23: Observation well | G23: Constant-rate Test
A24: CH15-106-MW010 | B24: =INDEX(construct!$D$2:$R$10,MATCH('3_ATsummary'!$A24,construct!$A$2:$A$10,0),MATCH('3_ATsummary'!B$4,construct!$D$1:$R$1,0)) -> 6.096 | C24: =INDEX(construct!$D$2:$R$10,MATCH('3_ATsummary'!$A24,construct!$A$2:$A$10,0),MATCH('3_ATsummary'!C$4,construct!$D$1:$R$1,0)) -> 3.05 to 6.1 | D24: =INDEX(construct!$D$2:$R$10,MATCH('3_ATsummary'!$A24,construct!$A$2:$A$10,0),MATCH('3_ATsummary'!D$4,construct!$D$1:$R$1,0)) -> > 6.10 | E24: =INDEX(construct!$D$2:$R$10,MATCH('3_ATsummary'!$A24,construct!$A$2:$A$10,0),MATCH('3_ATsummary'!E$4,construct!$D$1:$R$1,0)) -> Alluvium (Gravel with Sand) | F24: Observation well | G24: Constant-rate Test
A25: Notes:
A26: Coordinates and Elevations are from a field survey by Challenger Geomatics Ltd., performed on March 23, 2016.
A27: CSRS = Canadian Spatial Reference System
A28: CVGD28 = Canadian Vertical Geodetic Datum of 1928
A29: ID = identification
A30: L/s = litre per second
A31: m = metre
A32: mbgs = metres below ground surface
A33: masl = metre above sea level
A34: mbTOC = metre below top of casing
A35: NAD = North American Datum
A36: UTM = Universal Transverse Mercator

Sheet 4_FCD-1
A1: Table 4. FCD-1 Stream Discharge Data
A2: Faro Mine Remediation Project
A4: Station | B4: Position (m) | C4: Depth (ft) | D4: Depth (m) | E4: Velocity (m/s) | F4: Area (m2) | G4: Discharge (m3/s) | H4: Discharge (L/s) | I4: Notes
A5: Series 1
A6: 0 | B6: 1 | C6: 0 | D6: =C6/3.281 -> 0 | E6: 0 | F6: =AVERAGE(D6:D7)*0.5*(B7-B6) -> 0.0060957025 | G6: =F6*0.5*E7 -> 3.0478513e-05 | H6: =G6*1000 -> 0.030478513 | I6: edge | L6: =H6/$H$26 -> 7.7796795e-05
A7: 1 | B7: 1.2 | C7: 0.4 | D7: =C7/3.281 -> 0.12191405 | E7: 0.01 | F7: =(0.5*(B7-B6)+0.5*(B8-B7))*D7 -> 0.02438281 | G7: =F7*E7 -> 0.0002438281 | H7: =G7*1000 -> 0.2438281 | L7: =H7/$H$26 -> 0.00062237436
A8: 2 | B8: =B7+0.2 -> 1.4 | C8: 0.25 | D8: =C8/3.281 -> 0.076196282 | E8: 0.08 | F8: =(0.5*(B8-B7)+0.5*(B9-B8))*D8 -> 0.015239256 | G8: =F8*E8 -> 0.0012191405 | H8: =G8*1000 -> 1.2191405 | L8: =H8/$H$26 -> 0.0031118718
A9: 3 | B9: =B8+0.2 -> 1.6 | C9: 0.4 | D9: =C9/3.281 -> 0.12191405 | E9: 0.35 | F9: =(0.5*(B9-B8)+0.5*(B10-B9))*D9 -> 0.02438281 | G9: =F9*E9 -> 0.0085339835 | H9: =G9*1000 -> 8.5339835 | L9: =H9/$H$26 -> 0.021783103
A10: 4 | B10: =B9+0.2 -> 1.8 | C10: 0.45 | D10: =C10/3.281 -> 0.13715331 | E10: 0.26 | F10: =(0.5*(B10-B9)+0.5*(B11-B10))*D10 -> 0.027430661 | G10: =F10*E10 -> 0.007131972 | H10: =G10*1000 -> 7.131972 | L10: =H10/$H$26 -> 0.01820445
A11: 5 | B11: =B10+0.2 -> 2 | C11: 0.35 | D11: =C11/3.281 -> 0.10667479 | E11: 0.34 | F11: =(0.5*(B11-B10)+0.5*(B12-B11))*D11 -> 0.021334959 | G11: =F11*E11 -> 0.007253886 | H11: =G11*1000 -> 7.253886 | L11: =H11/$H$26 -> 0.018515637
A12: 6 | B12: =B11+0.2 -> 2.2 | C12: 0.4 | D12: =C12/3.281 -> 0.12191405 | E12: 0.36 | F12: =(0.5*(B12-B11)+0.5*(B13-B12))*D12 -> 0.02438281 | G12: =F12*E12 -> 0.0087778116 | H12: =G12*1000 -> 8.7778116 | L12: =H12/$H$26 -> 0.022405477
A13: 7 | B13: =B12+0.2 -> 2.4 | C13: 0.35 | D13: =C13/3.281 -> 0.10667479 | E13: 0.59 | F13: =(0.5*(B13-B12)+0.5*(B14-B13))*D13 -> 0.021334959 | G13: =F13*E13 -> 0.012587626 | H13: =G13*1000 -> 12.587626 | L13: =H13/$H$26 -> 0.032130076
A14: 8 | B14: =B13+0.2 -> 2.6 | C14: 0.55 | D14: =C14/3.281 -> 0.16763182 | E14: 0.14 | F14: =(0.5*(B14-B13)+0.5*(B15-B14))*D14 -> 0.033526364 | G14: =F14*E14 -> 0.0046936909 | H14: =G14*1000 -> 4.6936909 | L14: =H14/$H$26 -> 0.011980706
A15: 9 | B15: =B14+0.2 -> 2.8 | C15: 0.6 | D15: =C15/3.281 -> 0.18287108 | E15: 0.61 | F15: =(0.5*(B15-B14)+0.5*(B16-B15))*D15 -> 0.036574215 | G15: =F15*E15 -> 0.022310271 | H15: =G15*1000 -> 22.310271 | L15: =H15/$H$26 -> 0.056947254
A16: 10 | B16: =B15+0.2 -> 3 | C16: 0.6 | D16: =C16/3.281 -> 0.18287108 | E16: 0.81 | F16: =(0.5*(B16-B15)+0.5*(B17-B16))*D16 -> 0.036574215 | G16: =F16*E16 -> 0.029625114 | H16: =G16*1000 -> 29.625114 | L16: =H16/$H$26 -> 0.075618485
A17: 11 | B17: =B16+0.2 -> 3.2 | C17: 0.65 | D17: =C17/3.281 -> 0.19811033 | E17: 0.66 | F17: =(0.5*(B17-B16)+0.5*(B18-B17))*D17 -> 0.039622066 | G17: =F17*E17 -> 0.026150564 | H17: =G17*1000 -> 26.150564 | L17: =H17/$H$26 -> 0.06674965
A18: 12 | B18: =B17+0.2 -> 3.4 | C18: 0.8 | D18: =C18/3.281 -> 0.2438281 | E18: 0.76 | F18: =(0.5*(B18-B17)+0.5*(B19-B18))*D18 -> 0.04876562 | G18: =F18*E18 -> 0.037061871 | H18: =G18*1000 -> 37.061871 | L18: =H18/$H$26 -> 0.094600902
A19: 13 | B19: =B18+0.2 -> 3.6 | C19: 0.9 | D19: =C19/3.281 -> 0.27430661 | E19: 0.95 | F19: =(0.5*(B19-B18)+0.5*(B20-B19))*D19 -> 0.054861323 | G19: =F19*E19 -> 0.052118257 | H19: =G19*1000 -> 52.118257 | L19: =H19/$H$26 -> 0.13303252
... A24: 18 | B24: =B23+0.2 -> 4.6 | C24: 0.4 | D24: =C24/3.281 -> 0.12191405 | E24: 0.46 | F24: =(0.5*(B24-B23)+0.5*(B25-B24))*D24 -> 0.021334959 | G24: =F24*E24 -> 0.0098140811 | H24: =G24*1000 -> 9.8140811 | L24: =H24/$H$26 -> 0.025050568
A25: 19 | B25: 4.75 | C25: 0 | D25: =C25/3.281 -> 0 | E25: 0 | F25: =AVERAGE(D24:D25)*0.5*(B25-B24) -> 0.0045717769 | G25: =F25*0.5*E25 -> 0 | H25: =G25*1000 -> 0 | I25: edge | L25: =H25/$H$26 -> 0
E26: Totals | F26: =SUM(F6:F25) -> 0.62633343 | G26: =SUM(G6:G25) -> 0.3917708 | H26: =SUM(H6:H25) -> 391.7708 | K26: =#REF!/7.481/60 -> #REF! | L26: cfs
A27: Series 2
A28: Station | B28: Position (m) | C28: Depth (ft) | D28: Depth (m) | E28: Velocity (m/s) | F28: Area (m2) | G28: Discharge (m3/s) | H28: Discharge (L/s) | I28: Note
A29: 0 | B29: 1 | C29: 0 | D29: 0 | E29: 0 | F29: =AVERAGE(D29:D30)*0.5*(B30-B29) -> 0.001904907 | G29: =F29*0.5*E30 -> -9.5245352e-06 | H29: =G29*1000 -> -0.0095245352 | I29: edge | L29: =H29/$H$50 -> -2.5154448e-05
A30: 1 | B30: 1.1 | C30: 0.25 | D30: =C30/3.281 -> 0.076196282 | E30: -0.01 | F30: =(0.5*(B30-B29)+0.5*(B31-B30))*D30 -> 0.011429442 | G30: =F30*E30 -> -0.00011429442 | H30: =G30*1000 -> -0.11429442 | L30: =H30/$H$50 -> -0.00030185338
A31: 2 | B31: =B30+0.2 -> 1.3 | C31: 0.35 | D31: =C31/3.281 -> 0.10667479 | E31: 0.01 | F31: =(0.5*(B31-B30)+0.5*(B32-B31))*D31 -> 0.021334959 | G31: =F31*E31 -> 0.00021334959 | H31: =G31*1000 -> 0.21334959 | L31: =H31/$H$50 -> 0.00056345964
A32: 3 | B32: =B31+0.2 -> 1.5 | C32: 0.3 | D32: =C32/3.281 -> 0.091435538 | E32: 0.15 | F32: =(0.5*(B32-B31)+0.5*(B33-B32))*D32 -> 0.018287108 | G32: =F32*E32 -> 0.0027430661 | H32: =G32*1000 -> 2.7430661 | L32: =H32/$H$50 -> 0.0072444811
A33: 4 | B33: =B32+0.2 -> 1.7 | C33: 0.4 | D33: =C33/3.281 -> 0.12191405 | E33: 0.37 | F33: =(0.5*(B33-B32)+0.5*(B34-B33))*D33 -> 0.02438281 | G33: =F33*E33 -> 0.0090216397 | H33: =G33*1000 -> 9.0216397 | L33: =H33/$H$50 -> 0.023826293
A34: 5 | B34: =B33+0.2 -> 1.9 | C34: 0.3 | D34: =C34/3.281 -> 0.091435538 | E34: 0.38 | F34: =(0.5*(B34-B33)+0.5*(B35-B34))*D34 -> 0.018287108 | G34: =F34*E34 -> 0.0069491009 | H34: =G34*1000 -> 6.9491009 | L34: =H34/$H$50 -> 0.018352685
A35: 6 | B35: =B34+0.2 -> 2.1 | C35: 0.4 | D35: =C35/3.281 -> 0.12191405 | E35: 0.22 | F35: =(0.5*(B35-B34)+0.5*(B36-B35))*D35 -> 0.02438281 | G35: =F35*E35 -> 0.0053642182 | H35: =G35*1000 -> 5.3642182 | L35: =H35/$H$50 -> 0.014166985
A36: 7 | B36: =B35+0.2 -> 2.3 | C36: 0.3 | D36: =C36/3.281 -> 0.091435538 | E36: 0.52 | F36: =(0.5*(B36-B35)+0.5*(B37-B36))*D36 -> 0.018287108 | G36: =F36*E36 -> 0.0095092959 | H36: =G36*1000 -> 9.5092959 | L36: =H36/$H$50 -> 0.025114201
A37: 8 | B37: =B36+0.2 -> 2.5 | C37: 0.6 | D37: =C37/3.281 -> 0.18287108 | E37: 0.11 | F37: =(0.5*(B37-B36)+0.5*(B38-B37))*D37 -> 0.036574215 | G37: =F37*E37 -> 0.0040231637 | H37: =G37*1000 -> 4.0231637 | L37: =H37/$H$50 -> 0.010625239 | O37: Average | P37: =AVERAGE(H26,H50,H73) -> 378.8314
A38: 9 | B38: =B37+0.2 -> 2.7 | C38: 0.5 | D38: =C38/3.281 -> 0.15239256 | E38: 0.47 | F38: =(0.5*(B38-B37)+0.5*(B39-B38))*D38 -> 0.030478513 | G38: =F38*E38 -> 0.014324901 | H38: =G38*1000 -> 14.324901 | L38: =H38/$H$50 -> 0.03783229 | O38: Range | P38: =H26-H73 -> 25.689576
A39: 10 | B39: =B38+0.2 -> 2.9 | C39: 0.55 | D39: =C39/3.281 -> 0.16763182 | E39: 0.59 | F39: =(0.5*(B39-B38)+0.5*(B40-B39))*D39 -> 0.033526364 | G39: =F39*E39 -> 0.019780555 | H39: =G39*1000 -> 19.780555 | L39: =H39/$H$50 -> 0.052240758 | O39: uncertainty in a measurement | P39: =P38/3 -> 8.5631921 | Q39: =P39/P37 -> 0.02260423
A40: 11 | B40: =B39+0.2 -> 3.1 | C40: 0.65 | D40: =C40/3.281 -> 0.19811033 | E40: 0.75 | F40: =(0.5*(B40-B39)+0.5*(B41-B40))*D40 -> 0.039622066 | G40: =F40*E40 -> 0.02971655 | H40: =G40*1000 -> 29.71655 | L40: =H40/$H$50 -> 0.078481879 | O40: Uncertainty in the mean | P40: =P39/(SQRT(3)) -> 4.9439613 | Q40: =P40/P37 -> 0.013050558
A41: 12 | B41: =B40+0.2 -> 3.3 | C41: 0.6 | D41: =C41/3.281 -> 0.18287108 | E41: 0.78 | F41: =(0.5*(B41-B40)+0.5*(B42-B41))*D41 -> 0.036574215 | G41: =F41*E41 -> 0.028527888 | H41: =G41*1000 -> 28.527888 | L41: =H41/$H$50 -> 0.075342604 | O41: stdev | P41: =STDEV(H26,H50,H73) -> 12.845833 | Q41: =P41/P37 -> 0.033909104
A42: 13 | B42: =B41+0.2 -> 3.5 | C42: 0.8 | D42: =C42/3.281 -> 0.2438281 | E42: 0.87 | F42: =(0.5*(B42-B41)+0.5*(B43-B42))*D42 -> 0.04876562 | G42: =F42*E42 -> 0.04242609 | H42: =G42*1000 -> 42.42609 | L42: =H42/$H$50 -> 0.11204797
A43: 14 | B43: =B42+0.2 -> 3.7 | C43: 0.9 | D43: =C43/3.281 -> 0.27430661 | E43: 0.79 | F43: =(0.5*(B43-B42)+0.5*(B44-B43))*D43 -> 0.054861323 | G43: =F43*E43 -> 0.043340445 | H43: =G43*1000 -> 43.340445 | L43: =H43/$H$50 -> 0.1144628 | O43: .
A44: 15 | B44: =B43+0.2 -> 3.9 | C44: 0.7 | D44: =C44/3.281 -> 0.21334959 | E44: 1.18 | F44: =(0.5*(B44-B43)+0.5*(B45-B44))*D44 -> 0.042669918 | G44: =F44*E44 -> 0.050350503 | H44: =G44*1000 -> 50.350503 | L44: =H44/$H$50 -> 0.13297648
A45: 16 | B45: =B44+0.2 -> 4.1 | C45: 0.75 | D45: =C45/3.281 -> 0.22858884 | E45: 1.16 | F45: =(0.5*(B45-B44)+0.5*(B46-B45))*D45 -> 0.045717769 | G45: =F45*E45 -> 0.053032612 | H45: =G45*1000 -> 53.032612 | L45: =H45/$H$50 -> 0.14005997
...

Sheet 5_FCD-2
A1: Table 5. FCD-2 Stream Discharge Data
A2: Faro Mine Remediation Project
A4: Station | B4: Position (m) | C4: Depth (ft) | D4: Depth (m) | E4: Velocity (m/s) | F4: Area (m2) | G4: Discharge (m3/s) | H4: Discharge (L/s) | I4: Notes
A5: Series 1
A6: 0 | B6: 1.2 | C6: 0 | D6: =C6/3.281 -> 0 | E6: 0 | F6: =AVERAGE(D6:D7)*0.5*(B7-B6) -> 0.010667479 | G6: =F6*0.5*E7 -> 0.00053337397 | H6: =G6*1000 -> 0.53337397 | I6: edge
A7: 1 | B7: 1.55 | C7: 0.4 | D7: =C7/3.281 -> 0.12191405 | E7: 0.1 | F7: =(0.5*(B7-B6)+0.5*(B8-B7))*D7 -> 0.036574215 | G7: =F7*E7 -> 0.0036574215 | H7: =G7*1000 -> 3.6574215
A8: 2 | B8: =B7+0.25 -> 1.8 | C8: 0.6 | D8: =C8/3.281 -> 0.18287108 | E8: 0.22 | F8: =(0.5*(B8-B7)+0.5*(B9-B8))*D8 -> 0.045717769 | G8: =F8*E8 -> 0.010057909 | H8: =G8*1000 -> 10.057909
A9: 3 | B9: =B8+0.25 -> 2.05 | C9: 0.85 | D9: =C9/3.281 -> 0.25906736 | E9: 0.37 | F9: =(0.5*(B9-B8)+0.5*(B10-B9))*D9 -> 0.064766839 | G9: =F9*E9 -> 0.023963731 | H9: =G9*1000 -> 23.963731
A10: 4 | B10: =B9+0.25 -> 2.3 | C10: 0.9 | D10: =C10/3.281 -> 0.27430661 | E10: 0.21 | F10: =(0.5*(B10-B9)+0.5*(B11-B10))*D10 -> 0.068576653 | G10: =F10*E10 -> 0.014401097 | H10: =G10*1000 -> 14.401097
A11: 5 | B11: =B10+0.25 -> 2.55 | C11: 0.85 | D11: =C11/3.281 -> 0.25906736 | E11: 0.23 | F11: =(0.5*(B11-B10)+0.5*(B12-B11))*D11 -> 0.064766839 | G11: =F11*E11 -> 0.014896373 | H11: =G11*1000 -> 14.896373
A12: 6 | B12: =B11+0.25 -> 2.8 | C12: 0.6 | D12: =C12/3.281 -> 0.18287108 | E12: 0.47 | F12: =(0.5*(B12-B11)+0.5*(B13-B12))*D12 -> 0.045717769 | G12: =F12*E12 -> 0.021487351 | H12: =G12*1000 -> 21.487351
A13: 7 | B13: =B12+0.25 -> 3.05 | C13: 0.75 | D13: =C13/3.281 -> 0.22858884 | E13: 0.46 | F13: =(0.5*(B13-B12)+0.5*(B14-B13))*D13 -> 0.057147211 | G13: =F13*E13 -> 0.026287717 | H13: =G13*1000 -> 26.287717
A14: 8 | B14: =B13+0.25 -> 3.3 | C14: 0.65 | D14: =C14/3.281 -> 0.19811033 | E14: 0.38 | F14: =(0.5*(B14-B13)+0.5*(B15-B14))*D14 -> 0.049527583 | G14: =F14*E14 -> 0.018820482 | H14: =G14*1000 -> 18.820482
A15: 9 | B15: =B14+0.25 -> 3.55 | C15: 0.75 | D15: =C15/3.281 -> 0.22858884 | E15: 0.4 | F15: =(0.5*(B15-B14)+0.5*(B16-B15))*D15 -> 0.057147211 | G15: =F15*E15 -> 0.022858884 | H15: =G15*1000 -> 22.858884
A16: 10 | B16: =B15+0.25 -> 3.8 | C16: 0.9 | D16: =C16/3.281 -> 0.27430661 | E16: 0.38 | F16: =(0.5*(B16-B15)+0.5*(B17-B16))*D16 -> 0.068576653 | G16: =F16*E16 -> 0.026059128 | H16: =G16*1000 -> 26.059128
A17: 11 | B17: =B16+0.25 -> 4.05 | C17: 0.9 | D17: =C17/3.281 -> 0.27430661 | E17: 0.43 | F17: =(0.5*(B17-B16)+0.5*(B18-B17))*D17 -> 0.068576653 | G17: =F17*E17 -> 0.029487961 | H17: =G17*1000 -> 29.487961
A18: 12 | B18: =B17+0.25 -> 4.3 | C18: 0.9 | D18: =C18/3.281 -> 0.27430661 | E18: 0.35 | F18: =(0.5*(B18-B17)+0.5*(B19-B18))*D18 -> 0.068576653 | G18: =F18*E18 -> 0.024001829 | H18: =G18*1000 -> 24.001829
A19: 13 | B19: =B18+0.25 -> 4.55 | C19: 0.95 | D19: =C19/3.281 -> 0.28954587 | E19: 0.36 | F19: =(0.5*(B19-B18)+0.5*(B20-B19))*D19 -> 0.072386468 | G19: =F19*E19 -> 0.026059128 | H19: =G19*1000 -> 26.059128
... A26: 20 | B26: =B25+0.25 -> 6.3 | C26: 0.2 | D26: =C26/3.281 -> 0.060957025 | E26: 0 | F26: =(0.5*(B26-B25)+0.5*(B27-B26))*D26 -> 0.010667479 | G26: =F26*E26 -> 0 | H26: =G26*1000 -> 0
A27: 21 | B27: 6.4 | C27: 0 | D27: =C27/3.281 -> 0 | E27: 0 | F27: =AVERAGE(D26:D27)*0.5*(B27-B26) -> 0.0015239256 | G27: =F27*0.5*E27 -> 0 | H27: =G27*1000 -> 0 | I27: edge
E28: Totals | F28: =SUM(F4:F26) -> 1.1665651 | G28: =SUM(G4:G26) -> 0.38681042 | H28: =SUM(H4:H26) -> 386.81042
A29: Series 2
A30: Station | B30: Position (m) | C30: Depth (ft) | D30: Depth (m) | E30: Velocity (m/s) | F30: Area (m2) | G30: Discharge (m3/s) | H30: Discharge (L/s) | I30: Note
A31: 0 | B31: 1.2 | C31: 0 | D31: =C31/3.281 -> 0 | E31: 0 | F31: =AVERAGE(D31:D32)*0.5*(B32-B31) -> 0.0038098141 | G31: =F31*0.5*E32 -> -5.7147211e-05 | H31: =G31*1000 -> -0.057147211 | I31: edge
A32: 1 | B32: 1.4 | C32: 0.25 | D32: =C32/3.281 -> 0.076196282 | E32: -0.03 | F32: =(0.5*(B32-B31)+0.5*(B33-B32))*D32 -> 0.017144163 | G32: =F32*E32 -> -0.0005143249 | H32: =G32*1000 -> -0.5143249
A33: 2 | B33: =B32+0.25 -> 1.65 | C33: 0.45 | D33: =C33/3.281 -> 0.13715331 | E33: 0.25 | F33: =(0.5*(B33-B32)+0.5*(B34-B33))*D33 -> 0.034288327 | G33: =F33*E33 -> 0.0085720817 | H33: =G33*1000 -> 8.5720817
A34: 3 | B34: =B33+0.25 -> 1.9 | C34: 0.7 | D34: =C34/3.281 -> 0.21334959 | E34: 0.15 | F34: =(0.5*(B34-B33)+0.5*(B35-B34))*D34 -> 0.053337397 | G34: =F34*E34 -> 0.0080006096 | H34: =G34*1000 -> 8.0006096
A35: 4 | B35: =B34+0.25 -> 2.15 | C35: 0.95 | D35: =C35/3.281 -> 0.28954587 | E35: 0.29 | F35: =(0.5*(B35-B34)+0.5*(B36-B35))*D35 -> 0.072386468 | G35: =F35*E35 -> 0.020992076 | H35: =G35*1000 -> 20.992076
A36: 5 | B36: =B35+0.25 -> 2.4 | C36: 0.95 | D36: =C36/3.281 -> 0.28954587 | E36: 0.18 | F36: =(0.5*(B36-B35)+0.5*(B37-B36))*D36 -> 0.072386468 | G36: =F36*E36 -> 0.013029564 | H36: =G36*1000 -> 13.029564
A37: 6 | B37: =B36+0.25 -> 2.65 | C37: 0.8 | D37: =C37/3.281 -> 0.2438281 | E37: 0.3 | F37: =(0.5*(B37-B36)+0.5*(B38-B37))*D37 -> 0.060957025 | G37: =F37*E37 -> 0.018287108 | H37: =G37*1000 -> 18.287108
A38: 7 | B38: =B37+0.25 -> 2.9 | C38: 0.7 | D38: =C38/3.281 -> 0.21334959 | E38: 0.42 | F38: =(0.5*(B38-B37)+0.5*(B39-B38))*D38 -> 0.053337397 | G38: =F38*E38 -> 0.022401707 | H38: =G38*1000 -> 22.401707
A39: 8 | B39: =B38+0.25 -> 3.15 | C39: 0.85 | D39: =C39/3.281 -> 0.25906736 | E39: 0.46 | F39: =(0.5*(B39-B38)+0.5*(B40-B39))*D39 -> 0.064766839 | G39: =F39*E39 -> 0.029792746 | H39: =G39*1000 -> 29.792746 | O39: Average | P39: =AVERAGE(H53,H28) -> 392.98232
A40: 9 | B40: =B39+0.25 -> 3.4 | C40: 0.7 | D40: =C40/3.281 -> 0.21334959 | E40: 0.46 | F40: =(0.5*(B40-B39)+0.5*(B41-B40))*D40 -> 0.053337397 | G40: =F40*E40 -> 0.024535203 | H40: =G40*1000 -> 24.535203 | O40: Range | P40: =ABS(H28-H53) -> 12.343798
A41: 10 | B41: =B40+0.25 -> 3.65 | C41: 0.8 | D41: =C41/3.281 -> 0.2438281 | E41: 0.37 | F41: =(0.5*(B41-B40)+0.5*(B42-B41))*D41 -> 0.060957025 | G41: =F41*E41 -> 0.022554099 | H41: =G41*1000 -> 22.554099 | O41: uncertainty in a measurement | P41: =P40/2 -> 6.1718988 | Q41: =P41/P39 -> 0.015705284
A42: 11 | B42: =B41+0.25 -> 3.9 | C42: 0.85 | D42: =C42/3.281 -> 0.25906736 | E42: 0.45 | F42: =(0.5*(B42-B41)+0.5*(B43-B42))*D42 -> 0.064766839 | G42: =F42*E42 -> 0.029145078 | H42: =G42*1000 -> 29.145078 | O42: Uncertainty in the mean | P42: =P41/(SQRT(2)) -> 4.3641915 | Q42: =P42/P39 -> 0.011105313
A43: 12 | B43: =B42+0.25 -> 4.15 | C43: 0.9 | D43: =C43/3.281 -> 0.27430661 | E43: 0.37 | F43: =(0.5*(B43-B42)+0.5*(B44-B43))*D43 -> 0.068576653 | G43: =F43*E43 -> 0.025373362 | H43: =G43*1000 -> 25.373362 | O43: stdev | P43: =STDEV(H53,H28) -> 8.728383 | Q43: =P43/P39 -> 0.022210625
A44: 13 | B44: =B43+0.25 -> 4.4 | C44: 0.95 | D44: =C44/3.281 -> 0.28954587 | E44: 0.36 | F44: =(0.5*(B44-B43)+0.5*(B45-B44))*D44 -> 0.072386468 | G44: =F44*E44 -> 0.026059128 | H44: =G44*1000 -> 26.059128
A45: 14 | B45: =B44+0.25 -> 4.65 | C45: 1 | D45: =C45/3.281 -> 0.30478513 | E45: 0.41 | F45: =(0.5*(B45-B44)+0.5*(B46-B45))*D45 -> 0.076196282 | G45: =F45*E45 -> 0.031240475 | H45: =G45*1000 -> 31.240475 | O45: .
A46: 15 | B46: =B45+0.25 -> 4.9 | C46: 1.05 | D46: =C46/3.281 -> 0.32002438 | E46: 0.42 | F46: =(0.5*(B46-B45)+0.5*(B47-B46))*D46 -> 0.080006096 | G46: =F46*E46 -> 0.03360256 | H46: =G46*1000 -> 33.60256
A47: 16 | B47: =B46+0.25 -> 5.15 | C47: 0.95 | D47: =C47/3.281 -> 0.28954587 | E47: 0.44 | F47: =(0.5*(B47-B46)+0.5*(B48-B47))*D47 -> 0.072386468 | G47: =F47*E47 -> 0.031850046 | H47: =G47*1000 -> 31.850046
...

Sheet 6_FCD-2A
A1: Table 6. FCD-2A Stream Discharge Data
A2: Faro Mine Remediation Project
A4: Station | B4: Position (m) | C4: Depth (ft) | D4: Depth (m) | E4: Velocity (m/s) | F4: Area (m2) | G4: Discharge (m3/s) | H4: Discharge (L/s) | I4: Notes
A5: Series 1
A6: 0 | B6: 3.5 | C6: 0 | D6: =C6/3.281 -> 0 | E6: 0 | F6: =AVERAGE(D6:D7)*0.5*(B7-B6) -> 0.0030478513 | G6: =F6*0.5*E7 -> -3.0478513e-05 | H6: =G6*1000 -> -0.030478513 | I6: edge
A7: 1 | B7: 3.6 | C7: 0.4 | D7: =C7/3.281 -> 0.12191405 | E7: -0.02 | F7: =(0.5*(B7-B6)+0.5*(B8-B7))*D7 -> 0.015239256 | G7: =F7*E7 -> -0.00030478513 | H7: =G7*1000 -> -0.30478513
A8: 2 | B8: =B7+0.15 -> 3.75 | C8: 0.4 | D8: =C8/3.281 -> 0.12191405 | E8: 0.01 | F8: =(0.5*(B8-B7)+0.5*(B9-B8))*D8 -> 0.018287108 | G8: =F8*E8 -> 0.00018287108 | H8: =G8*1000 -> 0.18287108
A9: 3 | B9: =B8+0.15 -> 3.9 | C9: 0.6 | D9: =C9/3.281 -> 0.18287108 | E9: -0.01 | F9: =(0.5*(B9-B8)+0.5*(B10-B9))*D9 -> 0.027430661 | G9: =F9*E9 -> -0.00027430661 | H9: =G9*1000 -> -0.27430661
A10: 4 | B10: =B9+0.15 -> 4.05 | C10: 0.55 | D10: =C10/3.281 -> 0.16763182 | E10: 0.08 | F10: =(0.5*(B10-B9)+0.5*(B11-B10))*D10 -> 0.025144773 | G10: =F10*E10 -> 0.0020115818 | H10: =G10*1000 -> 2.0115818
A11: 5 | B11: =B10+0.15 -> 4.2 | C11: 0.75 | D11: =C11/3.281 -> 0.22858884 | E11: 0.32 | F11: =(0.5*(B11-B10)+0.5*(B12-B11))*D11 -> 0.034288327 | G11: =F11*E11 -> 0.010972265 | H11: =G11*1000 -> 10.972265
A12: 6 | B12: =B11+0.15 -> 4.35 | C12: 0.95 | D12: =C12/3.281 -> 0.28954587 | E12: 0.3 | F12: =(0.5*(B12-B11)+0.5*(B13-B12))*D12 -> 0.043431881 | G12: =F12*E12 -> 0.013029564 | H12: =G12*1000 -> 13.029564
A13: 7 | B13: =B12+0.15 -> 4.5 | C13: 1.25 | D13: =C13/3.281 -> 0.38098141 | E13: 0.51 | F13: =(0.5*(B13-B12)+0.5*(B14-B13))*D13 -> 0.057147211 | G13: =F13*E13 -> 0.029145078 | H13: =G13*1000 -> 29.145078
A14: 8 | B14: =B13+0.15 -> 4.65 | C14: 1.3 | D14: =C14/3.281 -> 0.39622066 | E14: 0.66 | F14: =(0.5*(B14-B13)+0.5*(B15-B14))*D14 -> 0.0594331 | G14: =F14*E14 -> 0.039225846 | H14: =G14*1000 -> 39.225846
A15: 9 | B15: =B14+0.15 -> 4.8 | C15: 1.3 | D15: =C15/3.281 -> 0.39622066 | E15: 0.68 | F15: =(0.5*(B15-B14)+0.5*(B16-B15))*D15 -> 0.0594331 | G15: =F15*E15 -> 0.040414508 | H15: =G15*1000 -> 40.414508
A16: 10 | B16: =B15+0.15 -> 4.95 | C16: 1.7 | D16: =C16/3.281 -> 0.51813472 | E16: 0.51 | F16: =(0.5*(B16-B15)+0.5*(B17-B16))*D16 -> 0.077720207 | G16: =F16*E16 -> 0.039637306 | H16: =G16*1000 -> 39.637306
A17: 11 | B17: =B16+0.15 -> 5.1 | C17: 1.6 | D17: =C17/3.281 -> 0.4876562 | E17: 0.59 | F17: =(0.5*(B17-B16)+0.5*(B18-B17))*D17 -> 0.07314843 | G17: =F17*E17 -> 0.043157574 | H17: =G17*1000 -> 43.157574
A18: 12 | B18: =B17+0.15 -> 5.25 | C18: 1.5 | D18: =C18/3.281 -> 0.45717769 | E18: 0.62 | F18: =(0.5*(B18-B17)+0.5*(B19-B18))*D18 -> 0.068576653 | G18: =F18*E18 -> 0.042517525 | H18: =G18*1000 -> 42.517525
A19: 13 | B19: =B18+0.15 -> 5.4 | C19: 1.6 | D19: =C19/3.281 -> 0.4876562 | E19: 0.52 | F19: =(0.5*(B19-B18)+0.5*(B20-B19))*D19 -> 0.07314843 | G19: =F19*E19 -> 0.038037184 | H19: =G19*1000 -> 38.037184
... A26: 20 | B26: =B25+0.15 -> 6.45 | C26: 0.65 | D26: =C26/3.281 -> 0.19811033 | E26: -0.01 | F26: =(0.5*(B26-B25)+0.5*(B27-B26))*D26 -> 0.02971655 | G26: =F26*E26 -> -0.0002971655 | H26: =G26*1000 -> -0.2971655
A27: 21 | B27: 6.6 | C27: 0 | D27: =C27/3.281 -> 0 | E27: 0 | F27: =AVERAGE(D26:D27)*0.5*(B27-B26) -> 0.0074291375 | G27: =F27*0.5*E27 -> 0 | H27: =G27*1000 -> 0 | I27: edge
E28: Totals | F28: =SUM(F4:F26) -> 0.88463883 | G28: =SUM(G4:G26) -> 0.39544346 | H28: =SUM(H4:H26) -> 395.44346
A29: Series 2
A30: Station | B30: Position (m) | C30: Depth (ft) | D30: Depth (m) | E30: Velocity (m/s) | F30: Area (m2) | G30: Discharge (m3/s) | H30: Discharge (L/s) | I30: Note
A31: 0 | B31: 3.5 | C31: 0 | D31: =C31/3.281 -> 0 | E31: 0 | F31: =AVERAGE(D31:D32)*0.5*(B32-B31) -> 0.0045717769 | G31: =F31*0.5*E32 -> 0 | H31: =G31*1000 -> 0 | I31: edge
A32: 1 | B32: 3.65 | C32: 0.4 | D32: =C32/3.281 -> 0.12191405 | E32: 0 | F32: =(0.5*(B32-B31)+0.5*(B33-B32))*D32 -> 0.018287108 | G32: =F32*E32 -> 0 | H32: =G32*1000 -> 0
A33: 2 | B33: =B32+0.15 -> 3.8 | C33: 0.35 | D33: =C33/3.281 -> 0.10667479 | E33: 0.02 | F33: =(0.5*(B33-B32)+0.5*(B34-B33))*D33 -> 0.016001219 | G33: =F33*E33 -> 0.00032002438 | H33: =G33*1000 -> 0.32002438
A34: 3 | B34: =B33+0.15 -> 3.95 | C34: 0.65 | D34: =C34/3.281 -> 0.19811033 | E34: 0.03 | F34: =(0.5*(B34-B33)+0.5*(B35-B34))*D34 -> 0.02971655 | G34: =F34*E34 -> 0.00089149649 | H34: =G34*1000 -> 0.89149649
A35: 4 | B35: =B34+0.15 -> 4.1 | C35: 0.6 | D35: =C35/3.281 -> 0.18287108 | E35: 0.17 | F35: =(0.5*(B35-B34)+0.5*(B36-B35))*D35 -> 0.027430661 | G35: =F35*E35 -> 0.0046632124 | H35: =G35*1000 -> 4.6632124
A36: 5 | B36: =B35+0.15 -> 4.25 | C36: 0.7 | D36: =C36/3.281 -> 0.21334959 | E36: 0.36 | F36: =(0.5*(B36-B35)+0.5*(B37-B36))*D36 -> 0.032002438 | G36: =F36*E36 -> 0.011520878 | H36: =G36*1000 -> 11.520878
A37: 6 | B37: =B36+0.15 -> 4.4 | C37: 0.9 | D37: =C37/3.281 -> 0.27430661 | E37: 0.47 | F37: =(0.5*(B37-B36)+0.5*(B38-B37))*D37 -> 0.041145992 | G37: =F37*E37 -> 0.019338616 | H37: =G37*1000 -> 19.338616
A38: 7 | B38: =B37+0.15 -> 4.55 | C38: 1.25 | D38: =C38/3.281 -> 0.38098141 | E38: 0.53 | F38: =(0.5*(B38-B37)+0.5*(B39-B38))*D38 -> 0.057147211 | G38: =F38*E38 -> 0.030288022 | H38: =G38*1000 -> 30.288022
A39: 8 | B39: =B38+0.15 -> 4.7 | C39: 1.3 | D39: =C39/3.281 -> 0.39622066 | E39: 0.6 | F39: =(0.5*(B39-B38)+0.5*(B40-B39))*D39 -> 0.0594331 | G39: =F39*E39 -> 0.03565986 | H39: =G39*1000 -> 35.65986 | O39: Average | P39: =AVERAGE(H53,H28) -> 393.84144
A40: 9 | B40: =B39+0.15 -> 4.85 | C40: 1.3 | D40: =C40/3.281 -> 0.39622066 | E40: 0.75 | F40: =(0.5*(B40-B39)+0.5*(B41-B40))*D40 -> 0.0594331 | G40: =F40*E40 -> 0.044574825 | H40: =G40*1000 -> 44.574825 | O40: Range | P40: =ABS(H28-H53) -> 3.2040536
A41: 10 | B41: =B40+0.15 -> 5 | C41: 1.7 | D41: =C41/3.281 -> 0.51813472 | E41: 0.43 | F41: =(0.5*(B41-B40)+0.5*(B42-B41))*D41 -> 0.077720207 | G41: =F41*E41 -> 0.033419689 | H41: =G41*1000 -> 33.419689 | O41: uncertainty in a measurement | P41: =P40/2 -> 1.6020268 | Q41: =P41/P39 -> 0.004067695
A42: 11 | B42: =B41+0.15 -> 5.15 | C42: 1.55 | D42: =C42/3.281 -> 0.47241695 | E42: 0.62 | F42: =(0.5*(B42-B41)+0.5*(B43-B42))*D42 -> 0.070862542 | G42: =F42*E42 -> 0.043934776 | H42: =G42*1000 -> 43.934776 | O42: Uncertainty in the mean | P42: =P41/(SQRT(2)) -> 1.132804 | Q42: =P42/P39 -> 0.0028762947
A43: 12 | B43: =B42+0.15 -> 5.3 | C43: 1.5 | D43: =C43/3.281 -> 0.45717769 | E43: 0.65 | F43: =(0.5*(B43-B42)+0.5*(B44-B43))*D43 -> 0.068576653 | G43: =F43*E43 -> 0.044574825 | H43: =G43*1000 -> 44.574825 | O43: stdev | P43: =STDEV(H53,H28) -> 2.2656081 | Q43: =P43/P39 -> 0.0057525894
A44: 13 | B44: =B43+0.15 -> 5.45 | C44: 1.65 | D44: =C44/3.281 -> 0.50289546 | E44: 0.55 | F44: =(0.5*(B44-B43)+0.5*(B45-B44))*D44 -> 0.075434319 | G44: =F44*E44 -> 0.041488875 | H44: =G44*1000 -> 41.488875
A45: 14 | B45: =B44+0.15 -> 5.6 | C45: 1.1 | D45: =C45/3.281 -> 0.33526364 | E45: 0.6 | F45: =(0.5*(B45-B44)+0.5*(B46-B45))*D45 -> 0.050289546 | G45: =F45*E45 -> 0.030173728 | H45: =G45*1000 -> 30.173728 | O45: .
A46: 15 | B46: =B45+0.15 -> 5.75 | C46: 1.1 | D46: =C46/3.281 -> 0.33526364 | E46: 0.48 | F46: =(0.5*(B46-B45)+0.5*(B47-B46))*D46 -> 0.050289546 | G46: =F46*E46 -> 0.024138982 | H46: =G46*1000 -> 24.138982
A47: 16 | B47: =B46+0.15 -> 5.9 | C47: 1.4 | D47: =C47/3.281 -> 0.42669918 | E47: 0.12 | F47: =(0.5*(B47-B46)+0.5*(B48-B47))*D47 -> 0.064004877 | G47: =F47*E47 -> 0.0076805852 | H47: =G47*1000 -> 7.6805852
...

Sheet 7_Seeps
A1: Table 7. Seep and Point Source Discharge Data
A2: Faro Mine Remediation Project
A4: East Bank Seeps | B4: Measurement | C4: Volume (mL) | D4: Time (s) | E4: Discharge (mL/s) | F4: Average Discharge (L/s) | G4: Notes
A5: 1 | B5: 1 | C5: 250 | D5: 4.3 | E5: =C5/D5 -> 58.139535 | F5: =AVERAGE(E5:E7)/1000 -> 0.059593023
B6: 2 | C6: 250 | D6: 4.3 | E6: =C6/D6 -> 58.139535
B7: 3 | C7: 250 | D7: 4 | E7: =C7/D7 -> 62.5
A8: 2 | B8: 1 | C8: 750 | D8: 2.2 | E8: =C8/D8 -> 340.90909 | F8: =AVERAGE(E8:E11)/1000 -> 0.30197031
B9: 2 | C9: 400 | D9: 1.94 | E9: =C9/D9 -> 206.18557
B10: 3 | C10: 700 | D10: 1.96 | E10: =C10/D10 -> 357.14286
B11: 4 | C11: 750 | D11: 2.47 | E11: =C11/D11 -> 303.64372
A12: 3 | B12: 1 | C12: 750 | D12: 6.53 | E12: =C12/D12 -> 114.85452 | F12: =AVERAGE(E12:E13)/1000 -> 0.11695107
B13: 2 | C13: 800 | D13: 6.72 | E13: =C13/D13 -> 119.04762
A14: 4 | B14: 1 | C14: 420 | D14: 2.4 | E14: =C14/D14 -> 175 | F14: =AVERAGE(E14:E17)/1000 -> 0.19327381
B15: 2 | C15: 500 | D15: 2.1 | E15: =C15/D15 -> 238.09524
B16: 3 | C16: 450 | D16: 2.5 | E16: =C16/D16 -> 180
B17: 4 | C17: 450 | D17: 2.5 | E17: =C17/D17 -> 180
A18: 5 | B18: 1 | C18: 270 | D18: 3.1 | E18: =C18/D18 -> 87.096774 | F18: =AVERAGE(E18:E20)/1000 -> 0.073535616
B19: 2 | C19: 280 | D19: 4.1 | E19: =C19/D19 -> 68.292683
B20: 3 | C20: 300 | D20: 4.6 | E20: =C20/D20 -> 65.217391
A21: 6 | B21: 1 | C21: 350 | D21: 7.6 | E21: =C21/D21 -> 46.052632 | F21: =AVERAGE(E21:E24)/1000 -> 0.050102086
B22: 2 | C22: 400 | D22: 7.8 | E22: =C22/D22 -> 51.282051
B23: 3 | C23: 500 | D23: 10.2 | E23: =C23/D23 -> 49.019608
B24: 4 | C24: 400 | D24: 7.4 | E24: =C24/D24 -> 54.054054
A25: 7 | B25: 1 | C25: 300 | D25: 9.4 | E25: =C25/D25 -> 31.914894 | F25: =AVERAGE(E25:E28)/1000 -> 0.026959153
B26: 2 | C26: 280 | D26: 10.9 | E26: =C26/D26 -> 25.688073
B27: 3 | C27: 270 | D27: 10.7 | E27: =C27/D27 -> 25.233645
B28: 4 | C28: 220 | D28: 8.8 | E28: =C28/D28 -> 25
A29: 8 | B29: 1 | C29: 280 | D29: 3.5 | E29: =C29/D29 -> 80 | F29: =AVERAGE(E29:E31)/1000 -> 0.07601626
B30: 2 | C30: 320 | D30: 4.1 | E30: =C30/D30 -> 78.04878
B31: 3 | C31: 350 | D31: 5 | E31: =C31/D31 -> 70
A32: 9 | B32: 1 | C32: 530 | D32: 4.94 | E32: =C32/D32 -> 107.28745 | F32: =AVERAGE(E32:E35)/1000 -> 0.16009131
B33: 2 | C33: 680 | D33: 4.12 | E33: =C33/D33 -> 165.04854
B34: 3 | C34: 690 | D34: 3.97 | E34: =C34/D34 -> 173.80353
B35: 4 | C35: 740 | D35: 3.81 | E35: =C35/D35 -> 194.22572
A36: 10 | B36: 1 | C36: 640 | D36: 3.72 | E36: =C36/D36 -> 172.04301 | F36: =AVERAGE(E36:E39)/1000 -> 0.16432884
B37: 2 | C37: 700 | D37: 4.32 | E37: =C37/D37 -> 162.03704
B38: 3 | C38: 630 | D38: 4.25 | E38: =C38/D38 -> 148.23529
B39: 4 | C39: 700 | D39: 4 | E39: =C39/D39 -> 175
A40: 11 | B40: 1 | C40: 420 | D40: 3.6 | E40: =C40/D40 -> 116.66667 | F40: =AVERAGE(E40:E43)/1000 -> 0.11732018
B41: 2 | C41: 390 | D41: 3.3 | E41: =C41/D41 -> 118.18182
...

Sheet 8_OtherQ
A1: Table 8. Upper FCD Discharge Data
A2: Faro Mine Remediation Project
A4: Station | B4: Position (m) | C4: Depth (ft) | D4: Depth (m) | E4: Velocity (m/s) | F4: Area (m2) | G4: Discharge (m3/s) | H4: Discharge (L/s) | I4: Notes
A5: West Valley Interceptor Ditch near CH15-106-MW010
A6: 0 | B6: 0.75 | C6: 0 | D6: =C6/3.281 -> 0 | E6: 0 | F6: =AVERAGE(D6:D7)*0.5*(B7-B6) -> 0.0038098141 | G6: =F6*0.5*E7 -> 0.00013334349 | H6: =G6*1000 -> 0.13334349 | I6: edge
A7: 1 | B7: 1 | C7: 0.2 | D7: =C7/3.281 -> 0.060957025 | E7: 0.07 | F7: =(0.5*(B7-B6)+0.5*(B8-B7))*D7 -> 0.013715331 | G7: =F7*E7 -> 0.00096007315 | H7: =G7*1000 -> 0.96007315
A8: 2 | B8: 1.2 | C8: 0.2 | D8: =C8/3.281 -> 0.060957025 | E8: 0.16 | F8: =(0.5*(B8-B7)+0.5*(B9-B8))*D8 -> 0.0091435538 | G8: =F8*E8 -> 0.0014629686 | H8: =G8*1000 -> 1.4629686
A9: 3 | B9: 1.3 | C9: 0.25 | D9: =C9/3.281 -> 0.076196282 | E9: 0.4 | F9: =(0.5*(B9-B8)+0.5*(B10-B9))*D9 -> 0.0076196282 | G9: =F9*E9 -> 0.0030478513 | H9: =G9*1000 -> 3.0478513
A10: 4 | B10: 1.4 | C10: 0.3 | D10: =C10/3.281 -> 0.091435538 | E10: 0.48 | F10: =(0.5*(B10-B9)+0.5*(B11-B10))*D10 -> 0.0091435538 | G10: =F10*E10 -> 0.0043889058 | H10: =G10*1000 -> 4.3889058
A11: 5 | B11: 1.5 | C11: 0.25 | D11: =C11/3.281 -> 0.076196282 | E11: 0.33 | F11: =(0.5*(B11-B10)+0.5*(B12-B11))*D11 -> 0.0076196282 | G11: =F11*E11 -> 0.0025144773 | H11: =G11*1000 -> 2.5144773
A12: 6 | B12: 1.6 | C12: 0.2 | D12: =C12/3.281 -> 0.060957025 | E12: 0.15 | F12: =(0.5*(B12-B11)+0.5*(B13-B12))*D12 -> 0.0076196282 | G12: =F12*E12 -> 0.0011429442 | H12: =G12*1000 -> 1.1429442
A13: 7 | B13: 1.75 | C13: 0 | D13: =C13/3.281 -> 0 | E13: 0 | F13: =AVERAGE(D12:D13)*0.5*(B13-B12) -> 0.0022858884 | G13: =F13*0.5*E12 -> 0.00017144163 | H13: =G13*1000 -> 0.17144163 | I13: edge
E14: Totals: | F14: =SUM(F6:F13) -> 0.060957025 | G14: =SUM(G6:G13) -> 0.013822005 | H14: =SUM(H6:H13) -> 13.822005
A15: West Valley Interceptor Ditch, Upstream of Tributary
A16: Station | B16: Position (m) | C16: Depth (ft) | D16: Depth (m) | E16: Velocity (m/s) | F16: Area (m2) | G16: Discharge (m3/s) | H16: Discharge (L/s) | I16: Note
A17: 0 | B17: 1 | C17: 0 | D17: =C17/3.281 -> 0 | E17: 0 | F17: =AVERAGE(D17:D18)*0.5*(B18-B17) -> 0.0016763182 | G17: =F17*0.5*E18 -> 5.0289546e-05 | H17: =G17*1000 -> 0.050289546 | I17: edge
A18: 1 | B18: 1.1 | C18: 0.22 | D18: =C18/3.281 -> 0.067052728 | E18: 0.06 | F18: =(0.5*(B18-B17)+0.5*(B19-B18))*D18 -> 0.0067052728 | G18: =F18*E18 -> 0.00040231637 | H18: =G18*1000 -> 0.40231637
A19: 2 | B19: 1.2 | C19: 0.28 | D19: =C19/3.281 -> 0.085339835 | E19: 0.05 | F19: =(0.5*(B19-B18)+0.5*(B20-B19))*D19 -> 0.0085339835 | G19: =F19*E19 -> 0.00042669918 | H19: =G19*1000 -> 0.42669918
A20: 3 | B20: 1.3 | C20: 0.3 | D20: =C20/3.281 -> 0.091435538 | E20: 0.03 | F20: =(0.5*(B20-B19)+0.5*(B21-B20))*D20 -> 0.0091435538 | G20: =F20*E20 -> 0.00027430661 | H20: =G20*1000 -> 0.27430661
A21: 4 | B21: 1.4 | C21: 0.3 | D21: =C21/3.281 -> 0.091435538 | E21: 0 | F21: =(0.5*(B21-B20)+0.5*(B22-B21))*D21 -> 0.0091435538 | G21: =F21*E21 -> 0 | H21: =G21*1000 -> 0
A22: 5 | B22: 1.5 | C22: 0.3 | D22: =C22/3.281 -> 0.091435538 | E22: -0.01 | F22: =(0.5*(B22-B21)+0.5*(B23-B22))*D22 -> 0.0091435538 | G22: =F22*E22 -> -9.1435538e-05 | H22: =G22*1000 -> -0.091435538
A23: 6 | B23: 1.6 | C23: 0 | D23: =C23/3.281 -> 0 | E23: 0 | F23: =AVERAGE(D22:D23)*0.5*(B23-B22) -> 0.0022858884 | G23: =F23*0.5*E22 -> -1.1429442e-05 | H23: =G23*1000 -> -0.011429442 | I23: edge
E24: Totals: | F24: =SUM(F17:F23) -> 0.046632124 | G24: =SUM(G17:G23) -> 0.0010507467 | H24: =SUM(H17:H23) -> 1.0507467
A25: West Valley Interceptor Ditch, Downstream of Tributary
A26: Station | B26: Position (m) | C26: Depth (ft) | D26: Depth (m) | E26: Velocity (m/s) | F26: Area (m2) | G26: Discharge (m3/s) | H26: Discharge (L/s) | I26: Note
A27: 0 | B27: 0.75 | C27: 0 | D27: =C27/3.281 -> 0 | E27: 0 | F27: =AVERAGE(D27:D28)*0.5*(B28-B27) -> 0.0015239256 | G27: =F27*0.5*E28 -> 1.5239256e-05 | H27: =G27*1000 -> 0.015239256 | I27: edge
A28: 1 | B28: 0.85 | C28: 0.2 | D28: =C28/3.281 -> 0.060957025 | E28: 0.02 | F28: =(0.5*(B28-B27)+0.5*(B29-B28))*D28 -> 0.0060957025 | G28: =F28*E28 -> 0.00012191405 | H28: =G28*1000 -> 0.12191405
A29: 2 | B29: 0.95 | C29: 0.23 | D29: =C29/3.281 -> 0.070100579 | E29: 0.75 | F29: =(0.5*(B29-B28)+0.5*(B30-B29))*D29 -> 0.0070100579 | G29: =F29*E29 -> 0.0052575434 | H29: =G29*1000 -> 5.2575434
A30: 3 | B30: 1.05 | C30: 0.25 | D30: =C30/3.281 -> 0.076196282 | E30: 0.23 | F30: =(0.5*(B30-B29)+0.5*(B31-B30))*D30 -> 0.0076196282 | G30: =F30*E30 -> 0.0017525145 | H30: =G30*1000 -> 1.7525145
A31: 4 | B31: 1.15 | C31: 0.25 | D31: =C31/3.281 -> 0.076196282 | E31: 0.25 | F31: =(0.5*(B31-B30)+0.5*(B32-B31))*D31 -> 0.0076196282 | G31: =F31*E31 -> 0.001904907 | H31: =G31*1000 -> 1.904907
A32: 5 | B32: 1.25 | C32: 0.28 | D32: =C32/3.281 -> 0.085339835 | E32: 0.22 | F32: =(0.5*(B32-B31)+0.5*(B33-B32))*D32 -> 0.0085339835 | G32: =F32*E32 -> 0.0018774764 | H32: =G32*1000 -> 1.8774764
A33: 6 | B33: 1.35 | C33: 0.25 | D33: =C33/3.281 -> 0.076196282 | E33: 0.1 | F33: =(0.5*(B33-B32)+0.5*(B34-B33))*D33 -> 0.0076196282 | G33: =F33*E33 -> 0.00076196282 | H33: =G33*1000 -> 0.76196282
A34: 7 | B34: 1.45 | C34: 0.23 | D34: =C34/3.281 -> 0.070100579 | E34: 0.18 | F34: =(0.5*(B34-B33)+0.5*(B35-B34))*D34 -> 0.0087625724 | G34: =F34*E34 -> 0.001577263 | H34: =G34*1000 -> 1.577263
A35: 8 | B35: 1.6 | C35: 0 | D35: =C35/3.281 -> 0 | E35: 0 | F35: =AVERAGE(D34:D35)*0.5*(B35-B34) -> 0.0026287717 | G35: =F35*0.5*E34 -> 0.00023658945 | H35: =G35*1000 -> 0.23658945 | I35: edge
E36: Totals: | F36: =SUM(F27:F35) -> 0.057413898 | G36: =SUM(G27:G35) -> 0.01350541 | H36: =SUM(H27:H35) -> 13.50541
A38: West Valley Interceptor Ditch, Near Well Cluster 1
A39: Trial | B39: Width (m) | C39: Depth (m) | D39: Distance (m) | E39: Time (s) | F39: Velocity (m/s) | G39: Discharge (m3/s) | H39: Discharge (L/s)
A40: 1 | B40: 0.2 | C40: 0.02 | D40: 2 | E40: 6.22 | F40: =D40/E40 -> 0.32154341 | G40: =B40*C40*F40 -> 0.0012861736 | H40: =G40*1000 -> 1.2861736
A41: 2 | B41: 0.2 | C41: 0.02 | D41: 2 | E41: 7.37 | F41: =D41/E41 -> 0.27137042 | G41: =B41*C41*F41 -> 0.0010854817 | H41: =G41*1000 -> 1.0854817
A42: 3 | B42: 0.2 | C42: 0.02 | D42: 2 | E42: 6.81 | F42: =D42/E42 -> 0.29368576 | G42: =B42*C42*F42 -> 0.001174743 | H42: =G42*1000 -> 1.174743
...

Sheet Table5-2
A1: Table 5-2. Acid Base Accounting Results (2012-2015): Faro Mine Complex
A2: Faro Mine Remediation Project
A4: Sample ID | B4: Reclamation Unit | C4: Depth From (mbgs) | D4: Depth To (mbgs) | E4: Sample Date | F4: Paste pH | H4: Acid Potential | O4: Neutralization Potential | T4: Neutralization Potential Ratio (NP/AP)
H5: Barium, LMB | J5: Sulphate, Acid Soluble | L5: Total Sulphur | N5: Acid Potential (as CaCO3 Eq.) | O5: Neutralization Potential (as CaCO3 Eq.) | Q5: Neutralization Potential (as CaCO3 Eq.) | R5: Neutralization Potential (as CaO Eq.)
F6: Result (pH Units) | G6: Result Qualifier | H6: Result (ppm) | I6: Result Qualifier | J6: Result (percent) | K6: Result Qualifier | L6: Result (mg/kg) | M6: Result Qualifier | N6: (kg CaCO3/ tonne) | O6: Result (percent) | P6: Result Qualifier | Q6: Calculated Result (kg CaCO3/tonne) | R6: Result (percent) | S6: Result Qualifier
A7: CH13-204-MW016C-SOA | B7: RCTA | C7: 6.5 | D7: 7 | E7: 41501.444 | F7: 5.39 | G7: J | H7: 9930 | I7: J | J7: 0.75 | K7: J | L7: 217000 | M7: J | N7: 624.96 | O7: 26 | Q7: =O7*10 -> 260 | R7: NT | T7: =IF(ISNUMBER(Q7),Q7/N7,"") -> 0.41602663
A8: CH13-204-MW916C-SOA | B8: RCTA | C8: 6.5 | D8: 7 | E8: 41501.448 | F8: 5.45 | G8: J | H8: 9930 | I8: J | J8: 0.83 | K8: J | L8: NT | N8: NC | O8: 29 | Q8: =O8*10 -> 290 | R8: NT | T8: NC
A9: CH13-204-MW016E-SOA | B9: RCTA | C9: 0.5 | D9: 1 | E9: 41498.438 | F9: 3.71 | G9: J | H9: 10000 | I9: J | J9: 1.9 | K9: J | L9: 217000 | M9: J | N9: 602.84 | O9: 1 | Q9: =O9*10 -> 10 | R9: NT | T9: =IF(ISNUMBER(Q9),Q9/N9,"") -> 0.016588149
A10: CH13-204-MW016E-SOB | B10: RCTA | C10: 3 | D10: 3.5 | E10: 41498.486 | F10: 5.44 | G10: J | H10: 10000 | I10: J | J10: 0.64 | K10: J | L10: 307000 | M10: J | N10: 920.24 | O10: 26 | Q10: =O10*10 -> 260 | R10: NT | T10: =IF(ISNUMBER(Q10),Q10/N10,"") -> 0.28253499
A11: CH13-204-MW016E-SOC | B11: RCTA | C11: 9.5 | D11: 10 | E11: 41498.535 | F11: 6.06 | G11: J | H11: 10000 | I11: J | J11: 0.66 | K11: J | L11: 269000 | M11: J | N11: 808.47 | O11: 22 | Q11: =O11*10 -> 220 | R11: NT | T11: =IF(ISNUMBER(Q11),Q11/N11,"") -> 0.27211894
A12: CH13-204-MW016E-SOD | B12: RCTA | C12: 10 | D12: 10.5 | E12: 41498.528 | F12: 7.04 | G12: J | H12: 1880 | I12: J | J12: 0.02 | K12: J | L12: 44700 | M12: J | N12: 138.11 | O12: 12 | Q12: =O12*10 -> 120 | R12: NT | T12: =IF(ISNUMBER(Q12),Q12/N12,"") -> 0.86887264
A13: CH13-204-MW016E-SOE | B13: RCTA | C13: 11.5 | D13: 12 | E13: 41498.521 | F13: 7.01 | G13: J | H13: 842 | I13: J | J13: 0.01 | K13: UJ | L13: 41900 | M13: J | N13: 130.43 | O13: 8 | Q13: =O13*10 -> 80 | R13: NT | T13: =IF(ISNUMBER(Q13),Q13/N13,"") -> 0.61335582
A14: CH13-204-MW016E-SOF | B14: RCTA | C14: 12.5 | D14: 13 | E14: 41498.67 | F14: 7.41 | G14: J | H14: 1965 | I14: J | J14: 0.05 | K14: J | L14: 4600 | M14: J | N14: 12.53 | O14: 30 | Q14: =O14*10 -> 300 | R14: NT | T14: =IF(ISNUMBER(Q14),Q14/N14,"") -> 23.942538
A15: CH13-204-MW016E-SOG | B15: RCTA | C15: 18.5 | D15: 19 | E15: 41499.438 | F15: 7.57 | G15: J | H15: 1145 | I15: J | J15: 0.01 | K15: UJ | L15: 2500 | M15: J | N15: 7.38 | O15: 90 | Q15: =O15*10 -> 900 | R15: NT | T15: =IF(ISNUMBER(Q15),Q15/N15,"") -> 121.95122
A16: CH13-204-MW016E-SOH | B16: RCTA | C16: 21.5 | D16: 22 | E16: 41499.455 | F16: 7.55 | G16: J | H16: 1000 | I16: J | J16: 0.01 | K16: UJ | L16: 1400 | M16: J | N16: 3.88 | O16: 62 | Q16: =O16*10 -> 620 | R16: NT | T16: =IF(ISNUMBER(Q16),Q16/N16,"") -> 159.79381
A17: CH13-204-MW016E-SOI | B17: RCTA | C17: 26 | D17: 26.5 | E17: 41499.49 | F17: 7.43 | G17: J | H17: 787 | I17: J | J17: 0.01 | K17: J | L17: 1200 | M17: J | N17: 3.26 | O17: 15 | Q17: =O17*10 -> 150 | R17: NT | T17: =IF(ISNUMBER(Q17),Q17/N17,"") -> 46.01227
A18: CH13-204-MW016E-SOJ | B18: RCTA | C18: 29 | D18: 29.5 | E18: 41499.542 | F18: 7.74 | G18: J | H18: 742 | I18: J | J18: 0.01 | K18: J | L18: 2700 | M18: J | N18: 8.02 | O18: 91 | Q18: =O18*10 -> 910 | R18: NT | T18: =IF(ISNUMBER(Q18),Q18/N18,"") -> 113.46633
A19: CH13-204-MW016E-SOK | B19: RCTA | C19: 34.5 | D19: 35 | E19: 41499.667 | F19: 7.66 | G19: J | H19: 842 | I19: J | J19: 0.01 | K19: UJ | L19: 2300 | M19: J | N19: 6.78 | O19: 74 | Q19: =O19*10 -> 740 | R19: NT | T19: =IF(ISNUMBER(Q19),Q19/N19,"") -> 109.14454
A20: CH14-015-MW001A-SOA | B20: RCTA | C20: 13.71 | D20: 14.02 | E20: 41888.438 | F20: 6.36 | G20: J | H20: 10000 | I20: J | J20: 0.69 | L20: 117000 | M20: J | N20: 317.95434 | O20: 6 | P20: J | Q20: =O20*10 -> 60 | R20: NT | T20: =IF(ISNUMBER(Q20),Q20/N20,"") -> 0.18870634
A21: CH14-015-MW901A-SOA | B21: RCTA | C21: 13.71 | D21: 14.02 | E21: 41888.438 | F21: 6.58 | G21: J | H21: 10000 | I21: J | J21: 0.81 | L21: 11000 | M21: J | N21: 1.56 | O21: 30 | P21: J | Q21: =O21*10 -> 300 | R21: NT | T21: =IF(ISNUMBER(Q21),Q21/N21,"") -> 192.30769
A22: CH14-015-MW001C-SOA | B22: RCTA | C22: 2.13 | D22: 2.44 | E22: 41885.677 | F22: 2.37 | G22: J | H22: 10000 | I22: J | J22: 1.37 | L22: 393000 | N22: 1158.8747 | O22: 1 | P22: U | Q22: =O22*10 -> 10 | R22: NT | T22: =IF(ISNUMBER(Q22),Q22/N22,"") -> 0.0086290605
A23: CH14-015-MW001C-SOF | B23: RCTA | C23: 16.46 | D23: 16.76 | E23: 41885.74 | F23: 5.13 | G23: J | H23: 5340 | J23: 0.23 | L23: 320000 | N23: 961.83949 | O23: 24 | Q23: =O23*10 -> 240 | R23: NT | T23: =IF(ISNUMBER(Q23),Q23/N23,"") -> 0.24952188
A24: CH14-015-MW001C-SOG | B24: RCTA | C24: 19.2 | D24: 19.5 | E24: 41886.771 | F24: 4.06 | G24: J | H24: 792 | J24: 0.08 | L24: 12400 | N24: 34.622663 | O24: 6 | Q24: =O24*10 -> 60 | R24: NT | T24: =IF(ISNUMBER(Q24),Q24/N24,"") -> 1.7329689
A25: CH14-015-MW001C-SOH | B25: RCTA | C25: 20.42 | D25: 20.73 | E25: 41886.622 | F25: 4.32 | G25: J | H25: 766 | J25: 0.04 | L25: 7100 | N25: 19.873819 | O25: 6 | Q25: =O25*10 -> 60 | R25: NT | T25: =IF(ISNUMBER(Q25),Q25/N25,"") -> 3.0190474
A26: CH14-015-MW001C-SOI | B26: RCTA | C26: 21.64 | D26: 21.95 | E26: 41886.625 | F26: 4.09 | G26: J | H26: 1045 | J26: 0.01 | K26: U | L26: 1900 | N26: 4.5014314 | O26: 7 | Q26: =O26*10 -> 70 | R26: NT | T26: =IF(ISNUMBER(Q26),Q26/N26,"") -> 15.550609
A27: CH14-015-MW001C-SOJ | B27: RCTA | C27: 23.77 | D27: 24.08 | E27: 41886.635 | F27: 3.64 | G27: J | H27: 743 | J27: 0.12 | L27: 2100 | N27: 1.7542887 | O27: 5 | Q27: =O27*10 -> 50 | R27: NT | T27: =IF(ISNUMBER(Q27),Q27/N27,"") -> 28.50158
A28: CH14-015-MW001C-SOK | B28: RCTA | C28: 25.6 | D28: 25.91 | E28: 41886.635 | F28: 3.72 | G28: J | H28: 808 | J28: 0.01 | L28: 1000 | N28: 1.7763473 | O28: 5 | Q28: =O28*10 -> 50 | R28: NT | T28: =IF(ISNUMBER(Q28),Q28/N28,"") -> 28.147649
A29: CH14-015-MW002A-SOB | B29: RCTA | C29: 6.7 | D29: 7.1 | E29: 41888.646 | F29: 4.49 | G29: J | H29: 10000 | I29: J | J29: 0.74 | L29: 403000 | N29: 1207.2644 | O29: 80 | Q29: =O29*10 -> 800 | R29: NT | T29: =IF(ISNUMBER(Q29),Q29/N29,"") -> 0.66265518
