Workbook

Sheet Table1_DTWGWE
A1: Table 1. Depth to Water Measurements and Groundwater Elevations
A2: Faro Mine Remediation Project
A4: Location | B4: Top of Casing (m) | D4: Location | E4: Measuring Point Elevation (m) | G4: Location | H4: Measuring Point Elevation (m)
A5: CH15-106-MW001 | B5: 1324.266 | D5: CH15-106-MW002 | E5: 1322.16 | G5: CH15-106-MW003 | H5: 1298.438
A6: Date/Time | B6: Depth to Water (m) | C6: Groundwater Elevation (m) | D6: Date/Time | E6: Depth to Water (m) | F6: Groundwater Elevation (m) | G6: Date/Time | H6: Depth to Water (m) | I6: Groundwater Elevation (m)
A7: 42522.436 | B7: 2.94 | C7: =B$5-B7 -> 1321.326 | D7: 42522.438 | E7: 4.505 | F7: =E$5-E7 -> 1317.655 | G7: 42523.379 | H7: 12.677 | I7: =H$5-H7 -> 1285.761
A8: 42523.562 | B8: 2.988 | C8: =B$5-B8 -> 1321.278 | D8: 42523.558 | E8: 4.475 | F8: =E$5-E8 -> 1317.685 | G8: 42524.422 | H8: 12.725 | I8: =H$5-H8 -> 1285.713
A9: 42523.615 | B9: 2.988 | C9: =B$5-B9 -> 1321.278 | D9: 42525.393 | E9: 4.36 | F9: =E$5-E9 -> 1317.8 | G9: 42528.494 | H9: 12.605 | I9: =H$5-H9 -> 1285.833
A10: 42523.636 | B10: 2.987 | C10: =B$5-B10 -> 1321.279 | D10: 42527.36 | E10: 4.364 | F10: =E$5-E10 -> 1317.796 | G10: 42521.6 | H10: 12.702 | I10: =H$5-H10 -> 1285.736
A11: 42523.648 | B11: 2.987 | C11: =B$5-B11 -> 1321.279 | D11: 42528.375 | E11: 4.485 | F11: =E$5-E11 -> 1317.675 | G11: 42521.61 | H11: 12.686 | I11: =H$5-H11 -> 1285.752
A12: 42525.394 | B12: 3.038 | C12: =B$5-B12 -> 1321.228 | D12: 42521.541 | E12: 4.614 | F12: =E$5-E12 -> 1317.546
A13: 42521.565 | B13: 2.934 | C13: =B$5-B13 -> 1321.332 | D13: 42523.581 | E13: 4.361 | F13: =E$5-E13 -> 1317.799
A14: 42527.381 | B14: 3.045 | C14: =B$5-B14 -> 1321.221 | D14: 42523.59 | E14: 4.883 | F14: =E$5-E14 -> 1317.277
A15: 42527.396 | B15: 3.045 | C15: =B$5-B15 -> 1321.221 | D15: 42523.62 | E15: 5.355 | F15: =E$5-E15 -> 1316.805
A16: 42527.41 | B16: 3.045 | C16: =B$5-B16 -> 1321.221 | D16: 42523.645 | E16: 5.902 | F16: =E$5-E16 -> 1316.258
A17: 42527.435 | B17: 3.046 | C17: =B$5-B17 -> 1321.22 | D17: 42527.374 | E17: 4.33 | F17: =E$5-E17 -> 1317.83
A18: 42527.469 | B18: 3.049 | C18: =B$5-B18 -> 1321.217 | D18: 42527.386 | E18: 5.5 | F18: =E$5-E18 -> 1316.66
A19: 42527.497 | B19: 3.05 | C19: =B$5-B19 -> 1321.216 | D19: 42527.399 | E19: 5.538 | F19: =E$5-E19 -> 1316.622
A20: 42527.528 | B20: 3.052 | C20: =B$5-B20 -> 1321.214 | D20: 42527.407 | E20: 5.553 | F20: =E$5-E20 -> 1316.607
A21: 42527.572 | B21: 3.053 | C21: =B$5-B21 -> 1321.213 | D21: 42527.433 | E21: 5.572 | F21: =E$5-E21 -> 1316.588
A22: 42527.613 | B22: 3.053 | C22: =B$5-B22 -> 1321.213 | D22: 42527.465 | E22: 5.601 | F22: =E$5-E22 -> 1316.559
A23: 42527.652 | B23: 3.05 | C23: =B$5-B23 -> 1321.216 | D23: 42527.494 | E23: 5.613 | F23: =E$5-E23 -> 1316.547
... A25: 42527.705 | B25: 3.05 | C25: =B$5-B25 -> 1321.216 | D25: 42527.569 | E25: 5.647 | F25: =E$5-E25 -> 1316.513
D26: 42527.61 | E26: 5.65 | F26: =E$5-E26 -> 1316.51
D27: 42527.65 | E27: 5.66 | F27: =E$5-E27 -> 1316.5
D28: 42527.688 | E28: 5.662 | F28: =E$5-E28 -> 1316.498
D29: 42527.702 | E29: 5.67 | F29: =E$5-E29 -> 1316.49
A31: Location | B31: Measuring Point Elevation (m) | D31: Location | E31: Measuring Point Elevation (m) | G31: Location | H31: Measuring Point Elevation (m)
A32: CH15-106-MW004 | B32: 1298.347 | D32: CH15-106-MW005 | E32: 1311.853 | G32: CH15-106-MW006 | H32: 1311.634
A33: Date/Time | B33: Depth to Water (m) | C33: Groundwater Elevation (m) | D33: Date/Time | E33: Depth to Water (m) | F33: Groundwater Elevation (m) | G33: Date/Time | H33: Depth to Water (m) | I33: Groundwater Elevation (m)
A34: 42522.358 | B34: 12.08 | C34: =B$32-B34 -> 1286.267 | D34: 42522.39 | E34: 1.899 | F34: =E$32-E34 -> 1309.954 | G34: 42523.424 | H34: 1.275 | I34: =H$32-H34 -> 1310.359
A35: 42523.403 | B35: 12.194 | C35: =B$32-B35 -> 1286.153 | D35: 42522.473 | E35: 1.896 | F35: =E$32-E35 -> 1309.957 | G35: 42525.354 | H35: 1.3 | I35: =H$32-H35 -> 1310.334
A36: 42524.401 | B36: 12.27 | C36: =B$32-B36 -> 1286.077 | D36: 42522.513 | E36: 1.896 | F36: =E$32-E36 -> 1309.957 | G36: 42526.361 | H36: 1.297 | I36: =H$32-H36 -> 1310.337
A37: 42528.497 | B37: 13.358 | C37: =B$32-B37 -> 1284.989 | D37: 42526.379 | E37: 1.903 | F37: =E$32-E37 -> 1309.95 | G37: 42527.347 | H37: 1.31 | I37: =H$32-H37 -> 1310.324
A38: 42524.401 | B38: 12.27 | C38: =B$32-B38 -> 1286.077 | D38: 42528.403 | E38: 1.9 | F38: =E$32-E38 -> 1309.953 | G38: 42528.401 | H38: 1.209 | I38: =H$32-H38 -> 1310.425
A39: 42524.422 | B39: 12.1 | C39: =B$32-B39 -> 1286.247 | D39: 42523.438 | E39: 1.898 | F39: =E$32-E39 -> 1309.955 | G39: 42521.592 | H39: 1.266 | I39: =H$32-H39 -> 1310.368
A40: 42524.44 | B40: 13.465 | C40: =B$32-B40 -> 1284.882 | D40: 42526.397 | E40: 1.9 | F40: =E$32-E40 -> 1309.953 | G40: 42522.456 | H40: 1.255 | I40: =H$32-H40 -> 1310.379
D41: 42526.425 | E41: 1.905 | F41: =E$32-E41 -> 1309.948 | G41: 42522.471 | H41: 1.825 | I41: =H$32-H41 -> 1309.809
D42: 42526.454 | E42: 1.905 | F42: =E$32-E42 -> 1309.948 | G42: 42522.483 | H42: 1.908 | I42: =H$32-H42 -> 1309.726
D43: 42526.502 | E43: 1.905 | F43: =E$32-E43 -> 1309.948 | G43: 42522.492 | H43: 2.035 | I43: =H$32-H43 -> 1309.599
D44: 42526.536 | E44: 1.91 | F44: =E$32-E44 -> 1309.943 | G44: 42522.51 | H44: 2.446 | I44: =H$32-H44 -> 1309.188
D45: 42526.611 | E45: 1.91 | F45: =E$32-E45 -> 1309.943 | G45: 42522.526 | H45: 2.566 | I45: =H$32-H45 -> 1309.068
D46: 42526.635 | E46: 1.912 | F46: =E$32-E46 -> 1309.941 | G46: 42523.427 | H46: 1.275 | I46: =H$32-H46 -> 1310.359
D47: 42526.669 | E47: 1.914 | F47: =E$32-E47 -> 1309.939 | G47: 42523.434 | H47: 2.405 | I47: =H$32-H47 -> 1309.229
D48: 42526.704 | E48: 1.913 | F48: =E$32-E48 -> 1309.94 | G48: 42523.526 | H48: 1.317 | I48: =H$32-H48 -> 1310.317
G49: 42526.387 | H49: 1.294 | I49: =H$32-H49 -> 1310.34
G50: 42526.393 | H50: 2.395 | I50: =H$32-H50 -> 1309.239
G51: 42526.419 | H51: 2.75 | I51: =H$32-H51 -> 1308.884
G52: 42526.45 | H52: 2.87 | I52: =H$32-H52 -> 1308.764
G53: 42526.478 | H53: 2.92 | I53: =H$32-H53 -> 1308.714
G54: 42526.499 | H54: 2.948 | I54: =H$32-H54 -> 1308.686
G55: 42526.533 | H55: 2.99 | I55: =H$32-H55 -> 1308.644
G56: 42526.56 | H56: 3.015 | I56: =H$32-H56 -> 1308.619
G57: 42526.588 | H57: 3.049 | I57: =H$32-H57 -> 1308.585
G58: 42526.631 | H58: 3.075 | I58: =H$32-H58 -> 1308.559
G59: 42526.667 | H59: 3.092 | I59: =H$32-H59 -> 1308.542
G60: 42526.7 | H60: 3.114 | I60: =H$32-H60 -> 1308.52
... G62: 42522.384 | H62: 1.26 | I62: =H$32-H62 -> 1310.374
A64: Location | B64: Measuring Point Elevation (m) | D64: Location | E64: Measuring Point Elevation (m) | G64: Location | H64: Measuring Point Elevation (m)
A65: CH15-106-MW007 | B65: 1314.978 | D65: CH15-106-MW008 | E65: 1294.065 | G65: CH15-106-MW010 | H65: 1312.829
A66: Date/Time | B66: Depth to Water (m) | C66: Groundwater Elevation (m) | D66: Date/Time | E66: Depth to Water (m) | F66: Groundwater Elevation (m) | G66: Date/Time | H66: Depth to Water (m) | I66: Groundwater Elevation (m) | L66: 0.7
A67: 42522.446 | B67: 3.985 | C67: =B$65-B67 -> 1310.993 | D67: 42522.358 | E67: 4.882 | F67: =E$65-E67 -> 1289.183 | G67: 42522.472 | H67: 1.645 | I67: =H$65-H67 -> 1311.184 | L67: =B67-L$66 -> 3.285
A68: 42523.59 | B68: 4.105 | C68: =B$65-B68 -> 1310.873 | D68: 42522.603 | E68: 12.649 | F68: =E$65-E68 -> 1281.416 | G68: 42522.512 | H68: 1.702 | I68: =H$65-H68 -> 1311.127 | L68: =B68-L$66 -> 3.405
A69: 42523.609 | B69: 4.095 | C69: =B$65-B69 -> 1310.883 | D69: 42522.608 | E69: 12.131 | F69: =E$65-E69 -> 1281.934 | G69: 42528.552 | H69: 1.365 | I69: =H$65-H69 -> 1311.464 | L69: =B69-L$66 -> 3.395
A70: 42523.614 | B70: 4.09 | C70: =B$65-B70 -> 1310.888 | D70: 42523.381 | E70: 4.815 | F70: =E$65-E70 -> 1289.25 | G70: 42521.681 | H70: 1.645 | I70: =H$65-H70 -> 1311.184 | L70: =B70-L$66 -> 3.39
A71: 42523.634 | B71: 4.08 | C71: =B$65-B71 -> 1310.898 | D71: 42523.699 | E71: 4.815 | F71: =E$65-E71 -> 1289.25 | G71: 42523.438 | H71: 1.655 | I71: =H$65-H71 -> 1311.174 | L71: =B71-L$66 -> 3.38
A72: 42523.647 | B72: 4.075 | C72: =B$65-B72 -> 1310.903 | D72: 42524.422 | E72: 4.808 | F72: =E$65-E72 -> 1289.257 | L72: =B72-L$66 -> 3.375
A73: 42523.66 | B73: 4.075 | C73: =B$65-B73 -> 1310.903 | D73: 42528.433 | E73: 4.789 | F73: =E$65-E73 -> 1289.276 | L73: =B73-L$66 -> 3.375
A74: 42523.688 | B74: 4.069 | C74: =B$65-B74 -> 1310.909 | D74: 42528.515 | E74: 5.516 | F74: =E$65-E74 -> 1288.549 | L74: =B74-L$66 -> 3.369
A75: 42525.394 | B75: 4.06 | C75: =B$65-B75 -> 1310.918 | D75: 42521.697 | E75: 4.92 | F75: =E$65-E75 -> 1289.145 | L75: =B75-L$66 -> 3.36
A76: 42527.356 | B76: 4.052 | C76: =B$65-B76 -> 1310.926 | D76: 42522.561 | E76: 4.713 | F76: =E$65-E76 -> 1289.352 | L76: =B76-L$66 -> 3.352
A77: 42527.359 | B77: 4.042 | C77: =B$65-B77 -> 1310.936 | D77: 42522.565 | E77: 4.733 | F77: =E$65-E77 -> 1289.332 | L77: =B77-L$66 -> 3.342
A78: 42528.388 | B78: 4.081 | C78: =B$65-B78 -> 1310.897 | D78: 42522.574 | E78: 6.61 | F78: =E$65-E78 -> 1287.455 | L78: =B78-L$66 -> 3.381
A79: 42521.534 | B79: 4.03 | C79: =B$65-B79 -> 1310.948 | D79: 42524.452 | E79: 4.758 | F79: =E$65-E79 -> 1289.307 | L79: =B79-L$66 -> 3.33
A80: 42522.413 | B80: 3.98 | C80: =B$65-B80 -> 1310.998 | D80: 42528.439 | E80: 4.688 | F80: =E$65-E80 -> 1289.377 | L80: =B80-L$66 -> 3.28
A81: 42527.381 | B81: 4.049 | C81: =B$65-B81 -> 1310.929 | D81: 42528.442 | E81: 4.855 | F81: =E$65-E81 -> 1289.21 | L81: =B81-L$66 -> 3.349
A82: 42527.397 | B82: 4.05 | C82: =B$65-B82 -> 1310.928 | D82: 42528.444 | E82: 5.19 | F82: =E$65-E82 -> 1288.875 | L82: =B82-L$66 -> 3.35
A83: 42527.41 | B83: 4.05 | C83: =B$65-B83 -> 1310.928 | D83: 42528.447 | E83: 5.375 | F83: =E$65-E83 -> 1288.69 | L83: =B83-L$66 -> 3.35
... A90: 42527.653 | B90: 4.06 | C90: =B$65-B90 -> 1310.918 | D90: 42528.46 | E90: 6.244 | F90: =E$65-E90 -> 1287.821 | L90: =B90-L$66 -> 3.36
A91: 42527.691 | B91: 4.062 | C91: =B$65-B91 -> 1310.916 | L91: =B91-L$66 -> 3.362
A92: 42527.707 | B92: 4.065 | C92: =B$65-B92 -> 1310.913 | L92: =B92-L$66 -> 3.365
A94: Note:
A95: m = metre

Sheet 2_WellDischarge
A1: Table 2. Aquifer Test Pumping Rates
A2: Faro Mine Remediation Project
B4: Time to Fill 1 Litre (s) | G4: Pumping Rate (L/s) | H4: Average per Step or Test (L/s)
A5: Date | B5: #1 | C5: #2 | D5: #3 | E5: #4 | F5: Average | J5: gpm | K5: m3/d | M5: L/s | N5: L/m | O5: gpm | P5: m3/d
A6: CH15-106-MW006 Step Test
A7: 42522.467 | B7: 9.75 | C7: 9.74 | F7: =AVERAGE(B7:E7) -> 9.745 | G7: =1/F7 -> 0.10261673 | H7: =AVERAGE(G7:G9) -> 0.10164955 | J7: =G7*60/3.78541 -> 1.626509 | K7: =G7*86400/1000 -> 8.8660852 | L7: =AVERAGE(J7:J8) -> 1.619067 | N7: =AVERAGE(#REF!) -> #REF! | O7: =AVERAGE(J7:J9) -> 1.611179 | P7: =AVERAGE(K7:K9) -> 8.7825214
A8: 42522.475 | B8: 9.8 | C8: 9.87 | F8: =AVERAGE(B8:E8) -> 9.835 | G8: =1/F8 -> 0.10167768 | J8: =G8*60/3.78541 -> 1.6116249 | K8: =G8*86400/1000 -> 8.7849517
A9: 42522.482 | B9: 10 | C9: 9.87 | F9: =AVERAGE(B9:E9) -> 9.935 | G9: =1/F9 -> 0.10065425 | J9: =G9*60/3.78541 -> 1.5954032 | K9: =G9*86400/1000 -> 8.6965274
A10: 42522.485 | B10: 8.25 | C10: 8.25 | D10: 8.12 | F10: =AVERAGE(B10:E10) -> 8.2066667 | G10: =1/F10 -> 0.12185215 | H10: =AVERAGE(G10:G11) -> 0.12227577 | J10: =G10*60/3.78541 -> 1.9313969 | K10: =G10*86400/1000 -> 10.528026 | N10: =AVERAGE(#REF!) -> #REF! | O10: =AVERAGE(J10:J11) -> 1.9381114 | P10: =AVERAGE(K10:K11) -> 10.564626
A11: 42522.492 | B11: 8.18 | C11: 8.12 | F11: =AVERAGE(B11:E11) -> 8.15 | G11: =1/F11 -> 0.12269939 | J11: =G11*60/3.78541 -> 1.9448258 | K11: =G11*86400/1000 -> 10.601227
A12: 42522.493 | B12: 6.37 | C12: 6.43 | D12: 6.51 | F12: =AVERAGE(B12:E12) -> 6.4366667 | G12: =1/F12 -> 0.15535992 | H12: =AVERAGE(G12:G13) -> 0.15650287 | J12: =G12*60/3.78541 -> 2.4625061 | K12: =G12*86400/1000 -> 13.423097 | N12: =AVERAGE(#REF!) -> #REF! | O12: =AVERAGE(J12:J13) -> 2.4806222 | P12: =AVERAGE(K12:K13) -> 13.521848
A13: 42522.506 | B13: 6.37 | C13: 6.35 | D13: 6.31 | F13: =AVERAGE(B13:E13) -> 6.3433333 | G13: =1/F13 -> 0.15764582 | J13: =G13*60/3.78541 -> 2.4987384 | K13: =G13*86400/1000 -> 13.620599
A14: 42522.508 | B14: 4.75 | C14: 4.87 | F14: =AVERAGE(B14:E14) -> 4.81 | G14: =1/F14 -> 0.20790021 | H14: =AVERAGE(G14:G15) -> 0.20869871 | J14: =G14*60/3.78541 -> 3.295287 | K14: =G14*86400/1000 -> 17.962578 | N14: =AVERAGE(#REF!) -> #REF! | O14: =AVERAGE(J14:J15) -> 3.3079435 | P14: =AVERAGE(K15) -> 18.100559
A15: 42522.51 | B15: 4.76 | C15: 4.75 | D15: 4.81 | F15: =AVERAGE(B15:E15) -> 4.7733333 | G15: =1/F15 -> 0.20949721 | J15: =G15*60/3.78541 -> 3.3206 | K15: =G15*86400/1000 -> 18.100559
A16: CH15-106-MW008 Step Test
A17: 42522.572 | B17: 27 | F17: =AVERAGE(B17:E17) -> 27 | G17: =1/F17 -> 0.037037037 | H17: =AVERAGE(G17:G22) -> 0.03276351 | I17: =H17*60 -> 1.9658106 | J17: =G17*60/3.78541 -> 0.58704928 | K17: =G17*86400/1000 -> 3.2 | N17: =AVERAGE(#REF!) -> #REF! | O17: =AVERAGE(J17:J22) -> 0.51931246 | P17: =AVERAGE(K17:K22) -> 2.8307672
A18: 42522.578 | B18: 47 | F18: =AVERAGE(B18:E18) -> 47 | G18: =1/F18 -> 0.021276596 | J18: =G18*60/3.78541 -> 0.33724108 | K18: =G18*86400/1000 -> 1.8382979
A19: 42522.588 | B19: 91 | F19: =AVERAGE(B19:E19) -> 91 | G19: =1/F19 -> 0.010989011 | J19: =G19*60/3.78541 -> 0.17417946 | K19: =G19*86400/1000 -> 0.94945055
A20: 42522.591 | B20: 13.7 | F20: =AVERAGE(B20:E20) -> 13.7 | G20: =1/F20 -> 0.072992701 | J20: =G20*60/3.78541 -> 1.1569584 | K20: =G20*86400/1000 -> 6.3065693
A21: 42522.594 | B21: 25 | F21: =AVERAGE(B21:E21) -> 25 | G21: =1/F21 -> 0.04 | J21: =G21*60/3.78541 -> 0.63401322 | K21: =G21*86400/1000 -> 3.456
A22: 42522.597 | B22: 70 | F22: =AVERAGE(B22:E22) -> 70 | G22: =1/F22 -> 0.014285714 | J22: =G22*60/3.78541 -> 0.22643329 | K22: =G22*86400/1000 -> 1.2342857
A23: CH15-106-MW006 Constant Rate #1 (pump fails) | K23: =G23*86400/1000 -> 0
A24: 42523.434 | B24: 3.43 | C24: 3.31 | D24: 3.5 | F24: =AVERAGE(B24:E24) -> 3.4133333 | G24: =1/F24 -> 0.29296875 | H24: =AVERAGE(G24:G25) -> 0.27993633 | J24: =G24*60/3.78541 -> 4.6436515 | K24: =G24*86400/1000 -> 25.3125
A25: 42523.444 | B25: 3.75 | C25: 3.75 | D25: 3.74 | F25: =AVERAGE(B25:E25) -> 3.7466667 | G25: =1/F25 -> 0.26690391 | J25: =G25*60/3.78541 -> 4.2305153 | K25: =G25*86400/1000 -> 23.060498
A26: CH15-106-MW002 Step Test | K26: =G26*86400/1000 -> 0
A27: 42523.587 | B27: 21.3 | C27: 19.9 | D27: 20.4 | F27: =AVERAGE(B27:E27) -> 20.533333 | G27: =1/F27 -> 0.048701299 | H27: =AVERAGE(G27:G29) -> 0.049157383 | J27: =G27*60/3.78541 -> 0.77193169 | K27: =G27*86400/1000 -> 4.2077922 | O27: =AVERAGE(J27:J29) -> 0.77916078 | P27: =AVERAGE(K27:K29) -> 4.2471979
A28: 42523.592 | B28: 20.1 | C28: 20.1 | F28: =AVERAGE(B28:E28) -> 20.1 | G28: =1/F28 -> 0.049751244 | J28: =G28*60/3.78541 -> 0.78857366 | K28: =G28*86400/1000 -> 4.2985075
A29: 42523.603 | B29: 20.5 | C29: 20.3 | D29: 20.4 | F29: =AVERAGE(B29:E29) -> 20.4 | G29: =1/F29 -> 0.049019608 | J29: =G29*60/3.78541 -> 0.77697699 | K29: =G29*86400/1000 -> 4.2352941
A30: 42523.607 | B30: 10.3 | C30: 10.3 | D30: 10.2 | F30: =AVERAGE(B30:E30) -> 10.266667 | G30: =1/F30 -> 0.097402597 | H30: =AVERAGE(G30:G31) -> 0.097561234 | J30: =G30*60/3.78541 -> 1.5438634 | K30: =G30*86400/1000 -> 8.4155844 | O30: =AVERAGE(J30:J31) -> 1.5463778 | P30: =AVERAGE(K30:K31) -> 8.4292906
A31: 42523.611 | B31: 10.4 | C31: 10.2 | D31: 10.1 | F31: =AVERAGE(B31:E31) -> 10.233333 | G31: =1/F31 -> 0.09771987 | J31: =G31*60/3.78541 -> 1.5488922 | K31: =G31*86400/1000 -> 8.4429967
A32: 42523.633 | B32: 7.8 | C32: 7.8 | D32: 7.8 | F32: =AVERAGE(B32:E32) -> 7.8 | G32: =1/F32 -> 0.12820513 | H32: =AVERAGE(G32:G33) -> 0.12875774 | J32: =G32*60/3.78541 -> 2.0320937 | K32: =G32*86400/1000 -> 11.076923 | O32: =AVERAGE(J32:J33) -> 2.0408527 | P32: =AVERAGE(K32:K33) -> 11.124668
A33: 42523.64 | B33: 7.8 | C33: 7.7 | D33: 7.7 | F33: =AVERAGE(B33:E33) -> 7.7333333 | G33: =1/F33 -> 0.12931034 | J33: =G33*60/3.78541 -> 2.0496117 | K33: =G33*86400/1000 -> 11.172414
A34: 42523.644 | B34: 6 | C34: 6 | D34: 6 | F34: =AVERAGE(B34:E34) -> 6 | G34: =1/F34 -> 0.16666667 | H34: =AVERAGE(G34:G35) -> 0.167603 | J34: =G34*60/3.78541 -> 2.6417218 | K34: =G34*86400/1000 -> 14.4 | O34: =AVERAGE(J34:J35) -> 2.6565629 | P34: =AVERAGE(K34:K35) -> 14.480899
A35: 42523.653 | B35: 6 | C35: 5.9 | D35: 5.9 | F35: =AVERAGE(B35:E35) -> 5.9333333 | G35: =1/F35 -> 0.16853933 | J35: =G35*60/3.78541 -> 2.671404 | K35: =G35*86400/1000 -> 14.561798
A36: CH15-106-MW004 Step Test | K36: =G36*86400/1000 -> 0
A37: 42524.43 | B37: 16.9 | F37: =AVERAGE(B37:E37) -> 16.9 | G37: =1/F37 -> 0.059171598 | H37: =AVERAGE(G37) -> 0.059171598 | J37: =G37*60/3.78541 -> 0.93788939 | K37: =G37*86400/1000 -> 5.112426
A38: CH15-106-MW006 Constant Rate #2 | K38: =G38*86400/1000 -> 0
A39: 42525.391 | B39: 3.9 | C39: 3.8 | D39: 3.8 | F39: =AVERAGE(B39:E39) -> 3.8333333 | G39: =1/F39 -> 0.26086957 | H39: =AVERAGE(G39:G51) -> 0.24913224 | J39: =G39*60/3.78541 -> 4.1348689 | K39: =G39*86400/1000 -> 22.53913 | N39: =AVERAGE(#REF!) -> #REF! | O39: =AVERAGE(J39:J51) -> 3.9488284 | P39: =AVERAGE(K39:K51) -> 21.525026
A40: 42525.401 | B40: 4.2 | C40: 4.1 | D40: 4.1 | F40: =AVERAGE(B40:E40) -> 4.1333333 | G40: =1/F40 -> 0.24193548 | J40: =G40*60/3.78541 -> 3.8347574 | K40: =G40*86400/1000 -> 20.903226
A41: 42525.42 | B41: 3.9 | C41: 3.9 | D41: 4 | F41: =AVERAGE(B41:E41) -> 3.9333333 | G41: =1/F41 -> 0.25423729 | J41: =G41*60/3.78541 -> 4.0297451 | K41: =G41*86400/1000 -> 21.966102
A42: 42525.45 | B42: 4.1 | C42: 4.1 | D42: 4.1 | E42: 4.1 | F42: =AVERAGE(B42:E42) -> 4.1 | G42: =1/F42 -> 0.24390244 | J42: =G42*60/3.78541 -> 3.8659343 | K42: =G42*86400/1000 -> 21.073171
A43: 42525.478 | B43: 4 | C43: 4.1 | D43: 4.1 | F43: =AVERAGE(B43:E43) -> 4.0666667 | G43: =1/F43 -> 0.24590164 | J43: =G43*60/3.78541 -> 3.8976223 | K43: =G43*86400/1000 -> 21.245902
A44: 42525.499 | B44: 4.1 | C44: 4.1 | D44: 4 | F44: =AVERAGE(B44:E44) -> 4.0666667 | G44: =1/F44 -> 0.24590164 | J44: =G44*60/3.78541 -> 3.8976223 | K44: =G44*86400/1000 -> 21.245902
A45: 42525.536 | B45: 4 | C45: 4 | D45: 4.1 | F45: =AVERAGE(B45:E45) -> 4.0333333 | G45: =1/F45 -> 0.24793388 | J45: =G45*60/3.78541 -> 3.929834 | K45: =G45*86400/1000 -> 21.421488
A46: 42525.56 | B46: 4.1 | C46: 3.9 | D46: 4 | F46: =AVERAGE(B46:E46) -> 4 | G46: =1/F46 -> 0.25 | J46: =G46*60/3.78541 -> 3.9625827 | K46: =G46*86400/1000 -> 21.6
A47: 42525.588 | B47: 4 | C47: 4 | D47: 3.9 | F47: =AVERAGE(B47:E47) -> 3.9666667 | G47: =1/F47 -> 0.25210084 | J47: =G47*60/3.78541 -> 3.9958817 | K47: =G47*86400/1000 -> 21.781513
A48: 42525.631 | B48: 4.1 | C48: 4.1 | D48: 4 | F48: =AVERAGE(B48:E48) -> 4.0666667 | G48: =1/F48 -> 0.24590164 | J48: =G48*60/3.78541 -> 3.8976223 | K48: =G48*86400/1000 -> 21.245902
A49: 42525.667 | B49: 4 | C49: 4.1 | D49: 4 | F49: =AVERAGE(B49:E49) -> 4.0333333 | G49: =1/F49 -> 0.24793388 | J49: =G49*60/3.78541 -> 3.929834 | K49: =G49*86400/1000 -> 21.421488
A50: 42525.7 | B50: 3.9 | C50: 4 | D50: 4 | F50: =AVERAGE(B50:E50) -> 3.9666667 | G50: =1/F50 -> 0.25210084 | J50: =G50*60/3.78541 -> 3.9958817 | K50: =G50*86400/1000 -> 21.781513
A51: 42525.722 | B51: 4.1 | C51: 3.9 | D51: 4 | F51: =AVERAGE(B51:E51) -> 4 | G51: =1/F51 -> 0.25 | J51: =G51*60/3.78541 -> 3.9625827 | K51: =G51*86400/1000 -> 21.6
A52: CH15-106-MW002 Constant Rate Test | K52: =G52*86400/1000 -> 0
A53: 42527.377 | B53: 7.9 | C53: 7.9 | D53: 7.9 | F53: =AVERAGE(B53:E53) -> 7.9 | G53: =1/F53 -> 0.12658228 | H53: =AVERAGE(G53:G65) -> 0.12850831 | J53: =G53*60/3.78541 -> 2.006371 | K53: =G53*86400/1000 -> 10.936709 | O53: =AVERAGE(J53:J65) -> 2.0368991 | P53: =AVERAGE(K53:K65) -> 11.103118
A54: 42527.388 | B54: 7.8 | C54: 7.8 | D54: 7.7 | F54: =AVERAGE(B54:E54) -> 7.7666667 | G54: =1/F54 -> 0.12875536 | J54: =G54*60/3.78541 -> 2.0408151 | K54: =G54*86400/1000 -> 11.124464
A55: 42527.399 | B55: 7.7 | C55: 7.8 | D55: 7.8 | F55: =AVERAGE(B55:E55) -> 7.7666667 | G55: =1/F55 -> 0.12875536 | J55: =G55*60/3.78541 -> 2.0408151 | K55: =G55*86400/1000 -> 11.124464
A56: 42527.407 | B56: 7.7 | C56: 7.8 | D56: 7.6 | F56: =AVERAGE(B56:E56) -> 7.7 | G56: =1/F56 -> 0.12987013 | J56: =G56*60/3.78541 -> 2.0584845 | K56: =G56*86400/1000 -> 11.220779
A57: 42527.433 | B57: 7.7 | C57: 7.7 | D57: 7.6 | F57: =AVERAGE(B57:E57) -> 7.6666667 | G57: =1/F57 -> 0.13043478 | J57: =G57*60/3.78541 -> 2.0674344 | K57: =G57*86400/1000 -> 11.269565
A58: 42527.465 | B58: 7.7 | C58: 7.8 | D58: 7.8 | F58: =AVERAGE(B58:E58) -> 7.7666667 | G58: =1/F58 -> 0.12875536 | J58: =G58*60/3.78541 -> 2.0408151 | K58: =G58*86400/1000 -> 11.124464
A59: 42527.494 | B59: 7.7 | C59: 7.9 | D59: 7.9 | F59: =AVERAGE(B59:E59) -> 7.8333333 | G59: =1/F59 -> 0.12765957 | J59: =G59*60/3.78541 -> 2.0234465 | K59: =G59*86400/1000 -> 11.029787
A60: 42527.526 | B60: 7.7 | C60: 7.7 | D60: 7.8 | F60: =AVERAGE(B60:E60) -> 7.7333333 | G60: =1/F60 -> 0.12931034 | J60: =G60*60/3.78541 -> 2.0496117 | K60: =G60*86400/1000 -> 11.172414
A61: 42527.569 | B61: 7.8 | C61: 7.8 | D61: 7.9 | F61: =AVERAGE(B61:E61) -> 7.8333333 | G61: =1/F61 -> 0.12765957 | J61: =G61*60/3.78541 -> 2.0234465 | K61: =G61*86400/1000 -> 11.029787
A62: 42527.61 | B62: 7.8 | C62: 7.8 | D62: 7.8 | F62: =AVERAGE(B62:E62) -> 7.8 | G62: =1/F62 -> 0.12820513 | J62: =G62*60/3.78541 -> 2.0320937 | K62: =G62*86400/1000 -> 11.076923
A63: 42527.65 | B63: 7.8 | C63: 7.7 | D63: 7.9 | F63: =AVERAGE(B63:E63) -> 7.8 | G63: =1/F63 -> 0.12820513 | J63: =G63*60/3.78541 -> 2.0320937 | K63: =G63*86400/1000 -> 11.076923
A64: 42527.688 | B64: 7.8 | C64: 7.8 | D64: 7.7 | F64: =AVERAGE(B64:E64) -> 7.7666667 | G64: =1/F64 -> 0.12875536 | J64: =G64*60/3.78541 -> 2.0408151 | K64: =G64*86400/1000 -> 11.124464
A65: 42527.702 | B65: 7.9 | C65: 7.8 | D65: 7.8 | F65: =AVERAGE(B65:E65) -> 7.8333333 | G65: =1/F65 -> 0.12765957 | J65: =G65*60/3.78541 -> 2.0234465 | K65: =G65*86400/1000 -> 11.029787
A66: CH15-106-MW008 Groundwater Sampling | K66: =G66*86400/1000 -> 0
A67: 42528.442 | B67: 71 | F67: =AVERAGE(B67:E67) -> 71 | G67: =1/F67 -> 0.014084507 | H67: =AVERAGE(G67:G75) -> 0.010595732 | J67: =G67*60/3.78541 -> 0.22324409 | K67: =G67*86400/1000 -> 1.2169014
A68: 42528.447 | B68: 98 | F68: =AVERAGE(B68:E68) -> 98 | G68: =1/F68 -> 0.010204082 | J68: =G68*60/3.78541 -> 0.16173807 | K68: =G68*86400/1000 -> 0.88163265
A69: 42528.449 | B69: 65 | F69: =AVERAGE(B69:E69) -> 65 | G69: =1/F69 -> 0.015384615 | J69: =G69*60/3.78541 -> 0.24385124 | K69: =G69*86400/1000 -> 1.3292308
A70: 42528.451 | B70: 82 | F70: =AVERAGE(B70:E70) -> 82 | G70: =1/F70 -> 0.012195122 | J70: =G70*60/3.78541 -> 0.19329671 | K70: =G70*86400/1000 -> 1.0536585
A71: 42528.452 | B71: 100 | F71: =AVERAGE(B71:E71) -> 100 | G71: =1/F71 -> 0.01 | J71: =G71*60/3.78541 -> 0.15850331 | K71: =G71*86400/1000 -> 0.864
A72: 42528.454 | B72: 126 | F72: =AVERAGE(B72:E72) -> 126 | G72: =1/F72 -> 0.0079365079 | J72: =G72*60/3.78541 -> 0.12579627 | K72: =G72*86400/1000 -> 0.68571429
A73: 42528.456 | B73: 160 | F73: =AVERAGE(B73:E73) -> 160 | G73: =1/F73 -> 0.00625 | J73: =G73*60/3.78541 -> 0.099064566 | K73: =G73*86400/1000 -> 0.54
A74: 42528.458 | B74: 87 | F74: =AVERAGE(B74:E74) -> 87 | G74: =1/F74 -> 0.011494253 | J74: =G74*60/3.78541 -> 0.18218771 | K74: =G74*86400/1000 -> 0.99310345
A75: 42528.46 | B75: 128 | F75: =AVERAGE(B75:E75) -> 128 | G75: =1/F75 -> 0.0078125 | J75: =G75*60/3.78541 -> 0.12383071 | K75: =G75*86400/1000 -> 0.675
A77: Note:
A78: L/s = litre per second

Sheet 3_ATsummary
A1: Table 3. Aquifer Test Pumping Rates
A2: Faro Mine Remediation Project
A4: Well ID | B4: Total Depth (mbgs) | C4: Screen Interval (mbgs) | D4: Depth to Bedrock (mbgs) | E4: Lithology at Screened Interval | F4: Role | G4: Test | H4: Pumping Rates (L/s) | I4: Pumping Duration (minutes) | J4: Drawdown (m) | K4: Specific Capacity (L/s per m) | L4: Hydraulic Conductivity | M4: Storativity
A5: Well Cluster 1
A6: CH15-106-MW007 | B6: =INDEX(construct!$D$2:$R$10,MATCH('3_ATsummary'!$A6,construct!$A$2:$A$10,0),MATCH('3_ATsummary'!B$4,construct!$D$1:$R$1,0)) -> 5.4864 | C6: =INDEX(construct!$D$2:$R$10,MATCH('3_ATsummary'!$A6,construct!$A$2:$A$10,0),MATCH('3_ATsummary'!C$4,construct!$D$1:$R$1,0)) -> 2.44 to 5.49 | D6: =INDEX(construct!$D$2:$R$10,MATCH('3_ATsummary'!$A6,construct!$A$2:$A$10,0),MATCH('3_ATsummary'!D$4,construct!$D$1:$R$1,0)) -> 4 | E6: =INDEX(construct!$D$2:$R$10,MATCH('3_ATsummary'!$A6,construct!$A$2:$A$10,0),MATCH('3_ATsummary'!E$4,construct!$D$1:$R$1,0)) -> Alluvium (Gravel with Sand) | F6: Observation Well | G6: Insufficient capacity for testing
A7: CH15-106-MW001 | B7: =INDEX(construct!$D$2:$R$10,MATCH('3_ATsummary'!$A7,construct!$A$2:$A$10,0),MATCH('3_ATsummary'!B$4,construct!$D$1:$R$1,0)) -> 10.5156 | C7: =INDEX(construct!$D$2:$R$10,MATCH('3_ATsummary'!$A7,construct!$A$2:$A$10,0),MATCH('3_ATsummary'!C$4,construct!$D$1:$R$1,0)) -> 7.47 to 10.52 | D7: =INDEX(construct!$D$2:$R$10,MATCH('3_ATsummary'!$A7,construct!$A$2:$A$10,0),MATCH('3_ATsummary'!D$4,construct!$D$1:$R$1,0)) -> 3.05 | E7: Bedrock | F7: Observation well
A8: CH15-106-MW002 | B8: =INDEX(construct!$D$2:$R$10,MATCH('3_ATsummary'!$A8,construct!$A$2:$A$10,0),MATCH('3_ATsummary'!B$4,construct!$D$1:$R$1,0)) -> 9.144 | C8: 6.1 to 9.14 | D8: =INDEX(construct!$D$2:$R$10,MATCH('3_ATsummary'!$A8,construct!$A$2:$A$10,0),MATCH('3_ATsummary'!D$4,construct!$D$1:$R$1,0)) -> 15.1 | E8: =INDEX(construct!$D$2:$R$10,MATCH('3_ATsummary'!$A8,construct!$A$2:$A$10,0),MATCH('3_ATsummary'!E$4,construct!$D$1:$R$1,0)) -> Alluvium (Sand and Gravel) | F8: Pumping well | G8: Step 1 | H8: 0.05 | I8: 30 | J8: 0.371 | K8: =H8/J8 -> 0.13477089 | O8: =SUM(I$8:I8) -> 30
G9: Step 2 | H9: 0.1 | I9: 30 | J9: 0.857 | K9: =H9/J9 -> 0.11668611 | O9: =SUM(I$8:I9) -> 60
G10: Step 3 | H10: 0.13 | I10: 22 | J10: 1.125 | K10: =H10/J10 -> 0.11555556 | O10: =SUM(I$8:I10) -> 82
G11: Step 4 | H11: 0.17 | I11: 21 | J11: 1.435 | K11: =H11/J11 -> 0.1184669 | O11: =SUM(I$8:I11) -> 103
G12: Constant-rate Test | H12: 0.13 | I12: 480 | J12: 1.345 | K12: =H12/J12 -> 0.096654275 | O12: =I12/60 -> 8
A13: Well Cluster 2 | E13: Screened Formation
A14: CH15-106-MW008 | B14: =INDEX(construct!$D$2:$R$10,MATCH('3_ATsummary'!$A14,construct!$A$2:$A$10,0),MATCH('3_ATsummary'!B$4,construct!$D$1:$R$1,0)) -> 10.3632 | C14: =INDEX(construct!$D$2:$R$10,MATCH('3_ATsummary'!$A14,construct!$A$2:$A$10,0),MATCH('3_ATsummary'!C$4,construct!$D$1:$R$1,0)) -> 7.32 to 10.36 | D14: =INDEX(construct!$D$2:$R$10,MATCH('3_ATsummary'!$A14,construct!$A$2:$A$10,0),MATCH('3_ATsummary'!D$4,construct!$D$1:$R$1,0)) -> > 10.5 | E14: =INDEX(construct!$D$2:$R$10,MATCH('3_ATsummary'!$A14,construct!$A$2:$A$10,0),MATCH('3_ATsummary'!E$4,construct!$D$1:$R$1,0)) -> Alluvium (Sand with Gravel) | F14: Pumping well, Observation Well | G14: Insufficient capacity for testing
A15: CH15-106-MW004 | B15: =INDEX(construct!$D$2:$R$10,MATCH('3_ATsummary'!$A15,construct!$A$2:$A$10,0),MATCH('3_ATsummary'!B$4,construct!$D$1:$R$1,0)) -> 14.9352 | C15: =INDEX(construct!$D$2:$R$10,MATCH('3_ATsummary'!$A15,construct!$A$2:$A$10,0),MATCH('3_ATsummary'!C$4,construct!$D$1:$R$1,0)) -> 8.84 to 14.94 | D15: =INDEX(construct!$D$2:$R$10,MATCH('3_ATsummary'!$A15,construct!$A$2:$A$10,0),MATCH('3_ATsummary'!D$4,construct!$D$1:$R$1,0)) -> > 14.9 | E15: =INDEX(construct!$D$2:$R$10,MATCH('3_ATsummary'!$A15,construct!$A$2:$A$10,0),MATCH('3_ATsummary'!E$4,construct!$D$1:$R$1,0)) -> Sandy Silt | F15: Pumping well, Observation Well | G15: Insufficient capacity for testing
A16: CH15-106-MW003 | B16: =INDEX(construct!$D$2:$R$10,MATCH('3_ATsummary'!$A16,construct!$A$2:$A$10,0),MATCH('3_ATsummary'!B$4,construct!$D$1:$R$1,0)) -> 13.716 | C16: =INDEX(construct!$D$2:$R$10,MATCH('3_ATsummary'!$A16,construct!$A$2:$A$10,0),MATCH('3_ATsummary'!C$4,construct!$D$1:$R$1,0)) -> 10.67 to 13.72 | D16: =INDEX(construct!$D$2:$R$10,MATCH('3_ATsummary'!$A16,construct!$A$2:$A$10,0),MATCH('3_ATsummary'!D$4,construct!$D$1:$R$1,0)) -> > 29.1 | E16: =INDEX(construct!$D$2:$R$10,MATCH('3_ATsummary'!$A16,construct!$A$2:$A$10,0),MATCH('3_ATsummary'!E$4,construct!$D$1:$R$1,0)) -> Alluvium (Sand with Gravel and Silt) | F16: Observation Well | G16: Insufficient depth of water for pumping
A17: Well Cluster 3 | E17: Screened Formation
A18: CH15-106-MW006 | B18: =INDEX(construct!$D$2:$R$10,MATCH('3_ATsummary'!$A18,construct!$A$2:$A$10,0),MATCH('3_ATsummary'!B$4,construct!$D$1:$R$1,0)) -> 5.97408 | C18: =INDEX(construct!$D$2:$R$10,MATCH('3_ATsummary'!$A18,construct!$A$2:$A$10,0),MATCH('3_ATsummary'!C$4,construct!$D$1:$R$1,0)) -> 2.93 to 5.97 | D18: =INDEX(construct!$D$2:$R$10,MATCH('3_ATsummary'!$A18,construct!$A$2:$A$10,0),MATCH('3_ATsummary'!D$4,construct!$D$1:$R$1,0)) -> > 6.25 | E18: =INDEX(construct!$D$2:$R$10,MATCH('3_ATsummary'!$A18,construct!$A$2:$A$10,0),MATCH('3_ATsummary'!E$4,construct!$D$1:$R$1,0)) -> Alluvium (Gravel with Sand) | F18: Pumping Well | G18: Step 1 | H18: 0.1 | I18: 30 | J18: 0.62 | K18: =H18/J18 -> 0.16129032 | N18: 30
G19: Step 2 | H19: 0.12 | I19: =N19-N18 -> 12 | J19: 0.74 | K19: =H19/J19 -> 0.16216216 | N19: 42 | O19: =SUM(I$18:I19) -> 42
G20: Step 3 | H20: 0.16 | I20: =N20-N19 -> 21 | J20: 0.95 | K20: =H20/J20 -> 0.16842105 | N20: 63 | O20: =SUM(I$18:I20) -> 63
G21: Step 4 | H21: 0.21 | I21: =N21-N20 -> 28 | J21: 1.26 | K21: =H21/J21 -> 0.16666667 | N21: 91 | O21: =SUM(I$18:I21) -> 91
G22: Constant-rate Test | H22: 0.25 | I22: 482 | J22: 1.84 | K22: =H22/J22 -> 0.13586957
A23: CH15-106-MW005 | B23: =INDEX(construct!$D$2:$R$10,MATCH('3_ATsummary'!$A23,construct!$A$2:$A$10,0),MATCH('3_ATsummary'!B$4,construct!$D$1:$R$1,0)) -> 6.096 | C23: =INDEX(construct!$D$2:$R$10,MATCH('3_ATsummary'!$A23,construct!$A$2:$A$10,0),MATCH('3_ATsummary'!C$4,construct!$D$1:$R$1,0)) -> 3.05 to 6.1 | D23: =INDEX(construct!$D$2:$R$10,MATCH('3_ATsummary'!$A23,construct!$A$2:$A$10,0),MATCH('3_ATsummary'!D$4,construct!$D$1:$R$1,0)) -> > 6.5 | E23: =INDEX(construct!$D$2:$R$10,MATCH('3_ATsummary'!$A23,construct!$A$2:$A$10,0),MATCH('3_ATsummary'!E$4,construct!$D$1:$R$1,0)) -> Alluvium (Gravel with Sand) | F23: Observation well | G23: Constant-rate Test
A24: CH15-106-MW010 | B24: =INDEX(construct!$D$2:$R$10,MATCH('3_ATsummary'!$A24,construct!$A$2:$A$10,0),MATCH('3_ATsummary'!B$4,construct!$D$1:$R$1,0)) -> 6.096 | C24: =INDEX(construct!$D$2:$R$10,MATCH('3_ATsummary'!$A24,construct!$A$2:$A$10,0),MATCH('3_ATsummary'!C$4,construct!$D$1:$R$1,0)) -> 3.05 to 6.1 | D24: =INDEX(construct!$D$2:$R$10,MATCH('3_ATsummary'!$A24,construct!$A$2:$A$10,0),MATCH('3_ATsummary'!D$4,construct!$D$1:$R$1,0)) -> > 6.10 | E24: =INDEX(construct!$D$2:$R$10,MATCH('3_ATsummary'!$A24,construct!$A$2:$A$10,0),MATCH('3_ATsummary'!E$4,construct!$D$1:$R$1,0)) -> Alluvium (Gravel with Sand) | F24: Observation well | G24: Constant-rate Test
A25: Notes:
A26: Coordinates and Elevations are from a field survey by Challenger Geomatics Ltd., performed on March 23, 2016.
A27: CSRS = Canadian Spatial Reference System
A28: CVGD28 = Canadian Vertical Geodetic Datum of 1928
A29: ID = identification
A30: L/s = litre per second
A31: m = metre
A32: mbgs = metres below ground surface
A33: masl = metre above sea level
A34: mbTOC = metre below top of casing
A35: NAD = North American Datum
A36: UTM = Universal Transverse Mercator

Sheet 4_FCD-1
A1: Table 4. FCD-1 Stream Discharge Data
A2: Faro Mine Remediation Project
A4: Station | B4: Position (m) | C4: Depth (ft) | D4: Depth (m) | E4: Velocity (m/s) | F4: Area (m2) | G4: Discharge (m3/s) | H4: Discharge (L/s) | I4: Notes
A5: Series 1
A6: 0 | B6: 1 | C6: 0 | D6: =C6/3.281 -> 0 | E6: 0 | F6: =AVERAGE(D6:D7)*0.5*(B7-B6) -> 0.0060957025 | G6: =F6*0.5*E7 -> 3.0478513e-05 | H6: =G6*1000 -> 0.030478513 | I6: edge | L6: =H6/$H$26 -> 7.7796795e-05
A7: 1 | B7: 1.2 | C7: 0.4 | D7: =C7/3.281 -> 0.12191405 | E7: 0.01 | F7: =(0.5*(B7-B6)+0.5*(B8-B7))*D7 -> 0.02438281 | G7: =F7*E7 -> 0.0002438281 | H7: =G7*1000 -> 0.2438281 | L7: =H7/$H$26 -> 0.00062237436
A8: 2 | B8: =B7+0.2 -> 1.4 | C8: 0.25 | D8: =C8/3.281 -> 0.076196282 | E8: 0.08 | F8: =(0.5*(B8-B7)+0.5*(B9-B8))*D8 -> 0.015239256 | G8: =F8*E8 -> 0.0012191405 | H8: =G8*1000 -> 1.2191405 | L8: =H8/$H$26 -> 0.0031118718
A9: 3 | B9: =B8+0.2 -> 1.6 | C9: 0.4 | D9: =C9/3.281 -> 0.12191405 | E9: 0.35 | F9: =(0.5*(B9-B8)+0.5*(B10-B9))*D9 -> 0.02438281 | G9: =F9*E9 -> 0.0085339835 | H9: =G9*1000 -> 8.5339835 | L9: =H9/$H$26 -> 0.021783103
A10: 4 | B10: =B9+0.2 -> 1.8 | C10: 0.45 | D10: =C10/3.281 -> 0.13715331 | E10: 0.26 | F10: =(0.5*(B10-B9)+0.5*(B11-B10))*D10 -> 0.027430661 | G10: =F10*E10 -> 0.007131972 | H10: =G10*1000 -> 7.131972 | L10: =H10/$H$26 -> 0.01820445
A11: 5 | B11: =B10+0.2 -> 2 | C11: 0.35 | D11: =C11/3.281 -> 0.10667479 | E11: 0.34 | F11: =(0.5*(B11-B10)+0.5*(B12-B11))*D11 -> 0.021334959 | G11: =F11*E11 -> 0.007253886 | H11: =G11*1000 -> 7.253886 | L11: =H11/$H$26 -> 0.018515637
A12: 6 | B12: =B11+0.2 -> 2.2 | C12: 0.4 | D12: =C12/3.281 -> 0.12191405 | E12: 0.36 | F12: =(0.5*(B12-B11)+0.5*(B13-B12))*D12 -> 0.02438281 | G12: =F12*E12 -> 0.0087778116 | H12: =G12*1000 -> 8.7778116 | L12: =H12/$H$26 -> 0.022405477
A13: 7 | B13: =B12+0.2 -> 2.4 | C13: 0.35 | D13: =C13/3.281 -> 0.10667479 | E13: 0.59 | F13: =(0.5*(B13-B12)+0.5*(B14-B13))*D13 -> 0.021334959 | G13: =F13*E13 -> 0.012587626 | H13: =G13*1000 -> 12.587626 | L13: =H13/$H$26 -> 0.032130076
A14: 8 | B14: =B13+0.2 -> 2.6 | C14: 0.55 | D14: =C14/3.281 -> 0.16763182 | E14: 0.14 | F14: =(0.5*(B14-B13)+0.5*(B15-B14))*D14 -> 0.033526364 | G14: =F14*E14 -> 0.0046936909 | H14: =G14*1000 -> 4.6936909 | L14: =H14/$H$26 -> 0.011980706
A15: 9 | B15: =B14+0.2 -> 2.8 | C15: 0.6 | D15: =C15/3.281 -> 0.18287108 | E15: 0.61 | F15: =(0.5*(B15-B14)+0.5*(B16-B15))*D15 -> 0.036574215 | G15: =F15*E15 -> 0.022310271 | H15: =G15*1000 -> 22.310271 | L15: =H15/$H$26 -> 0.056947254
A16: 10 | B16: =B15+0.2 -> 3 | C16: 0.6 | D16: =C16/3.281 -> 0.18287108 | E16: 0.81 | F16: =(0.5*(B16-B15)+0.5*(B17-B16))*D16 -> 0.036574215 | G16: =F16*E16 -> 0.029625114 | H16: =G16*1000 -> 29.625114 | L16: =H16/$H$26 -> 0.075618485
A17: 11 | B17: =B16+0.2 -> 3.2 | C17: 0.65 | D17: =C17/3.281 -> 0.19811033 | E17: 0.66 | F17: =(0.5*(B17-B16)+0.5*(B18-B17))*D17 -> 0.039622066 | G17: =F17*E17 -> 0.026150564 | H17: =G17*1000 -> 26.150564 | L17: =H17/$H$26 -> 0.06674965
A18: 12 | B18: =B17+0.2 -> 3.4 | C18: 0.8 | D18: =C18/3.281 -> 0.2438281 | E18: 0.76 | F18: =(0.5*(B18-B17)+0.5*(B19-B18))*D18 -> 0.04876562 | G18: =F18*E18 -> 0.037061871 | H18: =G18*1000 -> 37.061871 | L18: =H18/$H$26 -> 0.094600902
A19: 13 | B19: =B18+0.2 -> 3.6 | C19: 0.9 | D19: =C19/3.281 -> 0.27430661 | E19: 0.95 | F19: =(0.5*(B19-B18)+0.5*(B20-B19))*D19 -> 0.054861323 | G19: =F19*E19 -> 0.052118257 | H19: =G19*1000 -> 52.118257 | L19: =H19/$H$26 -> 0.13303252
... A24: 18 | B24: =B23+0.2 -> 4.6 | C24: 0.4 | D24: =C24/3.281 -> 0.12191405 | E24: 0.46 | F24: =(0.5*(B24-B23)+0.5*(B25-B24))*D24 -> 0.021334959 | G24: =F24*E24 -> 0.0098140811 | H24: =G24*1000 -> 9.8140811 | L24: =H24/$H$26 -> 0.025050568
A25: 19 | B25: 4.75 | C25: 0 | D25: =C25/3.281 -> 0 | E25: 0 | F25: =AVERAGE(D24:D25)*0.5*(B25-B24) -> 0.0045717769 | G25: =F25*0.5*E25 -> 0 | H25: =G25*1000 -> 0 | I25: edge | L25: =H25/$H$26 -> 0
E26: Totals | F26: =SUM(F6:F25) -> 0.62633343 | G26: =SUM(G6:G25) -> 0.3917708 | H26: =SUM(H6:H25) -> 391.7708 | K26: =#REF!/7.481/60 -> #REF! | L26: cfs
A27: Series 2
A28: Station | B28: Position (m) | C28: Depth (ft) | D28: Depth (m) | E28: Velocity (m/s) | F28: Area (m2) | G28: Discharge (m3/s) | H28: Discharge (L/s) | I28: Note
A29: 0 | B29: 1 | C29: 0 | D29: 0 | E29: 0 | F29: =AVERAGE(D29:D30)*0.5*(B30-B29) -> 0.001904907 | G29: =F29*0.5*E30 -> -9.5245352e-06 | H29: =G29*1000 -> -0.0095245352 | I29: edge | L29: =H29/$H$50 -> -2.5154448e-05
A30: 1 | B30: 1.1 | C30: 0.25 | D30: =C30/3.281 -> 0.076196282 | E30: -0.01 | F30: =(0.5*(B30-B29)+0.5*(B31-B30))*D30 -> 0.011429442 | G30: =F30*E30 -> -0.00011429442 | H30: =G30*1000 -> -0.11429442 | L30: =H30/$H$50 -> -0.00030185338
A31: 2 | B31: =B30+0.2 -> 1.3 | C31: 0.35 | D31: =C31/3.281 -> 0.10667479 | E31: 0.01 | F31: =(0.5*(B31-B30)+0.5*(B32-B31))*D31 -> 0.021334959 | G31: =F31*E31 -> 0.00021334959 | H31: =G31*1000 -> 0.21334959 | L31: =H31/$H$50 -> 0.00056345964
A32: 3 | B32: =B31+0.2 -> 1.5 | C32: 0.3 | D32: =C32/3.281 -> 0.091435538 | E32: 0.15 | F32: =(0.5*(B32-B31)+0.5*(B33-B32))*D32 -> 0.018287108 | G32: =F32*E32 -> 0.0027430661 | H32: =G32*1000 -> 2.7430661 | L32: =H32/$H$50 -> 0.0072444811
A33: 4 | B33: =B32+0.2 -> 1.7 | C33: 0.4 | D33: =C33/3.281 -> 0.12191405 | E33: 0.37 | F33: =(0.5*(B33-B32)+0.5*(B34-B33))*D33 -> 0.02438281 | G33: =F33*E33 -> 0.0090216397 | H33: =G33*1000 -> 9.0216397 | L33: =H33/$H$50 -> 0.023826293
A34: 5 | B34: =B33+0.2 -> 1.9 | C34: 0.3 | D34: =C34/3.281 -> 0.091435538 | E34: 0.38 | F34: =(0.5*(B34-B33)+0.5*(B35-B34))*D34 -> 0.018287108 | G34: =F34*E34 -> 0.0069491009 | H34: =G34*1000 -> 6.9491009 | L34: =H34/$H$50 -> 0.018352685
A35: 6 | B35: =B34+0.2 -> 2.1 | C35: 0.4 | D35: =C35/3.281 -> 0.12191405 | E35: 0.22 | F35: =(0.5*(B35-B34)+0.5*(B36-B35))*D35 -> 0.02438281 | G35: =F35*E35 -> 0.0053642182 | H35: =G35*1000 -> 5.3642182 | L35: =H35/$H$50 -> 0.014166985
A36: 7 | B36: =B35+0.2 -> 2.3 | C36: 0.3 | D36: =C36/3.281 -> 0.091435538 | E36: 0.52 | F36: =(0.5*(B36-B35)+0.5*(B37-B36))*D36 -> 0.018287108 | G36: =F36*E36 -> 0.0095092959 | H36: =G36*1000 -> 9.5092959 | L36: =H36/$H$50 -> 0.025114201
A37: 8 | B37: =B36+0.2 -> 2.5 | C37: 0.6 | D37: =C37/3.281 -> 0.18287108 | E37: 0.11 | F37: =(0.5*(B37-B36)+0.5*(B38-B37))*D37 -> 0.036574215 | G37: =F37*E37 -> 0.0040231637 | H37: =G37*1000 -> 4.0231637 | L37: =H37/$H$50 -> 0.010625239 | O37: Average | P37: =AVERAGE(H26,H50,H73) -> 378.8314
A38: 9 | B38: =B37+0.2 -> 2.7 | C38: 0.5 | D38: =C38/3.281 -> 0.15239256 | E38: 0.47 | F38: =(0.5*(B38-B37)+0.5*(B39-B38))*D38 -> 0.030478513 | G38: =F38*E38 -> 0.014324901 | H38: =G38*1000 -> 14.324901 | L38: =H38/$H$50 -> 0.03783229 | O38: Range | P38: =H26-H73 -> 25.689576
A39: 10 | B39: =B38+0.2 -> 2.9 | C39: 0.55 | D39: =C39/3.281 -> 0.16763182 | E39: 0.59 | F39: =(0.5*(B39-B38)+0.5*(B40-B39))*D39 -> 0.033526364 | G39: =F39*E39 -> 0.019780555 | H39: =G39*1000 -> 19.780555 | L39: =H39/$H$50 -> 0.052240758 | O39: uncertainty in a measurement | P39: =P38/3 -> 8.5631921 | Q39: =P39/P37 -> 0.02260423
A40: 11 | B40: =B39+0.2 -> 3.1 | C40: 0.65 | D40: =C40/3.281 -> 0.19811033 | E40: 0.75 | F40: =(0.5*(B40-B39)+0.5*(B41-B40))*D40 -> 0.039622066 | G40: =F40*E40 -> 0.02971655 | H40: =G40*1000 -> 29.71655 | L40: =H40/$H$50 -> 0.078481879 | O40: Uncertainty in the mean | P40: =P39/(SQRT(3)) -> 4.9439613 | Q40: =P40/P37 -> 0.013050558
A41: 12 | B41: =B40+0.2 -> 3.3 | C41: 0.6 | D41: =C41/3.281 -> 0.18287108 | E41: 0.78 | F41: =(0.5*(B41-B40)+0.5*(B42-B41))*D41 -> 0.036574215 | G41: =F41*E41 -> 0.028527888 | H41: =G41*1000 -> 28.527888 | L41: =H41/$H$50 -> 0.075342604 | O41: stdev | P41: =STDEV(H26,H50,H73) -> 12.845833 | Q41: =P41/P37 -> 0.033909104
A42: 13 | B42: =B41+0.2 -> 3.5 | C42: 0.8 | D42: =C42/3.281 -> 0.2438281 | E42: 0.87 | F42: =(0.5*(B42-B41)+0.5*(B43-B42))*D42 -> 0.04876562 | G42: =F42*E42 -> 0.04242609 | H42: =G42*1000 -> 42.42609 | L42: =H42/$H$50 -> 0.11204797
A43: 14 | B43: =B42+0.2 -> 3.7 | C43: 0.9 | D43: =C43/3.281 -> 0.27430661 | E43: 0.79 | F43: =(0.5*(B43-B42)+0.5*(B44-B43))*D43 -> 0.054861323 | G43: =F43*E43 -> 0.043340445 | H43: =G43*1000 -> 43.340445 | L43: =H43/$H$50 -> 0.1144628 | O43: .
A44: 15 | B44: =B43+0.2 -> 3.9 | C44: 0.7 | D44: =C44/3.281 -> 0.21334959 | E44: 1.18 | F44: =(0.5*(B44-B43)+0.5*(B45-B44))*D44 -> 0.042669918 | G44: =F44*E44 -> 0.050350503 | H44: =G44*1000 -> 50.350503 | L44: =H44/$H$50 -> 0.13297648
A45: 16 | B45: =B44+0.2 -> 4.1 | C45: 0.75 | D45: =C45/3.281 -> 0.22858884 | E45: 1.16 | F45: =(0.5*(B45-B44)+0.5*(B46-B45))*D45 -> 0.045717769 | G45: =F45*E45 -> 0.053032612 | H45: =G45*1000 -> 53.032612 | L45: =H45/$H$50 -> 0.14005997
A46: 17 | B46: =B45+0.2 -> 4.3 | C46: 0.8 | D46: =C46/3.281 -> 0.2438281 | E46: 0.76 | F46: =(0.5*(B46-B45)+0.5*(B47-B46))*D46 -> 0.04876562 | G46: =F46*E46 -> 0.037061871 | H46: =G46*1000 -> 37.061871 | L46: =H46/$H$50 -> 0.097880989
A47: 18 | B47: =B46+0.2 -> 4.5 | C47: 0.4 | D47: =C47/3.281 -> 0.12191405 | E47: 0.48 | F47: =(0.5*(B47-B46)+0.5*(B48-B47))*D47 -> 0.02438281 | G47: =F47*E47 -> 0.011703749 | H47: =G47*1000 -> 11.703749 | L47: =H47/$H$50 -> 0.030909786
A48: 19 | B48: 4.7 | C48: 0.5 | D48: =C48/3.281 -> 0.15239256 | E48: 0.56 | F48: =(0.5*(B48-B47)+0.5*(B49-B48))*D48 -> 0.01904907 | G48: =F48*E48 -> 0.010667479 | H48: =G48*1000 -> 10.667479 | L48: =H48/$H$50 -> 0.028172982
A49: 20 | B49: 4.75 | C49: 0 | D49: =C49/3.281 -> 0 | E49: 0 | F49: =AVERAGE(D48:D49)*0.5*(B49-B48) -> 0.001904907 | G49: =F49*0.5*E49 -> 0 | H49: =G49*1000 -> 0 | I49: edge | L49: =H49/$H$50 -> 0
E50: Totals | F50: =SUM(F30:F49) -> 0.59928375 | G50: =SUM(G30:G49) -> 0.37864218 | H50: =SUM(H30:H49) -> 378.64218 | K50: =H50*60/3.79 -> 5994.3353 | L50: gpm
A51: Duplicate of Series 1
A52: Station | B52: Position (m) | C52: Depth (ft) | D52: Depth (m) | E52: Velocity (m/s) | F52: Area (m2) | G52: Discharge (m3/s) | H52: Discharge (L/s) | I52: Note
A53: 0 | B53: 1 | C53: 0 | D53: =C53/3.281 -> 0 | E53: 0 | F53: =AVERAGE(D53:D54)*0.5*(B54-B53) -> 0.0053337397 | G53: =F53*0.5*E54 -> -2.6668699e-05 | H53: =G53*1000 -> -0.026668699 | I53: edge | L53: =H53/$H$73 -> -7.2849129e-05
A54: 1 | B54: 1.2 | C54: 0.35 | D54: =C54/3.281 -> 0.10667479 | E54: -0.01 | F54: =(0.5*(B54-B53)+0.5*(B55-B54))*D54 -> 0.021334959 | G54: =F54*E54 -> -0.00021334959 | H54: =G54*1000 -> -0.21334959 | L54: =H54/$H$73 -> -0.00058279304
A55: 2 | B55: =B54+0.2 -> 1.4 | C55: 0.25 | D55: =C55/3.281 -> 0.076196282 | E55: 0.1 | F55: =(0.5*(B55-B54)+0.5*(B56-B55))*D55 -> 0.015239256 | G55: =F55*E55 -> 0.0015239256 | H55: =G55*1000 -> 1.5239256 | L55: =H55/$H$73 -> 0.0041628074
A56: 3 | B56: =B55+0.2 -> 1.6 | C56: 0.4 | D56: =C56/3.281 -> 0.12191405 | E56: 0.29 | F56: =(0.5*(B56-B55)+0.5*(B57-B56))*D56 -> 0.02438281 | G56: =F56*E56 -> 0.0070710149 | H56: =G56*1000 -> 7.0710149 | L56: =H56/$H$73 -> 0.019315426
A57: 4 | B57: =B56+0.2 -> 1.8 | C57: 0.45 | D57: =C57/3.281 -> 0.13715331 | E57: 0.33 | F57: =(0.5*(B57-B56)+0.5*(B58-B57))*D57 -> 0.027430661 | G57: =F57*E57 -> 0.0090521183 | H57: =G57*1000 -> 9.0521183 | L57: =H57/$H$73 -> 0.024727076
A58: 5 | B58: =B57+0.2 -> 2 | C58: 0.35 | D58: =C58/3.281 -> 0.10667479 | E58: 0.32 | F58: =(0.5*(B58-B57)+0.5*(B59-B58))*D58 -> 0.021334959 | G58: =F58*E58 -> 0.0068271868 | H58: =G58*1000 -> 6.8271868 | L58: =H58/$H$73 -> 0.018649377
A59: 6 | B59: =B58+0.2 -> 2.2 | C59: 0.4 | D59: =C59/3.281 -> 0.12191405 | E59: 0.37 | F59: =(0.5*(B59-B58)+0.5*(B60-B59))*D59 -> 0.02438281 | G59: =F59*E59 -> 0.0090216397 | H59: =G59*1000 -> 9.0216397 | L59: =H59/$H$73 -> 0.02464382
A60: 7 | B60: =B59+0.2 -> 2.4 | C60: 0.3 | D60: =C60/3.281 -> 0.091435538 | E60: 0.42 | F60: =(0.5*(B60-B59)+0.5*(B61-B60))*D60 -> 0.018287108 | G60: =F60*E60 -> 0.0076805852 | H60: =G60*1000 -> 7.6805852 | L60: =H60/$H$73 -> 0.020980549
A61: 8 | B61: =B60+0.2 -> 2.6 | C61: 0.6 | D61: =C61/3.281 -> 0.18287108 | E61: 0.17 | F61: =(0.5*(B61-B60)+0.5*(B62-B61))*D61 -> 0.036574215 | G61: =F61*E61 -> 0.0062176166 | H61: =G61*1000 -> 6.2176166 | L61: =H61/$H$73 -> 0.016984254
A62: 9 | B62: =B61+0.2 -> 2.8 | C62: 0.55 | D62: =C62/3.281 -> 0.16763182 | E62: 0.57 | F62: =(0.5*(B62-B61)+0.5*(B63-B62))*D62 -> 0.033526364 | G62: =F62*E62 -> 0.019110027 | H62: =G62*1000 -> 19.110027 | L62: =H62/$H$73 -> 0.052201605
A63: 10 | B63: =B62+0.2 -> 3 | C63: 0.6 | D63: =C63/3.281 -> 0.18287108 | E63: 0.84 | F63: =(0.5*(B63-B62)+0.5*(B64-B63))*D63 -> 0.036574215 | G63: =F63*E63 -> 0.030722341 | H63: =G63*1000 -> 30.722341 | L63: =H63/$H$73 -> 0.083922197
A64: 11 | B64: =B63+0.2 -> 3.2 | C64: 0.65 | D64: =C64/3.281 -> 0.19811033 | E64: 0.73 | F64: =(0.5*(B64-B63)+0.5*(B65-B64))*D64 -> 0.039622066 | G64: =F64*E64 -> 0.028924109 | H64: =G64*1000 -> 28.924109 | L64: =H64/$H$73 -> 0.079010084
A65: 12 | B65: =B64+0.2 -> 3.4 | C65: 0.7 | D65: =C65/3.281 -> 0.21334959 | E65: 0.76 | F65: =(0.5*(B65-B64)+0.5*(B66-B65))*D65 -> 0.042669918 | G65: =F65*E65 -> 0.032429137 | H65: =G65*1000 -> 32.429137 | L65: =H65/$H$73 -> 0.088584541
A66: 13 | B66: =B65+0.2 -> 3.6 | C66: 0.85 | D66: =C66/3.281 -> 0.25906736 | E66: 0.78 | F66: =(0.5*(B66-B65)+0.5*(B67-B66))*D66 -> 0.051813472 | G66: =F66*E66 -> 0.040414508 | H66: =G66*1000 -> 40.414508 | L66: =H66/$H$73 -> 0.11039765
... A71: 18 | B71: =B70+0.2 -> 4.6 | C71: 0.4 | D71: =C71/3.281 -> 0.12191405 | E71: 0.49 | F71: =(0.5*(B71-B70)+0.5*(B72-B71))*D71 -> 0.021334959 | G71: =F71*E71 -> 0.01045413 | H71: =G71*1000 -> 10.45413 | L71: =H71/$H$73 -> 0.028556859
A72: 19 | B72: 4.75 | C72: 0 | D72: =C72/3.281 -> 0 | E72: 0 | F72: =AVERAGE(D71:D72)*0.5*(B72-B71) -> 0.0045717769 | G72: =F72*0.5*E72 -> 0 | H72: =G72*1000 -> 0 | I72: edge | L72: =H72/$H$73 -> 0
E73: Totals | F73: =SUM(F53:F72) -> 0.60423651 | G73: =SUM(G53:G72) -> 0.36608123 | H73: =SUM(H53:H72) -> 366.08123 | K73: =H73*60/3.79 -> 5795.4811 | L73: gpm
K74: =K73/7.481/60 -> 12.911556 | L74: cfs
A75: Notes:
A76: FCD - Faro Creek Diversion
A77: ft = feet
A78: L/s = litre per second
A79: m = metre
A80: m/s = cubic metre per second
A81: m2 = square metre
A82: m3/s = cubic metre per second

Sheet 5_FCD-2
A1: Table 5. FCD-2 Stream Discharge Data
A2: Faro Mine Remediation Project
A4: Station | B4: Position (m) | C4: Depth (ft) | D4: Depth (m) | E4: Velocity (m/s) | F4: Area (m2) | G4: Discharge (m3/s) | H4: Discharge (L/s) | I4: Notes
A5: Series 1
A6: 0 | B6: 1.2 | C6: 0 | D6: =C6/3.281 -> 0 | E6: 0 | F6: =AVERAGE(D6:D7)*0.5*(B7-B6) -> 0.010667479 | G6: =F6*0.5*E7 -> 0.00053337397 | H6: =G6*1000 -> 0.53337397 | I6: edge
A7: 1 | B7: 1.55 | C7: 0.4 | D7: =C7/3.281 -> 0.12191405 | E7: 0.1 | F7: =(0.5*(B7-B6)+0.5*(B8-B7))*D7 -> 0.036574215 | G7: =F7*E7 -> 0.0036574215 | H7: =G7*1000 -> 3.6574215
A8: 2 | B8: =B7+0.25 -> 1.8 | C8: 0.6 | D8: =C8/3.281 -> 0.18287108 | E8: 0.22 | F8: =(0.5*(B8-B7)+0.5*(B9-B8))*D8 -> 0.045717769 | G8: =F8*E8 -> 0.010057909 | H8: =G8*1000 -> 10.057909
A9: 3 | B9: =B8+0.25 -> 2.05 | C9: 0.85 | D9: =C9/3.281 -> 0.25906736 | E9: 0.37 | F9: =(0.5*(B9-B8)+0.5*(B10-B9))*D9 -> 0.064766839 | G9: =F9*E9 -> 0.023963731 | H9: =G9*1000 -> 23.963731
A10: 4 | B10: =B9+0.25 -> 2.3 | C10: 0.9 | D10: =C10/3.281 -> 0.27430661 | E10: 0.21 | F10: =(0.5*(B10-B9)+0.5*(B11-B10))*D10 -> 0.068576653 | G10: =F10*E10 -> 0.014401097 | H10: =G10*1000 -> 14.401097
A11: 5 | B11: =B10+0.25 -> 2.55 | C11: 0.85 | D11: =C11/3.281 -> 0.25906736 | E11: 0.23 | F11: =(0.5*(B11-B10)+0.5*(B12-B11))*D11 -> 0.064766839 | G11: =F11*E11 -> 0.014896373 | H11: =G11*1000 -> 14.896373
A12: 6 | B12: =B11+0.25 -> 2.8 | C12: 0.6 | D12: =C12/3.281 -> 0.18287108 | E12: 0.47 | F12: =(0.5*(B12-B11)+0.5*(B13-B12))*D12 -> 0.045717769 | G12: =F12*E12 -> 0.021487351 | H12: =G12*1000 -> 21.487351
A13: 7 | B13: =B12+0.25 -> 3.05 | C13: 0.75 | D13: =C13/3.281 -> 0.22858884 | E13: 0.46 | F13: =(0.5*(B13-B12)+0.5*(B14-B13))*D13 -> 0.057147211 | G13: =F13*E13 -> 0.026287717 | H13: =G13*1000 -> 26.287717
A14: 8 | B14: =B13+0.25 -> 3.3 | C14: 0.65 | D14: =C14/3.281 -> 0.19811033 | E14: 0.38 | F14: =(0.5*(B14-B13)+0.5*(B15-B14))*D14 -> 0.049527583 | G14: =F14*E14 -> 0.018820482 | H14: =G14*1000 -> 18.820482
A15: 9 | B15: =B14+0.25 -> 3.55 | C15: 0.75 | D15: =C15/3.281 -> 0.22858884 | E15: 0.4 | F15: =(0.5*(B15-B14)+0.5*(B16-B15))*D15 -> 0.057147211 | G15: =F15*E15 -> 0.022858884 | H15: =G15*1000 -> 22.858884
A16: 10 | B16: =B15+0.25 -> 3.8 | C16: 0.9 | D16: =C16/3.281 -> 0.27430661 | E16: 0.38 | F16: =(0.5*(B16-B15)+0.5*(B17-B16))*D16 -> 0.068576653 | G16: =F16*E16 -> 0.026059128 | H16: =G16*1000 -> 26.059128
A17: 11 | B17: =B16+0.25 -> 4.05 | C17: 0.9 | D17: =C17/3.281 -> 0.27430661 | E17: 0.43 | F17: =(0.5*(B17-B16)+0.5*(B18-B17))*D17 -> 0.068576653 | G17: =F17*E17 -> 0.029487961 | H17: =G17*1000 -> 29.487961
A18: 12 | B18: =B17+0.25 -> 4.3 | C18: 0.9 | D18: =C18/3.281 -> 0.27430661 | E18: 0.35 | F18: =(0.5*(B18-B17)+0.5*(B19-B18))*D18 -> 0.068576653 | G18: =F18*E18 -> 0.024001829 | H18: =G18*1000 -> 24.001829
A19: 13 | B19: =B18+0.25 -> 4.55 | C19: 0.95 | D19: =C19/3.281 -> 0.28954587 | E19: 0.36 | F19: =(0.5*(B19-B18)+0.5*(B20-B19))*D19 -> 0.072386468 | G19: =F19*E19 -> 0.026059128 | H19: =G19*1000 -> 26.059128
... A26: 20 | B26: =B25+0.25 -> 6.3 | C26: 0.2 | D26: =C26/3.281 -> 0.060957025 | E26: 0 | F26: =(0.5*(B26-B25)+0.5*(B27-B26))*D26 -> 0.010667479 | G26: =F26*E26 -> 0 | H26: =G26*1000 -> 0
A27: 21 | B27: 6.4 | C27: 0 | D27: =C27/3.281 -> 0 | E27: 0 | F27: =AVERAGE(D26:D27)*0.5*(B27-B26) -> 0.0015239256 | G27: =F27*0.5*E27 -> 0 | H27: =G27*1000 -> 0 | I27: edge
E28: Totals | F28: =SUM(F4:F26) -> 1.1665651 | G28: =SUM(G4:G26) -> 0.38681042 | H28: =SUM(H4:H26) -> 386.81042
A29: Series 2
A30: Station | B30: Position (m) | C30: Depth (ft) | D30: Depth (m) | E30: Velocity (m/s) | F30: Area (m2) | G30: Discharge (m3/s) | H30: Discharge (L/s) | I30: Note
A31: 0 | B31: 1.2 | C31: 0 | D31: =C31/3.281 -> 0 | E31: 0 | F31: =AVERAGE(D31:D32)*0.5*(B32-B31) -> 0.0038098141 | G31: =F31*0.5*E32 -> -5.7147211e-05 | H31: =G31*1000 -> -0.057147211 | I31: edge
A32: 1 | B32: 1.4 | C32: 0.25 | D32: =C32/3.281 -> 0.076196282 | E32: -0.03 | F32: =(0.5*(B32-B31)+0.5*(B33-B32))*D32 -> 0.017144163 | G32: =F32*E32 -> -0.0005143249 | H32: =G32*1000 -> -0.5143249
A33: 2 | B33: =B32+0.25 -> 1.65 | C33: 0.45 | D33: =C33/3.281 -> 0.13715331 | E33: 0.25 | F33: =(0.5*(B33-B32)+0.5*(B34-B33))*D33 -> 0.034288327 | G33: =F33*E33 -> 0.0085720817 | H33: =G33*1000 -> 8.5720817
A34: 3 | B34: =B33+0.25 -> 1.9 | C34: 0.7 | D34: =C34/3.281 -> 0.21334959 | E34: 0.15 | F34: =(0.5*(B34-B33)+0.5*(B35-B34))*D34 -> 0.053337397 | G34: =F34*E34 -> 0.0080006096 | H34: =G34*1000 -> 8.0006096
A35: 4 | B35: =B34+0.25 -> 2.15 | C35: 0.95 | D35: =C35/3.281 -> 0.28954587 | E35: 0.29 | F35: =(0.5*(B35-B34)+0.5*(B36-B35))*D35 -> 0.072386468 | G35: =F35*E35 -> 0.020992076 | H35: =G35*1000 -> 20.992076
A36: 5 | B36: =B35+0.25 -> 2.4 | C36: 0.95 | D36: =C36/3.281 -> 0.28954587 | E36: 0.18 | F36: =(0.5*(B36-B35)+0.5*(B37-B36))*D36 -> 0.072386468 | G36: =F36*E36 -> 0.013029564 | H36: =G36*1000 -> 13.029564
A37: 6 | B37: =B36+0.25 -> 2.65 | C37: 0.8 | D37: =C37/3.281 -> 0.2438281 | E37: 0.3 | F37: =(0.5*(B37-B36)+0.5*(B38-B37))*D37 -> 0.060957025 | G37: =F37*E37 -> 0.018287108 | H37: =G37*1000 -> 18.287108
A38: 7 | B38: =B37+0.25 -> 2.9 | C38: 0.7 | D38: =C38/3.281 -> 0.21334959 | E38: 0.42 | F38: =(0.5*(B38-B37)+0.5*(B39-B38))*D38 -> 0.053337397 | G38: =F38*E38 -> 0.022401707 | H38: =G38*1000 -> 22.401707
A39: 8 | B39: =B38+0.25 -> 3.15 | C39: 0.85 | D39: =C39/3.281 -> 0.25906736 | E39: 0.46 | F39: =(0.5*(B39-B38)+0.5*(B40-B39))*D39 -> 0.064766839 | G39: =F39*E39 -> 0.029792746 | H39: =G39*1000 -> 29.792746 | O39: Average | P39: =AVERAGE(H53,H28) -> 392.98232
A40: 9 | B40: =B39+0.25 -> 3.4 | C40: 0.7 | D40: =C40/3.281 -> 0.21334959 | E40: 0.46 | F40: =(0.5*(B40-B39)+0.5*(B41-B40))*D40 -> 0.053337397 | G40: =F40*E40 -> 0.024535203 | H40: =G40*1000 -> 24.535203 | O40: Range | P40: =ABS(H28-H53) -> 12.343798
A41: 10 | B41: =B40+0.25 -> 3.65 | C41: 0.8 | D41: =C41/3.281 -> 0.2438281 | E41: 0.37 | F41: =(0.5*(B41-B40)+0.5*(B42-B41))*D41 -> 0.060957025 | G41: =F41*E41 -> 0.022554099 | H41: =G41*1000 -> 22.554099 | O41: uncertainty in a measurement | P41: =P40/2 -> 6.1718988 | Q41: =P41/P39 -> 0.015705284
A42: 11 | B42: =B41+0.25 -> 3.9 | C42: 0.85 | D42: =C42/3.281 -> 0.25906736 | E42: 0.45 | F42: =(0.5*(B42-B41)+0.5*(B43-B42))*D42 -> 0.064766839 | G42: =F42*E42 -> 0.029145078 | H42: =G42*1000 -> 29.145078 | O42: Uncertainty in the mean | P42: =P41/(SQRT(2)) -> 4.3641915 | Q42: =P42/P39 -> 0.011105313
A43: 12 | B43: =B42+0.25 -> 4.15 | C43: 0.9 | D43: =C43/3.281 -> 0.27430661 | E43: 0.37 | F43: =(0.5*(B43-B42)+0.5*(B44-B43))*D43 -> 0.068576653 | G43: =F43*E43 -> 0.025373362 | H43: =G43*1000 -> 25.373362 | O43: stdev | P43: =STDEV(H53,H28) -> 8.728383 | Q43: =P43/P39 -> 0.022210625
A44: 13 | B44: =B43+0.25 -> 4.4 | C44: 0.95 | D44: =C44/3.281 -> 0.28954587 | E44: 0.36 | F44: =(0.5*(B44-B43)+0.5*(B45-B44))*D44 -> 0.072386468 | G44: =F44*E44 -> 0.026059128 | H44: =G44*1000 -> 26.059128
A45: 14 | B45: =B44+0.25 -> 4.65 | C45: 1 | D45: =C45/3.281 -> 0.30478513 | E45: 0.41 | F45: =(0.5*(B45-B44)+0.5*(B46-B45))*D45 -> 0.076196282 | G45: =F45*E45 -> 0.031240475 | H45: =G45*1000 -> 31.240475 | O45: .
A46: 15 | B46: =B45+0.25 -> 4.9 | C46: 1.05 | D46: =C46/3.281 -> 0.32002438 | E46: 0.42 | F46: =(0.5*(B46-B45)+0.5*(B47-B46))*D46 -> 0.080006096 | G46: =F46*E46 -> 0.03360256 | H46: =G46*1000 -> 33.60256
A47: 16 | B47: =B46+0.25 -> 5.15 | C47: 0.95 | D47: =C47/3.281 -> 0.28954587 | E47: 0.44 | F47: =(0.5*(B47-B46)+0.5*(B48-B47))*D47 -> 0.072386468 | G47: =F47*E47 -> 0.031850046 | H47: =G47*1000 -> 31.850046
A48: 17 | B48: =B47+0.25 -> 5.4 | C48: 0.9 | D48: =C48/3.281 -> 0.27430661 | E48: 0.32 | F48: =(0.5*(B48-B47)+0.5*(B49-B48))*D48 -> 0.068576653 | G48: =F48*E48 -> 0.021944529 | H48: =G48*1000 -> 21.944529
A49: 18 | B49: =B48+0.25 -> 5.65 | C49: 0.7 | D49: =C49/3.281 -> 0.21334959 | E49: 0.39 | F49: =(0.5*(B49-B48)+0.5*(B50-B49))*D49 -> 0.053337397 | G49: =F49*E49 -> 0.020801585 | H49: =G49*1000 -> 20.801585
A50: 19 | B50: =B49+0.25 -> 5.9 | C50: 0.65 | D50: =C50/3.281 -> 0.19811033 | E50: 0.19 | F50: =(0.5*(B50-B49)+0.5*(B51-B50))*D50 -> 0.049527583 | G50: =F50*E50 -> 0.0094102408 | H50: =G50*1000 -> 9.4102408
A51: 20 | B51: =B50+0.25 -> 6.15 | C51: 0.4 | D51: =C51/3.281 -> 0.12191405 | E51: 0.07 | F51: =(0.5*(B51-B50)+0.5*(B52-B51))*D51 -> 0.030478513 | G51: =F51*E51 -> 0.0021334959 | H51: =G51*1000 -> 2.1334959
A52: 21 | B52: 6.4 | C52: 0 | D52: =C52/3.281 -> 0 | E52: 0 | F52: =AVERAGE(D51:D52)*0.5*(B52-B51) -> 0.0076196282 | G52: =F52*0.5*E51 -> 0.00026668699 | H52: =G52*1000 -> 0.26668699 | I52: edge
E53: Totals | F53: =SUM(F31:F51) -> 1.1829473 | G53: =SUM(G31:G51) -> 0.39915422 | H53: =SUM(H31:H51) -> 399.15422
A54: Notes:
A55: FCD - Faro Creek Diversion | D55: m/s = cubic metre per second
A56: ft = feet | D56: m2 = square metre
A57: L/s = litre per second | D57: m3/s = cubic metre per second
A58: m = metre
M60: Note: Q = Discharge

Sheet 6_FCD-2A
A1: Table 6. FCD-2A Stream Discharge Data
A2: Faro Mine Remediation Project
A4: Station | B4: Position (m) | C4: Depth (ft) | D4: Depth (m) | E4: Velocity (m/s) | F4: Area (m2) | G4: Discharge (m3/s) | H4: Discharge (L/s) | I4: Notes
A5: Series 1
A6: 0 | B6: 3.5 | C6: 0 | D6: =C6/3.281 -> 0 | E6: 0 | F6: =AVERAGE(D6:D7)*0.5*(B7-B6) -> 0.0030478513 | G6: =F6*0.5*E7 -> -3.0478513e-05 | H6: =G6*1000 -> -0.030478513 | I6: edge
A7: 1 | B7: 3.6 | C7: 0.4 | D7: =C7/3.281 -> 0.12191405 | E7: -0.02 | F7: =(0.5*(B7-B6)+0.5*(B8-B7))*D7 -> 0.015239256 | G7: =F7*E7 -> -0.00030478513 | H7: =G7*1000 -> -0.30478513
A8: 2 | B8: =B7+0.15 -> 3.75 | C8: 0.4 | D8: =C8/3.281 -> 0.12191405 | E8: 0.01 | F8: =(0.5*(B8-B7)+0.5*(B9-B8))*D8 -> 0.018287108 | G8: =F8*E8 -> 0.00018287108 | H8: =G8*1000 -> 0.18287108
A9: 3 | B9: =B8+0.15 -> 3.9 | C9: 0.6 | D9: =C9/3.281 -> 0.18287108 | E9: -0.01 | F9: =(0.5*(B9-B8)+0.5*(B10-B9))*D9 -> 0.027430661 | G9: =F9*E9 -> -0.00027430661 | H9: =G9*1000 -> -0.27430661
A10: 4 | B10: =B9+0.15 -> 4.05 | C10: 0.55 | D10: =C10/3.281 -> 0.16763182 | E10: 0.08 | F10: =(0.5*(B10-B9)+0.5*(B11-B10))*D10 -> 0.025144773 | G10: =F10*E10 -> 0.0020115818 | H10: =G10*1000 -> 2.0115818
A11: 5 | B11: =B10+0.15 -> 4.2 | C11: 0.75 | D11: =C11/3.281 -> 0.22858884 | E11: 0.32 | F11: =(0.5*(B11-B10)+0.5*(B12-B11))*D11 -> 0.034288327 | G11: =F11*E11 -> 0.010972265 | H11: =G11*1000 -> 10.972265
A12: 6 | B12: =B11+0.15 -> 4.35 | C12: 0.95 | D12: =C12/3.281 -> 0.28954587 | E12: 0.3 | F12: =(0.5*(B12-B11)+0.5*(B13-B12))*D12 -> 0.043431881 | G12: =F12*E12 -> 0.013029564 | H12: =G12*1000 -> 13.029564
A13: 7 | B13: =B12+0.15 -> 4.5 | C13: 1.25 | D13: =C13/3.281 -> 0.38098141 | E13: 0.51 | F13: =(0.5*(B13-B12)+0.5*(B14-B13))*D13 -> 0.057147211 | G13: =F13*E13 -> 0.029145078 | H13: =G13*1000 -> 29.145078
A14: 8 | B14: =B13+0.15 -> 4.65 | C14: 1.3 | D14: =C14/3.281 -> 0.39622066 | E14: 0.66 | F14: =(0.5*(B14-B13)+0.5*(B15-B14))*D14 -> 0.0594331 | G14: =F14*E14 -> 0.039225846 | H14: =G14*1000 -> 39.225846
A15: 9 | B15: =B14+0.15 -> 4.8 | C15: 1.3 | D15: =C15/3.281 -> 0.39622066 | E15: 0.68 | F15: =(0.5*(B15-B14)+0.5*(B16-B15))*D15 -> 0.0594331 | G15: =F15*E15 -> 0.040414508 | H15: =G15*1000 -> 40.414508
A16: 10 | B16: =B15+0.15 -> 4.95 | C16: 1.7 | D16: =C16/3.281 -> 0.51813472 | E16: 0.51 | F16: =(0.5*(B16-B15)+0.5*(B17-B16))*D16 -> 0.077720207 | G16: =F16*E16 -> 0.039637306 | H16: =G16*1000 -> 39.637306
A17: 11 | B17: =B16+0.15 -> 5.1 | C17: 1.6 | D17: =C17/3.281 -> 0.4876562 | E17: 0.59 | F17: =(0.5*(B17-B16)+0.5*(B18-B17))*D17 -> 0.07314843 | G17: =F17*E17 -> 0.043157574 | H17: =G17*1000 -> 43.157574
A18: 12 | B18: =B17+0.15 -> 5.25 | C18: 1.5 | D18: =C18/3.281 -> 0.45717769 | E18: 0.62 | F18: =(0.5*(B18-B17)+0.5*(B19-B18))*D18 -> 0.068576653 | G18: =F18*E18 -> 0.042517525 | H18: =G18*1000 -> 42.517525
A19: 13 | B19: =B18+0.15 -> 5.4 | C19: 1.6 | D19: =C19/3.281 -> 0.4876562 | E19: 0.52 | F19: =(0.5*(B19-B18)+0.5*(B20-B19))*D19 -> 0.07314843 | G19: =F19*E19 -> 0.038037184 | H19: =G19*1000 -> 38.037184
... A26: 20 | B26: =B25+0.15 -> 6.45 | C26: 0.65 | D26: =C26/3.281 -> 0.19811033 | E26: -0.01 | F26: =(0.5*(B26-B25)+0.5*(B27-B26))*D26 -> 0.02971655 | G26: =F26*E26 -> -0.0002971655 | H26: =G26*1000 -> -0.2971655
A27: 21 | B27: 6.6 | C27: 0 | D27: =C27/3.281 -> 0 | E27: 0 | F27: =AVERAGE(D26:D27)*0.5*(B27-B26) -> 0.0074291375 | G27: =F27*0.5*E27 -> 0 | H27: =G27*1000 -> 0 | I27: edge
E28: Totals | F28: =SUM(F4:F26) -> 0.88463883 | G28: =SUM(G4:G26) -> 0.39544346 | H28: =SUM(H4:H26) -> 395.44346
A29: Series 2
A30: Station | B30: Position (m) | C30: Depth (ft) | D30: Depth (m) | E30: Velocity (m/s) | F30: Area (m2) | G30: Discharge (m3/s) | H30: Discharge (L/s) | I30: Note
A31: 0 | B31: 3.5 | C31: 0 | D31: =C31/3.281 -> 0 | E31: 0 | F31: =AVERAGE(D31:D32)*0.5*(B32-B31) -> 0.0045717769 | G31: =F31*0.5*E32 -> 0 | H31: =G31*1000 -> 0 | I31: edge
A32: 1 | B32: 3.65 | C32: 0.4 | D32: =C32/3.281 -> 0.12191405 | E32: 0 | F32: =(0.5*(B32-B31)+0.5*(B33-B32))*D32 -> 0.018287108 | G32: =F32*E32 -> 0 | H32: =G32*1000 -> 0
A33: 2 | B33: =B32+0.15 -> 3.8 | C33: 0.35 | D33: =C33/3.281 -> 0.10667479 | E33: 0.02 | F33: =(0.5*(B33-B32)+0.5*(B34-B33))*D33 -> 0.016001219 | G33: =F33*E33 -> 0.00032002438 | H33: =G33*1000 -> 0.32002438
A34: 3 | B34: =B33+0.15 -> 3.95 | C34: 0.65 | D34: =C34/3.281 -> 0.19811033 | E34: 0.03 | F34: =(0.5*(B34-B33)+0.5*(B35-B34))*D34 -> 0.02971655 | G34: =F34*E34 -> 0.00089149649 | H34: =G34*1000 -> 0.89149649
A35: 4 | B35: =B34+0.15 -> 4.1 | C35: 0.6 | D35: =C35/3.281 -> 0.18287108 | E35: 0.17 | F35: =(0.5*(B35-B34)+0.5*(B36-B35))*D35 -> 0.027430661 | G35: =F35*E35 -> 0.0046632124 | H35: =G35*1000 -> 4.6632124
A36: 5 | B36: =B35+0.15 -> 4.25 | C36: 0.7 | D36: =C36/3.281 -> 0.21334959 | E36: 0.36 | F36: =(0.5*(B36-B35)+0.5*(B37-B36))*D36 -> 0.032002438 | G36: =F36*E36 -> 0.011520878 | H36: =G36*1000 -> 11.520878
A37: 6 | B37: =B36+0.15 -> 4.4 | C37: 0.9 | D37: =C37/3.281 -> 0.27430661 | E37: 0.47 | F37: =(0.5*(B37-B36)+0.5*(B38-B37))*D37 -> 0.041145992 | G37: =F37*E37 -> 0.019338616 | H37: =G37*1000 -> 19.338616
A38: 7 | B38: =B37+0.15 -> 4.55 | C38: 1.25 | D38: =C38/3.281 -> 0.38098141 | E38: 0.53 | F38: =(0.5*(B38-B37)+0.5*(B39-B38))*D38 -> 0.057147211 | G38: =F38*E38 -> 0.030288022 | H38: =G38*1000 -> 30.288022
A39: 8 | B39: =B38+0.15 -> 4.7 | C39: 1.3 | D39: =C39/3.281 -> 0.39622066 | E39: 0.6 | F39: =(0.5*(B39-B38)+0.5*(B40-B39))*D39 -> 0.0594331 | G39: =F39*E39 -> 0.03565986 | H39: =G39*1000 -> 35.65986 | O39: Average | P39: =AVERAGE(H53,H28) -> 393.84144
A40: 9 | B40: =B39+0.15 -> 4.85 | C40: 1.3 | D40: =C40/3.281 -> 0.39622066 | E40: 0.75 | F40: =(0.5*(B40-B39)+0.5*(B41-B40))*D40 -> 0.0594331 | G40: =F40*E40 -> 0.044574825 | H40: =G40*1000 -> 44.574825 | O40: Range | P40: =ABS(H28-H53) -> 3.2040536
A41: 10 | B41: =B40+0.15 -> 5 | C41: 1.7 | D41: =C41/3.281 -> 0.51813472 | E41: 0.43 | F41: =(0.5*(B41-B40)+0.5*(B42-B41))*D41 -> 0.077720207 | G41: =F41*E41 -> 0.033419689 | H41: =G41*1000 -> 33.419689 | O41: uncertainty in a measurement | P41: =P40/2 -> 1.6020268 | Q41: =P41/P39 -> 0.004067695
A42: 11 | B42: =B41+0.15 -> 5.15 | C42: 1.55 | D42: =C42/3.281 -> 0.47241695 | E42: 0.62 | F42: =(0.5*(B42-B41)+0.5*(B43-B42))*D42 -> 0.070862542 | G42: =F42*E42 -> 0.043934776 | H42: =G42*1000 -> 43.934776 | O42: Uncertainty in the mean | P42: =P41/(SQRT(2)) -> 1.132804 | Q42: =P42/P39 -> 0.0028762947
A43: 12 | B43: =B42+0.15 -> 5.3 | C43: 1.5 | D43: =C43/3.281 -> 0.45717769 | E43: 0.65 | F43: =(0.5*(B43-B42)+0.5*(B44-B43))*D43 -> 0.068576653 | G43: =F43*E43 -> 0.044574825 | H43: =G43*1000 -> 44.574825 | O43: stdev | P43: =STDEV(H53,H28) -> 2.2656081 | Q43: =P43/P39 -> 0.0057525894
A44: 13 | B44: =B43+0.15 -> 5.45 | C44: 1.65 | D44: =C44/3.281 -> 0.50289546 | E44: 0.55 | F44: =(0.5*(B44-B43)+0.5*(B45-B44))*D44 -> 0.075434319 | G44: =F44*E44 -> 0.041488875 | H44: =G44*1000 -> 41.488875
A45: 14 | B45: =B44+0.15 -> 5.6 | C45: 1.1 | D45: =C45/3.281 -> 0.33526364 | E45: 0.6 | F45: =(0.5*(B45-B44)+0.5*(B46-B45))*D45 -> 0.050289546 | G45: =F45*E45 -> 0.030173728 | H45: =G45*1000 -> 30.173728 | O45: .
A46: 15 | B46: =B45+0.15 -> 5.75 | C46: 1.1 | D46: =C46/3.281 -> 0.33526364 | E46: 0.48 | F46: =(0.5*(B46-B45)+0.5*(B47-B46))*D46 -> 0.050289546 | G46: =F46*E46 -> 0.024138982 | H46: =G46*1000 -> 24.138982
A47: 16 | B47: =B46+0.15 -> 5.9 | C47: 1.4 | D47: =C47/3.281 -> 0.42669918 | E47: 0.12 | F47: =(0.5*(B47-B46)+0.5*(B48-B47))*D47 -> 0.064004877 | G47: =F47*E47 -> 0.0076805852 | H47: =G47*1000 -> 7.6805852
A48: 17 | B48: =B47+0.15 -> 6.05 | C48: 0.65 | D48: =C48/3.281 -> 0.19811033 | E48: 0.5 | F48: =(0.5*(B48-B47)+0.5*(B49-B48))*D48 -> 0.02971655 | G48: =F48*E48 -> 0.014858275 | H48: =G48*1000 -> 14.858275
A49: 18 | B49: =B48+0.15 -> 6.2 | C49: 0.4 | D49: =C49/3.281 -> 0.12191405 | E49: 0.2 | F49: =(0.5*(B49-B48)+0.5*(B50-B49))*D49 -> 0.018287108 | G49: =F49*E49 -> 0.0036574215 | H49: =G49*1000 -> 3.6574215
A50: 19 | B50: =B49+0.15 -> 6.35 | C50: 0.4 | D50: =C50/3.281 -> 0.12191405 | E50: -0.01 | F50: =(0.5*(B50-B49)+0.5*(B51-B50))*D50 -> 0.018287108 | G50: =F50*E50 -> -0.00018287108 | H50: =G50*1000 -> -0.18287108
A51: 20 | B51: =B50+0.15 -> 6.5 | C51: 0.65 | D51: =C51/3.281 -> 0.19811033 | E51: 0.05 | F51: =(0.5*(B51-B50)+0.5*(B52-B51))*D51 -> 0.024763792 | G51: =F51*E51 -> 0.0012381896 | H51: =G51*1000 -> 1.2381896
A52: 21 | B52: 6.6 | C52: 0 | D52: =C52/3.281 -> 0 | E52: 0 | F52: =AVERAGE(D51:D52)*0.5*(B52-B51) -> 0.0049527583 | G52: =F52*0.5*E51 -> 0.00012381896 | H52: =G52*1000 -> 0.12381896 | I52: edge
E53: Totals | F53: =SUM(F31:F51) -> 0.8934014 | G53: =SUM(G31:G51) -> 0.39223941 | H53: =SUM(H31:H51) -> 392.23941
A54: Notes:
A55: FCD - Faro Creek Diversion | D55: m/s = cubic metre per second
A56: ft = feet | D56: m2 = square metre
A57: L/s = litre per second | D57: m3/s = cubic metre per second
A58: m = metre
M60: Note: Q = Discharge

Sheet 7_Seeps
A1: Table 7. Seep and Point Source Discharge Data
A2: Faro Mine Remediation Project
A4: East Bank Seeps | B4: Measurement | C4: Volume (mL) | D4: Time (s) | E4: Discharge (mL/s) | F4: Average Discharge (L/s) | G4: Notes
A5: 1 | B5: 1 | C5: 250 | D5: 4.3 | E5: =C5/D5 -> 58.139535 | F5: =AVERAGE(E5:E7)/1000 -> 0.059593023
B6: 2 | C6: 250 | D6: 4.3 | E6: =C6/D6 -> 58.139535
B7: 3 | C7: 250 | D7: 4 | E7: =C7/D7 -> 62.5
A8: 2 | B8: 1 | C8: 750 | D8: 2.2 | E8: =C8/D8 -> 340.90909 | F8: =AVERAGE(E8:E11)/1000 -> 0.30197031
B9: 2 | C9: 400 | D9: 1.94 | E9: =C9/D9 -> 206.18557
B10: 3 | C10: 700 | D10: 1.96 | E10: =C10/D10 -> 357.14286
B11: 4 | C11: 750 | D11: 2.47 | E11: =C11/D11 -> 303.64372
A12: 3 | B12: 1 | C12: 750 | D12: 6.53 | E12: =C12/D12 -> 114.85452 | F12: =AVERAGE(E12:E13)/1000 -> 0.11695107
B13: 2 | C13: 800 | D13: 6.72 | E13: =C13/D13 -> 119.04762
A14: 4 | B14: 1 | C14: 420 | D14: 2.4 | E14: =C14/D14 -> 175 | F14: =AVERAGE(E14:E17)/1000 -> 0.19327381
B15: 2 | C15: 500 | D15: 2.1 | E15: =C15/D15 -> 238.09524
B16: 3 | C16: 450 | D16: 2.5 | E16: =C16/D16 -> 180
B17: 4 | C17: 450 | D17: 2.5 | E17: =C17/D17 -> 180
A18: 5 | B18: 1 | C18: 270 | D18: 3.1 | E18: =C18/D18 -> 87.096774 | F18: =AVERAGE(E18:E20)/1000 -> 0.073535616
B19: 2 | C19: 280 | D19: 4.1 | E19: =C19/D19 -> 68.292683
B20: 3 | C20: 300 | D20: 4.6 | E20: =C20/D20 -> 65.217391
A21: 6 | B21: 1 | C21: 350 | D21: 7.6 | E21: =C21/D21 -> 46.052632 | F21: =AVERAGE(E21:E24)/1000 -> 0.050102086
B22: 2 | C22: 400 | D22: 7.8 | E22: =C22/D22 -> 51.282051
B23: 3 | C23: 500 | D23: 10.2 | E23: =C23/D23 -> 49.019608
B24: 4 | C24: 400 | D24: 7.4 | E24: =C24/D24 -> 54.054054
A25: 7 | B25: 1 | C25: 300 | D25: 9.4 | E25: =C25/D25 -> 31.914894 | F25: =AVERAGE(E25:E28)/1000 -> 0.026959153
B26: 2 | C26: 280 | D26: 10.9 | E26: =C26/D26 -> 25.688073
B27: 3 | C27: 270 | D27: 10.7 | E27: =C27/D27 -> 25.233645
B28: 4 | C28: 220 | D28: 8.8 | E28: =C28/D28 -> 25
A29: 8 | B29: 1 | C29: 280 | D29: 3.5 | E29: =C29/D29 -> 80 | F29: =AVERAGE(E29:E31)/1000 -> 0.07601626
B30: 2 | C30: 320 | D30: 4.1 | E30: =C30/D30 -> 78.04878
B31: 3 | C31: 350 | D31: 5 | E31: =C31/D31 -> 70
A32: 9 | B32: 1 | C32: 530 | D32: 4.94 | E32: =C32/D32 -> 107.28745 | F32: =AVERAGE(E32:E35)/1000 -> 0.16009131
B33: 2 | C33: 680 | D33: 4.12 | E33: =C33/D33 -> 165.04854
B34: 3 | C34: 690 | D34: 3.97 | E34: =C34/D34 -> 173.80353
B35: 4 | C35: 740 | D35: 3.81 | E35: =C35/D35 -> 194.22572
A36: 10 | B36: 1 | C36: 640 | D36: 3.72 | E36: =C36/D36 -> 172.04301 | F36: =AVERAGE(E36:E39)/1000 -> 0.16432884
B37: 2 | C37: 700 | D37: 4.32 | E37: =C37/D37 -> 162.03704
B38: 3 | C38: 630 | D38: 4.25 | E38: =C38/D38 -> 148.23529
B39: 4 | C39: 700 | D39: 4 | E39: =C39/D39 -> 175
A40: 11 | B40: 1 | C40: 420 | D40: 3.6 | E40: =C40/D40 -> 116.66667 | F40: =AVERAGE(E40:E43)/1000 -> 0.11732018
B41: 2 | C41: 390 | D41: 3.3 | E41: =C41/D41 -> 118.18182
B42: 3 | C42: 450 | D42: 3.9 | E42: =C42/D42 -> 115.38462
B43: 4 | C43: 500 | D43: 4.2 | E43: =C43/D43 -> 119.04762
A44: 12 | B44: 1 | C44: 280 | D44: 8.3 | E44: =C44/D44 -> 33.73494 | F44: =AVERAGE(E44:E46)/1000 -> 0.039114906
B45: 2 | C45: 250 | D45: 5.8 | E45: =C45/D45 -> 43.103448
B46: 3 | C46: 320 | D46: 7.9 | E46: =C46/D46 -> 40.506329
E47: Total | F47: =SUM(F5:F46) -> 1.3792566
A48: Notes:
A49: L/s = liltre per second
A50: mL = millilitre
A51: mL/s = millilitre per second
A52: s = second

Sheet 8_OtherQ
A1: Table 8. Upper FCD Discharge Data
A2: Faro Mine Remediation Project
A4: Station | B4: Position (m) | C4: Depth (ft) | D4: Depth (m) | E4: Velocity (m/s) | F4: Area (m2) | G4: Discharge (m3/s) | H4: Discharge (L/s) | I4: Notes
A5: West Valley Interceptor Ditch near CH15-106-MW010
A6: 0 | B6: 0.75 | C6: 0 | D6: =C6/3.281 -> 0 | E6: 0 | F6: =AVERAGE(D6:D7)*0.5*(B7-B6) -> 0.0038098141 | G6: =F6*0.5*E7 -> 0.00013334349 | H6: =G6*1000 -> 0.13334349 | I6: edge
A7: 1 | B7: 1 | C7: 0.2 | D7: =C7/3.281 -> 0.060957025 | E7: 0.07 | F7: =(0.5*(B7-B6)+0.5*(B8-B7))*D7 -> 0.013715331 | G7: =F7*E7 -> 0.00096007315 | H7: =G7*1000 -> 0.96007315
A8: 2 | B8: 1.2 | C8: 0.2 | D8: =C8/3.281 -> 0.060957025 | E8: 0.16 | F8: =(0.5*(B8-B7)+0.5*(B9-B8))*D8 -> 0.0091435538 | G8: =F8*E8 -> 0.0014629686 | H8: =G8*1000 -> 1.4629686
A9: 3 | B9: 1.3 | C9: 0.25 | D9: =C9/3.281 -> 0.076196282 | E9: 0.4 | F9: =(0.5*(B9-B8)+0.5*(B10-B9))*D9 -> 0.0076196282 | G9: =F9*E9 -> 0.0030478513 | H9: =G9*1000 -> 3.0478513
A10: 4 | B10: 1.4 | C10: 0.3 | D10: =C10/3.281 -> 0.091435538 | E10: 0.48 | F10: =(0.5*(B10-B9)+0.5*(B11-B10))*D10 -> 0.0091435538 | G10: =F10*E10 -> 0.0043889058 | H10: =G10*1000 -> 4.3889058
A11: 5 | B11: 1.5 | C11: 0.25 | D11: =C11/3.281 -> 0.076196282 | E11: 0.33 | F11: =(0.5*(B11-B10)+0.5*(B12-B11))*D11 -> 0.0076196282 | G11: =F11*E11 -> 0.0025144773 | H11: =G11*1000 -> 2.5144773
A12: 6 | B12: 1.6 | C12: 0.2 | D12: =C12/3.281 -> 0.060957025 | E12: 0.15 | F12: =(0.5*(B12-B11)+0.5*(B13-B12))*D12 -> 0.0076196282 | G12: =F12*E12 -> 0.0011429442 | H12: =G12*1000 -> 1.1429442
A13: 7 | B13: 1.75 | C13: 0 | D13: =C13/3.281 -> 0 | E13: 0 | F13: =AVERAGE(D12:D13)*0.5*(B13-B12) -> 0.0022858884 | G13: =F13*0.5*E12 -> 0.00017144163 | H13: =G13*1000 -> 0.17144163 | I13: edge
E14: Totals: | F14: =SUM(F6:F13) -> 0.060957025 | G14: =SUM(G6:G13) -> 0.013822005 | H14: =SUM(H6:H13) -> 13.822005
A15: West Valley Interceptor Ditch, Upstream of Tributary
A16: Station | B16: Position (m) | C16: Depth (ft) | D16: Depth (m) | E16: Velocity (m/s) | F16: Area (m2) | G16: Discharge (m3/s) | H16: Discharge (L/s) | I16: Note
A17: 0 | B17: 1 | C17: 0 | D17: =C17/3.281 -> 0 | E17: 0 | F17: =AVERAGE(D17:D18)*0.5*(B18-B17) -> 0.0016763182 | G17: =F17*0.5*E18 -> 5.0289546e-05 | H17: =G17*1000 -> 0.050289546 | I17: edge
A18: 1 | B18: 1.1 | C18: 0.22 | D18: =C18/3.281 -> 0.067052728 | E18: 0.06 | F18: =(0.5*(B18-B17)+0.5*(B19-B18))*D18 -> 0.0067052728 | G18: =F18*E18 -> 0.00040231637 | H18: =G18*1000 -> 0.40231637
A19: 2 | B19: 1.2 | C19: 0.28 | D19: =C19/3.281 -> 0.085339835 | E19: 0.05 | F19: =(0.5*(B19-B18)+0.5*(B20-B19))*D19 -> 0.0085339835 | G19: =F19*E19 -> 0.00042669918 | H19: =G19*1000 -> 0.42669918
A20: 3 | B20: 1.3 | C20: 0.3 | D20: =C20/3.281 -> 0.091435538 | E20: 0.03 | F20: =(0.5*(B20-B19)+0.5*(B21-B20))*D20 -> 0.0091435538 | G20: =F20*E20 -> 0.00027430661 | H20: =G20*1000 -> 0.27430661
A21: 4 | B21: 1.4 | C21: 0.3 | D21: =C21/3.281 -> 0.091435538 | E21: 0 | F21: =(0.5*(B21-B20)+0.5*(B22-B21))*D21 -> 0.0091435538 | G21: =F21*E21 -> 0 | H21: =G21*1000 -> 0
A22: 5 | B22: 1.5 | C22: 0.3 | D22: =C22/3.281 -> 0.091435538 | E22: -0.01 | F22: =(0.5*(B22-B21)+0.5*(B23-B22))*D22 -> 0.0091435538 | G22: =F22*E22 -> -9.1435538e-05 | H22: =G22*1000 -> -0.091435538
A23: 6 | B23: 1.6 | C23: 0 | D23: =C23/3.281 -> 0 | E23: 0 | F23: =AVERAGE(D22:D23)*0.5*(B23-B22) -> 0.0022858884 | G23: =F23*0.5*E22 -> -1.1429442e-05 | H23: =G23*1000 -> -0.011429442 | I23: edge
E24: Totals: | F24: =SUM(F17:F23) -> 0.046632124 | G24: =SUM(G17:G23) -> 0.0010507467 | H24: =SUM(H17:H23) -> 1.0507467
A25: West Valley Interceptor Ditch, Downstream of Tributary
A26: Station | B26: Position (m) | C26: Depth (ft) | D26: Depth (m) | E26: Velocity (m/s) | F26: Area (m2) | G26: Discharge (m3/s) | H26: Discharge (L/s) | I26: Note
A27: 0 | B27: 0.75 | C27: 0 | D27: =C27/3.281 -> 0 | E27: 0 | F27: =AVERAGE(D27:D28)*0.5*(B28-B27) -> 0.0015239256 | G27: =F27*0.5*E28 -> 1.5239256e-05 | H27: =G27*1000 -> 0.015239256 | I27: edge
A28: 1 | B28: 0.85 | C28: 0.2 | D28: =C28/3.281 -> 0.060957025 | E28: 0.02 | F28: =(0.5*(B28-B27)+0.5*(B29-B28))*D28 -> 0.0060957025 | G28: =F28*E28 -> 0.00012191405 | H28: =G28*1000 -> 0.12191405
A29: 2 | B29: 0.95 | C29: 0.23 | D29: =C29/3.281 -> 0.070100579 | E29: 0.75 | F29: =(0.5*(B29-B28)+0.5*(B30-B29))*D29 -> 0.0070100579 | G29: =F29*E29 -> 0.0052575434 | H29: =G29*1000 -> 5.2575434
A30: 3 | B30: 1.05 | C30: 0.25 | D30: =C30/3.281 -> 0.076196282 | E30: 0.23 | F30: =(0.5*(B30-B29)+0.5*(B31-B30))*D30 -> 0.0076196282 | G30: =F30*E30 -> 0.0017525145 | H30: =G30*1000 -> 1.7525145
A31: 4 | B31: 1.15 | C31: 0.25 | D31: =C31/3.281 -> 0.076196282 | E31: 0.25 | F31: =(0.5*(B31-B30)+0.5*(B32-B31))*D31 -> 0.0076196282 | G31: =F31*E31 -> 0.001904907 | H31: =G31*1000 -> 1.904907
A32: 5 | B32: 1.25 | C32: 0.28 | D32: =C32/3.281 -> 0.085339835 | E32: 0.22 | F32: =(0.5*(B32-B31)+0.5*(B33-B32))*D32 -> 0.0085339835 | G32: =F32*E32 -> 0.0018774764 | H32: =G32*1000 -> 1.8774764
A33: 6 | B33: 1.35 | C33: 0.25 | D33: =C33/3.281 -> 0.076196282 | E33: 0.1 | F33: =(0.5*(B33-B32)+0.5*(B34-B33))*D33 -> 0.0076196282 | G33: =F33*E33 -> 0.00076196282 | H33: =G33*1000 -> 0.76196282
A34: 7 | B34: 1.45 | C34: 0.23 | D34: =C34/3.281 -> 0.070100579 | E34: 0.18 | F34: =(0.5*(B34-B33)+0.5*(B35-B34))*D34 -> 0.0087625724 | G34: =F34*E34 -> 0.001577263 | H34: =G34*1000 -> 1.577263
A35: 8 | B35: 1.6 | C35: 0 | D35: =C35/3.281 -> 0 | E35: 0 | F35: =AVERAGE(D34:D35)*0.5*(B35-B34) -> 0.0026287717 | G35: =F35*0.5*E34 -> 0.00023658945 | H35: =G35*1000 -> 0.23658945 | I35: edge
E36: Totals: | F36: =SUM(F27:F35) -> 0.057413898 | G36: =SUM(G27:G35) -> 0.01350541 | H36: =SUM(H27:H35) -> 13.50541
A38: West Valley Interceptor Ditch, Near Well Cluster 1
A39: Trial | B39: Width (m) | C39: Depth (m) | D39: Distance (m) | E39: Time (s) | F39: Velocity (m/s) | G39: Discharge (m3/s) | H39: Discharge (L/s)
A40: 1 | B40: 0.2 | C40: 0.02 | D40: 2 | E40: 6.22 | F40: =D40/E40 -> 0.32154341 | G40: =B40*C40*F40 -> 0.0012861736 | H40: =G40*1000 -> 1.2861736
A41: 2 | B41: 0.2 | C41: 0.02 | D41: 2 | E41: 7.37 | F41: =D41/E41 -> 0.27137042 | G41: =B41*C41*F41 -> 0.0010854817 | H41: =G41*1000 -> 1.0854817
A42: 3 | B42: 0.2 | C42: 0.02 | D42: 2 | E42: 6.81 | F42: =D42/E42 -> 0.29368576 | G42: =B42*C42*F42 -> 0.001174743 | H42: =G42*1000 -> 1.174743
A43: 4 | B43: 0.2 | C43: 0.02 | D43: 2 | E43: 6.37 | F43: =D43/E43 -> 0.31397174 | G43: =B43*C43*F43 -> 0.001255887 | H43: =G43*1000 -> 1.255887
D44: Averages: | E44: =AVERAGE(E40:E43) -> 6.6925 | F44: =AVERAGE(F40:F43) -> 0.30014283 | G44: =AVERAGE(G40:G43) -> 0.0012005713 | H44: =AVERAGE(H40:H43) -> 1.2005713
A46: Faro Creek Main Source | F46: Western Ditch
A47: Trial | B47: Time (s) | C47: Volume (L) | D47: Discharge (L/s) | F47: Trial | G47: Time (s) | H47: Volume (L) | I47: Discharge (L/s) | L47: gpm
A48: 1 | B48: 1.37 | C48: 8 | D48: =C48/B48 -> 5.8394161 | F48: 1 | G48: 6.7 | H48: 3 | I48: =H48/G48 -> 0.44776119 | L48: =D48*60/3.78541 -> 92.556675
A49: 2 | B49: 1.47 | C49: 9 | D49: =C49/B49 -> 6.122449 | F49: 2 | G49: 3.88 | H49: 2 | I49: =H49/G49 -> 0.51546392
A50: 3 | B50: 1.81 | C50: 10 | D50: =C50/B50 -> 5.5248619 | F50: 3 | G50: 4.37 | H50: 2.8 | I50: =H50/G50 -> 0.64073227
A51: 4 | B51: 1.28 | C51: 9 | D51: =C51/B51 -> 7.03125 | F51: 4 | G51: 4.44 | H51: 2.5 | I51: =H51/G51 -> 0.56306306
A52: Averages: | B52: =AVERAGE(B48:B51) -> 1.4825 | C52: =AVERAGE(C48:C51) -> 9 | D52: =AVERAGE(D48:D51) -> 6.1294942 | F52: 5 | G52: 4.7 | H52: 2.6 | I52: =H52/G52 -> 0.55319149
F53: Averages: | G53: =AVERAGE(G48:G52) -> 4.818 | H53: =AVERAGE(H48:H52) -> 2.58 | I53: =AVERAGE(I48:I52) -> 0.54404239
A55: FCO
A56: Width of Water (cm) | B56: Depth of Water at Notch (cm) | C56: Depth of Water at Notch (ft) | D56: Discharge Coefficient | E56: Head Correction Factor | F56: Discharge (cfs) | G56: Discharge (L/s)
A57: 29.5 | B57: 9 | C57: 0.3 | D57: 0.585 | E57: 0.003 | F57: 0.233 | G57: 6.62
A59: Notes:
A60: cm = centimetre
A61: FCD - Faro Creek Diversion
A62: ft = feet
A63: L = litre
A64: L/s = litre per second
A65: m = metre
A66: m/s = cubic metre per second
A67: m2 = square metre
A68: m3/s = cubic metre per second
A69: s = second

Sheet Table5-2
A1: Table 5-2. Acid Base Accounting Results (2012-2015): Faro Mine Complex
A2: Faro Mine Remediation Project
A4: Sample ID | B4: Reclamation Unit | C4: Depth From (mbgs) | D4: Depth To (mbgs) | E4: Sample Date | F4: Paste pH | H4: Acid Potential | O4: Neutralization Potential | T4: Neutralization Potential Ratio (NP/AP)
H5: Barium, LMB | J5: Sulphate, Acid Soluble | L5: Total Sulphur | N5: Acid Potential (as CaCO3 Eq.) | O5: Neutralization Potential (as CaCO3 Eq.) | Q5: Neutralization Potential (as CaCO3 Eq.) | R5: Neutralization Potential (as CaO Eq.)
F6: Result (pH Units) | G6: Result Qualifier | H6: Result (ppm) | I6: Result Qualifier | J6: Result (percent) | K6: Result Qualifier | L6: Result (mg/kg) | M6: Result Qualifier | N6: (kg CaCO3/ tonne) | O6: Result (percent) | P6: Result Qualifier | Q6: Calculated Result (kg CaCO3/tonne) | R6: Result (percent) | S6: Result Qualifier
A7: CH13-204-MW016C-SOA | B7: RCTA | C7: 6.5 | D7: 7 | E7: 41501.444 | F7: 5.39 | G7: J | H7: 9930 | I7: J | J7: 0.75 | K7: J | L7: 217000 | M7: J | N7: 624.96 | O7: 26 | Q7: =O7*10 -> 260 | R7: NT | T7: =IF(ISNUMBER(Q7),Q7/N7,"") -> 0.41602663
A8: CH13-204-MW916C-SOA | B8: RCTA | C8: 6.5 | D8: 7 | E8: 41501.448 | F8: 5.45 | G8: J | H8: 9930 | I8: J | J8: 0.83 | K8: J | L8: NT | N8: NC | O8: 29 | Q8: =O8*10 -> 290 | R8: NT | T8: NC
A9: CH13-204-MW016E-SOA | B9: RCTA | C9: 0.5 | D9: 1 | E9: 41498.438 | F9: 3.71 | G9: J | H9: 10000 | I9: J | J9: 1.9 | K9: J | L9: 217000 | M9: J | N9: 602.84 | O9: 1 | Q9: =O9*10 -> 10 | R9: NT | T9: =IF(ISNUMBER(Q9),Q9/N9,"") -> 0.016588149
A10: CH13-204-MW016E-SOB | B10: RCTA | C10: 3 | D10: 3.5 | E10: 41498.486 | F10: 5.44 | G10: J | H10: 10000 | I10: J | J10: 0.64 | K10: J | L10: 307000 | M10: J | N10: 920.24 | O10: 26 | Q10: =O10*10 -> 260 | R10: NT | T10: =IF(ISNUMBER(Q10),Q10/N10,"") -> 0.28253499
A11: CH13-204-MW016E-SOC | B11: RCTA | C11: 9.5 | D11: 10 | E11: 41498.535 | F11: 6.06 | G11: J | H11: 10000 | I11: J | J11: 0.66 | K11: J | L11: 269000 | M11: J | N11: 808.47 | O11: 22 | Q11: =O11*10 -> 220 | R11: NT | T11: =IF(ISNUMBER(Q11),Q11/N11,"") -> 0.27211894
A12: CH13-204-MW016E-SOD | B12: RCTA | C12: 10 | D12: 10.5 | E12: 41498.528 | F12: 7.04 | G12: J | H12: 1880 | I12: J | J12: 0.02 | K12: J | L12: 44700 | M12: J | N12: 138.11 | O12: 12 | Q12: =O12*10 -> 120 | R12: NT | T12: =IF(ISNUMBER(Q12),Q12/N12,"") -> 0.86887264
A13: CH13-204-MW016E-SOE | B13: RCTA | C13: 11.5 | D13: 12 | E13: 41498.521 | F13: 7.01 | G13: J | H13: 842 | I13: J | J13: 0.01 | K13: UJ | L13: 41900 | M13: J | N13: 130.43 | O13: 8 | Q13: =O13*10 -> 80 | R13: NT | T13: =IF(ISNUMBER(Q13),Q13/N13,"") -> 0.61335582
A14: CH13-204-MW016E-SOF | B14: RCTA | C14: 12.5 | D14: 13 | E14: 41498.67 | F14: 7.41 | G14: J | H14: 1965 | I14: J | J14: 0.05 | K14: J | L14: 4600 | M14: J | N14: 12.53 | O14: 30 | Q14: =O14*10 -> 300 | R14: NT | T14: =IF(ISNUMBER(Q14),Q14/N14,"") -> 23.942538
A15: CH13-204-MW016E-SOG | B15: RCTA | C15: 18.5 | D15: 19 | E15: 41499.438 | F15: 7.57 | G15: J | H15: 1145 | I15: J | J15: 0.01 | K15: UJ | L15: 2500 | M15: J | N15: 7.38 | O15: 90 | Q15: =O15*10 -> 900 | R15: NT | T15: =IF(ISNUMBER(Q15),Q15/N15,"") -> 121.95122
A16: CH13-204-MW016E-SOH | B16: RCTA | C16: 21.5 | D16: 22 | E16: 41499.455 | F16: 7.55 | G16: J | H16: 1000 | I16: J | J16: 0.01 | K16: UJ | L16: 1400 | M16: J | N16: 3.88 | O16: 62 | Q16: =O16*10 -> 620 | R16: NT | T16: =IF(ISNUMBER(Q16),Q16/N16,"") -> 159.79381
A17: CH13-204-MW016E-SOI | B17: RCTA | C17: 26 | D17: 26.5 | E17: 41499.49 | F17: 7.43 | G17: J | H17: 787 | I17: J | J17: 0.01 | K17: J | L17: 1200 | M17: J | N17: 3.26 | O17: 15 | Q17: =O17*10 -> 150 | R17: NT | T17: =IF(ISNUMBER(Q17),Q17/N17,"") -> 46.01227
A18: CH13-204-MW016E-SOJ | B18: RCTA | C18: 29 | D18: 29.5 | E18: 41499.542 | F18: 7.74 | G18: J | H18: 742 | I18: J | J18: 0.01 | K18: J | L18: 2700 | M18: J | N18: 8.02 | O18: 91 | Q18: =O18*10 -> 910 | R18: NT | T18: =IF(ISNUMBER(Q18),Q18/N18,"") -> 113.46633
A19: CH13-204-MW016E-SOK | B19: RCTA | C19: 34.5 | D19: 35 | E19: 41499.667 | F19: 7.66 | G19: J | H19: 842 | I19: J | J19: 0.01 | K19: UJ | L19: 2300 | M19: J | N19: 6.78 | O19: 74 | Q19: =O19*10 -> 740 | R19: NT | T19: =IF(ISNUMBER(Q19),Q19/N19,"") -> 109.14454
A20: CH14-015-MW001A-SOA | B20: RCTA | C20: 13.71 | D20: 14.02 | E20: 41888.438 | F20: 6.36 | G20: J | H20: 10000 | I20: J | J20: 0.69 | L20: 117000 | M20: J | N20: 317.95434 | O20: 6 | P20: J | Q20: =O20*10 -> 60 | R20: NT | T20: =IF(ISNUMBER(Q20),Q20/N20,"") -> 0.18870634
A21: CH14-015-MW901A-SOA | B21: RCTA | C21: 13.71 | D21: 14.02 | E21: 41888.438 | F21: 6.58 | G21: J | H21: 10000 | I21: J | J21: 0.81 | L21: 11000 | M21: J | N21: 1.56 | O21: 30 | P21: J | Q21: =O21*10 -> 300 | R21: NT | T21: =IF(ISNUMBER(Q21),Q21/N21,"") -> 192.30769
A22: CH14-015-MW001C-SOA | B22: RCTA | C22: 2.13 | D22: 2.44 | E22: 41885.677 | F22: 2.37 | G22: J | H22: 10000 | I22: J | J22: 1.37 | L22: 393000 | N22: 1158.8747 | O22: 1 | P22: U | Q22: =O22*10 -> 10 | R22: NT | T22: =IF(ISNUMBER(Q22),Q22/N22,"") -> 0.0086290605
A23: CH14-015-MW001C-SOF | B23: RCTA | C23: 16.46 | D23: 16.76 | E23: 41885.74 | F23: 5.13 | G23: J | H23: 5340 | J23: 0.23 | L23: 320000 | N23: 961.83949 | O23: 24 | Q23: =O23*10 -> 240 | R23: NT | T23: =IF(ISNUMBER(Q23),Q23/N23,"") -> 0.24952188
A24: CH14-015-MW001C-SOG | B24: RCTA | C24: 19.2 | D24: 19.5 | E24: 41886.771 | F24: 4.06 | G24: J | H24: 792 | J24: 0.08 | L24: 12400 | N24: 34.622663 | O24: 6 | Q24: =O24*10 -> 60 | R24: NT | T24: =IF(ISNUMBER(Q24),Q24/N24,"") -> 1.7329689
A25: CH14-015-MW001C-SOH | B25: RCTA | C25: 20.42 | D25: 20.73 | E25: 41886.622 | F25: 4.32 | G25: J | H25: 766 | J25: 0.04 | L25: 7100 | N25: 19.873819 | O25: 6 | Q25: =O25*10 -> 60 | R25: NT | T25: =IF(ISNUMBER(Q25),Q25/N25,"") -> 3.0190474
A26: CH14-015-MW001C-SOI | B26: RCTA | C26: 21.64 | D26: 21.95 | E26: 41886.625 | F26: 4.09 | G26: J | H26: 1045 | J26: 0.01 | K26: U | L26: 1900 | N26: 4.5014314 | O26: 7 | Q26: =O26*10 -> 70 | R26: NT | T26: =IF(ISNUMBER(Q26),Q26/N26,"") -> 15.550609
A27: CH14-015-MW001C-SOJ | B27: RCTA | C27: 23.77 | D27: 24.08 | E27: 41886.635 | F27: 3.64 | G27: J | H27: 743 | J27: 0.12 | L27: 2100 | N27: 1.7542887 | O27: 5 | Q27: =O27*10 -> 50 | R27: NT | T27: =IF(ISNUMBER(Q27),Q27/N27,"") -> 28.50158
A28: CH14-015-MW001C-SOK | B28: RCTA | C28: 25.6 | D28: 25.91 | E28: 41886.635 | F28: 3.72 | G28: J | H28: 808 | J28: 0.01 | L28: 1000 | N28: 1.7763473 | O28: 5 | Q28: =O28*10 -> 50 | R28: NT | T28: =IF(ISNUMBER(Q28),Q28/N28,"") -> 28.147649
A29: CH14-015-MW002A-SOB | B29: RCTA | C29: 6.7 | D29: 7.1 | E29: 41888.646 | F29: 4.49 | G29: J | H29: 10000 | I29: J | J29: 0.74 | L29: 403000 | N29: 1207.2644 | O29: 80 | Q29: =O29*10 -> 800 | R29: NT | T29: =IF(ISNUMBER(Q29),Q29/N29,"") -> 0.66265518
A30: CH14-015-MW002A-SOD | B30: RCTA | C30: 12.8 | D30: 13.1 | E30: 41888.67 | F30: 5.72 | G30: J | H30: 10000 | I30: J | J30: 0.6 | L30: 374000 | N30: 1109.1258 | O30: 25 | Q30: =O30*10 -> 250 | R30: NT | T30: =IF(ISNUMBER(Q30),Q30/N30,"") -> 0.22540276
A31: CH14-201-TH001-SOF | B31: RCTA | C31: 4.57 | D31: 5.029 | E31: 41868.59 | F31: NT | H31: NT | J31: NT | L31: 210000 | N31: =L31*31.25/10000 -> 656.25 | O31: 27 | Q31: 270 | R31: NT | T31: =IF(ISNUMBER(Q31),Q31/N31,"") -> 0.41142857
A32: CH14-201-TH001-SOG | B32: RCTA | C32: 6.1 | D32: 6.55 | E32: 41868.615 | F32: NT | H32: NT | J32: NT | L32: 278000 | N32: =L32*31.25/10000 -> 868.75 | O32: 43 | Q32: 430 | R32: NT | T32: =IF(ISNUMBER(Q32),Q32/N32,"") -> 0.49496403
A33: CH14-201-TH001-SOJ | B33: RCTA | C33: 9.75 | D33: 10.21 | E33: 41868.733 | F33: 4.36 | G33: J | H33: 9230 | J33: 0.31 | L33: 335000 | N33: 1016.72 | O33: 24 | Q33: 240 | R33: NT | T33: =IF(ISNUMBER(Q33),Q33/N33,"") -> 0.2360532
A34: CH14-201-TH002-SOB | B34: RCTA | C34: 0.61 | D34: 1.07 | E34: 41865.465 | F34: 4.29 | G34: J | H34: 10000 | I34: J | J34: 0.93 | L34: 253000 | N34: 741.27656 | O34: 24 | Q34: 240 | R34: NT | T34: =IF(ISNUMBER(Q34),Q34/N34,"") -> 0.3237658
A35: CH14-201-TH002-SOH | B35: RCTA | C35: 9.14 | D35: 9.6 | E35: 41865.729 | F35: 5.5 | G35: J | H35: 5770 | J35: 0.21 | L35: 408000 | N35: 1251.169 | O35: 21 | Q35: 210 | R35: NT | T35: =IF(ISNUMBER(Q35),Q35/N35,"") -> 0.16784303
A36: CH14-201-TH002-SOJ | B36: RCTA | C36: 12.19 | D36: 12.65 | E36: 41866.493 | F36: 5.93 | G36: J | H36: 10000 | I36: J | J36: 0.64 | L36: 305000 | N36: 909.44787 | O36: 27 | Q36: 270 | R36: NT | T36: =IF(ISNUMBER(Q36),Q36/N36,"") -> 0.29688343
A37: CH14-201-TH002-SOM | B37: RCTA | C37: 15.85 | D37: 16.31 | E37: 41866.705 | F37: 5.99 | G37: J | H37: 9870 | J37: 0.25 | L37: 337000 | N37: 1025.0427 | O37: 20 | Q37: 200 | R37: NT | T37: =IF(ISNUMBER(Q37),Q37/N37,"") -> 0.19511382
A38: CH14-201-TH002-SON | B38: RCTA | C38: 16.76 | D38: 17.22 | E38: 41867.39 | F38: 6.07 | G38: J | H38: 7220 | J38: 0.15 | L38: 285000 | N38: 864.48719 | O38: 17 | Q38: 170 | R38: NT | T38: =IF(ISNUMBER(Q38),Q38/N38,"") -> 0.19664837
A39: CH14-201-TH002-SOP | B39: RCTA | C39: 19.81 | D39: 20.27 | E39: 41867.542 | H39: NT | J39: NT | L39: 57000 | N39: =L39*31.25/10000 -> 178.125 | O39: 17 | Q39: 170 | R39: NT | T39: =IF(ISNUMBER(Q39),Q39/N39,"") -> 0.95438596
A40: CH14-201-TH002-SOP-B | B40: RCTA | C40: 19.81 | D40: 20.27 | E40: 41867.542 | F40: 5.01 | G40: J | H40: NT | J40: NT | L40: 226000 | N40: =L40*31.25/10000 -> 706.25 | O40: 22 | Q40: 220 | R40: NT | T40: =IF(ISNUMBER(Q40),Q40/N40,"") -> 0.31150442
A41: CH14-201-TH003-SOD-B | B41: RCTA | C41: 3.05 | D41: 3.51 | E41: 41864.687 | F41: NT | H41: NT | J41: NT | L41: 14200 | N41: =L41*31.25/10000 -> 44.375 | O41: NT | Q41: NC | R41: NT | T41: NC
A42: CH14-201-TH004-SOE | B42: RCTA | C42: 4.57 | D42: 5.03 | E42: 41864.413 | F42: NT | H42: NT | J42: NT | L42: 324000 | N42: =L42*31.25/10000 -> 1012.5 | O42: 24 | Q42: 240 | R42: NT | T42: =IF(ISNUMBER(Q42),Q42/N42,"") -> 0.23703704
A43: CH14-201-TH004-SOF | B43: RCTA | C43: 6.1 | D43: 6.55 | E43: 41864.441 | F43: NT | H43: NT | J43: NT | L43: 29700 | N43: =L43*31.25/10000 -> 92.8125 | O43: 32 | Q43: 320 | R43: NT | T43: =IF(ISNUMBER(Q43),Q43/N43,"") -> 3.4478114
A44: CH14-201-TH006-SOA | B44: RCTA | C44: 0 | D44: 0.46 | E44: 41862.417 | F44: NT | H44: NT | J44: NT | L44: 250000 | N44: =L44*31.25/10000 -> 781.25 | O44: NT | Q44: NC | R44: NT | T44: NC
A45: CH14-201-TH006-SOE | B45: RCTA | C45: 5.18 | D45: 5.64 | E45: 41862.521 | F45: NT | H45: NT | J45: NT | L45: 39900 | N45: =L45*31.25/10000 -> 124.6875 | O45: NT | Q45: NC | R45: NT | T45: NC
A46: CH15-201-MW010_SOh | B46: RCTA | C46: 5.72 | D46: 7.01 | E46: 42322.479 | F46: 7.82 | H46: NT | J46: NT | L46: 600 | N46: =L46*31.25/10000 -> 1.875 | O46: 67 | Q46: =O46*10 -> 670 | R46: NT | T46: =IF(ISNUMBER(Q46),Q46/N46,"") -> 357.33333
A47: CH15-201-MW010_SOn | B47: RCTA | C47: 10.24 | D47: 11.58 | E47: 42322.58 | F47: 7.94 | H47: NT | J47: NT | L47: 1200 | N47: =L47*31.25/10000 -> 3.75 | O47: 57 | Q47: =O47*10 -> 570 | R47: NT | T47: =IF(ISNUMBER(Q47),Q47/N47,"") -> 152
A48: CH15-201-MW010_SOw | B48: RCTA | C48: 19.2 | D48: 20.73 | E48: 42323.517 | F48: 8.03 | H48: NT | J48: NT | L48: 600 | N48: =L48*31.25/10000 -> 1.875 | O48: 108 | Q48: =O48*10 -> 1080 | R48: NT | T48: =IF(ISNUMBER(Q48),Q48/N48,"") -> 576
A49: CH15-201-MW910_SOw | B49: RCTA | C49: 19.2 | D49: 20.73 | E49: 42323.517 | F49: 8 | H49: NT | J49: NT | L49: 700 | N49: =L49*31.25/10000 -> 2.1875 | O49: 103 | Q49: =O49*10 -> 1030 | R49: NT | T49: =IF(ISNUMBER(Q49),Q49/N49,"") -> 470.85714
A51: Notes:
A52: Laboratory data has been validated by CH2M HILL prior to importing to EquIS. This summary table has been through QA/QC.
A53: Analytical results for neutralization potential by the AOAC 955.01 and MOD-SOBEK-3.2.3 methods are reported; results by the MOD-SOBEK-3.2.3 method are indicated using "*".
A54: AOAC 955.01 is the preferred analytical method for neutralization potential; however, MOD-SOBEK-3.2.3 was applied to some samples collected in 2012 due to miscommunication.
A55: Analytical results by the AOAC 955.01 method should be considered in future analysis and decision-making process.
A56: Calculated values of acid potential (AP) presented italics were calculated based on total sulphur content, and represent conservative estimates of the acid generation potential
A58: CaCO3 = calcium carbonate
A59: CaO = calcium oxide
A60: J = Analyte was present but the reported value may not be accurate or precise.
A61: kg = kilogram
A62: LMB = lithium metaborate
A63: mbgs = metre below ground surface
... A71: U = This analyte was analyzed for but not detected at the specified detection limit.

Sheet 9_FieldParam
A1: Table 9. Field Parameters
A2: Faro Mine Remediation Project
B3: Location ID | C3: CH15-106-MW002 | D3: CH15-106-MW006 | E3: CH15-106MW008 | F3: FCD-1 | G3: FCD-1 | H3: FCD-2 | I3: FCD-2A | J3: West Valley Interceptor Ditch
B4: General Location | C4: Cluster 1 | D4: Cluster 3 | E4: Cluster 2 | F4: FCD-1 | G4: FCD-1 | H4: FCD-2 | I4: FCD-2A | J4: Cluster 1
B5: Date | C5: 42523 | D5: 42523 | E5: 42528 | F5: 42525.56 | G5: 42525.535 | H5: 42525.472 | I5: 42525.506 | J5: 42523.659
A6: Field Parameter | B6: Unit
A7: Conductivity | B7: mS/cm | C7: 0.181 | D7: 0.139 | E7: 0.247 | F7: 0.024 | G7: 0.024 | H7: 0.024 | I7: 0.024 | J7: 0.128
A8: Dissolved Oxygen | B8: mg/L | C8: 9.44 | D8: 6.01 | E8: 6.03 | F8: 10.91 | G8: 10.9 | H8: 11.2 | I8: 10.98 | J8: 7.89
A9: Oxidation Reduction Potential | B9: mV | C9: 173.6 | D9: 130.6 | E9: 95.7 | F9: 110.6 | G9: 140 | H9: 88.5 | I9: 102.8 | J9: 138.7
A10: pH | B10: pH UNITS | C10: 7.19 | D10: 6.5 | E10: 7.1 | F10: 7.11 | G10: 7.11 | H10: 7.21 | I10: 7.16 | J10: 7.89
A11: Temperature | B11: deg c | C11: 3.65 | D11: 2.96 | E11: 3.6 | F11: 4.83 | G11: 4.77 | H11: 4.49 | I11: 4.95 | J11: 12.79
A12: Turbidity | B12: NTU | C12: 18.2 | D12: 130 | E12: 18.8 | F12: -0.2 | G12: -0.2 | H12: -0.3 | I12: -0.3 | J12: 3.1
A14: Notes:
A15: deg c = degrees Celsius
A16: FCD = Faro Creek Diversion
A17: ID = identification
A18: mS/cm = milliSiemen per centimetre
A19: mg/L = milligram per litre
A20: mV = millivolt
A21: NTU = nephelometric turbidity unit

Sheet 10_Chemistry
A1: Table 10. Analytical Results - General Chemistry, Anions, Nutrients and Dissolved Metals | K1: QC check | L1: Checlk
A2: Faro Mine Remediation Project
A3: Location ID | D3: CH15-106-MW002 | E3: CH15-106-MW006 | F3: CH15-106-MW008
A4: General Location | D4: Cluster 1 | E4: Cluster 3 | F4: Cluster 2
A5: Date | D5: 42523 | E5: 42523 | F5: 42528
A6: Analyses ID | B6: Units | C6: Screening Level | G6: =MAX(D6:F6)/C6 -> #VALUE! | H6: 3 over 1 | I6: 2 over 3 | J6: 2 over 1
A7: General Chemistry | G7: =MAX(D7:F7)/C7 -> #DIV/0! | P7: Screening Level
A8: pH, Field | B8: pH UNITS | C8: 6.5 - 9.0 | D8: 7.19 | E8: 6.5 | F8: 7.1 | G8: =MAX(D8:F8)/C8 -> #VALUE! | H8: =E8/D8 -> 0.90403338 | I8: =F8/E8 -> 1.0923077 | J8: =F8/D8 -> 0.98748261 | L8: =VLOOKUP(D$3&$A8,RawWQdata!$A$2:$Q$219,17,FALSE) -> 7.19 | M8: =VLOOKUP(E$3&$A8,RawWQdata!$A$2:$Q$219,17,FALSE) -> 6.5 | N8: =VLOOKUP(F$3&$A8,RawWQdata!$A$2:$Q$219,17,FALSE) -> 7.1
A9: Temperature, Field | B9: deg c | C9: - | D9: 3.65 | E9: 2.96 | F9: 3.6 | G9: =MAX(D9:F9)/C9 -> #VALUE! | H9: =E9/D9 -> 0.8109589 | I9: =F9/E9 -> 1.2162162 | J9: =F9/D9 -> 0.98630137 | L9: =VLOOKUP(D$3&$A9,RawWQdata!$A$2:$Q$219,17,FALSE) -> 3.65 | M9: =VLOOKUP(E$3&$A9,RawWQdata!$A$2:$Q$219,17,FALSE) -> 2.96 | N9: =VLOOKUP(F$3&$A9,RawWQdata!$A$2:$Q$219,17,FALSE) -> 3.6
A10: Hardness (as CaCO3) | B10: mg/L | C10: - | D10: 97.4 | E10: 62 | F10: 116 | G10: =MAX(D10:F10)/C10 -> #VALUE! | H10: =E10/D10 -> 0.63655031 | I10: =F10/E10 -> 1.8709677 | J10: =F10/D10 -> 1.1909651 | L10: =VLOOKUP(D$3&$A10,RawWQdata!$A$2:$Q$219,17,FALSE) -> 97.4 | M10: =VLOOKUP(E$3&$A10,RawWQdata!$A$2:$Q$219,17,FALSE) -> 62 | N10: =VLOOKUP(F$3&$A10,RawWQdata!$A$2:$Q$219,17,FALSE) -> 116
A11: Total Suspended Solids | B11: mg/L | C11: - | D11: 125 | E11: 129 | F11: 9.6 | G11: =MAX(D11:F11)/C11 -> #VALUE! | H11: =E11/D11 -> 1.032 | I11: =F11/E11 -> 0.074418605 | J11: =F11/D11 -> 0.0768 | L11: =VLOOKUP(D$3&$A11,RawWQdata!$A$2:$Q$219,17,FALSE) -> 33.6 | M11: =VLOOKUP(E$3&$A11,RawWQdata!$A$2:$Q$219,17,FALSE) -> 160 | N11: =VLOOKUP(F$3&$A11,RawWQdata!$A$2:$Q$219,17,FALSE) -> 5
A12: Total Dissolved Solids | B12: mg/L | C12: - | D12: 33.6 | E12: 160 | F12: 411 | G12: =MAX(D12:F12)/C12 -> #VALUE! | H12: =E12/D12 -> 4.7619048 | I12: =F12/E12 -> 2.56875 | J12: =F12/D12 -> 12.232143 | L12: =VLOOKUP(D$3&$A12,RawWQdata!$A$2:$Q$219,17,FALSE) -> 125 | M12: =VLOOKUP(E$3&$A12,RawWQdata!$A$2:$Q$219,17,FALSE) -> 129 | N12: =VLOOKUP(F$3&$A12,RawWQdata!$A$2:$Q$219,17,FALSE) -> 411
A13: Anions and Nutrients | G13: =MAX(D13:F13)/C13 -> #DIV/0! | H13: =E13/D13 -> #DIV/0! | I13: =F13/E13 -> #DIV/0! | J13: =F13/D13 -> #DIV/0! | L13: =VLOOKUP(D$3&$A13,RawWQdata!$A$2:$Q$219,17,FALSE) -> #N/A | M13: =VLOOKUP(E$3&$A13,RawWQdata!$A$2:$Q$219,17,FALSE) -> #N/A | N13: =VLOOKUP(F$3&$A13,RawWQdata!$A$2:$Q$219,17,FALSE) -> #N/A
A14: Acidity, Hot Peroxide | B14: mg/L | C14: - | D14: 25 | E14: 25 | F14: 25 | G14: =MAX(D14:F14)/C14 -> #VALUE! | H14: =E14/D14 -> 1 | I14: =F14/E14 -> 1 | J14: =F14/D14 -> 1 | L14: =VLOOKUP(D$3&$A14,RawWQdata!$A$2:$Q$219,17,FALSE) -> 25 | M14: =VLOOKUP(E$3&$A14,RawWQdata!$A$2:$Q$219,17,FALSE) -> 25 | N14: =VLOOKUP(F$3&$A14,RawWQdata!$A$2:$Q$219,17,FALSE) -> 25
A15: Alkalinity, Bicarbonate (as CaCO3) | B15: mg/L | C15: - | D15: 94.1 | E15: 50.1 | F15: 74.5 | G15: =MAX(D15:F15)/C15 -> #VALUE! | H15: =E15/D15 -> 0.53241233 | I15: =F15/E15 -> 1.4870259 | J15: =F15/D15 -> 0.79171095 | L15: =VLOOKUP(D$3&$A15,RawWQdata!$A$2:$Q$219,17,FALSE) -> 94.1 | M15: =VLOOKUP(E$3&$A15,RawWQdata!$A$2:$Q$219,17,FALSE) -> 50.1 | N15: =VLOOKUP(F$3&$A15,RawWQdata!$A$2:$Q$219,17,FALSE) -> 79.8
A16: Alkalinity, Carbonate (as CaCO3) | B16: mg/L | C16: - | D16: 1 | E16: 1 | F16: 1 | G16: =MAX(D16:F16)/C16 -> #VALUE! | H16: =E16/D16 -> 1 | I16: =F16/E16 -> 1 | J16: =F16/D16 -> 1 | L16: =VLOOKUP(D$3&$A16,RawWQdata!$A$2:$Q$219,17,FALSE) -> 1 | M16: =VLOOKUP(E$3&$A16,RawWQdata!$A$2:$Q$219,17,FALSE) -> 1 | N16: =VLOOKUP(F$3&$A16,RawWQdata!$A$2:$Q$219,17,FALSE) -> 1
A17: Alkalinity, Hydroxide (as CaCO3) | B17: mg/L | C17: - | D17: 1 | E17: 1 | F17: 1 | G17: =MAX(D17:F17)/C17 -> #VALUE! | H17: =E17/D17 -> 1 | I17: =F17/E17 -> 1 | J17: =F17/D17 -> 1 | L17: =VLOOKUP(D$3&$A17,RawWQdata!$A$2:$Q$219,17,FALSE) -> 1 | M17: =VLOOKUP(E$3&$A17,RawWQdata!$A$2:$Q$219,17,FALSE) -> 1 | N17: =VLOOKUP(F$3&$A17,RawWQdata!$A$2:$Q$219,17,FALSE) -> 1
A18: Alkalinity, Total (as CaCO3) | B18: mg/L | C18: - | D18: 94.1 | E18: 50.1 | F18: 79.8 | G18: =MAX(D18:F18)/C18 -> #VALUE! | H18: =E18/D18 -> 0.53241233 | I18: =F18/E18 -> 1.5928144 | J18: =F18/D18 -> 0.84803401 | L18: =VLOOKUP(D$3&$A18,RawWQdata!$A$2:$Q$219,17,FALSE) -> 94.1 | M18: =VLOOKUP(E$3&$A18,RawWQdata!$A$2:$Q$219,17,FALSE) -> 50.1 | N18: =VLOOKUP(F$3&$A18,RawWQdata!$A$2:$Q$219,17,FALSE) -> 79.8
A19: Ammonia | B19: mg/L | C19: Variablea | D19: 0.005 | E19: 0.0196 | F19: 0.005 | G19: =MAX(D19:F19)/C19 -> #VALUE! | H19: =E19/D19 -> 3.92 | I19: =F19/E19 -> 0.25510204 | J19: =F19/D19 -> 1 | L19: =VLOOKUP(D$3&$A19,RawWQdata!$A$2:$Q$219,17,FALSE) -> 0.005 | M19: =VLOOKUP(E$3&$A19,RawWQdata!$A$2:$Q$219,17,FALSE) -> 0.0196 | N19: =VLOOKUP(F$3&$A19,RawWQdata!$A$2:$Q$219,17,FALSE) -> 0.005
A20: Chloride (Cl) | B20: mg/L | C20: 120 | D20: 0.5 | E20: 0.5 | F20: 0.5 | G20: =MAX(D20:F20)/C20 -> 0.0041666667 | H20: =E20/D20 -> 1 | I20: =F20/E20 -> 1 | J20: =F20/D20 -> 1 | L20: =VLOOKUP(D$3&$A20,RawWQdata!$A$2:$Q$219,17,FALSE) -> 0.5 | M20: =VLOOKUP(E$3&$A20,RawWQdata!$A$2:$Q$219,17,FALSE) -> 0.5 | N20: =VLOOKUP(F$3&$A20,RawWQdata!$A$2:$Q$219,17,FALSE) -> 0.5
A21: Fluoride | B21: mg/L | C21: 0.12 | D21: 0.067 | E21: 0.091 | F21: 0.123 | G21: =MAX(D21:F21)/C21 -> 1.025 | H21: =E21/D21 -> 1.358209 | I21: =F21/E21 -> 1.3516484 | J21: =F21/D21 -> 1.8358209 | L21: =VLOOKUP(D$3&$A21,RawWQdata!$A$2:$Q$219,17,FALSE) -> 0.067 | M21: =VLOOKUP(E$3&$A21,RawWQdata!$A$2:$Q$219,17,FALSE) -> 0.091 | N21: =VLOOKUP(F$3&$A21,RawWQdata!$A$2:$Q$219,17,FALSE) -> 0.123
A22: Nitrate (as N) | B22: mg/L | C22: 13 | D22: 0.207 | E22: 0.112 | F22: 0.113 | G22: =MAX(D22:F22)/C22 -> 0.015923077 | H22: =E22/D22 -> 0.5410628 | I22: =F22/E22 -> 1.0089286 | J22: =F22/D22 -> 0.54589372 | L22: =VLOOKUP(D$3&$A22,RawWQdata!$A$2:$Q$219,17,FALSE) -> 0.207 | M22: =VLOOKUP(E$3&$A22,RawWQdata!$A$2:$Q$219,17,FALSE) -> 0.112 | N22: =VLOOKUP(F$3&$A22,RawWQdata!$A$2:$Q$219,17,FALSE) -> 0.113
A23: Nitrite (as N) | B23: mg/L | C23: 0.06 | D23: 0.001 | E23: 0.001 | F23: 0.001 | G23: =MAX(D23:F23)/C23 -> 0.016666667 | H23: =E23/D23 -> 1 | I23: =F23/E23 -> 1 | J23: =F23/D23 -> 1 | L23: =VLOOKUP(D$3&$A23,RawWQdata!$A$2:$Q$219,17,FALSE) -> 0.001 | M23: =VLOOKUP(E$3&$A23,RawWQdata!$A$2:$Q$219,17,FALSE) -> 0.001 | N23: =VLOOKUP(F$3&$A23,RawWQdata!$A$2:$Q$219,17,FALSE) -> 0.001 | P23: Nitrate (as N) | Q23: 0.113
A24: Phosphorus | B24: mg/L | C24: - | D24: 0.026 | E24: 0.157 | F24: 0.02 | G24: =MAX(D24:F24)/C24 -> #VALUE! | H24: =E24/D24 -> 6.0384615 | I24: =F24/E24 -> 0.12738854 | J24: =F24/D24 -> 0.76923077 | L24: =VLOOKUP(D$3&$A24,RawWQdata!$A$2:$Q$219,17,FALSE) -> 0.026 | M24: =VLOOKUP(E$3&$A24,RawWQdata!$A$2:$Q$219,17,FALSE) -> 0.157 | N24: =VLOOKUP(F$3&$A24,RawWQdata!$A$2:$Q$219,17,FALSE) -> 0.02 | P24: Nitrate (as N) | Q24: 0.113
A25: Sulfate | B25: mg/L | C25: 100 | D25: 4.07 | E25: 20.8 | F25: 43.4 | G25: =MAX(D25:F25)/C25 -> 0.434 | H25: =E25/D25 -> 5.1105651 | I25: =F25/E25 -> 2.0865385 | J25: =F25/D25 -> 10.663391 | L25: =VLOOKUP(D$3&$A25,RawWQdata!$A$2:$Q$219,17,FALSE) -> 4.07 | M25: =VLOOKUP(E$3&$A25,RawWQdata!$A$2:$Q$219,17,FALSE) -> 20.8 | N25: =VLOOKUP(F$3&$A25,RawWQdata!$A$2:$Q$219,17,FALSE) -> 43.4 | P25: Nitrite (as N) | Q25: 0.001
A26: Carbon, Dissolved Organic (DOC) | B26: mg/L | C26: - | D26: 2.76 | E26: 1.28 | F26: 0.87 | G26: =MAX(D26:F26)/C26 -> #VALUE! | H26: =E26/D26 -> 0.46376812 | I26: =F26/E26 -> 0.6796875 | J26: =F26/D26 -> 0.31521739 | L26: =VLOOKUP(D$3&$A26,RawWQdata!$A$2:$Q$219,17,FALSE) -> 2.76 | M26: =VLOOKUP(E$3&$A26,RawWQdata!$A$2:$Q$219,17,FALSE) -> 1.28 | N26: =VLOOKUP(F$3&$A26,RawWQdata!$A$2:$Q$219,17,FALSE) -> 0.87 | P26: Nitrite (as N) | Q26: 0.001
A27: Free Cyanide | C27: 0.005 | G27: =MAX(D27:F27)/C27 -> 0 | H27: =E27/D27 -> #DIV/0! | I27: =F27/E27 -> #DIV/0! | J27: =F27/D27 -> #DIV/0! | L27: =VLOOKUP(D$3&$A27,RawWQdata!$A$2:$Q$219,17,FALSE) -> #N/A | M27: =VLOOKUP(E$3&$A27,RawWQdata!$A$2:$Q$219,17,FALSE) -> #N/A | N27: =VLOOKUP(F$3&$A27,RawWQdata!$A$2:$Q$219,17,FALSE) -> #N/A
A28: Dissolved Metals | G28: =MAX(D28:F28)/C28 -> #DIV/0! | H28: =E28/D28 -> #DIV/0! | I28: =F28/E28 -> #DIV/0! | J28: =F28/D28 -> #DIV/0! | L28: =VLOOKUP(D$3&$A28,RawWQdata!$A$2:$Q$219,17,FALSE) -> #N/A | M28: =VLOOKUP(E$3&$A28,RawWQdata!$A$2:$Q$219,17,FALSE) -> #N/A | N28: =VLOOKUP(F$3&$A28,RawWQdata!$A$2:$Q$219,17,FALSE) -> #N/A
A29: Aluminum | B29: mg/L | C29: 0.005 to 0.1b | D29: 0.001 | E29: 0.001 | F29: 0.001 | G29: =MAX(D29:F29)/C29 -> #VALUE! | H29: =E29/D29 -> 1 | I29: =F29/E29 -> 1 | J29: =F29/D29 -> 1 | K29: =A29&", dissolved" -> Aluminum, dissolved | L29: =VLOOKUP(D$3&$K29,RawWQdata!$A$2:$Q$219,17,FALSE) -> 0.001 | M29: =VLOOKUP(E$3&$K29,RawWQdata!$A$2:$Q$219,17,FALSE) -> 0.001 | N29: =VLOOKUP(F$3&$K29,RawWQdata!$A$2:$Q$219,17,FALSE) -> 0.001
A30: Antimony (Sb) | B30: mg/L | C30: 1.6 | D30: 0.0001 | E30: 0.0001 | F30: 0.00014 | G30: =MAX(D30:F30)/C30 -> 8.75e-05 | H30: =E30/D30 -> 1 | I30: =F30/E30 -> 1.4 | J30: =F30/D30 -> 1.4 | K30: =A30&", dissolved" -> Antimony (Sb), dissolved | L30: =VLOOKUP(D$3&$K30,RawWQdata!$A$2:$Q$219,17,FALSE) -> #N/A | M30: =VLOOKUP(E$3&$K30,RawWQdata!$A$2:$Q$219,17,FALSE) -> #N/A | N30: =VLOOKUP(F$3&$K30,RawWQdata!$A$2:$Q$219,17,FALSE) -> #N/A
A31: Arsenic (As) | B31: mg/L | C31: 0.005 | D31: 0.00017 | E31: 0.00024 | F31: 0.00016 | G31: =MAX(D31:F31)/C31 -> 0.048 | H31: =E31/D31 -> 1.4117647 | I31: =F31/E31 -> 0.66666667 | J31: =F31/D31 -> 0.94117647 | K31: =A31&", dissolved" -> Arsenic (As), dissolved | L31: =VLOOKUP(D$3&$K31,RawWQdata!$A$2:$Q$219,17,FALSE) -> #N/A | M31: =VLOOKUP(E$3&$K31,RawWQdata!$A$2:$Q$219,17,FALSE) -> #N/A | N31: =VLOOKUP(F$3&$K31,RawWQdata!$A$2:$Q$219,17,FALSE) -> #N/A
A32: Barium (Ba) | B32: mg/L | C32: 2.3 | D32: 0.171 | E32: 0.0717 | F32: 0.049 | G32: =MAX(D32:F32)/C32 -> 0.074347826 | H32: =E32/D32 -> 0.41929825 | I32: =F32/E32 -> 0.68340307 | J32: =F32/D32 -> 0.28654971 | K32: =A32&", dissolved" -> Barium (Ba), dissolved | L32: =VLOOKUP(D$3&$K32,RawWQdata!$A$2:$Q$219,17,FALSE) -> #N/A | M32: =VLOOKUP(E$3&$K32,RawWQdata!$A$2:$Q$219,17,FALSE) -> #N/A | N32: =VLOOKUP(F$3&$K32,RawWQdata!$A$2:$Q$219,17,FALSE) -> #N/A
A33: Beryllium (Be) | B33: mg/L | C33: 0.0053 | D33: 0.0001 | E33: 0.0001 | F33: 0.0001 | G33: =MAX(D33:F33)/C33 -> 0.018867925 | H33: =E33/D33 -> 1 | I33: =F33/E33 -> 1 | J33: =F33/D33 -> 1 | K33: =A33&", dissolved" -> Beryllium (Be), dissolved | L33: =VLOOKUP(D$3&$K33,RawWQdata!$A$2:$Q$219,17,FALSE) -> #N/A | M33: =VLOOKUP(E$3&$K33,RawWQdata!$A$2:$Q$219,17,FALSE) -> #N/A | N33: =VLOOKUP(F$3&$K33,RawWQdata!$A$2:$Q$219,17,FALSE) -> #N/A
A34: Boron (B) | B34: mg/L | C34: 1.5 | D34: 0.01 | E34: 0.01 | F34: 0.01 | G34: =MAX(D34:F34)/C34 -> 0.0066666667 | H34: =E34/D34 -> 1 | I34: =F34/E34 -> 1 | J34: =F34/D34 -> 1 | K34: =A34&", dissolved" -> Boron (B), dissolved | L34: =VLOOKUP(D$3&$K34,RawWQdata!$A$2:$Q$219,17,FALSE) -> #N/A | M34: =VLOOKUP(E$3&$K34,RawWQdata!$A$2:$Q$219,17,FALSE) -> #N/A | N34: =VLOOKUP(F$3&$K34,RawWQdata!$A$2:$Q$219,17,FALSE) -> #N/A
A35: Cadmium (Cd) | B35: mg/L | C35: Variablec | D35: 4.83e-05 | E35: 0.000106 | F35: 0.000214 | G35: =MAX(D35:F35)/C35 -> #VALUE! | H35: =E35/D35 -> 2.194617 | I35: =F35/E35 -> 2.0188679 | J35: =F35/D35 -> 4.4306418 | K35: =A35&", dissolved" -> Cadmium (Cd), dissolved | L35: =VLOOKUP(D$3&$K35,RawWQdata!$A$2:$Q$219,17,FALSE) -> #N/A | M35: =VLOOKUP(E$3&$K35,RawWQdata!$A$2:$Q$219,17,FALSE) -> #N/A | N35: =VLOOKUP(F$3&$K35,RawWQdata!$A$2:$Q$219,17,FALSE) -> #N/A
A36: Calcium | B36: mg/L | C36: - | D36: 34.4 | E36: 18.9 | F36: 38.5 | G36: =MAX(D36:F36)/C36 -> #VALUE! | H36: =E36/D36 -> 0.5494186 | I36: =F36/E36 -> 2.037037 | J36: =F36/D36 -> 1.119186 | K36: =A36&", dissolved" -> Calcium, dissolved | L36: =VLOOKUP(D$3&$K36,RawWQdata!$A$2:$Q$219,17,FALSE) -> 34.4 | M36: =VLOOKUP(E$3&$K36,RawWQdata!$A$2:$Q$219,17,FALSE) -> 18.9 | N36: =VLOOKUP(F$3&$K36,RawWQdata!$A$2:$Q$219,17,FALSE) -> 38.5
A37: Chromium (Cr) | B37: mg/L | C37: 0.0089 | D37: 0.00046 | E37: 0.00019 | F37: 0.00038 | G37: =MAX(D37:F37)/C37 -> 0.051685393 | H37: =E37/D37 -> 0.41304348 | I37: =F37/E37 -> 2 | J37: =F37/D37 -> 0.82608696 | K37: =A37&", dissolved" -> Chromium (Cr), dissolved | L37: =VLOOKUP(D$3&$K37,RawWQdata!$A$2:$Q$219,17,FALSE) -> #N/A | M37: =VLOOKUP(E$3&$K37,RawWQdata!$A$2:$Q$219,17,FALSE) -> #N/A | N37: =VLOOKUP(F$3&$K37,RawWQdata!$A$2:$Q$219,17,FALSE) -> #N/A
A38: Cobalt (Co) | B38: mg/L | C38: - | D38: 0.0001 | E38: 0.00066 | F38: 0.00016 | G38: =MAX(D38:F38)/C38 -> #VALUE! | H38: =E38/D38 -> 6.6 | I38: =F38/E38 -> 0.24242424 | J38: =F38/D38 -> 1.6 | K38: =A38&", dissolved" -> Cobalt (Co), dissolved | L38: =VLOOKUP(D$3&$K38,RawWQdata!$A$2:$Q$219,17,FALSE) -> #N/A | M38: =VLOOKUP(E$3&$K38,RawWQdata!$A$2:$Q$219,17,FALSE) -> #N/A | N38: =VLOOKUP(F$3&$K38,RawWQdata!$A$2:$Q$219,17,FALSE) -> #N/A
A39: Copper (Cu) | B39: mg/L | C39: 0.002 to 0.004d | D39: 0.0014 | E39: 0.00041 | F39: 0.00074 | G39: =MAX(D39:F39)/C39 -> #VALUE! | H39: =E39/D39 -> 0.29285714 | I39: =F39/E39 -> 1.804878 | J39: =F39/D39 -> 0.52857143 | K39: =A39&", dissolved" -> Copper (Cu), dissolved | L39: =VLOOKUP(D$3&$K39,RawWQdata!$A$2:$Q$219,17,FALSE) -> #N/A | M39: =VLOOKUP(E$3&$K39,RawWQdata!$A$2:$Q$219,17,FALSE) -> #N/A | N39: =VLOOKUP(F$3&$K39,RawWQdata!$A$2:$Q$219,17,FALSE) -> #N/A
A40: Ferrous Iron | B40: mg/L | C40: - | D40: 0.02 | E40: 0.165 | F40: 0.023 | G40: =MAX(D40:F40)/C40 -> #VALUE! | H40: =E40/D40 -> 8.25 | I40: =F40/E40 -> 0.13939394 | J40: =F40/D40 -> 1.15 | K40: =A40&", dissolved" -> Ferrous Iron, dissolved | L40: =VLOOKUP(D$3&$K40,RawWQdata!$A$2:$Q$219,17,FALSE) -> 0.02 | M40: =VLOOKUP(E$3&$K40,RawWQdata!$A$2:$Q$219,17,FALSE) -> 0.165 | N40: =VLOOKUP(F$3&$K40,RawWQdata!$A$2:$Q$219,17,FALSE) -> 0.02
A41: Iron | B41: mg/L | C41: 0.3 | D41: 0.03 | E41: 0.176 | F41: 0.03 | G41: =MAX(D41:F41)/C41 -> 0.58666667 | H41: =E41/D41 -> 5.8666667 | I41: =F41/E41 -> 0.17045455 | J41: =F41/D41 -> 1 | K41: =A41&", dissolved" -> Iron, dissolved | L41: =VLOOKUP(D$3&$K41,RawWQdata!$A$2:$Q$219,17,FALSE) -> 0.03 | M41: =VLOOKUP(E$3&$K41,RawWQdata!$A$2:$Q$219,17,FALSE) -> 0.176 | N41: =VLOOKUP(F$3&$K41,RawWQdata!$A$2:$Q$219,17,FALSE) -> 0.03
A42: Lead (Pb) | B42: mg/L | C42: 0.001e | D42: 0.000438 | E42: 0.000352 | F42: 0.00031 | G42: =MAX(D42:F42)/C42 -> #VALUE! | H42: =E42/D42 -> 0.80365297 | I42: =F42/E42 -> 0.88068182 | J42: =F42/D42 -> 0.70776256 | K42: =A42&", dissolved" -> Lead (Pb), dissolved | L42: =VLOOKUP(D$3&$K42,RawWQdata!$A$2:$Q$219,17,FALSE) -> #N/A | M42: =VLOOKUP(E$3&$K42,RawWQdata!$A$2:$Q$219,17,FALSE) -> #N/A | N42: =VLOOKUP(F$3&$K42,RawWQdata!$A$2:$Q$219,17,FALSE) -> #N/A
A43: Lithium | B43: mg/L | C43: - | D43: 0.0049 | E43: 0.0047 | F43: 0.0037 | G43: =MAX(D43:F43)/C43 -> #VALUE! | H43: =E43/D43 -> 0.95918367 | I43: =F43/E43 -> 0.78723404 | J43: =F43/D43 -> 0.75510204 | K43: =A43&", dissolved" -> Lithium, dissolved | L43: =VLOOKUP(D$3&$K43,RawWQdata!$A$2:$Q$219,17,FALSE) -> 0.0049 | M43: =VLOOKUP(E$3&$K43,RawWQdata!$A$2:$Q$219,17,FALSE) -> 0.0047 | N43: =VLOOKUP(F$3&$K43,RawWQdata!$A$2:$Q$219,17,FALSE) -> 0.0037
A44: Magnesium | B44: mg/L | C44: - | D44: 2.77 | E44: 3.61 | F44: 4.94 | G44: =MAX(D44:F44)/C44 -> #VALUE! | H44: =E44/D44 -> 1.3032491 | I44: =F44/E44 -> 1.3684211 | J44: =F44/D44 -> 1.7833935 | K44: =A44&", dissolved" -> Magnesium, dissolved | L44: =VLOOKUP(D$3&$K44,RawWQdata!$A$2:$Q$219,17,FALSE) -> 2.77 | M44: =VLOOKUP(E$3&$K44,RawWQdata!$A$2:$Q$219,17,FALSE) -> 3.61 | N44: =VLOOKUP(F$3&$K44,RawWQdata!$A$2:$Q$219,17,FALSE) -> 4.94
A45: Manganese | B45: mg/L | C45: - | D45: 0.00211 | E45: 0.11 | F45: 0.0592 | G45: =MAX(D45:F45)/C45 -> #VALUE! | H45: =E45/D45 -> 52.132701 | I45: =F45/E45 -> 0.53818182 | J45: =F45/D45 -> 28.056872 | K45: =A45&", dissolved" -> Manganese, dissolved | L45: =VLOOKUP(D$3&$K45,RawWQdata!$A$2:$Q$219,17,FALSE) -> 0.00211 | M45: =VLOOKUP(E$3&$K45,RawWQdata!$A$2:$Q$219,17,FALSE) -> 0.11 | N45: =VLOOKUP(F$3&$K45,RawWQdata!$A$2:$Q$219,17,FALSE) -> 0.0592
A46: Mercury | B46: mg/L | C46: 2.6e-05 | D46: 5e-06 | E46: 5e-06 | F46: 5e-06 | G46: =MAX(D46:F46)/C46 -> 0.19230769 | H46: =E46/D46 -> 1 | I46: =F46/E46 -> 1 | J46: =F46/D46 -> 1 | K46: =A46&", dissolved" -> Mercury, dissolved | L46: =VLOOKUP(D$3&$K46,RawWQdata!$A$2:$Q$219,17,FALSE) -> 5e-06 | M46: =VLOOKUP(E$3&$K46,RawWQdata!$A$2:$Q$219,17,FALSE) -> 5e-06 | N46: =VLOOKUP(F$3&$K46,RawWQdata!$A$2:$Q$219,17,FALSE) -> 5e-06
A47: Molybdenum (Mo) | B47: mg/L | C47: 0.073 | D47: 0.000194 | E47: 0.00023 | F47: 0.000162 | G47: =MAX(D47:F47)/C47 -> 0.0031506849 | H47: =E47/D47 -> 1.185567 | I47: =F47/E47 -> 0.70434783 | J47: =F47/D47 -> 0.83505155 | K47: =A47&", dissolved" -> Molybdenum (Mo), dissolved | L47: =VLOOKUP(D$3&$K47,RawWQdata!$A$2:$Q$219,17,FALSE) -> #N/A | M47: =VLOOKUP(E$3&$K47,RawWQdata!$A$2:$Q$219,17,FALSE) -> #N/A | N47: =VLOOKUP(F$3&$K47,RawWQdata!$A$2:$Q$219,17,FALSE) -> #N/A
A48: Nickel | B48: mg/L | C48: 0.025f | D48: 0.0008 | E48: 0.0017 | F48: 0.00637 | G48: =MAX(D48:F48)/C48 -> #VALUE! | H48: =E48/D48 -> 2.125 | I48: =F48/E48 -> 3.7470588 | J48: =F48/D48 -> 7.9625 | K48: =A48&", dissolved" -> Nickel, dissolved | L48: =VLOOKUP(D$3&$K48,RawWQdata!$A$2:$Q$219,17,FALSE) -> #N/A | M48: =VLOOKUP(E$3&$K48,RawWQdata!$A$2:$Q$219,17,FALSE) -> #N/A | N48: =VLOOKUP(F$3&$K48,RawWQdata!$A$2:$Q$219,17,FALSE) -> #N/A
A49: Phosphorus | B49: mg/L | C49: 0.004 to 0.10g | D49: 0.3 | E49: 0.3 | F49: 0.3 | G49: =MAX(D49:F49)/C49 -> #VALUE! | H49: =E49/D49 -> 1 | I49: =F49/E49 -> 1 | J49: =F49/D49 -> 1 | K49: =A49&", dissolved" -> Phosphorus, dissolved | L49: =VLOOKUP(D$3&$K49,RawWQdata!$A$2:$Q$219,17,FALSE) -> 0.3 | M49: =VLOOKUP(E$3&$K49,RawWQdata!$A$2:$Q$219,17,FALSE) -> 0.3 | N49: =VLOOKUP(F$3&$K49,RawWQdata!$A$2:$Q$219,17,FALSE) -> 0.3
A50: Potassium | B50: mg/L | C50: - | D50: 1 | E50: 0.69 | F50: 0.869 | G50: =MAX(D50:F50)/C50 -> #VALUE! | H50: =E50/D50 -> 0.69 | I50: =F50/E50 -> 1.2594203 | J50: =F50/D50 -> 0.869 | K50: =A50&", dissolved" -> Potassium, dissolved | L50: =VLOOKUP(D$3&$K50,RawWQdata!$A$2:$Q$219,17,FALSE) -> 1 | M50: =VLOOKUP(E$3&$K50,RawWQdata!$A$2:$Q$219,17,FALSE) -> 0.69 | N50: =VLOOKUP(F$3&$K50,RawWQdata!$A$2:$Q$219,17,FALSE) -> 0.861
A51: Selenium | B51: mg/L | C51: 0.001 | D51: 9.1e-05 | E51: 8.7e-05 | F51: 5.2e-05 | G51: =MAX(D51:F51)/C51 -> 0.091 | H51: =E51/D51 -> 0.95604396 | I51: =F51/E51 -> 0.59770115 | J51: =F51/D51 -> 0.57142857 | K51: =A51&", dissolved" -> Selenium, dissolved | L51: =VLOOKUP(D$3&$K51,RawWQdata!$A$2:$Q$219,17,FALSE) -> #N/A | M51: =VLOOKUP(E$3&$K51,RawWQdata!$A$2:$Q$219,17,FALSE) -> #N/A | N51: =VLOOKUP(F$3&$K51,RawWQdata!$A$2:$Q$219,17,FALSE) -> #N/A
A52: Silica | B52: mg/L | C52: - | D52: 17.9 | E52: 18.6 | F52: 17.8 | G52: =MAX(D52:F52)/C52 -> #VALUE! | H52: =E52/D52 -> 1.0391061 | I52: =F52/E52 -> 0.95698925 | J52: =F52/D52 -> 0.99441341 | K52: =A52&", dissolved" -> Silica, dissolved | L52: =VLOOKUP(D$3&$K52,RawWQdata!$A$2:$Q$219,17,FALSE) -> 17.9 | M52: =VLOOKUP(E$3&$K52,RawWQdata!$A$2:$Q$219,17,FALSE) -> 18.6 | N52: =VLOOKUP(F$3&$K52,RawWQdata!$A$2:$Q$219,17,FALSE) -> 17.8
A53: Silicon | B53: mg/L | C53: - | D53: 8.35 | E53: 8.69 | F53: 8.34 | G53: =MAX(D53:F53)/C53 -> #VALUE! | H53: =E53/D53 -> 1.0407186 | I53: =F53/E53 -> 0.95972382 | J53: =F53/D53 -> 0.9988024 | K53: =A53&", dissolved" -> Silicon, dissolved | L53: =VLOOKUP(D$3&$K53,RawWQdata!$A$2:$Q$219,17,FALSE) -> 8.35 | M53: =VLOOKUP(E$3&$K53,RawWQdata!$A$2:$Q$219,17,FALSE) -> 8.69 | N53: =VLOOKUP(F$3&$K53,RawWQdata!$A$2:$Q$219,17,FALSE) -> 8.34
A54: Silver | B54: mg/L | C54: 0.0001 | D54: 1e-05 | E54: 1e-05 | F54: 1e-05 | G54: =MAX(D54:F54)/C54 -> 0.1 | H54: =E54/D54 -> 1 | I54: =F54/E54 -> 1 | J54: =F54/D54 -> 1 | K54: =A54&", dissolved" -> Silver , dissolved | L54: =VLOOKUP(D$3&$K54,RawWQdata!$A$2:$Q$219,17,FALSE) -> #N/A | M54: =VLOOKUP(E$3&$K54,RawWQdata!$A$2:$Q$219,17,FALSE) -> #N/A | N54: =VLOOKUP(F$3&$K54,RawWQdata!$A$2:$Q$219,17,FALSE) -> #N/A
A55: Sodium | B55: mg/L | C55: - | D55: 1.83 | E55: 2.88 | F55: 2.34 | G55: =MAX(D55:F55)/C55 -> #VALUE! | H55: =E55/D55 -> 1.5737705 | I55: =F55/E55 -> 0.8125 | J55: =F55/D55 -> 1.2786885 | K55: =A55&", dissolved" -> Sodium , dissolved | L55: =VLOOKUP(D$3&$K55,RawWQdata!$A$2:$Q$219,17,FALSE) -> #N/A | M55: =VLOOKUP(E$3&$K55,RawWQdata!$A$2:$Q$219,17,FALSE) -> #N/A | N55: =VLOOKUP(F$3&$K55,RawWQdata!$A$2:$Q$219,17,FALSE) -> #N/A
A56: Strontium | B56: mg/L | C56: - | D56: 0.118 | E56: 0.0895 | F56: 0.113 | G56: =MAX(D56:F56)/C56 -> #VALUE! | H56: =E56/D56 -> 0.75847458 | I56: =F56/E56 -> 1.2625698 | J56: =F56/D56 -> 0.95762712 | K56: =A56&", dissolved" -> Strontium, dissolved | L56: =VLOOKUP(D$3&$K56,RawWQdata!$A$2:$Q$219,17,FALSE) -> 0.118 | M56: =VLOOKUP(E$3&$K56,RawWQdata!$A$2:$Q$219,17,FALSE) -> 0.0895 | N56: =VLOOKUP(F$3&$K56,RawWQdata!$A$2:$Q$219,17,FALSE) -> 0.113
A57: Sulfur | B57: mg/L | C57: - | D57: 1.46 | E57: 6.87 | F57: 15.2 | G57: =MAX(D57:F57)/C57 -> #VALUE! | H57: =E57/D57 -> 4.7054795 | I57: =F57/E57 -> 2.2125182 | J57: =F57/D57 -> 10.410959 | K57: =A57&", dissolved" -> Sulfur, dissolved | L57: =VLOOKUP(D$3&$K57,RawWQdata!$A$2:$Q$219,17,FALSE) -> 1.46 | M57: =VLOOKUP(E$3&$K57,RawWQdata!$A$2:$Q$219,17,FALSE) -> 6.87 | N57: =VLOOKUP(F$3&$K57,RawWQdata!$A$2:$Q$219,17,FALSE) -> 15.2
A58: Thallium | B58: mg/L | C58: 0.0008 | D58: 1e-05 | E58: 1e-05 | F58: 1e-05 | G58: =MAX(D58:F58)/C58 -> 0.0125 | H58: =E58/D58 -> 1 | I58: =F58/E58 -> 1 | J58: =F58/D58 -> 1 | K58: =A58&", dissolved" -> Thallium , dissolved | L58: =VLOOKUP(D$3&$K58,RawWQdata!$A$2:$Q$219,17,FALSE) -> #N/A | M58: =VLOOKUP(E$3&$K58,RawWQdata!$A$2:$Q$219,17,FALSE) -> #N/A | N58: =VLOOKUP(F$3&$K58,RawWQdata!$A$2:$Q$219,17,FALSE) -> #N/A
A59: Titanium | B59: mg/L | C59: 0.1 | D59: 0.0003 | E59: 0.0003 | F59: 0.0003 | G59: =MAX(D59:F59)/C59 -> 0.003 | H59: =E59/D59 -> 1 | I59: =F59/E59 -> 1 | J59: =F59/D59 -> 1 | K59: =A59&", dissolved" -> Titanium, dissolved | L59: =VLOOKUP(D$3&$K59,RawWQdata!$A$2:$Q$219,17,FALSE) -> 0.0003 | M59: =VLOOKUP(E$3&$K59,RawWQdata!$A$2:$Q$219,17,FALSE) -> 0.0003 | N59: =VLOOKUP(F$3&$K59,RawWQdata!$A$2:$Q$219,17,FALSE) -> 0.0003
A60: Uranium | B60: mg/L | C60: 0.015 | D60: 0.000152 | E60: 0.000133 | F60: 5e-05 | G60: =MAX(D60:F60)/C60 -> 0.010133333 | H60: =E60/D60 -> 0.875 | I60: =F60/E60 -> 0.37593985 | J60: =F60/D60 -> 0.32894737 | K60: =A60&", dissolved" -> Uranium , dissolved | L60: =VLOOKUP(D$3&$K60,RawWQdata!$A$2:$Q$219,17,FALSE) -> #N/A | M60: =VLOOKUP(E$3&$K60,RawWQdata!$A$2:$Q$219,17,FALSE) -> #N/A | N60: =VLOOKUP(F$3&$K60,RawWQdata!$A$2:$Q$219,17,FALSE) -> #N/A
A61: Vanadium | B61: mg/L | C61: - | D61: 0.0005 | E61: 0.0005 | F61: 0.0005 | G61: =MAX(D61:F61)/C61 -> #VALUE! | H61: =E61/D61 -> 1 | I61: =F61/E61 -> 1 | J61: =F61/D61 -> 1 | K61: =A61&", dissolved" -> Vanadium , dissolved | L61: =VLOOKUP(D$3&$K61,RawWQdata!$A$2:$Q$219,17,FALSE) -> #N/A | M61: =VLOOKUP(E$3&$K61,RawWQdata!$A$2:$Q$219,17,FALSE) -> #N/A | N61: =VLOOKUP(F$3&$K61,RawWQdata!$A$2:$Q$219,17,FALSE) -> #N/A
A62: Zinc | B62: mg/L | C62: 0.03 | D62: 0.001 | E62: 0.014 | F62: 0.085 | G62: =MAX(D62:F62)/C62 -> 2.8333333 | H62: =E62/D62 -> 14 | I62: =F62/E62 -> 6.0714286 | J62: =F62/D62 -> 85 | K62: =A62&", dissolved" -> Zinc , dissolved | L62: =VLOOKUP(D$3&$K62,RawWQdata!$A$2:$Q$219,17,FALSE) -> #N/A | M62: =VLOOKUP(E$3&$K62,RawWQdata!$A$2:$Q$219,17,FALSE) -> #N/A | N62: =VLOOKUP(F$3&$K62,RawWQdata!$A$2:$Q$219,17,FALSE) -> #N/A
A64: ALS Laboratory Report ID: L1778682-1
A65: Notes:
A66: Concentration exceeds Screening Level
A67: pH reported is the field parameter value.
A68: < = less than
A69: > = greater than
A70: µg/L = micrograms per litre
A71: CCME = Canadian Council of the Ministers of the Environment
A72: CWQG = Canadian Environmental Quality Guidelines
A73: deg C = degrees Celsius
A74: FIGQG = Federal Interim Groundwater Quality Guidelines
A75: ID = identification
... A89: g CCME trigger range for oligotrophic phosphorous.

Sheet 11_Model
A1: Table 11. Aqufier Test Summary
A2: Faro Mine Remediation Project
A3: Location | B3: Well | C3: MLU Model Layer | D3: Thickness (m) | E3: Represented Zone | F3: Lithology | G3: Hydraulic Conductivity (m/d) | H3: Storativity
A4: Well Cluster 1 | B4: CH15-106-MW002 | C4: 1 | D4: 1.5 | E4: Saturated Interval above screen | F4: Well-graded Sand with Silt | G4: 10 | H4: 0.01
C5: 2 | D5: 1.4 | E5: Upper portion of screened interval | F5: Silty Gravel With Sand | G5: 5 | H5: 0.01
C6: 3 | D6: 1.65 | E6: Lower portion of screened interval | F6: Well-graded Sand with Bedrock Fragments | G6: 0.1 | H6: 1e-06
C7: 4 | D7: 1 | E7: 1 m zone below screen interval | F7: Well-graded Gravel (bedrock) | G7: 0.1 | H7: 1e-06
A8: Well Cluster 3 | B8: CH15-106-MW006 | C8: 1 | D8: 1.6 | E8: Saturated Interval above screen | F8: Silty Sand | G8: 1 | H8: 0.1
C9: 2 | D9: 3.05 | E9: Screened Interval | F9: Well-graded Gravel with Sand / Sand with Gravel | G9: 3 | H9: 0.1
C10: 3 | D10: 1 | E10: 1 m zone below screen interval | F10: Well-graded Gravel with Sand | G10: 300 | H10: 1e-06
B11: CH15-106-MW005 | C11: 1 | D11: 1.6 | E11: Saturated Interval above screen | F11: Silty Sand | G11: 1 | H11: 0.1
C12: 2 | D12: 3.05 | E12: Screened Interval | F12: Well-graded Gravel with Sand / Sand with Gravel | G12: 3 | H12: 0.01
C13: 3 | D13: 1 | E13: 1 m zone below screen interval | F13: Well-graded Gravel with Sand | G13: 300 | H13: 1e-06
B14: CH15-106-MW010 | C14: 1 | D14: 1.6 | E14: Saturated Interval above screen | F14: Silty Sand | G14: 1 | H14: 0.1
C15: 2 | D15: 3.05 | E15: Screened Interval | F15: Well-graded Gravel with Sand / Sand with Gravel | G15: 5 | H15: 0.0015
C16: 3 | D16: 1 | E16: 1 m zone below screen interval | F16: Well-graded Gravel with Sand | G16: 5 | H16: 1e-06
A18: Notes:
A19: 1. For Well Cluster 1, the model lithology represents conditions at CH15-106-MW002 only.
A21: m = metre
A22: m/d = metre per day

Sheet 12_dischargeSummary
A1: Table 12. Upper FCD Discharge Data
A2: Faro Mine Remediation Project
A4: Station | B4: Series 1 Discharge (L/s) | C4: Series 2 Discharge (L/s) | D4: Series 1 Duplicate Discharge (L/s) | E4: Average (L/s) | F4: Range (L/s) | G4: Uncertainty in a Measurement (L/s) | H4: Uncertainty in the Mean (L/s) | I4: Average Depth (ft) | J4: Standard Error | K4: Standard Error (L/s) | L4: Total Error | M4: Discharge (L/s)
A5: FCD-1 | B5: 391.7708 | C5: 378.64218 | D5: 366 | E5: =AVERAGE(B5:D5) -> 378.80433 | F5: =B5-D5 -> 25.770802 | G5: =F5/2 -> 12.885401 | H5: =G5/(SQRT(3)) -> 7.4393896 | I5: =AVERAGE('4_FCD-1'!C7:C24,'4_FCD-1'!C30:C48,'4_FCD-1'!C54:C71) -> 0.54545455 | J5: =SQRT(1+(10/(2*I5))^2)/100 -> 0.092210508 | K5: =J5*E5 -> 34.929739 | L5: =H5+K5 -> 42.369129 | M5: =ROUND(E5,0)&" +/- "&ROUND(L5,1) -> 379 +/- 42.4 | O5: =L5/2 -> 21.184565
A6: FCD-2A | B6: 395.44346 | C6: 392.23941 | D6: -- | E6: =AVERAGE(B6:D6) -> 393.84144 | F6: =B6-C6 -> 3.2040536 | G6: =F6/2 -> 1.6020268 | H6: =G6/(SQRT(2)) -> 1.132804 | I6: =AVERAGE('6_FCD-2A'!C7:C26,'6_FCD-2A'!C32:C51) -> 0.9725 | J6: =SQRT(1+(10/(2*I6))^2)/100 -> 0.052377354 | K6: =J6*E6 -> 20.628372 | L6: =H6+K6 -> 21.761176 | M6: =ROUND(E6,0)&" +/- "&ROUND(L6,1) -> 394 +/- 21.8 | O6: =L6/2 -> 10.880588
A7: FCD-2 | B7: 386.81042 | C7: 399.15422 | D7: -- | E7: =AVERAGE(B7:D7) -> 392.98232 | F7: =C7-B7 -> 12.343798 | G7: =F7/2 -> 6.1718988 | H7: =G7/(SQRT(2)) -> 4.3641915 | I7: =AVERAGE('5_FCD-2'!C7:C26,'5_FCD-2'!C32:C51) -> 0.76625 | J7: =SQRT(1+(10/(2*I7))^2)/100 -> 0.066014658 | K7: =J7*E7 -> 25.942594 | L7: =H7+K7 -> 30.306785 | M7: =ROUND(E7,0)&" +/- "&ROUND(L7,1) -> 393 +/- 30.3 | O7: =L7/2 -> 15.153393
A9: Notes:
A10: 1. Uncertainty in a measurement computed as the range divided by 2.
A11: 2. Uncertainty in the mean computed as the uncertainty in a measurment divided by the square root of the number of samples.
A12: 3. The standard error (%) is computed as: the square root of 1+(10/2*depth)^2), with depth in feet, from Sauer and Meyer, 1992.
A13: 4. Total error is computed as the uncertainty in the mean plus the standard error.
A15: FCD = Faro Creed Diversion
A16: ft = feet
A17: L/s = litre per second
K30: =2/E7 -> 0.0050892874
I35: =4/3.281 -> 1.2191405

Sheet List
A1: Figures | B1: Title | C1: Source | D1: Note | I1: Tables | J1: Title | K1: Source
A2: 1 | B2: Faro Creek Valley | C2: GIS | D2: include well clusters 1, 2 and 3 | I2: 1 | J2: Manual Groundwater Elevation Measurements
A3: 2 | B3: Groundwater Elevations at Well Clusters | C3: excel/ppt | I3: 2 | J3: Discharge Measurements
A4: 3 | B4: Discharge locations | I4: 3 | J4: Aquifer Test Pumping Rates and Drawdown
A5: 4 | B5: GW map | I5: 4 | J5: FCD-1 Discharge
A6: 5 | B6: Aquifer Test Results, Cluster 1 | I6: 5 | J6: FCD-2 Discharge
A7: 6 | B7: Aquifer Test Results, Cluster 2 | I7: 6 | J7: FCD-2A
A8: 7 | B8: Discharge on FCD | I8: 7 | J8: Seep Discharge
A9: 8 | I9: 8 | J9: Other discharge
A10: 9 | I10: 9 | J10: Field Parameters
A11: 10 | I11: 10 | J11: Water Quality Results
A12: 11 | I12: 11 | J12: Model results
A13: 12 | I13: 12 | J13: Discharge Summary
A14: 13
A15: 14
A16: 15

Sheet Misc
A1: Groundwater Flux estimates
A4: West Side | F4: West Side
A5: Width | B5: 800 | F5: Width | G5: 10
A6: Depth | B6: 1 | F6: Depth | G6: 3
A7: Gradient | B7: delta H | C7: 2 | D7: =C7/C8 -> 0.13333333 | F7: Gradient | G7: delta H | H7: 2 | I7: =H7/H8 -> 0.13333333
B8: distance | C8: 15 | G8: distance | H8: 15
A9: K | B9: 10 | F9: K | G9: 10
A11: Q (m3/d) | B11: =B5*B6*D7 -> 106.66667 | F11: Q (m3/d) | G11: =G5*G6*I7 -> 4
A13: L/d | B13: =B11*1000 -> 106666.67 | F13: L/d | G13: =G11*1000 -> 4000
A14: L/s | B14: =B13/86400 -> 1.2345679 | F14: L/s | G14: =G13/86400 -> 0.046296296

Sheet RawWQdata
A1: Lookup | B1: FACILITY_ID | C1: FACILITY_CODE | D1: SYS_LOC_CODE | E1: LOC_NAME | F1: SAMPLEDATE | G1: START_DEPTH | H1: END_DEPTH | I1: DEPTH_UNIT | J1: MATRIX_CODE | K1: FRACTION | L1: PREP_METHOD | M1: LAB_SDG | N1: TEST_ID | O1: CAS_RN | P1: CHEMICAL_NAME | Q1: REPORT_RESULT_VALUE | R1: REPORT_RESULT_UNIT | S1: REPORT_RESULT_LIMIT | T1: REPORTABLE_RESULT | U1: DETECT_FLAG | V1: INTERPRETED_QUALIFIERS | W1: VALIDATOR_QUALIFIERS | X1: LAB_QUALIFIERS | Y1: QUANTITATION_LIMIT | Z1: METHOD_DETECTION_LIMIT | AA1: REPORTING_DETECTION_LIMIT | AB1: DETECTION_LIMIT_UNIT | AC1: APPROVAL_CODE | AD1: RESULT_TEXT | AE1: RESULT_NUMERIC | AF1: RESULT_UNIT | AG1: RESULT_TYPE_CODE | AH1: X_COORD | AI1: Y_COORD | AJ1: Z_COORD_AVG | AK1: ZFROM | AL1: ZTO
A2: =E2&P2 -> CH15-106-MW002Conductivity, Field | B2: 1650156 | C2: FAROMINE | D2: CH15-106-MW002 | E2: CH15-106-MW002 | F2: 42523 | G2: -999 | H2: -999 | I2: m | J2: WG | K2: N | N2: 100365175 | O2: CONDF | P2: Conductivity, Field | Q2: 0.181 | R2: mS/cm | T2: Y | U2: Y | AD2: 0.181 | AE2: 0.181 | AF2: mS/cm | AG2: TRG | AH2: 584985.64 | AI2: 6916446 | AJ2: 2321.16 | AK2: 2321.16 | AL2: 2321.16
A3: =E3&P3 -> CH15-106-MW002Dissolved Oxygen, Field | B3: 1650156 | C3: FAROMINE | D3: CH15-106-MW002 | E3: CH15-106-MW002 | F3: 42523 | G3: -999 | H3: -999 | I3: m | J3: WG | K3: N | N3: 100365175 | O3: DOXF | P3: Dissolved Oxygen, Field | Q3: 9.44 | R3: mg/l | T3: Y | U3: Y | AD3: 9.44 | AE3: 9.44 | AF3: mg/l | AG3: TRG | AH3: 584985.64 | AI3: 6916446 | AJ3: 2321.16 | AK3: 2321.16 | AL3: 2321.16
A4: =E4&P4 -> CH15-106-MW002Oxidation Reduction Potential, Field | B4: 1650156 | C4: FAROMINE | D4: CH15-106-MW002 | E4: CH15-106-MW002 | F4: 42523 | G4: -999 | H4: -999 | I4: m | J4: WG | K4: N | N4: 100365175 | O4: ORPF | P4: Oxidation Reduction Potential, Field | Q4: 173.6 | R4: mV | T4: Y | U4: Y | AD4: 173.6 | AE4: 173.6 | AF4: mV | AG4: TRG | AH4: 584985.64 | AI4: 6916446 | AJ4: 2321.16 | AK4: 2321.16 | AL4: 2321.16
A5: =E5&P5 -> CH15-106-MW002pH, Field | B5: 1650156 | C5: FAROMINE | D5: CH15-106-MW002 | E5: CH15-106-MW002 | F5: 42523 | G5: -999 | H5: -999 | I5: m | J5: WG | K5: N | N5: 100365175 | O5: PHF | P5: pH, Field | Q5: 7.19 | R5: pH UNITS | T5: Y | U5: Y | AD5: 7.19 | AE5: 7.19 | AF5: pH UNITS | AG5: TRG | AH5: 584985.64 | AI5: 6916446 | AJ5: 2321.16 | AK5: 2321.16 | AL5: 2321.16
A6: =E6&P6 -> CH15-106-MW002Temperature, Field | B6: 1650156 | C6: FAROMINE | D6: CH15-106-MW002 | E6: CH15-106-MW002 | F6: 42523 | G6: -999 | H6: -999 | I6: m | J6: WG | K6: N | N6: 100365175 | O6: TEMPF | P6: Temperature, Field | Q6: 3.65 | R6: deg c | T6: Y | U6: Y | AD6: 3.65 | AE6: 3.65 | AF6: deg c | AG6: TRG | AH6: 584985.64 | AI6: 6916446 | AJ6: 2321.16 | AK6: 2321.16 | AL6: 2321.16
A7: =E7&P7 -> CH15-106-MW002Turbidity, Field | B7: 1650156 | C7: FAROMINE | D7: CH15-106-MW002 | E7: CH15-106-MW002 | F7: 42523 | G7: -999 | H7: -999 | I7: m | J7: WG | K7: N | N7: 100365175 | O7: TURBF | P7: Turbidity, Field | Q7: 18.2 | R7: NTU | T7: Y | U7: Y | AD7: 18.2 | AE7: 18.2 | AF7: NTU | AG7: TRG | AH7: 584985.64 | AI7: 6916446 | AJ7: 2321.16 | AK7: 2321.16 | AL7: 2321.16
A8: =E8&P8 -> CH15-106-MW002Mercury, dissolved | B8: 1650156 | C8: FAROMINE | D8: CH15-106-MW002 | E8: CH15-106-MW002 | F8: 42523 | G8: 6.1 | H8: 9.14 | I8: m | J8: WG | K8: T | L8: METHOD | M8: L1778682 | N8: 100394518 | O8: 7439-97-6_D | P8: Mercury, dissolved | Q8: 5e-06 | R8: mg/l | S8: 5e-06 | T8: Y | U8: N | V8: U | W8: U | X8: U | Z8: 5e-06 | AA8: 5e-06 | AB8: mg/l | AD8: 5e-06 | AE8: 5e-06 | AF8: mg/l | AG8: TRG | AH8: 584985.64 | AI8: 6916446 | AJ8: 1314.54 | AK8: 1316.06 | AL8: 1313.02
A9: =E9&P9 -> CH15-106-MW002Ferrous Iron, dissolved | B9: 1650156 | C9: FAROMINE | D9: CH15-106-MW002 | E9: CH15-106-MW002 | F9: 42523 | G9: 6.1 | H9: 9.14 | I9: m | J9: WG | K9: T | L9: METHOD | M9: L1778682 | N9: 100394519 | O9: 15438-31-0_D | P9: Ferrous Iron, dissolved | Q9: 0.02 | R9: mg/l | S9: 0.02 | T9: Y | U9: N | V9: U | W9: U | X9: U | Z9: 0.02 | AA9: 0.02 | AB9: mg/l | AD9: 0.02 | AE9: 0.02 | AF9: mg/l | AG9: TRG | AH9: 584985.64 | AI9: 6916446 | AJ9: 1314.54 | AK9: 1316.06 | AL9: 1313.02
A10: =E10&P10 -> CH15-106-MW002Ammonia | B10: 1650156 | C10: FAROMINE | D10: CH15-106-MW002 | E10: CH15-106-MW002 | F10: 42523 | G10: 6.1 | H10: 9.14 | I10: m | J10: WG | K10: T | L10: NONE | M10: L1778682 | N10: 100394520 | O10: 7664-41-7 | P10: Ammonia | Q10: 0.005 | R10: mg/l | S10: 0.005 | T10: Y | U10: N | V10: U | W10: U | X10: U | Z10: 0.005 | AA10: 0.005 | AB10: mg/l | AD10: 0.005 | AE10: 0.005 | AF10: mg/l | AG10: TRG | AH10: 584985.64 | AI10: 6916446 | AJ10: 1314.54 | AK10: 1316.06 | AL10: 1313.02
A11: =E11&P11 -> CH15-106-MW002Acidity, hot peroxide | B11: 1650156 | C11: FAROMINE | D11: CH15-106-MW002 | E11: CH15-106-MW002 | F11: 42523 | G11: 6.1 | H11: 9.14 | I11: m | J11: WG | K11: T | L11: NONE | M11: L1778682 | N11: 100394521 | O11: ACID_HP | P11: Acidity, hot peroxide | Q11: 25 | R11: mg/l | S11: 25 | T11: Y | U11: N | V11: U | W11: U | X11: U | Z11: 25 | AA11: 25 | AB11: mg/l | AD11: 25 | AE11: 25 | AF11: mg/l | AG11: TRG | AH11: 584985.64 | AI11: 6916446 | AJ11: 1314.54 | AK11: 1316.06 | AL11: 1313.02
A12: =E12&P12 -> CH15-106-MW002Alkalinity, Total (as CaCO3) | B12: 1650156 | C12: FAROMINE | D12: CH15-106-MW002 | E12: CH15-106-MW002 | F12: 42523 | G12: 6.1 | H12: 9.14 | I12: m | J12: WG | K12: T | L12: NONE | M12: L1778682 | N12: 100394522 | O12: ALK | P12: Alkalinity, Total (as CaCO3) | Q12: 94.1 | R12: mg/l | S12: 1 | T12: Y | U12: Y | X12: = | Z12: 1 | AA12: 1 | AB12: mg/l | AD12: 94.1 | AE12: 94.1 | AF12: mg/l | AG12: TRG | AH12: 584985.64 | AI12: 6916446 | AJ12: 1314.54 | AK12: 1316.06 | AL12: 1313.02
A13: =E13&P13 -> CH15-106-MW002Alkalinity, Bicarbonate (as CaCO3) | B13: 1650156 | C13: FAROMINE | D13: CH15-106-MW002 | E13: CH15-106-MW002 | F13: 42523 | G13: 6.1 | H13: 9.14 | I13: m | J13: WG | K13: T | L13: NONE | M13: L1778682 | N13: 100394522 | O13: ALKB | P13: Alkalinity, Bicarbonate (as CaCO3) | Q13: 94.1 | R13: mg/l | S13: 1 | T13: Y | U13: Y | X13: = | Z13: 1 | AA13: 1 | AB13: mg/l | AD13: 94.1 | AE13: 94.1 | AF13: mg/l | AG13: TRG | AH13: 584985.64 | AI13: 6916446 | AJ13: 1314.54 | AK13: 1316.06 | AL13: 1313.02
A14: =E14&P14 -> CH15-106-MW002Alkalinity, Carbonate (as CaCO3) | B14: 1650156 | C14: FAROMINE | D14: CH15-106-MW002 | E14: CH15-106-MW002 | F14: 42523 | G14: 6.1 | H14: 9.14 | I14: m | J14: WG | K14: T | L14: NONE | M14: L1778682 | N14: 100394522 | O14: ALKC | P14: Alkalinity, Carbonate (as CaCO3) | Q14: 1 | R14: mg/l | S14: 1 | T14: Y | U14: N | V14: U | W14: U | X14: U | Z14: 1 | AA14: 1 | AB14: mg/l | AD14: 1 | AE14: 1 | AF14: mg/l | AG14: TRG | AH14: 584985.64 | AI14: 6916446 | AJ14: 1314.54 | AK14: 1316.06 | AL14: 1313.02
A15: =E15&P15 -> CH15-106-MW002Alkalinity, Hydroxide (as CaCO3) | B15: 1650156 | C15: FAROMINE | D15: CH15-106-MW002 | E15: CH15-106-MW002 | F15: 42523 | G15: 6.1 | H15: 9.14 | I15: m | J15: WG | K15: T | L15: NONE | M15: L1778682 | N15: 100394522 | O15: ALKH | P15: Alkalinity, Hydroxide (as CaCO3) | Q15: 1 | R15: mg/l | S15: 1 | T15: Y | U15: N | V15: U | W15: U | X15: U | Z15: 1 | AA15: 1 | AB15: mg/l | AD15: 1 | AE15: 1 | AF15: mg/l | AG15: TRG | AH15: 584985.64 | AI15: 6916446 | AJ15: 1314.54 | AK15: 1316.06 | AL15: 1313.02
A16: =E16&P16 -> CH15-106-MW002Hardness (as CaCO3) | B16: 1650156 | C16: FAROMINE | D16: CH15-106-MW002 | E16: CH15-106-MW002 | F16: 42523 | G16: 6.1 | H16: 9.14 | I16: m | J16: WG | K16: T | L16: NONE | M16: L1778682 | N16: 100394523 | O16: HARD | P16: Hardness (as CaCO3) | Q16: 97.4 | R16: mg/l | S16: 0.5 | T16: Y | U16: Y | X16: = | Z16: 0.5 | AA16: 0.5 | AB16: mg/l | AD16: 97.4 | AE16: 97.4 | AF16: mg/l | AG16: TRG | AH16: 584985.64 | AI16: 6916446 | AJ16: 1314.54 | AK16: 1316.06 | AL16: 1313.02
A17: =E17&P17 -> CH15-106-MW002Total dissolved solids | B17: 1650156 | C17: FAROMINE | D17: CH15-106-MW002 | E17: CH15-106-MW002 | F17: 42523 | G17: 6.1 | H17: 9.14 | I17: m | J17: WG | K17: T | L17: NONE | M17: L1778682 | N17: 100394524 | O17: TDS | P17: Total dissolved solids | Q17: 125 | R17: mg/l | S17: 13 | T17: Y | U17: Y | X17: = | Z17: 13 | AA17: 13 | AB17: mg/l | AD17: 125 | AE17: 125 | AF17: mg/l | AG17: TRG | AH17: 584985.64 | AI17: 6916446 | AJ17: 1314.54 | AK17: 1316.06 | AL17: 1313.02
A18: =E18&P18 -> CH15-106-MW002Total Suspended Solids | B18: 1650156 | C18: FAROMINE | D18: CH15-106-MW002 | E18: CH15-106-MW002 | F18: 42523 | G18: 6.1 | H18: 9.14 | I18: m | J18: WG | K18: T | L18: NONE | M18: L1778682 | N18: 100394526 | O18: TSS | P18: Total Suspended Solids | Q18: 33.6 | R18: mg/l | S18: 1 | T18: Y | U18: Y | X18: = | Z18: 1 | AA18: 1 | AB18: mg/l | AD18: 33.6 | AE18: 33.6 | AF18: mg/l | AG18: TRG | AH18: 584985.64 | AI18: 6916446 | AJ18: 1314.54 | AK18: 1316.06 | AL18: 1313.02
A19: =E19&P19 -> CH15-106-MW002Nitrate (as N) | B19: 1650156 | C19: FAROMINE | D19: CH15-106-MW002 | E19: CH15-106-MW002 | F19: 42523 | G19: 6.1 | H19: 9.14 | I19: m | J19: WG | K19: T | L19: NONE | M19: L1778682 | N19: 100394527 | O19: 14797-55-8 | P19: Nitrate (as N) | Q19: 0.207 | R19: mg/l | S19: 0.005 | T19: Y | U19: Y | V19: J | W19: J | X19: = | Z19: 0.005 | AA19: 0.005 | AB19: mg/l | AD19: 0.207 | AE19: 0.207 | AF19: mg/l | AG19: TRG | AH19: 584985.64 | AI19: 6916446 | AJ19: 1314.54 | AK19: 1316.06 | AL19: 1313.02
A20: =E20&P20 -> CH15-106-MW002Nitrite (as N) | B20: 1650156 | C20: FAROMINE | D20: CH15-106-MW002 | E20: CH15-106-MW002 | F20: 42523 | G20: 6.1 | H20: 9.14 | I20: m | J20: WG | K20: T | L20: NONE | M20: L1778682 | N20: 100394527 | O20: 14797-65-0 | P20: Nitrite (as N) | Q20: 0.001 | R20: mg/l | S20: 0.001 | T20: Y | U20: N | V20: UJ | W20: UJ | X20: U | Z20: 0.001 | AA20: 0.001 | AB20: mg/l | AD20: 0.001 | AE20: 0.001 | AF20: mg/l | AG20: TRG | AH20: 584985.64 | AI20: 6916446 | AJ20: 1314.54 | AK20: 1316.06 | AL20: 1313.02
A21: =E21&P21 -> CH15-106-MW002Sulfate | B21: 1650156 | C21: FAROMINE | D21: CH15-106-MW002 | E21: CH15-106-MW002 | F21: 42523 | G21: 6.1 | H21: 9.14 | I21: m | J21: WG | K21: T | L21: NONE | M21: L1778682 | N21: 100394527 | O21: 14808-79-8 | P21: Sulfate | Q21: 4.07 | R21: mg/l | S21: 0.3 | T21: Y | U21: Y | X21: = | Z21: 0.3 | AA21: 0.3 | AB21: mg/l | AD21: 4.07 | AE21: 4.07 | AF21: mg/l | AG21: TRG | AH21: 584985.64 | AI21: 6916446 | AJ21: 1314.54 | AK21: 1316.06 | AL21: 1313.02
A22: =E22&P22 -> CH15-106-MW002Chloride (Cl) | B22: 1650156 | C22: FAROMINE | D22: CH15-106-MW002 | E22: CH15-106-MW002 | F22: 42523 | G22: 6.1 | H22: 9.14 | I22: m | J22: WG | K22: T | L22: NONE | M22: L1778682 | N22: 100394527 | O22: 16887-00-6 | P22: Chloride (Cl) | Q22: 0.5 | R22: mg/l | S22: 0.5 | T22: Y | U22: N | V22: U | W22: U | X22: U | Z22: 0.5 | AA22: 0.5 | AB22: mg/l | AD22: 0.5 | AE22: 0.5 | AF22: mg/l | AG22: TRG | AH22: 584985.64 | AI22: 6916446 | AJ22: 1314.54 | AK22: 1316.06 | AL22: 1313.02
A23: =E23&P23 -> CH15-106-MW002Fluoride | B23: 1650156 | C23: FAROMINE | D23: CH15-106-MW002 | E23: CH15-106-MW002 | F23: 42523 | G23: 6.1 | H23: 9.14 | I23: m | J23: WG | K23: T | L23: NONE | M23: L1778682 | N23: 100394527 | O23: 16984-48-8 | P23: Fluoride | Q23: 0.067 | R23: mg/l | S23: 0.02 | T23: Y | U23: Y | X23: = | Z23: 0.02 | AA23: 0.02 | AB23: mg/l | AD23: 0.067 | AE23: 0.067 | AF23: mg/l | AG23: TRG | AH23: 584985.64 | AI23: 6916446 | AJ23: 1314.54 | AK23: 1316.06 | AL23: 1313.02
A24: =E24&P24 -> CH15-106-MW002Phosphorus | B24: 1650156 | C24: FAROMINE | D24: CH15-106-MW002 | E24: CH15-106-MW002 | F24: 42523 | G24: 6.1 | H24: 9.14 | I24: m | J24: WG | K24: T | L24: NONE | M24: L1778682 | N24: 100394528 | O24: 7723-14-0 | P24: Phosphorus | Q24: 0.026 | R24: mg/l | S24: 0.02 | T24: Y | U24: Y | X24: = | Z24: 0.02 | AA24: 0.02 | AB24: mg/l | AD24: 0.026 | AE24: 0.026 | AF24: mg/l | AG24: TRG | AH24: 584985.64 | AI24: 6916446 | AJ24: 1314.54 | AK24: 1316.06 | AL24: 1313.02
A25: =E25&P25 -> CH15-106-MW002Carbon, dissolved organic (DOC) | B25: 1650156 | C25: FAROMINE | D25: CH15-106-MW002 | E25: CH15-106-MW002 | F25: 42523 | G25: 6.1 | H25: 9.14 | I25: m | J25: WG | K25: T | L25: NONE | M25: L1778682 | N25: 100394530 | O25: DOC | P25: Carbon, dissolved organic (DOC) | Q25: 2.76 | R25: mg/l | S25: 0.5 | T25: Y | U25: Y | X25: = | Z25: 0.5 | AA25: 0.5 | AB25: mg/l | AD25: 2.76 | AE25: 2.76 | AF25: mg/l | AG25: TRG | AH25: 584985.64 | AI25: 6916446 | AJ25: 1314.54 | AK25: 1316.06 | AL25: 1313.02
A26: =E26&P26 -> CH15-106-MW002Iron, dissolved | B26: 1650156 | C26: FAROMINE | D26: CH15-106-MW002 | E26: CH15-106-MW002 | F26: 42523 | G26: 6.1 | H26: 9.14 | I26: m | J26: WG | K26: T | L26: METHOD | M26: L1778682 | N26: 100394531 | O26: 7439-89-6_D | P26: Iron, dissolved | Q26: 0.03 | R26: mg/l | S26: 0.03 | T26: Y | U26: N | V26: U | W26: U | X26: U | Z26: 0.03 | AA26: 0.03 | AB26: mg/l | AD26: 0.03 | AE26: 0.03 | AF26: mg/l | AG26: TRG | AH26: 584985.64 | AI26: 6916446 | AJ26: 1314.54 | AK26: 1316.06 | AL26: 1313.02
A27: =E27&P27 -> CH15-106-MW002Magnesium, dissolved | B27: 1650156 | C27: FAROMINE | D27: CH15-106-MW002 | E27: CH15-106-MW002 | F27: 42523 | G27: 6.1 | H27: 9.14 | I27: m | J27: WG | K27: T | L27: METHOD | M27: L1778682 | N27: 100394531 | O27: 7439-95-4_D | P27: Magnesium, dissolved | Q27: 2.77 | R27: mg/l | S27: 0.1 | T27: Y | U27: Y | X27: = | Z27: 0.1 | AA27: 0.1 | AB27: mg/l | AD27: 2.77 | AE27: 2.77 | AF27: mg/l | AG27: TRG | AH27: 584985.64 | AI27: 6916446 | AJ27: 1314.54 | AK27: 1316.06 | AL27: 1313.02
A28: =E28&P28 -> CH15-106-MW002Silicon, dissolved | B28: 1650156 | C28: FAROMINE | D28: CH15-106-MW002 | E28: CH15-106-MW002 | F28: 42523 | G28: 6.1 | H28: 9.14 | I28: m | J28: WG | K28: T | L28: METHOD | M28: L1778682 | N28: 100394531 | O28: 7440-21-3_D | P28: Silicon, dissolved | Q28: 8.35 | R28: mg/l | S28: 0.05 | T28: Y | U28: Y | X28: = | Z28: 0.05 | AA28: 0.05 | AB28: mg/l | AD28: 8.35 | AE28: 8.35 | AF28: mg/l | AG28: TRG | AH28: 584985.64 | AI28: 6916446 | AJ28: 1314.54 | AK28: 1316.06 | AL28: 1313.02
A29: =E29&P29 -> CH15-106-MW002Calcium, dissolved | B29: 1650156 | C29: FAROMINE | D29: CH15-106-MW002 | E29: CH15-106-MW002 | F29: 42523 | G29: 6.1 | H29: 9.14 | I29: m | J29: WG | K29: T | L29: METHOD | M29: L1778682 | N29: 100394531 | O29: 7440-70-2_D | P29: Calcium, dissolved | Q29: 34.4 | R29: mg/l | S29: 0.05 | T29: Y | U29: Y | X29: = | Z29: 0.05 | AA29: 0.05 | AB29: mg/l | AD29: 34.4 | AE29: 34.4 | AF29: mg/l | AG29: TRG | AH29: 584985.64 | AI29: 6916446 | AJ29: 1314.54 | AK29: 1316.06 | AL29: 1313.02
A30: =E30&P30 -> CH15-106-MW002Sulfur, dissolved | B30: 1650156 | C30: FAROMINE | D30: CH15-106-MW002 | E30: CH15-106-MW002 | F30: 42523 | G30: 6.1 | H30: 9.14 | I30: m | J30: WG | K30: T | L30: METHOD | M30: L1778682 | N30: 100394531 | O30: 7704-34-9_D | P30: Sulfur, dissolved | Q30: 1.46 | R30: mg/l | S30: 0.5 | T30: Y | U30: Y | X30: = | Z30: 0.5 | AA30: 0.5 | AB30: mg/l | AD30: 1.46 | AE30: 1.46 | AF30: mg/l | AG30: TRG | AH30: 584985.64 | AI30: 6916446 | AJ30: 1314.54 | AK30: 1316.06 | AL30: 1313.02
A31: =E31&P31 -> CH15-106-MW002Phosphorus, dissolved | B31: 1650156 | C31: FAROMINE | D31: CH15-106-MW002 | E31: CH15-106-MW002 | F31: 42523 | G31: 6.1 | H31: 9.14 | I31: m | J31: WG | K31: T | L31: METHOD | M31: L1778682 | N31: 100394531 | O31: 7723-14-0_D | P31: Phosphorus, dissolved | Q31: 0.3 | R31: mg/l | S31: 0.3 | T31: Y | U31: N | V31: U | W31: U | X31: U | Z31: 0.3 | AA31: 0.3 | AB31: mg/l | AD31: 0.3 | AE31: 0.3 | AF31: mg/l | AG31: TRG | AH31: 584985.64 | AI31: 6916446 | AJ31: 1314.54 | AK31: 1316.06 | AL31: 1313.02
A32: =E32&P32 -> CH15-106-MW002Silica, Dissolved | B32: 1650156 | C32: FAROMINE | D32: CH15-106-MW002 | E32: CH15-106-MW002 | F32: 42523 | G32: 6.1 | H32: 9.14 | I32: m | J32: WG | K32: T | L32: NONE | M32: L1778682 | N32: 100394532 | O32: 7631-86-9_D | P32: Silica, Dissolved | Q32: 17.9 | R32: mg/l | S32: 0.2 | T32: Y | U32: Y | X32: = | Z32: 0.2 | AA32: 0.2 | AB32: mg/l | AD32: 17.9 | AE32: 17.9 | AF32: mg/l | AG32: TRG | AH32: 584985.64 | AI32: 6916446 | AJ32: 1314.54 | AK32: 1316.06 | AL32: 1313.02
A33: =E33&P33 -> CH15-106-MW002Aluminum, dissolved | B33: 1650156 | C33: FAROMINE | D33: CH15-106-MW002 | E33: CH15-106-MW002 | F33: 42523 | G33: 6.1 | H33: 9.14 | I33: m | J33: WG | K33: T | L33: METHOD | M33: L1778682 | N33: 100394533 | O33: 7429-90-5_D | P33: Aluminum, dissolved | Q33: 0.001 | R33: mg/l | S33: 0.001 | T33: Y | U33: N | V33: U | W33: U | X33: = | Z33: 0.001 | AA33: 0.001 | AB33: mg/l | AD33: 0.0078 | AE33: 0.0078 | AF33: mg/l | AG33: TRG | AH33: 584985.64 | AI33: 6916446 | AJ33: 1314.54 | AK33: 1316.06 | AL33: 1313.02
A34: =E34&P34 -> CH15-106-MW002Lead (Pb)-Dissolved | B34: 1650156 | C34: FAROMINE | D34: CH15-106-MW002 | E34: CH15-106-MW002 | F34: 42523 | G34: 6.1 | H34: 9.14 | I34: m | J34: WG | K34: T | L34: METHOD | M34: L1778682 | N34: 100394533 | O34: 7439-92-1_D | P34: Lead (Pb)-Dissolved | Q34: 0.000438 | R34: mg/l | S34: 5e-05 | T34: Y | U34: Y | X34: = | Z34: 5e-05 | AA34: 5e-05 | AB34: mg/l | AD34: 0.000438 | AE34: 0.000438 | AF34: mg/l | AG34: TRG | AH34: 584985.64 | AI34: 6916446 | AJ34: 1314.54 | AK34: 1316.06 | AL34: 1313.02
A35: =E35&P35 -> CH15-106-MW002Manganese, dissolved | B35: 1650156 | C35: FAROMINE | D35: CH15-106-MW002 | E35: CH15-106-MW002 | F35: 42523 | G35: 6.1 | H35: 9.14 | I35: m | J35: WG | K35: T | L35: METHOD | M35: L1778682 | N35: 100394533 | O35: 7439-96-5_D | P35: Manganese, dissolved | Q35: 0.00211 | R35: mg/l | S35: 0.0001 | T35: Y | U35: Y | X35: = | Z35: 0.0001 | AA35: 0.0001 | AB35: mg/l | AD35: 0.00211 | AE35: 0.00211 | AF35: mg/l | AG35: TRG | AH35: 584985.64 | AI35: 6916446 | AJ35: 1314.54 | AK35: 1316.06 | AL35: 1313.02
A36: =E36&P36 -> CH15-106-MW002Molybdenum (Mo)-Dissolved | B36: 1650156 | C36: FAROMINE | D36: CH15-106-MW002 | E36: CH15-106-MW002 | F36: 42523 | G36: 6.1 | H36: 9.14 | I36: m | J36: WG | K36: T | L36: METHOD | M36: L1778682 | N36: 100394533 | O36: 7439-98-7_D | P36: Molybdenum (Mo)-Dissolved | Q36: 0.000194 | R36: mg/l | S36: 5e-05 | T36: Y | U36: Y | X36: = | Z36: 5e-05 | AA36: 5e-05 | AB36: mg/l | AD36: 0.000194 | AE36: 0.000194 | AF36: mg/l | AG36: TRG | AH36: 584985.64 | AI36: 6916446 | AJ36: 1314.54 | AK36: 1316.06 | AL36: 1313.02
A37: =E37&P37 -> CH15-106-MW002Nickel (Ni)-Dissolved | B37: 1650156 | C37: FAROMINE | D37: CH15-106-MW002 | E37: CH15-106-MW002 | F37: 42523 | G37: 6.1 | H37: 9.14 | I37: m | J37: WG | K37: T | L37: METHOD | M37: L1778682 | N37: 100394533 | O37: 7440-02-0_D | P37: Nickel (Ni)-Dissolved | Q37: 0.0008 | R37: mg/l | S37: 0.0005 | T37: Y | U37: Y | X37: = | Z37: 0.0005 | AA37: 0.0005 | AB37: mg/l | AD37: 0.0008 | AE37: 0.0008 | AF37: mg/l | AG37: TRG | AH37: 584985.64 | AI37: 6916446 | AJ37: 1314.54 | AK37: 1316.06 | AL37: 1313.02
A38: =E38&P38 -> CH15-106-MW002Silver (Ag)-Dissolved | B38: 1650156 | C38: FAROMINE | D38: CH15-106-MW002 | E38: CH15-106-MW002 | F38: 42523 | G38: 6.1 | H38: 9.14 | I38: m | J38: WG | K38: T | L38: METHOD | M38: L1778682 | N38: 100394533 | O38: 7440-22-4_D | P38: Silver (Ag)-Dissolved | Q38: 1e-05 | R38: mg/l | S38: 1e-05 | T38: Y | U38: N | V38: U | W38: U | X38: U | Z38: 1e-05 | AA38: 1e-05 | AB38: mg/l | AD38: 1e-05 | AE38: 1e-05 | AF38: mg/l | AG38: TRG | AH38: 584985.64 | AI38: 6916446 | AJ38: 1314.54 | AK38: 1316.06 | AL38: 1313.02
A39: =E39&P39 -> CH15-106-MW002Sodium (Na)-Dissolved | B39: 1650156 | C39: FAROMINE | D39: CH15-106-MW002 | E39: CH15-106-MW002 | F39: 42523 | G39: 6.1 | H39: 9.14 | I39: m | J39: WG | K39: T | L39: METHOD | M39: L1778682 | N39: 100394533 | O39: 7440-23-5_D | P39: Sodium (Na)-Dissolved | Q39: 1.83 | R39: mg/l | S39: 0.05 | T39: Y | U39: Y | X39: = | Z39: 0.05 | AA39: 0.05 | AB39: mg/l | AD39: 1.83 | AE39: 1.83 | AF39: mg/l | AG39: TRG | AH39: 584985.64 | AI39: 6916446 | AJ39: 1314.54 | AK39: 1316.06 | AL39: 1313.02
A40: =E40&P40 -> CH15-106-MW002Strontium, dissolved | B40: 1650156 | C40: FAROMINE | D40: CH15-106-MW002 | E40: CH15-106-MW002 | F40: 42523 | G40: 6.1 | H40: 9.14 | I40: m | J40: WG | K40: T | L40: METHOD | M40: L1778682 | N40: 100394533 | O40: 7440-24-6_D | P40: Strontium, dissolved | Q40: 0.118 | R40: mg/l | S40: 0.0002 | T40: Y | U40: Y | X40: = | Z40: 0.0002 | AA40: 0.0002 | AB40: mg/l | AD40: 0.118 | AE40: 0.118 | AF40: mg/l | AG40: TRG | AH40: 584985.64 | AI40: 6916446 | AJ40: 1314.54 | AK40: 1316.06 | AL40: 1313.02
A41: =E41&P41 -> CH15-106-MW002Thallium (Tl)-Dissolved | B41: 1650156 | C41: FAROMINE | D41: CH15-106-MW002 | E41: CH15-106-MW002 | F41: 42523 | G41: 6.1 | H41: 9.14 | I41: m | J41: WG | K41: T | L41: METHOD | M41: L1778682 | N41: 100394533 | O41: 7440-28-0_D | P41: Thallium (Tl)-Dissolved | Q41: 1e-05 | R41: mg/l | S41: 1e-05 | T41: Y | U41: N | V41: U | W41: U | X41: U | Z41: 1e-05 | AA41: 1e-05 | AB41: mg/l | AD41: 1e-05 | AE41: 1e-05 | AF41: mg/l | AG41: TRG | AH41: 584985.64 | AI41: 6916446 | AJ41: 1314.54 | AK41: 1316.06 | AL41: 1313.02
A42: =E42&P42 -> CH15-106-MW002Titanium, dissolved | B42: 1650156 | C42: FAROMINE | D42: CH15-106-MW002 | E42: CH15-106-MW002 | F42: 42523 | G42: 6.1 | H42: 9.14 | I42: m | J42: WG | K42: T | L42: METHOD | M42: L1778682 | N42: 100394533 | O42: 7440-32-6_D | P42: Titanium, dissolved | Q42: 0.0003 | R42: mg/l | S42: 0.0003 | T42: Y | U42: Y | X42: = | Z42: 0.0003 | AA42: 0.0003 | AB42: mg/l | AD42: 0.0003 | AE42: 0.0003 | AF42: mg/l | AG42: TRG | AH42: 584985.64 | AI42: 6916446 | AJ42: 1314.54 | AK42: 1316.06 | AL42: 1313.02
A43: =E43&P43 -> CH15-106-MW002Antimony (Sb)-Dissolved | B43: 1650156 | C43: FAROMINE | D43: CH15-106-MW002 | E43: CH15-106-MW002 | F43: 42523 | G43: 6.1 | H43: 9.14 | I43: m | J43: WG | K43: T | L43: METHOD | M43: L1778682 | N43: 100394533 | O43: 7440-36-0_D | P43: Antimony (Sb)-Dissolved | Q43: 0.0001 | R43: mg/l | S43: 0.0001 | T43: Y | U43: N | V43: U | W43: U | X43: U | Z43: 0.0001 | AA43: 0.0001 | AB43: mg/l | AD43: 0.0001 | AE43: 0.0001 | AF43: mg/l | AG43: TRG | AH43: 584985.64 | AI43: 6916446 | AJ43: 1314.54 | AK43: 1316.06 | AL43: 1313.02
A44: =E44&P44 -> CH15-106-MW002Barium (Ba)-Dissolved | B44: 1650156 | C44: FAROMINE | D44: CH15-106-MW002 | E44: CH15-106-MW002 | F44: 42523 | G44: 6.1 | H44: 9.14 | I44: m | J44: WG | K44: T | L44: METHOD | M44: L1778682 | N44: 100394533 | O44: 7440-39-3_D | P44: Barium (Ba)-Dissolved | Q44: 0.171 | R44: mg/l | S44: 5e-05 | T44: Y | U44: Y | X44: = | Z44: 5e-05 | AA44: 5e-05 | AB44: mg/l | AD44: 0.171 | AE44: 0.171 | AF44: mg/l | AG44: TRG | AH44: 584985.64 | AI44: 6916446 | AJ44: 1314.54 | AK44: 1316.06 | AL44: 1313.02
A45: =E45&P45 -> CH15-106-MW002Beryllium (Be)-Dissolved | B45: 1650156 | C45: FAROMINE | D45: CH15-106-MW002 | E45: CH15-106-MW002 | F45: 42523 | G45: 6.1 | H45: 9.14 | I45: m | J45: WG | K45: T | L45: METHOD | M45: L1778682 | N45: 100394533 | O45: 7440-41-7_D | P45: Beryllium (Be)-Dissolved | Q45: 0.0001 | R45: mg/l | S45: 0.0001 | T45: Y | U45: N | V45: U | W45: U | X45: U | Z45: 0.0001 | AA45: 0.0001 | AB45: mg/l | AD45: 0.0001 | AE45: 0.0001 | AF45: mg/l | AG45: TRG | AH45: 584985.64 | AI45: 6916446 | AJ45: 1314.54 | AK45: 1316.06 | AL45: 1313.02
A46: =E46&P46 -> CH15-106-MW002Boron (B)-Dissolved | B46: 1650156 | C46: FAROMINE | D46: CH15-106-MW002 | E46: CH15-106-MW002 | F46: 42523 | G46: 6.1 | H46: 9.14 | I46: m | J46: WG | K46: T | L46: METHOD | M46: L1778682 | N46: 100394533 | O46: 7440-42-8_D | P46: Boron (B)-Dissolved | Q46: 0.01 | R46: mg/l | S46: 0.01 | T46: Y | U46: N | V46: U | W46: U | X46: U | Z46: 0.01 | AA46: 0.01 | AB46: mg/l | AD46: 0.01 | AE46: 0.01 | AF46: mg/l | AG46: TRG | AH46: 584985.64 | AI46: 6916446 | AJ46: 1314.54 | AK46: 1316.06 | AL46: 1313.02
A47: =E47&P47 -> CH15-106-MW002Cadmium (Cd)-Dissolved | B47: 1650156 | C47: FAROMINE | D47: CH15-106-MW002 | E47: CH15-106-MW002 | F47: 42523 | G47: 6.1 | H47: 9.14 | I47: m | J47: WG | K47: T | L47: METHOD | M47: L1778682 | N47: 100394533 | O47: 7440-43-9_D | P47: Cadmium (Cd)-Dissolved | Q47: 4.83e-05 | R47: mg/l | S47: 5e-06 | T47: Y | U47: Y | X47: = | Z47: 5e-06 | AA47: 5e-06 | AB47: mg/l | AD47: 4.83e-05 | AE47: 4.83e-05 | AF47: mg/l | AG47: TRG | AH47: 584985.64 | AI47: 6916446 | AJ47: 1314.54 | AK47: 1316.06 | AL47: 1313.02
A48: =E48&P48 -> CH15-106-MW002Chromium (Cr)-Dissolved | B48: 1650156 | C48: FAROMINE | D48: CH15-106-MW002 | E48: CH15-106-MW002 | F48: 42523 | G48: 6.1 | H48: 9.14 | I48: m | J48: WG | K48: T | L48: METHOD | M48: L1778682 | N48: 100394533 | O48: 7440-47-3_D | P48: Chromium (Cr)-Dissolved | Q48: 0.00046 | R48: mg/l | S48: 0.0001 | T48: Y | U48: Y | X48: = | Z48: 0.0001 | AA48: 0.0001 | AB48: mg/l | AD48: 0.00046 | AE48: 0.00046 | AF48: mg/l | AG48: TRG | AH48: 584985.64 | AI48: 6916446 | AJ48: 1314.54 | AK48: 1316.06 | AL48: 1313.02
A49: =E49&P49 -> CH15-106-MW002Cobalt (Co)-Dissolved | B49: 1650156 | C49: FAROMINE | D49: CH15-106-MW002 | E49: CH15-106-MW002 | F49: 42523 | G49: 6.1 | H49: 9.14 | I49: m | J49: WG | K49: T | L49: METHOD | M49: L1778682 | N49: 100394533 | O49: 7440-48-4_D | P49: Cobalt (Co)-Dissolved | Q49: 0.0001 | R49: mg/l | S49: 0.0001 | T49: Y | U49: N | V49: U | W49: U | X49: U | Z49: 0.0001 | AA49: 0.0001 | AB49: mg/l | AD49: 0.0001 | AE49: 0.0001 | AF49: mg/l | AG49: TRG | AH49: 584985.64 | AI49: 6916446 | AJ49: 1314.54 | AK49: 1316.06 | AL49: 1313.02
A50: =E50&P50 -> CH15-106-MW002Copper (Cu)-Dissolved | B50: 1650156 | C50: FAROMINE | D50: CH15-106-MW002 | E50: CH15-106-MW002 | F50: 42523 | G50: 6.1 | H50: 9.14 | I50: m | J50: WG | K50: T | L50: METHOD | M50: L1778682 | N50: 100394533 | O50: 7440-50-8_D | P50: Copper (Cu)-Dissolved | Q50: 0.0014 | R50: mg/l | S50: 0.0002 | T50: Y | U50: Y | X50: = | Z50: 0.0002 | AA50: 0.0002 | AB50: mg/l | AD50: 0.0014 | AE50: 0.0014 | AF50: mg/l | AG50: TRG | AH50: 584985.64 | AI50: 6916446 | AJ50: 1314.54 | AK50: 1316.06 | AL50: 1313.02
A51: =E51&P51 -> CH15-106-MW002Uranium (U)-Dissolved | B51: 1650156 | C51: FAROMINE | D51: CH15-106-MW002 | E51: CH15-106-MW002 | F51: 42523 | G51: 6.1 | H51: 9.14 | I51: m | J51: WG | K51: T | L51: METHOD | M51: L1778682 | N51: 100394533 | O51: 7440-61-1_D | P51: Uranium (U)-Dissolved | Q51: 0.000152 | R51: mg/l | S51: 1e-05 | T51: Y | U51: Y | X51: = | Z51: 1e-05 | AA51: 1e-05 | AB51: mg/l | AD51: 0.000152 | AE51: 0.000152 | AF51: mg/l | AG51: TRG | AH51: 584985.64 | AI51: 6916446 | AJ51: 1314.54 | AK51: 1316.06 | AL51: 1313.02
A52: =E52&P52 -> CH15-106-MW002Vanadium (V)-Dissolved | B52: 1650156 | C52: FAROMINE | D52: CH15-106-MW002 | E52: CH15-106-MW002 | F52: 42523 | G52: 6.1 | H52: 9.14 | I52: m | J52: WG | K52: T | L52: METHOD | M52: L1778682 | N52: 100394533 | O52: 7440-62-2_D | P52: Vanadium (V)-Dissolved | Q52: 0.0005 | R52: mg/l | S52: 0.0005 | T52: Y | U52: N | V52: U | W52: U | X52: U | Z52: 0.0005 | AA52: 0.0005 | AB52: mg/l | AD52: 0.0005 | AE52: 0.0005 | AF52: mg/l | AG52: TRG | AH52: 584985.64 | AI52: 6916446 | AJ52: 1314.54 | AK52: 1316.06 | AL52: 1313.02
A53: =E53&P53 -> CH15-106-MW002Zinc (Zn)-Dissolved | B53: 1650156 | C53: FAROMINE | D53: CH15-106-MW002 | E53: CH15-106-MW002 | F53: 42523 | G53: 6.1 | H53: 9.14 | I53: m | J53: WG | K53: T | L53: METHOD | M53: L1778682 | N53: 100394533 | O53: 7440-66-6_D | P53: Zinc (Zn)-Dissolved | Q53: 0.001 | R53: mg/l | S53: 0.001 | T53: Y | U53: N | V53: U | W53: U | X53: = | Z53: 0.001 | AA53: 0.001 | AB53: mg/l | AD53: 0.0075 | AE53: 0.0075 | AF53: mg/l | AG53: TRG | AH53: 584985.64 | AI53: 6916446 | AJ53: 1314.54 | AK53: 1316.06 | AL53: 1313.02
A54: =E54&P54 -> CH15-106-MW002Selenium (Se)-Dissolved | B54: 1650156 | C54: FAROMINE | D54: CH15-106-MW002 | E54: CH15-106-MW002 | F54: 42523 | G54: 6.1 | H54: 9.14 | I54: m | J54: WG | K54: T | L54: METHOD | M54: L1778682 | N54: 100394533 | O54: 7782-49-2_D | P54: Selenium (Se)-Dissolved | Q54: 9.1e-05 | R54: mg/l | S54: 5e-05 | T54: Y | U54: Y | X54: = | Z54: 5e-05 | AA54: 5e-05 | AB54: mg/l | AD54: 9.1e-05 | AE54: 9.1e-05 | AF54: mg/l | AG54: TRG | AH54: 584985.64 | AI54: 6916446 | AJ54: 1314.54 | AK54: 1316.06 | AL54: 1313.02
A55: =E55&P55 -> CH15-106-MW002Lithium, dissolved | B55: 1650156 | C55: FAROMINE | D55: CH15-106-MW002 | E55: CH15-106-MW002 | F55: 42523 | G55: 6.1 | H55: 9.14 | I55: m | J55: WG | K55: T | L55: METHOD | M55: L1778682 | N55: 100394534 | O55: 7439-93-2_D | P55: Lithium, dissolved | Q55: 0.0049 | R55: mg/l | S55: 0.001 | T55: Y | U55: Y | X55: = | Z55: 0.001 | AA55: 0.001 | AB55: mg/l | AD55: 0.0049 | AE55: 0.0049 | AF55: mg/l | AG55: TRG | AH55: 584985.64 | AI55: 6916446 | AJ55: 1314.54 | AK55: 1316.06 | AL55: 1313.02
A56: =E56&P56 -> CH15-106-MW002Potassium, dissolved | B56: 1650156 | C56: FAROMINE | D56: CH15-106-MW002 | E56: CH15-106-MW002 | F56: 42523 | G56: 6.1 | H56: 9.14 | I56: m | J56: WG | K56: T | L56: METHOD | M56: L1778682 | N56: 100394534 | O56: 7440-09-7_D | P56: Potassium, dissolved | Q56: 1 | R56: mg/l | S56: 0.05 | T56: Y | U56: Y | X56: = | Z56: 0.05 | AA56: 0.05 | AB56: mg/l | AD56: 1 | AE56: 1 | AF56: mg/l | AG56: TRG | AH56: 584985.64 | AI56: 6916446 | AJ56: 1314.54 | AK56: 1316.06 | AL56: 1313.02
A57: =E57&P57 -> CH15-106-MW002Arsenic (As)-Dissolved | B57: 1650156 | C57: FAROMINE | D57: CH15-106-MW002 | E57: CH15-106-MW002 | F57: 42523 | G57: 6.1 | H57: 9.14 | I57: m | J57: WG | K57: T | L57: METHOD | M57: L1778682 | N57: 100394534 | O57: 7440-38-2_D | P57: Arsenic (As)-Dissolved | Q57: 0.00017 | R57: mg/l | S57: 0.0001 | T57: Y | U57: Y | X57: = | Z57: 0.0001 | AA57: 0.0001 | AB57: mg/l | AD57: 0.00017 | AE57: 0.00017 | AF57: mg/l | AG57: TRG | AH57: 584985.64 | AI57: 6916446 | AJ57: 1314.54 | AK57: 1316.06 | AL57: 1313.02
A58: =E58&P58 -> CH15-106-MW006Conductivity, Field | B58: 1650156 | C58: FAROMINE | D58: CH15-106-MW006 | E58: CH15-106-MW006 | F58: 42523 | G58: -999 | H58: -999 | I58: m | J58: WG | K58: N | N58: 100365176 | O58: CONDF | P58: Conductivity, Field | Q58: 0.139 | R58: mS/cm | T58: Y | U58: Y | AD58: 0.139 | AE58: 0.139 | AF58: mS/cm | AG58: TRG | AH58: 585316.99 | AI58: 6916726.7 | AJ58: 2310.634 | AK58: 2310.634 | AL58: 2310.634
A59: =E59&P59 -> CH15-106-MW006Dissolved Oxygen, Field | B59: 1650156 | C59: FAROMINE | D59: CH15-106-MW006 | E59: CH15-106-MW006 | F59: 42523 | G59: -999 | H59: -999 | I59: m | J59: WG | K59: N | N59: 100365176 | O59: DOXF | P59: Dissolved Oxygen, Field | Q59: 6.01 | R59: mg/l | T59: Y | U59: Y | AD59: 6.01 | AE59: 6.01 | AF59: mg/l | AG59: TRG | AH59: 585316.99 | AI59: 6916726.7 | AJ59: 2310.634 | AK59: 2310.634 | AL59: 2310.634
A60: =E60&P60 -> CH15-106-MW006Oxidation Reduction Potential, Field | B60: 1650156 | C60: FAROMINE | D60: CH15-106-MW006 | E60: CH15-106-MW006 | F60: 42523 | G60: -999 | H60: -999 | I60: m | J60: WG | K60: N | N60: 100365176 | O60: ORPF | P60: Oxidation Reduction Potential, Field | Q60: 130.6 | R60: mV | T60: Y | U60: Y | AD60: 130.6 | AE60: 130.6 | AF60: mV | AG60: TRG | AH60: 585316.99 | AI60: 6916726.7 | AJ60: 2310.634 | AK60: 2310.634 | AL60: 2310.634
A61: =E61&P61 -> CH15-106-MW006pH, Field | B61: 1650156 | C61: FAROMINE | D61: CH15-106-MW006 | E61: CH15-106-MW006 | F61: 42523 | G61: -999 | H61: -999 | I61: m | J61: WG | K61: N | N61: 100365176 | O61: PHF | P61: pH, Field | Q61: 6.5 | R61: pH UNITS | T61: Y | U61: Y | AD61: 6.5 | AE61: 6.5 | AF61: pH UNITS | AG61: TRG | AH61: 585316.99 | AI61: 6916726.7 | AJ61: 2310.634 | AK61: 2310.634 | AL61: 2310.634
A62: =E62&P62 -> CH15-106-MW006Temperature, Field | B62: 1650156 | C62: FAROMINE | D62: CH15-106-MW006 | E62: CH15-106-MW006 | F62: 42523 | G62: -999 | H62: -999 | I62: m | J62: WG | K62: N | N62: 100365176 | O62: TEMPF | P62: Temperature, Field | Q62: 2.96 | R62: deg c | T62: Y | U62: Y | AD62: 2.96 | AE62: 2.96 | AF62: deg c | AG62: TRG | AH62: 585316.99 | AI62: 6916726.7 | AJ62: 2310.634 | AK62: 2310.634 | AL62: 2310.634
A63: =E63&P63 -> CH15-106-MW006Turbidity, Field | B63: 1650156 | C63: FAROMINE | D63: CH15-106-MW006 | E63: CH15-106-MW006 | F63: 42523 | G63: -999 | H63: -999 | I63: m | J63: WG | K63: N | N63: 100365176 | O63: TURBF | P63: Turbidity, Field | Q63: 130 | R63: NTU | T63: Y | U63: Y | AD63: 130 | AE63: 130 | AF63: NTU | AG63: TRG | AH63: 585316.99 | AI63: 6916726.7 | AJ63: 2310.634 | AK63: 2310.634 | AL63: 2310.634
A64: =E64&P64 -> CH15-106-MW006Potassium, dissolved | B64: 1650156 | C64: FAROMINE | D64: CH15-106-MW006 | E64: CH15-106-MW006 | F64: 42523 | G64: 2.93 | H64: 5.97 | I64: m | J64: WG | K64: T | L64: METHOD | M64: L1778682 | N64: 100394553 | O64: 7440-09-7_D | P64: Potassium, dissolved | Q64: 0.69 | R64: mg/l | S64: 0.05 | T64: Y | U64: Y | X64: = | Z64: 0.05 | AA64: 0.05 | AB64: mg/l | AD64: 0.69 | AE64: 0.69 | AF64: mg/l | AG64: TRG | AH64: 585316.99 | AI64: 6916726.7 | AJ64: 1307.184 | AK64: 1308.704 | AL64: 1305.664
A65: =E65&P65 -> CH15-106-MW006Arsenic (As)-Dissolved | B65: 1650156 | C65: FAROMINE | D65: CH15-106-MW006 | E65: CH15-106-MW006 | F65: 42523 | G65: 2.93 | H65: 5.97 | I65: m | J65: WG | K65: T | L65: METHOD | M65: L1778682 | N65: 100394553 | O65: 7440-38-2_D | P65: Arsenic (As)-Dissolved | Q65: 0.00024 | R65: mg/l | S65: 0.0001 | T65: Y | U65: Y | X65: = | Z65: 0.0001 | AA65: 0.0001 | AB65: mg/l | AD65: 0.00024 | AE65: 0.00024 | AF65: mg/l | AG65: TRG | AH65: 585316.99 | AI65: 6916726.7 | AJ65: 1307.184 | AK65: 1308.704 | AL65: 1305.664
A66: =E66&P66 -> CH15-106-MW006Copper (Cu)-Dissolved | B66: 1650156 | C66: FAROMINE | D66: CH15-106-MW006 | E66: CH15-106-MW006 | F66: 42523 | G66: 2.93 | H66: 5.97 | I66: m | J66: WG | K66: T | L66: METHOD | M66: L1778682 | N66: 100394552 | O66: 7440-50-8_D | P66: Copper (Cu)-Dissolved | Q66: 0.00041 | R66: mg/l | S66: 0.0002 | T66: Y | U66: Y | X66: = | Z66: 0.0002 | AA66: 0.0002 | AB66: mg/l | AD66: 0.00041 | AE66: 0.00041 | AF66: mg/l | AG66: TRG | AH66: 585316.99 | AI66: 6916726.7 | AJ66: 1307.184 | AK66: 1308.704 | AL66: 1305.664
A67: =E67&P67 -> CH15-106-MW006Uranium (U)-Dissolved | B67: 1650156 | C67: FAROMINE | D67: CH15-106-MW006 | E67: CH15-106-MW006 | F67: 42523 | G67: 2.93 | H67: 5.97 | I67: m | J67: WG | K67: T | L67: METHOD | M67: L1778682 | N67: 100394552 | O67: 7440-61-1_D | P67: Uranium (U)-Dissolved | Q67: 0.000133 | R67: mg/l | S67: 1e-05 | T67: Y | U67: Y | X67: = | Z67: 1e-05 | AA67: 1e-05 | AB67: mg/l | AD67: 0.000133 | AE67: 0.000133 | AF67: mg/l | AG67: TRG | AH67: 585316.99 | AI67: 6916726.7 | AJ67: 1307.184 | AK67: 1308.704 | AL67: 1305.664
A68: =E68&P68 -> CH15-106-MW006Vanadium (V)-Dissolved | B68: 1650156 | C68: FAROMINE | D68: CH15-106-MW006 | E68: CH15-106-MW006 | F68: 42523 | G68: 2.93 | H68: 5.97 | I68: m | J68: WG | K68: T | L68: METHOD | M68: L1778682 | N68: 100394552 | O68: 7440-62-2_D | P68: Vanadium (V)-Dissolved | Q68: 0.0005 | R68: mg/l | S68: 0.0005 | T68: Y | U68: N | V68: U | W68: U | X68: U | Z68: 0.0005 | AA68: 0.0005 | AB68: mg/l | AD68: 0.0005 | AE68: 0.0005 | AF68: mg/l | AG68: TRG | AH68: 585316.99 | AI68: 6916726.7 | AJ68: 1307.184 | AK68: 1308.704 | AL68: 1305.664
A69: =E69&P69 -> CH15-106-MW006Zinc (Zn)-Dissolved | B69: 1650156 | C69: FAROMINE | D69: CH15-106-MW006 | E69: CH15-106-MW006 | F69: 42523 | G69: 2.93 | H69: 5.97 | I69: m | J69: WG | K69: T | L69: METHOD | M69: L1778682 | N69: 100394552 | O69: 7440-66-6_D | P69: Zinc (Zn)-Dissolved | Q69: 0.014 | R69: mg/l | S69: 0.001 | T69: Y | U69: Y | X69: = | Z69: 0.001 | AA69: 0.001 | AB69: mg/l | AD69: 0.014 | AE69: 0.014 | AF69: mg/l | AG69: TRG | AH69: 585316.99 | AI69: 6916726.7 | AJ69: 1307.184 | AK69: 1308.704 | AL69: 1305.664
A70: =E70&P70 -> CH15-106-MW006Selenium (Se)-Dissolved | B70: 1650156 | C70: FAROMINE | D70: CH15-106-MW006 | E70: CH15-106-MW006 | F70: 42523 | G70: 2.93 | H70: 5.97 | I70: m | J70: WG | K70: T | L70: METHOD | M70: L1778682 | N70: 100394552 | O70: 7782-49-2_D | P70: Selenium (Se)-Dissolved | Q70: 8.7e-05 | R70: mg/l | S70: 5e-05 | T70: Y | U70: Y | X70: = | Z70: 5e-05 | AA70: 5e-05 | AB70: mg/l | AD70: 8.7e-05 | AE70: 8.7e-05 | AF70: mg/l | AG70: TRG | AH70: 585316.99 | AI70: 6916726.7 | AJ70: 1307.184 | AK70: 1308.704 | AL70: 1305.664
A71: =E71&P71 -> CH15-106-MW006Lithium, dissolved | B71: 1650156 | C71: FAROMINE | D71: CH15-106-MW006 | E71: CH15-106-MW006 | F71: 42523 | G71: 2.93 | H71: 5.97 | I71: m | J71: WG | K71: T | L71: METHOD | M71: L1778682 | N71: 100394553 | O71: 7439-93-2_D | P71: Lithium, dissolved | Q71: 0.0047 | R71: mg/l | S71: 0.001 | T71: Y | U71: Y | X71: = | Z71: 0.001 | AA71: 0.001 | AB71: mg/l | AD71: 0.0047 | AE71: 0.0047 | AF71: mg/l | AG71: TRG | AH71: 585316.99 | AI71: 6916726.7 | AJ71: 1307.184 | AK71: 1308.704 | AL71: 1305.664
A72: =E72&P72 -> CH15-106-MW006Barium (Ba)-Dissolved | B72: 1650156 | C72: FAROMINE | D72: CH15-106-MW006 | E72: CH15-106-MW006 | F72: 42523 | G72: 2.93 | H72: 5.97 | I72: m | J72: WG | K72: T | L72: METHOD | M72: L1778682 | N72: 100394552 | O72: 7440-39-3_D | P72: Barium (Ba)-Dissolved | Q72: 0.0717 | R72: mg/l | S72: 5e-05 | T72: Y | U72: Y | X72: = | Z72: 5e-05 | AA72: 5e-05 | AB72: mg/l | AD72: 0.0717 | AE72: 0.0717 | AF72: mg/l | AG72: TRG | AH72: 585316.99 | AI72: 6916726.7 | AJ72: 1307.184 | AK72: 1308.704 | AL72: 1305.664
A73: =E73&P73 -> CH15-106-MW006Beryllium (Be)-Dissolved | B73: 1650156 | C73: FAROMINE | D73: CH15-106-MW006 | E73: CH15-106-MW006 | F73: 42523 | G73: 2.93 | H73: 5.97 | I73: m | J73: WG | K73: T | L73: METHOD | M73: L1778682 | N73: 100394552 | O73: 7440-41-7_D | P73: Beryllium (Be)-Dissolved | Q73: 0.0001 | R73: mg/l | S73: 0.0001 | T73: Y | U73: N | V73: U | W73: U | X73: U | Z73: 0.0001 | AA73: 0.0001 | AB73: mg/l | AD73: 0.0001 | AE73: 0.0001 | AF73: mg/l | AG73: TRG | AH73: 585316.99 | AI73: 6916726.7 | AJ73: 1307.184 | AK73: 1308.704 | AL73: 1305.664
A74: =E74&P74 -> CH15-106-MW006Boron (B)-Dissolved | B74: 1650156 | C74: FAROMINE | D74: CH15-106-MW006 | E74: CH15-106-MW006 | F74: 42523 | G74: 2.93 | H74: 5.97 | I74: m | J74: WG | K74: T | L74: METHOD | M74: L1778682 | N74: 100394552 | O74: 7440-42-8_D | P74: Boron (B)-Dissolved | Q74: 0.01 | R74: mg/l | S74: 0.01 | T74: Y | U74: N | V74: U | W74: U | X74: U | Z74: 0.01 | AA74: 0.01 | AB74: mg/l | AD74: 0.01 | AE74: 0.01 | AF74: mg/l | AG74: TRG | AH74: 585316.99 | AI74: 6916726.7 | AJ74: 1307.184 | AK74: 1308.704 | AL74: 1305.664
A75: =E75&P75 -> CH15-106-MW006Cadmium (Cd)-Dissolved | B75: 1650156 | C75: FAROMINE | D75: CH15-106-MW006 | E75: CH15-106-MW006 | F75: 42523 | G75: 2.93 | H75: 5.97 | I75: m | J75: WG | K75: T | L75: METHOD | M75: L1778682 | N75: 100394552 | O75: 7440-43-9_D | P75: Cadmium (Cd)-Dissolved | Q75: 0.000106 | R75: mg/l | S75: 5e-06 | T75: Y | U75: Y | X75: = | Z75: 5e-06 | AA75: 5e-06 | AB75: mg/l | AD75: 0.000106 | AE75: 0.000106 | AF75: mg/l | AG75: TRG | AH75: 585316.99 | AI75: 6916726.7 | AJ75: 1307.184 | AK75: 1308.704 | AL75: 1305.664
A76: =E76&P76 -> CH15-106-MW006Chromium (Cr)-Dissolved | B76: 1650156 | C76: FAROMINE | D76: CH15-106-MW006 | E76: CH15-106-MW006 | F76: 42523 | G76: 2.93 | H76: 5.97 | I76: m | J76: WG | K76: T | L76: METHOD | M76: L1778682 | N76: 100394552 | O76: 7440-47-3_D | P76: Chromium (Cr)-Dissolved | Q76: 0.00019 | R76: mg/l | S76: 0.0001 | T76: Y | U76: Y | X76: = | Z76: 0.0001 | AA76: 0.0001 | AB76: mg/l | AD76: 0.00019 | AE76: 0.00019 | AF76: mg/l | AG76: TRG | AH76: 585316.99 | AI76: 6916726.7 | AJ76: 1307.184 | AK76: 1308.704 | AL76: 1305.664
A77: =E77&P77 -> CH15-106-MW006Cobalt (Co)-Dissolved | B77: 1650156 | C77: FAROMINE | D77: CH15-106-MW006 | E77: CH15-106-MW006 | F77: 42523 | G77: 2.93 | H77: 5.97 | I77: m | J77: WG | K77: T | L77: METHOD | M77: L1778682 | N77: 100394552 | O77: 7440-48-4_D | P77: Cobalt (Co)-Dissolved | Q77: 0.00066 | R77: mg/l | S77: 0.0001 | T77: Y | U77: Y | X77: = | Z77: 0.0001 | AA77: 0.0001 | AB77: mg/l | AD77: 0.00066 | AE77: 0.00066 | AF77: mg/l | AG77: TRG | AH77: 585316.99 | AI77: 6916726.7 | AJ77: 1307.184 | AK77: 1308.704 | AL77: 1305.664
A78: =E78&P78 -> CH15-106-MW006Silver (Ag)-Dissolved | B78: 1650156 | C78: FAROMINE | D78: CH15-106-MW006 | E78: CH15-106-MW006 | F78: 42523 | G78: 2.93 | H78: 5.97 | I78: m | J78: WG | K78: T | L78: METHOD | M78: L1778682 | N78: 100394552 | O78: 7440-22-4_D | P78: Silver (Ag)-Dissolved | Q78: 1e-05 | R78: mg/l | S78: 1e-05 | T78: Y | U78: N | V78: U | W78: U | X78: U | Z78: 1e-05 | AA78: 1e-05 | AB78: mg/l | AD78: 1e-05 | AE78: 1e-05 | AF78: mg/l | AG78: TRG | AH78: 585316.99 | AI78: 6916726.7 | AJ78: 1307.184 | AK78: 1308.704 | AL78: 1305.664
A79: =E79&P79 -> CH15-106-MW006Sodium (Na)-Dissolved | B79: 1650156 | C79: FAROMINE | D79: CH15-106-MW006 | E79: CH15-106-MW006 | F79: 42523 | G79: 2.93 | H79: 5.97 | I79: m | J79: WG | K79: T | L79: METHOD | M79: L1778682 | N79: 100394552 | O79: 7440-23-5_D | P79: Sodium (Na)-Dissolved | Q79: 2.88 | R79: mg/l | S79: 0.05 | T79: Y | U79: Y | X79: = | Z79: 0.05 | AA79: 0.05 | AB79: mg/l | AD79: 2.88 | AE79: 2.88 | AF79: mg/l | AG79: TRG | AH79: 585316.99 | AI79: 6916726.7 | AJ79: 1307.184 | AK79: 1308.704 | AL79: 1305.664
A80: =E80&P80 -> CH15-106-MW006Strontium, dissolved | B80: 1650156 | C80: FAROMINE | D80: CH15-106-MW006 | E80: CH15-106-MW006 | F80: 42523 | G80: 2.93 | H80: 5.97 | I80: m | J80: WG | K80: T | L80: METHOD | M80: L1778682 | N80: 100394552 | O80: 7440-24-6_D | P80: Strontium, dissolved | Q80: 0.0895 | R80: mg/l | S80: 0.0002 | T80: Y | U80: Y | X80: = | Z80: 0.0002 | AA80: 0.0002 | AB80: mg/l | AD80: 0.0895 | AE80: 0.0895 | AF80: mg/l | AG80: TRG | AH80: 585316.99 | AI80: 6916726.7 | AJ80: 1307.184 | AK80: 1308.704 | AL80: 1305.664
A81: =E81&P81 -> CH15-106-MW006Thallium (Tl)-Dissolved | B81: 1650156 | C81: FAROMINE | D81: CH15-106-MW006 | E81: CH15-106-MW006 | F81: 42523 | G81: 2.93 | H81: 5.97 | I81: m | J81: WG | K81: T | L81: METHOD | M81: L1778682 | N81: 100394552 | O81: 7440-28-0_D | P81: Thallium (Tl)-Dissolved | Q81: 1e-05 | R81: mg/l | S81: 1e-05 | T81: Y | U81: N | V81: U | W81: U | X81: U | Z81: 1e-05 | AA81: 1e-05 | AB81: mg/l | AD81: 1e-05 | AE81: 1e-05 | AF81: mg/l | AG81: TRG | AH81: 585316.99 | AI81: 6916726.7 | AJ81: 1307.184 | AK81: 1308.704 | AL81: 1305.664
A82: =E82&P82 -> CH15-106-MW006Titanium, dissolved | B82: 1650156 | C82: FAROMINE | D82: CH15-106-MW006 | E82: CH15-106-MW006 | F82: 42523 | G82: 2.93 | H82: 5.97 | I82: m | J82: WG | K82: T | L82: METHOD | M82: L1778682 | N82: 100394552 | O82: 7440-32-6_D | P82: Titanium, dissolved | Q82: 0.0003 | R82: mg/l | S82: 0.0003 | T82: Y | U82: N | V82: U | W82: U | X82: U | Z82: 0.0003 | AA82: 0.0003 | AB82: mg/l | AD82: 0.0003 | AE82: 0.0003 | AF82: mg/l | AG82: TRG | AH82: 585316.99 | AI82: 6916726.7 | AJ82: 1307.184 | AK82: 1308.704 | AL82: 1305.664
A83: =E83&P83 -> CH15-106-MW006Antimony (Sb)-Dissolved | B83: 1650156 | C83: FAROMINE | D83: CH15-106-MW006 | E83: CH15-106-MW006 | F83: 42523 | G83: 2.93 | H83: 5.97 | I83: m | J83: WG | K83: T | L83: METHOD | M83: L1778682 | N83: 100394552 | O83: 7440-36-0_D | P83: Antimony (Sb)-Dissolved | Q83: 0.0001 | R83: mg/l | S83: 0.0001 | T83: Y | U83: N | V83: U | W83: U | X83: U | Z83: 0.0001 | AA83: 0.0001 | AB83: mg/l | AD83: 0.0001 | AE83: 0.0001 | AF83: mg/l | AG83: TRG | AH83: 585316.99 | AI83: 6916726.7 | AJ83: 1307.184 | AK83: 1308.704 | AL83: 1305.664
A84: =E84&P84 -> CH15-106-MW006Silica, Dissolved | B84: 1650156 | C84: FAROMINE | D84: CH15-106-MW006 | E84: CH15-106-MW006 | F84: 42523 | G84: 2.93 | H84: 5.97 | I84: m | J84: WG | K84: T | L84: NONE | M84: L1778682 | N84: 100394551 | O84: 7631-86-9_D | P84: Silica, Dissolved | Q84: 18.6 | R84: mg/l | S84: 0.2 | T84: Y | U84: Y | X84: = | Z84: 0.2 | AA84: 0.2 | AB84: mg/l | AD84: 18.6 | AE84: 18.6 | AF84: mg/l | AG84: TRG | AH84: 585316.99 | AI84: 6916726.7 | AJ84: 1307.184 | AK84: 1308.704 | AL84: 1305.664
A85: =E85&P85 -> CH15-106-MW006Aluminum, dissolved | B85: 1650156 | C85: FAROMINE | D85: CH15-106-MW006 | E85: CH15-106-MW006 | F85: 42523 | G85: 2.93 | H85: 5.97 | I85: m | J85: WG | K85: T | L85: METHOD | M85: L1778682 | N85: 100394552 | O85: 7429-90-5_D | P85: Aluminum, dissolved | Q85: 0.001 | R85: mg/l | S85: 0.001 | T85: Y | U85: N | V85: U | W85: U | X85: = | Z85: 0.001 | AA85: 0.001 | AB85: mg/l | AD85: 0.0055 | AE85: 0.0055 | AF85: mg/l | AG85: TRG | AH85: 585316.99 | AI85: 6916726.7 | AJ85: 1307.184 | AK85: 1308.704 | AL85: 1305.664
A86: =E86&P86 -> CH15-106-MW006Lead (Pb)-Dissolved | B86: 1650156 | C86: FAROMINE | D86: CH15-106-MW006 | E86: CH15-106-MW006 | F86: 42523 | G86: 2.93 | H86: 5.97 | I86: m | J86: WG | K86: T | L86: METHOD | M86: L1778682 | N86: 100394552 | O86: 7439-92-1_D | P86: Lead (Pb)-Dissolved | Q86: 0.000352 | R86: mg/l | S86: 5e-05 | T86: Y | U86: Y | X86: = | Z86: 5e-05 | AA86: 5e-05 | AB86: mg/l | AD86: 0.000352 | AE86: 0.000352 | AF86: mg/l | AG86: TRG | AH86: 585316.99 | AI86: 6916726.7 | AJ86: 1307.184 | AK86: 1308.704 | AL86: 1305.664
A87: =E87&P87 -> CH15-106-MW006Manganese, dissolved | B87: 1650156 | C87: FAROMINE | D87: CH15-106-MW006 | E87: CH15-106-MW006 | F87: 42523 | G87: 2.93 | H87: 5.97 | I87: m | J87: WG | K87: T | L87: METHOD | M87: L1778682 | N87: 100394552 | O87: 7439-96-5_D | P87: Manganese, dissolved | Q87: 0.11 | R87: mg/l | S87: 0.0001 | T87: Y | U87: Y | X87: = | Z87: 0.0001 | AA87: 0.0001 | AB87: mg/l | AD87: 0.11 | AE87: 0.11 | AF87: mg/l | AG87: TRG | AH87: 585316.99 | AI87: 6916726.7 | AJ87: 1307.184 | AK87: 1308.704 | AL87: 1305.664
A88: =E88&P88 -> CH15-106-MW006Molybdenum (Mo)-Dissolved | B88: 1650156 | C88: FAROMINE | D88: CH15-106-MW006 | E88: CH15-106-MW006 | F88: 42523 | G88: 2.93 | H88: 5.97 | I88: m | J88: WG | K88: T | L88: METHOD | M88: L1778682 | N88: 100394552 | O88: 7439-98-7_D | P88: Molybdenum (Mo)-Dissolved | Q88: 0.00023 | R88: mg/l | S88: 5e-05 | T88: Y | U88: Y | X88: = | Z88: 5e-05 | AA88: 5e-05 | AB88: mg/l | AD88: 0.00023 | AE88: 0.00023 | AF88: mg/l | AG88: TRG | AH88: 585316.99 | AI88: 6916726.7 | AJ88: 1307.184 | AK88: 1308.704 | AL88: 1305.664
A89: =E89&P89 -> CH15-106-MW006Nickel (Ni)-Dissolved | B89: 1650156 | C89: FAROMINE | D89: CH15-106-MW006 | E89: CH15-106-MW006 | F89: 42523 | G89: 2.93 | H89: 5.97 | I89: m | J89: WG | K89: T | L89: METHOD | M89: L1778682 | N89: 100394552 | O89: 7440-02-0_D | P89: Nickel (Ni)-Dissolved | Q89: 0.0017 | R89: mg/l | S89: 0.0005 | T89: Y | U89: Y | X89: = | Z89: 0.0005 | AA89: 0.0005 | AB89: mg/l | AD89: 0.0017 | AE89: 0.0017 | AF89: mg/l | AG89: TRG | AH89: 585316.99 | AI89: 6916726.7 | AJ89: 1307.184 | AK89: 1308.704 | AL89: 1305.664
A90: =E90&P90 -> CH15-106-MW006Iron, dissolved | B90: 1650156 | C90: FAROMINE | D90: CH15-106-MW006 | E90: CH15-106-MW006 | F90: 42523 | G90: 2.93 | H90: 5.97 | I90: m | J90: WG | K90: T | L90: METHOD | M90: L1778682 | N90: 100394550 | O90: 7439-89-6_D | P90: Iron, dissolved | Q90: 0.176 | R90: mg/l | S90: 0.03 | T90: Y | U90: Y | X90: = | Z90: 0.03 | AA90: 0.03 | AB90: mg/l | AD90: 0.176 | AE90: 0.176 | AF90: mg/l | AG90: TRG | AH90: 585316.99 | AI90: 6916726.7 | AJ90: 1307.184 | AK90: 1308.704 | AL90: 1305.664
A91: =E91&P91 -> CH15-106-MW006Magnesium, dissolved | B91: 1650156 | C91: FAROMINE | D91: CH15-106-MW006 | E91: CH15-106-MW006 | F91: 42523 | G91: 2.93 | H91: 5.97 | I91: m | J91: WG | K91: T | L91: METHOD | M91: L1778682 | N91: 100394550 | O91: 7439-95-4_D | P91: Magnesium, dissolved | Q91: 3.61 | R91: mg/l | S91: 0.1 | T91: Y | U91: Y | X91: = | Z91: 0.1 | AA91: 0.1 | AB91: mg/l | AD91: 3.61 | AE91: 3.61 | AF91: mg/l | AG91: TRG | AH91: 585316.99 | AI91: 6916726.7 | AJ91: 1307.184 | AK91: 1308.704 | AL91: 1305.664
A92: =E92&P92 -> CH15-106-MW006Silicon, dissolved | B92: 1650156 | C92: FAROMINE | D92: CH15-106-MW006 | E92: CH15-106-MW006 | F92: 42523 | G92: 2.93 | H92: 5.97 | I92: m | J92: WG | K92: T | L92: METHOD | M92: L1778682 | N92: 100394550 | O92: 7440-21-3_D | P92: Silicon, dissolved | Q92: 8.69 | R92: mg/l | S92: 0.05 | T92: Y | U92: Y | X92: = | Z92: 0.05 | AA92: 0.05 | AB92: mg/l | AD92: 8.69 | AE92: 8.69 | AF92: mg/l | AG92: TRG | AH92: 585316.99 | AI92: 6916726.7 | AJ92: 1307.184 | AK92: 1308.704 | AL92: 1305.664
A93: =E93&P93 -> CH15-106-MW006Calcium, dissolved | B93: 1650156 | C93: FAROMINE | D93: CH15-106-MW006 | E93: CH15-106-MW006 | F93: 42523 | G93: 2.93 | H93: 5.97 | I93: m | J93: WG | K93: T | L93: METHOD | M93: L1778682 | N93: 100394550 | O93: 7440-70-2_D | P93: Calcium, dissolved | Q93: 18.9 | R93: mg/l | S93: 0.05 | T93: Y | U93: Y | X93: = | Z93: 0.05 | AA93: 0.05 | AB93: mg/l | AD93: 18.9 | AE93: 18.9 | AF93: mg/l | AG93: TRG | AH93: 585316.99 | AI93: 6916726.7 | AJ93: 1307.184 | AK93: 1308.704 | AL93: 1305.664
A94: =E94&P94 -> CH15-106-MW006Sulfur, dissolved | B94: 1650156 | C94: FAROMINE | D94: CH15-106-MW006 | E94: CH15-106-MW006 | F94: 42523 | G94: 2.93 | H94: 5.97 | I94: m | J94: WG | K94: T | L94: METHOD | M94: L1778682 | N94: 100394550 | O94: 7704-34-9_D | P94: Sulfur, dissolved | Q94: 6.87 | R94: mg/l | S94: 0.5 | T94: Y | U94: Y | X94: = | Z94: 0.5 | AA94: 0.5 | AB94: mg/l | AD94: 6.87 | AE94: 6.87 | AF94: mg/l | AG94: TRG | AH94: 585316.99 | AI94: 6916726.7 | AJ94: 1307.184 | AK94: 1308.704 | AL94: 1305.664
A95: =E95&P95 -> CH15-106-MW006Phosphorus, dissolved | B95: 1650156 | C95: FAROMINE | D95: CH15-106-MW006 | E95: CH15-106-MW006 | F95: 42523 | G95: 2.93 | H95: 5.97 | I95: m | J95: WG | K95: T | L95: METHOD | M95: L1778682 | N95: 100394550 | O95: 7723-14-0_D | P95: Phosphorus, dissolved | Q95: 0.3 | R95: mg/l | S95: 0.3 | T95: Y | U95: N | V95: U | W95: U | X95: U | Z95: 0.3 | AA95: 0.3 | AB95: mg/l | AD95: 0.3 | AE95: 0.3 | AF95: mg/l | AG95: TRG | AH95: 585316.99 | AI95: 6916726.7 | AJ95: 1307.184 | AK95: 1308.704 | AL95: 1305.664
A96: =E96&P96 -> CH15-106-MW006Nitrite (as N) | B96: 1650156 | C96: FAROMINE | D96: CH15-106-MW006 | E96: CH15-106-MW006 | F96: 42523 | G96: 2.93 | H96: 5.97 | I96: m | J96: WG | K96: T | L96: NONE | M96: L1778682 | N96: 100394546 | O96: 14797-65-0 | P96: Nitrite (as N) | Q96: 0.001 | R96: mg/l | S96: 0.001 | T96: Y | U96: N | V96: UJ | W96: UJ | X96: U | Z96: 0.001 | AA96: 0.001 | AB96: mg/l | AD96: 0.001 | AE96: 0.001 | AF96: mg/l | AG96: TRG | AH96: 585316.99 | AI96: 6916726.7 | AJ96: 1307.184 | AK96: 1308.704 | AL96: 1305.664
A97: =E97&P97 -> CH15-106-MW006Sulfate | B97: 1650156 | C97: FAROMINE | D97: CH15-106-MW006 | E97: CH15-106-MW006 | F97: 42523 | G97: 2.93 | H97: 5.97 | I97: m | J97: WG | K97: T | L97: NONE | M97: L1778682 | N97: 100394546 | O97: 14808-79-8 | P97: Sulfate | Q97: 20.8 | R97: mg/l | S97: 0.3 | T97: Y | U97: Y | X97: = | Z97: 0.3 | AA97: 0.3 | AB97: mg/l | AD97: 20.8 | AE97: 20.8 | AF97: mg/l | AG97: TRG | AH97: 585316.99 | AI97: 6916726.7 | AJ97: 1307.184 | AK97: 1308.704 | AL97: 1305.664
A98: =E98&P98 -> CH15-106-MW006Chloride (Cl) | B98: 1650156 | C98: FAROMINE | D98: CH15-106-MW006 | E98: CH15-106-MW006 | F98: 42523 | G98: 2.93 | H98: 5.97 | I98: m | J98: WG | K98: T | L98: NONE | M98: L1778682 | N98: 100394546 | O98: 16887-00-6 | P98: Chloride (Cl) | Q98: 0.5 | R98: mg/l | S98: 0.5 | T98: Y | U98: N | V98: U | W98: U | X98: U | Z98: 0.5 | AA98: 0.5 | AB98: mg/l | AD98: 0.5 | AE98: 0.5 | AF98: mg/l | AG98: TRG | AH98: 585316.99 | AI98: 6916726.7 | AJ98: 1307.184 | AK98: 1308.704 | AL98: 1305.664
A99: =E99&P99 -> CH15-106-MW006Fluoride | B99: 1650156 | C99: FAROMINE | D99: CH15-106-MW006 | E99: CH15-106-MW006 | F99: 42523 | G99: 2.93 | H99: 5.97 | I99: m | J99: WG | K99: T | L99: NONE | M99: L1778682 | N99: 100394546 | O99: 16984-48-8 | P99: Fluoride | Q99: 0.091 | R99: mg/l | S99: 0.02 | T99: Y | U99: Y | X99: = | Z99: 0.02 | AA99: 0.02 | AB99: mg/l | AD99: 0.091 | AE99: 0.091 | AF99: mg/l | AG99: TRG | AH99: 585316.99 | AI99: 6916726.7 | AJ99: 1307.184 | AK99: 1308.704 | AL99: 1305.664
A100: =E100&P100 -> CH15-106-MW006Phosphorus | B100: 1650156 | C100: FAROMINE | D100: CH15-106-MW006 | E100: CH15-106-MW006 | F100: 42523 | G100: 2.93 | H100: 5.97 | I100: m | J100: WG | K100: T | L100: NONE | M100: L1778682 | N100: 100394548 | O100: 7723-14-0 | P100: Phosphorus | Q100: 0.157 | R100: mg/l | S100: 0.02 | T100: Y | U100: Y | X100: = | Z100: 0.02 | AA100: 0.02 | AB100: mg/l | AD100: 0.157 | AE100: 0.157 | AF100: mg/l | AG100: TRG | AH100: 585316.99 | AI100: 6916726.7 | AJ100: 1307.184 | AK100: 1308.704 | AL100: 1305.664
...

Sheet construct
A1: Location ID | B1: X | C1: Y | D1: Well Inner Diameter(mm) | E1: Borehole Inner Diameter(mm) | F1: Top of Casing Elevation (m asl) | G1: Total Depth (mbgs) | H1: Top of Screen (m bgs) | I1: Bottom of Screen (m bgs) | J1: Screen Interval (mbgs) | K1: GWE | L1: TX | M1: BX | N1: m water above TX | O1: Stickup (m) | P1: Measured Depth to Water (mbtoc) | Q1: Depth to Bedrock (mbgs) | R1: Lithology at Screened Interval | S1: Aquifer Test Activity
A2: CH15-106-MW001 | B2: 584952.29 | C2: 6916423.8 | D2: 50.8 | E2: 152.4 | F2: 1324.266 | G2: 10.5156 | H2: 7.4676 | I2: 10.5156 | J2: =ROUND(H2,2)&" to "&ROUND(I2,2) -> 7.47 to 10.52 | K2: =F2+O2 -> 1324.209 | L2: =F2+O2-H2 -> 1316.7414 | M2: =F2+O2-I2 -> 1313.6934 | N2: =K2-L2 -> 7.4676 | O2: -0.057 | P2: 2.95 | Q2: 3.05 | R2: Bedrock | S2: Monitoring well for CH15-106-MW007 pump test.
A3: CH15-106-MW002 | B3: 584985.64 | C3: 6916446 | D3: 50.8 | E3: 152.4 | F3: 1322.16 | G3: 9.144 | H3: 6.096 | I3: 9.144 | J3: =ROUND(H3,2)&" to "&ROUND(I3,2) -> 6.1 to 9.14 | K3: =F3+O3 -> 1322.152 | L3: =F3+O3-H3 -> 1316.056 | M3: =F3+O3-I3 -> 1313.008 | N3: =K3-L3 -> 6.096 | O3: -0.008 | P3: 4.5 | Q3: 15.1 | R3: Alluvium (Sand and Gravel) | S3: Monitoring well for CH15-106-MW007 pump test.
A4: CH15-106-MW007 | B4: 584986.73 | C4: 6916408.4 | D4: 101.6 | E4: 203.2 | F4: 1314.978 | G4: 5.4864 | H4: 2.4384 | I4: 5.4864 | J4: =ROUND(H4,2)&" to "&ROUND(I4,2) -> 2.44 to 5.49 | K4: =F4+O4 -> 1315.745 | L4: =F4+O4-H4 -> 1313.3066 | M4: =F4+O4-I4 -> 1310.2586 | N4: =K4-L4 -> 2.4384 | O4: 0.767 | P4: 4.1 | Q4: 4 | R4: Alluvium (Gravel with Sand) | S4: Pumping Well
A5: CH15-106-MW003 | B5: 585099.33 | C5: 6916111.2 | D5: 50 | E5: 152 | F5: 1298.722 | G5: 13.716 | H5: 10.668 | I5: 13.716 | J5: =ROUND(H5,2)&" to "&ROUND(I5,2) -> 10.67 to 13.72 | K5: =F5+O5 -> 1298.382 | L5: =F5+O5-H5 -> 1287.714 | M5: =F5+O5-I5 -> 1284.666 | N5: =K5-L5 -> 10.668 | O5: -0.34 | P5: 12.7 | Q5: > 29.1 | R5: Alluvium (Sand with Gravel and Silt) | S5: Monitoring well for CH15-106-MW008 pump test.
A6: CH15-106-MW004 | B6: 585087.63 | C6: 6916083 | D6: 50 | E6: 152 | F6: 1298.52 | G6: 14.9352 | H6: 8.8392 | I6: 14.9352 | J6: =ROUND(H6,2)&" to "&ROUND(I6,2) -> 8.84 to 14.94 | K6: =F6+O6 -> 1298.42 | L6: =F6+O6-H6 -> 1289.5808 | M6: =F6+O6-I6 -> 1283.4848 | N6: =K6-L6 -> 8.8392 | O6: -0.1 | P6: 12.1 | Q6: > 14.9 | R6: Sandy Silt | S6: Monitoring well for CH15-106-MW008 pump test.
A7: CH15-106-MW008 | B7: 585078.8 | C7: 6916111.7 | D7: 100 | E7: 203.2 | F7: 1294.065 | G7: 10.3632 | H7: 7.3152 | I7: 10.3632 | J7: =ROUND(H7,2)&" to "&ROUND(I7,2) -> 7.32 to 10.36 | K7: =F7+O7 -> 1294.659 | L7: =F7+O7-H7 -> 1287.3438 | M7: =F7+O7-I7 -> 1284.2958 | N7: =K7-L7 -> 7.3152 | O7: 0.594 | P7: 4.8 | Q7: > 10.5 | R7: Alluvium (Sand with Gravel) | S7: Pumping Well
A8: CH15-106-MW005 | B8: 585346.24 | C8: 6916726.8 | D8: 50 | E8: 152.4 | F8: 1311.853 | G8: 6.096 | H8: 3.048 | I8: 6.096 | J8: =ROUND(H8,2)&" to "&ROUND(I8,2) -> 3.05 to 6.1 | K8: =F8+O8 -> 1311.697 | L8: =F8+O8-H8 -> 1308.649 | M8: =F8+O8-I8 -> 1305.601 | N8: =K8-L8 -> 3.048 | O8: -0.156 | P8: 1.9 | Q8: > 6.5 | R8: Alluvium (Gravel with Sand) | S8: Monitoring well for CH15-106-MW006 pump test.
A9: CH15-106-MW006 | B9: 585316.99 | C9: 6916726.7 | D9: 101.6 | E9: 203.2 | F9: 1311.634 | G9: 5.97408 | H9: 2.92608 | I9: 5.97408 | J9: =ROUND(H9,2)&" to "&ROUND(I9,2) -> 2.93 to 5.97 | K9: =F9+O9 -> 1312.311 | L9: =F9+O9-H9 -> 1309.3849 | M9: =F9+O9-I9 -> 1306.3369 | N9: =K9-L9 -> 2.92608 | O9: 0.677 | P9: 1.3 | Q9: > 6.25 | R9: Alluvium (Gravel with Sand) | S9: Pumping Well
A10: CH15-106-MW010 | B10: 585329.46 | C10: 6916742.6 | D10: 50.8 | E10: 152.4 | F10: 1312.829 | G10: 6.096 | H10: 3.048 | I10: 6.096 | J10: =ROUND(H10,2)&" to "&ROUND(I10,2) -> 3.05 to 6.1 | K10: =F10+O10 -> 1312.701 | L10: =F10+O10-H10 -> 1309.653 | M10: =F10+O10-I10 -> 1306.605 | N10: =K10-L10 -> 3.048 | O10: -0.128 | P10: 1.65 | Q10: > 6.10 | R10: Alluvium (Gravel with Sand) | S10: Monitoring well for CH15-106-MW006 pump test.
A11: CH16-106-SG001 | B11: 584969.79 | C11: 6916447.3 | K11: =F11+O11-P11 -> 0 | L11: =F11+O11-H11 -> 0 | M11: =F11+O11-I11 -> 0 | S11: Stream stage monitored during CH15-106-MW007 pump test.
A12: CH16-106-SG002 | B12: 585109.83 | C12: 6916092.6 | K12: =F12+O12-P12 -> 0 | L12: =F12+O12-H12 -> 0 | M12: =F12+O12-I12 -> 0 | S12: Stream stage monitored during CH15-106-MW008 pump test.
A13: FCD-1 | B13: 585359.55 | C13: 6916738.6 | S13: Stream stage monitored during CH15-106-MW006 pump test.
