Workbook

Sheet Table4 WRDJuneGW2015
A1: Table 4. Spring 2015 – Groundwater Analytical Results
A2: Faro Mine Remediation Project
C3: Location ID | D3: CH12-014-MW003_060515 | E3: CH12-014-MW007_060415 | F3: CH12-014-MW011_060315 | G3: CH12-014-MW911_GW0615 | H3: CH12-014-MW012_060515 | I3: CH12-014-MW013_060315 | J3: CH14-015-MW006_060215 | K3: TRACER_SOLUTION_0815
C4: General Location | D4: Main WRD | E4: Haul Road below Intermediate WRD | F4: Grum WRD | G4: Grum WRD | H4: Grum WRD | I4: Vangorda WRD | J4: Northeast WRD
C5: Date | D5: 42160.596 | E5: 42159.615 | F5: 42158.526 | G5: 42158.524 | H5: 42160.447 | I5: 42158.599 | J5: 42157.603 | K5: 42235.521
A6: Analyses ID | B6: Units | C6: Screening Level
A7: General Chemistry
A8: pH, Field | B8: =VLOOKUP(A8,Units!$B$2:$C$230,2,FALSE) -> pH Units | C8: 6.5 - 9.0 | D8: 6.66 | E8: 5.67 | F8: 6.62 | H8: 7.5 | I8: 6.32 | J8: 4.93
A9: Temperature, Field | B9: =VLOOKUP(A9,Units!$B$2:$C$230,2,FALSE) -> deg C | C9: - | D9: 6.9 | E9: 13.67 | F9: 6.38 | H9: 7.82 | I9: 12.72 | J9: 4.75
A10: Hardness (as CaCO3) | B10: =VLOOKUP(A10,Units!$B$2:$C$230,2,FALSE) -> mg/L | C10: - | D10: 2280 | E10: 5410 | F10: 2710 | G10: 2710 | H10: 1280 | I10: 4250 | J10: 2930
A11: Total Suspended Solids | B11: =VLOOKUP(A11,Units!$B$2:$C$230,2,FALSE) -> mg/L | C11: - | D11: 133 | E11: 22.7 | F11: 11 | G11: 2 | H11: 81.2 | I11: 20.4 | J11: 84.3
A12: Total Dissolved Solids | B12: =VLOOKUP(A12,Units!$B$2:$C$230,2,FALSE) -> mg/L | C12: - | D12: 3310 | E12: 9390 | F12: 3670 | G12: 3700 | H12: 1650 | I12: 5910 | J12: 4720
A13: Turbidity, Field | B13: =VLOOKUP(A13,Units!$B$2:$C$230,2,FALSE) -> NTU | C13: - | D13: 275.5 | E13: -3.8 | F13: -3.2 | H13: 433.5 | I13: 7.6 | J13: 147.3
A14: Lime Demand (as Ca(OH)2) | B14: lb/1000USG
A15: Solids Formed (as Ca(OH)2) | B15: lb/1000USG
A16: Anions and Nutrients
A17: Acidity (as CaCO3) | B17: mg/L
A18: Acidity, Hot Peroxide | B18: =VLOOKUP(A18,Units!$B$2:$C$230,2,FALSE) -> mg/L | C18: - | D18: 225 | E18: 1140 | F18: 25 U | G18: 25 U | H18: 25 U | I18: 25 U | J18: 522 =
A19: Alkalinity, Bicarbonate (as CaCO3) | B19: =VLOOKUP(A19,Units!$B$2:$C$230,2,FALSE) -> mg/L | C19: - | D19: 626 | E19: 149 | F19: 690 | G19: 714 | H19: 407 | I19: 1250 | J19: 21.4
A20: Alkalinity, Carbonate (as CaCO3) | B20: =VLOOKUP(A20,Units!$B$2:$C$230,2,FALSE) -> mg/L | C20: - | D20: 20 U | E20: 2 U | F20: 20 U | G20: 20 U | H20: 2 U | I20: 20 U | J20: 2 U
A21: Alkalinity, Hydroxide (as CaCO3) | B21: =VLOOKUP(A21,Units!$B$2:$C$230,2,FALSE) -> mg/L | C21: - | D21: 20 U | E21: 2 U | F21: 20 U | G21: 20 U | H21: 2 U | I21: 20 U | J21: 2 U
A22: Alkalinity, Total (as CaCO3) | B22: =VLOOKUP(A22,Units!$B$2:$C$230,2,FALSE) -> mg/L | C22: - | D22: 626 | E22: 149 | F22: 690 | G22: 714 | H22: 407 | I22: 1250 | J22: 21.4
A23: Ammonia | B23: =VLOOKUP(A23,Units!$B$2:$C$230,2,FALSE) -> mg/L | C23: Variablea | D23: 0.0358 | E23: 0.521 | F23: 0.274 | G23: 0.268 | H23: 0.049 | I23: 0.0413 | J23: 0.977
A24: NH3 guideline
A25: Chloride (Cl) | B25: =VLOOKUP(A25,Units!$B$2:$C$230,2,FALSE) -> mg/L | C25: 120 | D25: 16 | E25: 10 U | F25: 10 U | G25: 10 U | H25: 2.5 U | I25: 10 U | J25: 10 U
A26: Fluoride | B26: =VLOOKUP(A26,Units!$B$2:$C$230,2,FALSE) -> mg/L | C26: 0.12 | D26: 0.4 U | E26: 1.69 | F26: 0.4 U | G26: 0.78 | H26: 0.25 | I26: 0.7 | J26: 3.91
A27: Nitrate (as N) | B27: =VLOOKUP(A27,Units!$B$2:$C$230,2,FALSE) -> mg/L | C27: 13 | D27: 0.1 U | E27: 0.1 U | F27: 8.53 | G27: 8.54 | H27: 0.025 U | I27: 0.1 U | J27: 2.46
A28: Nitrite (as N) | B28: =VLOOKUP(A28,Units!$B$2:$C$230,2,FALSE) -> mg/L | C28: 0.06 | D28: 0.041 | E28: 0.02 U | F28: 0.065 | G28: 0.063 | H28: 0.005 U | I28: 0.02 U | J28: 0.042
A29: ortho-Phosphate (as P) | B29: mg/l | C29: -
A30: Sulfate | B30: =VLOOKUP(A30,Units!$B$2:$C$230,2,FALSE) -> mg/L | C30: 100 | D30: 1970 | E30: 6970 | F30: 2120 | G30: 2130 | H30: 892 | I30: 3350 | J30: 3060
A31: Carbon, Dissolved Organic (DOC) | B31: =VLOOKUP(A31,Units!$B$2:$C$230,2,FALSE) -> mg/L | C31: - | D31: 2.83 | E31: 6.18 | F31: 3.31 | G31: 3.48 | H31: 1.4 | I31: 12.4 | J31: 4.41
A32: Free Cyanide | B32: =VLOOKUP(A32,Units!$B$2:$C$230,2,FALSE) -> mg/L | C32: 0.005
A33: Dissolved Metals
A34: Aluminum, Dissolved | B34: =VLOOKUP(A34,Units!$B$2:$C$230,2,FALSE) -> mg/L | C34: 0.005 to 0.1b | D34: 0.005 U | E34: 0.636 | F34: 0.0048 | G34: 0.0035 | H34: 0.0012 | I34: 0.0056 | J34: 25.3
A35: Al guideline | D35: =IF(D8>=6.5,0.1,0.005) -> 0.1 | E35: =IF(#REF!>=6.5,0.1,0.005) -> #REF! | F35: =IF(#REF!>=6.5,0.1,0.005) -> #REF!
A36: Antimony (Sb), Dissolved | B36: =VLOOKUP(A36,Units!$B$2:$C$230,2,FALSE) -> mg/L | C36: 1.6 | D36: 0.0005 U | E36: 0.005 U | F36: 0.0002 U | G36: 0.0002 U | H36: 0.0001 U | I36: 0.0005 U | J36: 0.001 U
A37: Arsenic (As), Dissolved | B37: =VLOOKUP(A37,Units!$B$2:$C$230,2,FALSE) -> mg/L | C37: 0.005 | D37: 0.0005 U | E37: 0.0082 | F37: 0.00041 | G37: 0.00037 | H37: 0.0151 | I37: 0.00181 | J37: 0.0213
A38: Barium (Ba), Dissolved | B38: =VLOOKUP(A38,Units!$B$2:$C$230,2,FALSE) -> mg/L | C38: 2.3 | D38: 0.0211 | E38: 0.0254 | F38: 0.018 | G38: 0.0189 | H38: 0.0335 | I38: 0.016 | J38: 0.0712
A39: Beryllium (Be), Dissolved | B39: =VLOOKUP(A39,Units!$B$2:$C$230,2,FALSE) -> mg/L | C39: 0.0053 | D39: 0.0005 U | E39: 0.0067 | F39: 0.0002 U | G39: 0.0002 U | H39: 0.0001 U | I39: 0.0005 U | J39: 0.0115
A40: Boron (B), Dissolved | B40: =VLOOKUP(A40,Units!$B$2:$C$230,2,FALSE) -> mg/L | C40: 1.5 | D40: 0.05 U | E40: 0.5 U | F40: 0.02 U | G40: 0.02 U | H40: 0.01 U | I40: 0.05 U | J40: 0.1 U
...

Sheet Table 1 - Location Summary
A1: Table 1. Groundwater Sampling Locations in the 2016 Field Season
A2: Faro Mine Remediation Project
A4: Monitoring Event | B4: Location Identifier | C4: Date Collected | D4: Depth to Bottom (mbtoc) | E4: Depth to Water (mbtoc) | F4: notes (not to be be included)
A5: Winter Monitoring (February 17 - February 21) | B5: CH12-014-MW003 | C5: 42420.417 | D5: 35.3 | E5: 29.88 | F5: WRD - Faro
B6: CH12-014-MW007 | C6: 42417.608 | D6: 63.11 | E6: 48.414 | F6: WRD - Grum
B7: CH12-014-MW011 | C7: 42421.611 | D7: 35.4 | E7: 28.322 | F7: WRD - Vangorda
B8: CH12-014-MW012 | C8: 42422.662 | D8: 38 | E8: 23.015 | F8: WRD - Faro
B9: CH12-014-MW013 | C9: 42422.494 | D9: 39.2 | E9: 34.488 | F9: WRD - Faro
B10: CH14-015-MW006 | C10: 42420.667 | D10: 31.09 | E10: 26.252 | F10: WRD - Grum
A11: Spring Monitoring (October 2 - October 11) | B11: CH12-014-MW003 | C11: 42523.574 | D11: 35.3 | E11: 29.915 | F11: WRD - Faro
B12: CH12-014-MW007 | C12: 42522.513 | D12: 63.11 | E12: 48.271 | F12: RCTA
B13: CH12-014-MW011 | C13: 42525.636 | D13: 35.4 | E13: 27.452 | F13: WRD - Faro
B14: CH12-014-MW012 | C14: 42524.558 | D14: 38 | E14: 22.625 | F14: RCTA
B15: CH12-014-MW013 | C15: 42525.608 | D15: 39.2 | E15: 34.661 | F15: RCTA
B16: CH14-015-MW006 | C16: 42522.63 | D16: 31.09 | E16: 26.236 | F16: WRD - Faro
B17: CH14-104-MW008 | C17: 42527.375 | D17: 32.61 | E17: 33.239 | F17: RCTA
F18: RCTA
A19: Note:
A20: mbtoc = metres below top of casing

Sheet Table6-GW_Analytical_Results
A1: Table 6. Groundwater Analytical Results
A2: Faro Mine Remediation Project
C3: Location ID | D3: CH12-014-MW003_100315 | E3: CH12-014-MW007_100215 | F3: CH12-014-MW907_GW1015 | G3: CH12-014-MW011_100815 | H3: CH12-014-MW012_100715 | I3: CH12-014-MW013_100815 | J3: CH12-204-MW001A_100515 | K3: CH12-204-MW001B_100615 | L3: CH12-204-MW002B_100515 | M3: CH12-204-MW003B_100415 | N3: CH12-204-MW003B_100915 | O3: CH12-204-MW004A_100515 | P3: CH12-204-MW004B_100315 | Q3: CH12-204-MW005A_100715 | R3: CH12-204-MW005B_100715 | S3: CH12-204-MW006A_100715 | T3: CH12-204-MW006B_100715 | U3: CH13-204-MW009A_100315 | V3: CH13-204-MW009B_100315 | W3: CH13-204-MW010A_100415 | X3: CH13-204-MW011A_100415 | Y3: CH13-204-MW011B_100315 | Z3: CH13-204-MW014A_100415 | AA3: CH13-204-MW015B_101115 | AB3: CH13-204-MW016B_100615 | AC3: CH13-204-MW916B_GW1015 | AD3: CH13-204-MW016C_100515 | AE3: CH13-204-MW016E_100515 | AF3: CH14-015-MW001A_100815 | AG3: CH14-015-MW001C_100815 | AH3: CH14-015-MW901C_GW1015 | AI3: CH14-015-MW002A_100515 | AJ3: CH14-015-MW006_100315 | AK3: P01-02A_100415 | AL3: P03-01-06_100915 | AM3: P03-01-07_100815 | AN3: P03-01-09_100815 | AO3: P03-02-03_101015 | AP3: P03-02-05_101015 | AQ3: P03-02-07_100915 | AR3: P03-02-09_100915 | AS3: P03-03-01_100915 | AT3: P03-03-03_100915 | AU3: P03-03-06_100915 | AV3: P03-03-08_100915 | AW3: P03-04-02_101115 | AX3: P03-04-04_101115 | AY3: P03-04-06_101115 | AZ3: P03-04-08_101015 | BA3: P03-05-02_101115 | BB3: P03-05-03_101115 | BC3: P03-05-05_101015 | BD3: P03-05-06_101015 | BE3: P03-05-07_101015 | BF3: P03-05-08_101015 | BG3: P03-06-03_100815 | BH3: P03-06-04_100815 | BI3: P03-06-05_100515 | BJ3: P03-08-02_100515 | BK3: P03-08-03_100515 | BL3: P03-08-04_100515 | BM3: P03-08-05_100415 | BN3: P03-08-06_100415 | BO3: P03-08-07_100415 | BP3: P03-09-02_100715 | BQ3: P03-09-04_100815 | BR3: P03-09-08_100815 | BS3: P05-01-01_100515 | BT3: P05-01-02_100515 | BU3: P05-01-03_100515 | BV3: P05-01-04_100515 | BW3: P05-01-06_100515 | BX3: P05-02_100415 | BY3: P05-03_100415 | BZ3: P903-02-03_GW1015 | CA3: P903-06-03_GW1015 | CB3: P905-01-01_GW1015 | CC3: X16A_100315 | CD3: X16B_100315 | CE3: X17A_100815 | CF3: X17B_100815 | CG3: X18A_100715 | CH3: X18B_100715 | CI3: X21-96A_101115 | CJ3: X21-96B_101115 | CK3: X917A_GW1015 | CL3: X921-96B_GW1015 | CN3: CH12-014-MW003 | CO3: CH12-014-MW003 | CP3: CH12-014-MW007 | CQ3: CH12-014-MW007 | CR3: CH12-014-MW011 | CS3: CH12-014-MW011 | CT3: CH12-014-MW012 | CU3: CH12-014-MW012 | CV3: CH12-014-MW013 | CW3: CH12-014-MW013 | CX3: CH13-016-FAROPL | CY3: CH13-016-FAROPL | CZ3: CH13-016-FAROPL | DA3: CH13-016-FAROPL | DB3: CH13-016-FAROPL | DC3: CH13-016-FAROPL | DD3: CH14-015-MW006 | DE3: CH14-015-MW006 | DF3: CH14-104-MW008 | DG3: A30 | DH3: CH-ETA-01 | DI3: CH-ETA-02 | DJ3: CH-FD-56 | DK3: CH-FD-56 | DL3: CH-FD-57 | DM3: CH-FD-59 | DN3: CH-FD-60 | DO3: CH-FD-61 | DP3: CH-FD-62 | DQ3: CH-FD-63 | DR3: CH-FD-65 | DS3: CH-FD-68 | DT3: CH-FD-70 | DU3: CH-FD-70 | DV3: CH-FD-75 | DW3: CH-FD-75 | DX3: CH-FD-76 | DY3: CH-FD-77 | DZ3: CH-FD-78 | EA3: CH-FD-80 | EB3: CH-FD-81 | EC3: CH-FP-24 | ED3: CH-FP-29 | EE3: CH-FP-31 | EF3: CH-FP-31 | EG3: CH-FP-33 | EH3: CH-FP-33 | EI3: CH-FP-34 | EJ3: CH-FP-34 | EK3: CH-FP-35 | EL3: CH-FP-35 | EM3: CH-FP-36 | EN3: CH-FP-36 | EO3: CH-FP-37 | EP3: CH-FP-39 | EQ3: CH-GD-25 | ER3: CH-GP-19 | ES3: CH-GP-19 | ET3: CH-GP-22 | EU3: CH-GP-23 | EV3: CH-GP-24 | EW3: CH-GP-25 | EX3: CH-GP-26 | EY3: CH-GP-28 | EZ3: CH-GP-29 | FA3: CH-GP-30 | FB3: CH-GP-31 | FC3: CH-MILL-02 | FD3: CH-MILL-03 | FE3: CH-MILL-04 | FF3: CH-RCTA-03 | FG3: CH-RCTA-03 | FH3: CH-RCTA-04 | FI3: CH-RCTA-05 | FJ3: CH-RCTA-06 | FK3: CH-RCTA-10 | FL3: CH-RCTA-08 | FM3: CH-RCTA-09 | FO3: CH-VP-17 | FP3: CH-VP-17 | FQ3: CH-VP-19 | FR3: CH-VP-20 | FS3: FCS-2 | FT3: FCS-2 | FU3: FCS-3 | FV3: FCS-3 | FW3: FCS-4 | FX3: FCS-4 | FY3: FCS-5 | FZ3: FCS-5 | GA3: FP11 | GB3: GD05 D/S | GC3: GD05 D/S | GD3: GDHSECK | GE3: GP02 | GF3: GP02 | GG3: GP04 | GH3: GP06 | GI3: GP08 | GJ3: GP09 | GK3: GP09 | GL3: GP10 | GM3: GP12 | GN3: GP12 | GO3: GP14 | GP3: NE1 | GQ3: NE1 | GR3: NE2 | GS3: NE2 | GT3: Sheep Creek | GU3: Sheep Creek | GV3: SRK-FD01 | GW3: SRK-FD01 | GX3: SRK-FD02 | GY3: SRK-FD04 | GZ3: SRK-FD05 | HA3: SRK-FD05 | HB3: SRK-FD06 | HC3: SRK-FD06 | HD3: SRK-FD08 | HE3: SRK-FD08 | HF3: SRK-FD09 | HG3: SRK-FD09 | HH3: SRK-FD10 | HI3: SRK-FD12 | HJ3: SRK-FD13 | HK3: SRK-FD13 | HL3: SRK-FD14 | HM3: SRK-FD14 | HN3: SRK-FD16 | HO3: SRK-FD17 | HP3: SRK-FD18 | HQ3: SRK-FD18 | HR3: SRK-FD19 | HS3: SRK-FD19 | HT3: SRK-FD20 | HU3: SRK-FD23 | HV3: SRK-FD23 | HW3: SRK-FD24 | HX3: SRK-FD26 | HY3: SRK-FD26 | HZ3: SRK-FD30 | IA3: SRK-FD30 | IB3: SRK-FD31 | IC3: SRK-FD31 | ID3: SRK-FD37 | IE3: SRK-FD37 | IF3: SRK-FD51 | IG3: SRK-FD54 | IH3: SRK-FD54 | II3: SRK-FD55 | IJ3: SRK-FD55 | IK3: SRK-GD01 | IL3: SRK-GD01 | IM3: SRK-GD02 | IN3: SRK-GD05 | IO3: SRK-GD05 | IP3: SRK-GD06 | IQ3: SRK-GD07 | IR3: SRK-GD07 | IS3: SRK-GD08 | IT3: SRK-GD10 | IU3: SRK-GD11 | IV3: SRK-GD11 | IW3: SRK-GD12 | IX3: SRK-GD13 | IY3: SRK-GD13 | IZ3: SRK-GD20 | JA3: SRK-GD24 | JB3: SRK-GD24 | JC3: SRK-VD01 | JD3: SRK-VD01 | JE3: SRK-VD02 | JF3: SRK-VD02 | JG3: SRK-VD03 | JH3: SRK-VD03 | JI3: SRK-VD04 | JJ3: SRK-VD04 | JK3: SRK-VD05 | JL3: SRK-VD05 | JM3: SRK-VD06 | JN3: SRK-VD07 | JO3: SRK-VD09 | JP3: SRK-VD09 | JQ3: SRK-VD10 | JR3: SRK-VD10 | JS3: SRK-VD12 | JT3: SRK-VD12 | JU3: Sweet Creek | JV3: Sweet Creek | JW3: V15 | JX3: VP07 | JY3: VP08 | JZ3: VP09 | KA3: VP09 | KB3: VP10 | KC3: VP11 | KD3: WGD01 | KE3: WGD01 | KF3: WTA02 | KG3: WTA02 | KH3: X23 | KI3: X23
C4: General Location | D4: Main WRD | E4: Haul Road below Intermediate WRD | F4: Haul Road below Intermediate WRD | G4: Grum WRD | H4: Grum WRD | I4: Vancorda WRD | J4: Cross Valley Dam | K4: Cross Valley Dam | L4: Cross Valley Dam | M4: Cross Valley Dam | N4: Cross Valley Dam | O4: Cross Valley Dam | P4: Cross Valley Dam | Q4: Rose Creek Valley downstream from CVD | R4: Rose Creek Valley downstream from CVD | S4: Rose Creek Valley downstream from CVD | T4: Rose Creek Valley downstream from CVD | U4: Rose Creek Diversion | V4: Rose Creek Diversion | W4: Rose Creek Diversion | X4: Rose Creek Diversion | Y4: Rose Creek Diversion | Z4: Rose Creek Diversion | AA4: Rose Creek Diversion | AB4: Intermediate Tailings Impoundment | AC4: Intermediate Tailings Impoundment | AD4: Intermediate Tailings Impoundment | AE4: Intermediate Tailings Impoundment | AF4: Original Tailings Impoundment | AG4: Original Tailings Impoundment | AH4: Original Tailings Impoundment | AI4: Original Tailings Impoundment | AJ4: NE WRD | AK4: Cross Valley Dam | AL4: Secondary Tailings Impoundment | AM4: Secondary Tailings Impoundment | AN4: Secondary Tailings Impoundment | AO4: Secondary Tailings Impoundment | AP4: Secondary Tailings Impoundment | AQ4: Secondary Tailings Impoundment | AR4: Secondary Tailings Impoundment | AS4: Secondary Tailings Impoundment | AT4: Secondary Tailings Impoundment | AU4: Secondary Tailings Impoundment | AV4: Secondary Tailings Impoundment | AW4: Secondary Tailings Impoundment | AX4: Secondary Tailings Impoundment | AY4: Secondary Tailings Impoundment | AZ4: Secondary Tailings Impoundment | BA4: Secondary Tailings Impoundment | BB4: Secondary Tailings Impoundment | BC4: Secondary Tailings Impoundment | BD4: Secondary Tailings Impoundment | BE4: Secondary Tailings Impoundment | BF4: Secondary Tailings Impoundment | BG4: Secondary Tailings Impoundment | BH4: Secondary Tailings Impoundment | BI4: Secondary Tailings Impoundment | BJ4: Secondary Tailings Impoundment | BK4: Secondary Tailings Impoundment | BL4: Secondary Tailings Impoundment | BM4: Secondary Tailings Impoundment | BN4: Secondary Tailings Impoundment | BO4: Secondary Tailings Impoundment | BP4: Cross Valley Dam | BQ4: Cross Valley Dam | BR4: Cross Valley Dam | BS4: Cross Valley Dam | BT4: Cross Valley Dam | BU4: Cross Valley Dam | BV4: Cross Valley Dam | BW4: Cross Valley Dam | BX4: Cross Valley Dam | BY4: Cross Valley Dam | BZ4: Cross Valley Dam | CA4: Cross Valley Dam | CB4: Cross Valley Dam | CC4: Rose Creek Diversion | CD4: Rose Creek Diversion | CE4: Rose Creek Valley downstream from CVD | CF4: Rose Creek Valley downstream from CVD | CG4: Rose Creek Valley downstream from CVD | CH4: Rose Creek Valley downstream from CVD | CI4: Intermediate Tailings Impoundment | CJ4: Intermediate Tailings Impoundment | CK4: Intermediate Tailings Impoundment | CL4: Intermediate Tailings Impoundment | DG4: 42509.413 | DH4: 42509.376 | DI4: 42509.367 | DJ4: 42510.396 | DK4: 42510.403 | DL4: 42508.648 | DM4: 42509.576 | DN4: 42509.605 | DO4: 42509.62 | DP4: 42509.594 | DQ4: 42509.617 | DR4: 42508.393 | DS4: 42509.605 | DT4: 42509.703 | DU4: 42509.708 | DV4: 42510.51 | DW4: 42510.515 | DX4: 42510.598 | DY4: 42509.609 | DZ4: 42509.56 | EA4: 42513.36 | EB4: 42513.342 | EC4: 42509.586 | ED4: 42509.334 | EE4: 42509.444 | EF4: 42509.447 | EG4: 42509.514 | EH4: 42509.522 | EI4: 42509.5 | EJ4: 42509.507 | EK4: 42509.491 | EL4: 42510.486 | EM4: 42509.458 | EN4: 42509.465 | EO4: 42509.464 | EP4: 42509.483 | EQ4: 42512.378 | ER4: 42510.646 | ES4: 42510.658 | ET4: 42511.675 | EU4: 42512.572 | EV4: 42512.579 | EW4: 42511.588 | EX4: 42511.583 | EY4: 42511.626 | EZ4: 42511.606 | FA4: 42511.59 | FB4: 42511.627 | FC4: 42508.385 | FD4: 42508.447 | FE4: 42508.438 | FF4: 42508.482 | FG4: 42508.486 | FH4: 42508.535 | FI4: 42508.573 | FJ4: 42508.578 | FK4: 42508.386 | FL4: 42508.476 | FM4: 42508.378 | FN4: 42508.392 | FO4: 42511.365 | FP4: 42511.368 | FQ4: 42511.562 | FR4: 42511.415 | FS4: 42509.375 | FT4: 42509.398 | FU4: 42508.698 | FV4: 42508.703 | FW4: 42509.417 | FX4: 42509.422 | FY4: 42508.618 | FZ4: 42508.635 | GA4: 42509.474 | GB4: 42512.433 | GC4: 42512.433 | GD4: 42508.61 | GE4: 42511.576 | GF4: 42511.665 | GG4: 42511.611 | GH4: 42511.601 | GI4: 42511.573 | GJ4: 42511.585 | GK4: 42511.625 | GL4: 42511.595 | GM4: 42511.59 | GN4: 42511.597 | GO4: 42511.64 | GP4: 42510.562 | GQ4: 42510.565 | GR4: 42510.493 | GS4: 42510.5 | GT4: 42512.375 | GU4: 42512.381 | GV4: 42508.3 | GW4: 42508.358 | GX4: 42508.426 | GY4: 42507.697 | GZ4: 42510.524 | HA4: 42510.536 | HB4: 42510.538 | HC4: 42510.544 | HD4: 42510.587 | HE4: 42510.591 | HF4: 42508.517 | HG4: 42508.517 | HH4: 42508.541 | HI4: 42508.536 | HJ4: 42509.639 | HK4: 42509.644 | HL4: 42509.667 | HM4: 42509.669 | HN4: 42510.488 | HO4: 42510.463 | HP4: 42510.473 | HQ4: 42510.477 | HR4: 42508.624 | HS4: 42508.625 | HT4: 42509.589 | HU4: 42509.639 | HV4: 42509.646 | HW4: 42509.59 | HX4: 42509.682 | HY4: 42509.688 | HZ4: 42508.597 | IA4: 42508.601 | IB4: 42508.545 | IC4: 42508.547 | ID4: 42507.638 | IE4: 42507.642 | IF4: 42509.656 | IG4: 42510.399 | IH4: 42510.403 | II4: 42510.417 | IJ4: 42510.423 | IK4: 42510.644 | IL4: 42510.646 | IM4: 42510.641 | IN4: 42512.385 | IO4: 42512.387 | IP4: 42512.383 | IQ4: 42511.628 | IR4: 42511.634 | IS4: 42512.55 | IT4: 42511.666 | IU4: 42511.597 | IV4: 42511.603 | IW4: 42511.661 | IX4: 42512.512 | IY4: 42512.514 | IZ4: 42510.64 | JA4: 42512.457 | JB4: 42512.465 | JC4: 42511.476 | JD4: 42511.49 | JE4: 42511.503 | JF4: 42511.506 | JG4: 42511.528 | JH4: 42511.528 | JI4: 42511.486 | JJ4: 42511.488 | JK4: 42511.514 | JL4: 42511.535 | JM4: 42511.467 | JN4: 42511.465 | JO4: 42511.438 | JP4: 42511.438 | JQ4: 42511.544 | JR4: 42511.545 | JS4: 42511.441 | JT4: 42511.445 | JU4: 42512.399 | JV4: 42512.406 | JW4: 42512.409 | JX4: 42511.388 | JY4: 42511.374 | JZ4: 42511.403 | KA4: 42511.404 | KB4: 42511.399 | KC4: 42511.432 | KD4: 42512.438 | KE4: 42512.44 | KF4: 42512.49 | KG4: 42512.501 | KH4: 42508.484 | KI4: 42508.49
C5: Date | D5: 42280.724 | E5: 42279.703 | F5: 42279.708 | G5: 42285.531 | H5: 42284.684 | I5: 42285.609 | J5: 42282.726 | K5: 42283.676 | L5: 42282.669 | M5: 42281.597 | N5: 42286.488 | O5: 42282.538 | P5: 42280.726 | Q5: 42284.61 | R5: 42284.569 | S5: 42284.482 | T5: 42284.525 | U5: 42280.569 | V5: 42280.509 | W5: 42281.699 | X5: 42281.622 | Y5: 42280.704 | Z5: 42281.488 | AA5: 42288.724 | AB5: 42283.633 | AC5: 42283.674 | AD5: 42282.655 | AE5: 42282.615 | AF5: 42285.477 | AG5: 42285.514 | AH5: 42285.517 | AI5: 42282.727 | AJ5: 42280.599 | AK5: 42281.478 | AL5: 42286.508 | AM5: 42285.685 | AN5: 42285.651 | AO5: 42287.536 | AP5: 42287.483 | AQ5: 42286.669 | AR5: 42286.58 | AS5: 42286.71 | AT5: 42286.637 | AU5: 42286.588 | AV5: 42286.529 | AW5: 42288.65 | AX5: 42288.571 | AY5: 42288.478 | AZ5: 42287.667 | BA5: 42288.521 | BB5: 42288.472 | BC5: 42287.697 | BD5: 42287.63 | BE5: 42287.578 | BF5: 42287.515 | BG5: 42285.558 | BH5: 42285.473 | BI5: 42282.708 | BJ5: 42282.616 | BK5: 42282.566 | BL5: 42282.477 | BM5: 42281.675 | BN5: 42281.594 | BO5: 42281.514 | BP5: 42284.694 | BQ5: 42285.691 | BR5: 42285.719 | BS5: 42282.505 | BT5: 42282.555 | BU5: 42282.582 | BV5: 42282.601 | BW5: 42282.636 | BX5: 42281.714 | BY5: 42281.559 | BZ5: 42287.542 | CA5: 42285.56 | CB5: 42282.507 | CC5: 42280.608 | CD5: 42280.66 | CE5: 42285.574 | CF5: 42285.622 | CG5: 42284.73 | CH5: 42284.694 | CI5: 42288.666 | CJ5: 42288.62 | CK5: 42285.576 | CL5: 42288.625 | CN5: 42420.417 | CO5: 42523.576 | CP5: 42417.608 | CQ5: 42522.503 | CR5: 42421.611 | CS5: 42525.628 | CT5: 42422.663 | CU5: 42524.562 | CV5: 42422.497 | CW5: 42525.535 | CX5: 42432.625 | CY5: 42432.646 | CZ5: 42432.646 | DA5: 42432.667 | DB5: 42432.667 | DC5: 42432.688 | DD5: 42420.667 | DE5: 42522.632 | DF5: 42527.375
A6: Analyses ID | B6: Units | C6: Screening Level
A7: General Chemistry
A8: pH, Field | B8: =VLOOKUP(A8,Units!$B$2:$C$230,2,FALSE) -> pH Units | C8: 6.5 - 9.0 | D8: 6.62 | E8: 6.56 | G8: 7.05 | H8: 8.08 | I8: 6.72 | J8: 6.45 | K8: 7.3 | L8: 6.65 | M8: 6.44 | N8: 6.55 | O8: 7.23 | P8: 8.16 | Q8: 6.74 | R8: 7.08 | S8: 7.15 | T8: 7.22 | U8: 7.8 | V8: 7.51 | W8: 7.59 | X8: 7.27 | Y8: 7.57 | Z8: 7.07 | AA8: 6.92 | AB8: 6.73 | AD8: 6.59 | AE8: 7.38 | AF8: 5.71 | AG8: 5.99 | AI8: 5.58 | AJ8: 5.08 | AK8: 7.64 | AL8: 5.6 | AM8: 5.62 | AN8: 3.05 | AO8: 5.95 | AP8: 6.18 | AQ8: 3.24 | AR8: 5.27 | AS8: 7.29 | AT8: 4.17 | AU8: 6.11 | AV8: 2.97 | AW8: 6.3 | AX8: 6.72 | AY8: 5.86 | AZ8: 5.64 | BA8: 5.79 | BB8: 5.85 | BC8: 6.5 | BD8: 6.25 | BE8: 6.01 | BF8: 6.02 | BG8: 5.35 | BH8: 6.13 | BI8: 6.67 | BJ8: 7.18 | BK8: 7.19 | BL8: 7.07 | BM8: 7.58 | BN8: 8.62 | BO8: 7.04 | BP8: 6.63 | BQ8: 6.97 | BR8: 6.87 | BS8: 6.27 | BT8: 6.3 | BU8: 6.24 | BV8: 6.18 | BW8: 6.39 | BX8: 6.46 | BY8: 7.03 | CC8: 7.98 | CD8: 8.26 | CE8: 7.45 | CF8: 7.54 | CG8: 6.86 | CH8: 6.8 | CI8: 5.27 | CJ8: 6.61 | CM8: pH, Field | CN8: 6.51 | CO8: 6.47 | CP8: 6.35 | CQ8: 6.02 | CR8: 7.19 | CS8: 6.59 | CT8: 7.59 | CU8: 7.5 | CV8: 6.49 | CW8: 6.21 | CX8: 5.84 | CZ8: 6.01 | DB8: 6.05 | DC8: 6.07 | DD8: 4.79 | DE8: 5.91 | DF8: 6.56 | DG8: 3.12 | DH8: 6.14 | DI8: 6.63 | DJ8: 5.21 | DL8: 5.36 | DM8: 5.99 | DN8: 3.28 | DO8: 6.53 | DP8: 2.88 | DQ8: 6.52 | DR8: 5.59 | DS8: 6.22 | DU8: 6.6 | DV8: 7.14 | DX8: 6.83 | DY8: 5.72 | DZ8: 6.15 | EA8: 6.08 | EB8: 1.66 | ED8: 2.57 | EE8: 6.62 | EG8: 7.96 | EI8: 7.85 | EL8: 7.45 | EM8: 6.41 | EO8: 6.71 | EP8: 7.76 | EQ8: 7.43 | ER8: 7.18 | ET8: 8.33 | EU8: 8.49 | EV8: 8.16 | EW8: 5.85 | EX8: 2.97 | EY8: 7.16 | EZ8: 6.6 | FA8: 5.63 | FB8: 7.91 | FC8: 7.97 | FD8: 3.2 | FE8: 2.92 | FG8: 5.62 | FH8: 6.28 | FI8: 7.44 | FJ8: 2.59 | FK8: 6.8 | FL8: 7.08 | FM8: 6.14 | FO8: 3.28 | FQ8: 5.81 | FR8: 4.03 | FS8: 3.81 | FU8: 5.76 | FX8: 6.16 | FY8: 6.37 | GA8: 6 | GB8: 7.92 | GD8: 6.72 | GE8: 8.18 | GG8: 7.52 | GH8: 7.76 | GI8: 7.84 | GK8: 7.67 | GL8: 8.13 | GM8: 5.84 | GO8: 7.11 | GP8: 7.66 | GR8: 7.28 | GT8: 8.1 | GW8: 6.68 | GX8: 6.43 | GY8: 2.06 | GZ8: 7.21 | HB8: 7.3 | HD8: 4.82 | HF8: 5.75 | HH8: 5.94 | HI8: 5.9 | HJ8: 2.39 | HL8: 6.45 | HN8: 7.64 | HO8: 7.73 | HQ8: 7.35 | HS8: 6.73 | HT8: 7.88 | HU8: 3.46 | HW8: 3.56 | HX8: 7 | IA8: 7.28 | IB8: 6.21 | IE8: 1.92 | IF8: 3.73 | IG8: 4.47 | II8: 6.7 | IL8: 7.03 | IM8: 7.06 | IN8: 7.74 | IP8: 7.66 | IQ8: 6.64 | IS8: 8.11 | IT8: 7.76 | IU8: 6.62 | IW8: 7.61 | IY8: 7.46 | IZ8: 6.86 | JB8: 6.13 | JC8: 5.05 | JE8: 5.79 | JG8: 5.49 | JI8: 3.5 | JK8: 4.19 | JM8: 5.61 | JN8: 1.87 | JO8: 2.94 | JR8: 4.84 | JS8: 2.76 | JU8: 8.1 | JW8: 7.21 | JX8: 5.68 | JY8: 5.12 | JZ8: 4.73 | KB8: 2.03 | KC8: 2.96 | KD8: 7.84 | KF8: 8.21 | KI8: 6.77
A9: Temperature, Field | B9: =VLOOKUP(A9,Units!$B$2:$C$230,2,FALSE) -> deg C | C9: - | D9: 4.42 | E9: 18.78 | F9: 4080 | G9: 2530 | H9: 1220 | I9: 4750 | J9: 1970 | K9: 440 | L9: 1100 | N9: 1100 | O9: 377 | P9: 332 | Q9: 576 | R9: 624 | S9: 371 | T9: 470 | U9: 137 | V9: 150 | W9: 135 | X9: 308 | Y9: 262 | Z9: 305 | AA9: 323 | AB9: 9540 | AC9: 9530 | AD9: 750 | AE9: 472 | AF9: 3340 | AG9: 3110 | AH9: 3100 | AI9: 5120 | AJ9: 2540 | AK9: 423 | AL9: 327 | AM9: 2040 | AO9: 544 | AP9: 978 | AQ9: 2220 | AR9: 1540 | AS9: 276 | AT9: 416 | AU9: 1280 | AW9: 1150 | AX9: 705 | AY9: 1790 | AZ9: 1530 | BA9: 960 | BB9: 962 | BC9: 1890 | BD9: 3620 | BE9: 3750 | BF9: 3640 | BG9: 1630 | BH9: 1520 | BI9: 1070 | BJ9: 570 | BK9: 552 | BL9: 646 | BM9: 859 | BN9: 66.1 | BO9: 45.1 | BP9: 1090 | BQ9: 1220 | BR9: 1390 | BS9: 2380 | BT9: 2410 | BV9: 2420 | BW9: 2080 | BX9: 2430 | BY9: 1070 | BZ9: 526 | CA9: 1620 | CB9: 2370 | CC9: 212 | CD9: 244 | CE9: 303 | CF9: 482 | CG9: 1050 | CH9: 1040 | CI9: 2600 | CJ9: 1720 | CK9: 311 | CL9: 1740 | CM9: Temperature, Field | CN9: 6.61 | CO9: 7.7 | CP9: 18.85 | CQ9: 17.09 | CR9: 9.81 | CS9: 6.93 | CT9: 2.68 | CU9: 13.43 | CV9: 16.02 | CW9: 13.9 | CX9: 3.45 | CZ9: 3.42 | DB9: 3.42 | DC9: 3.43 | DD9: 6.67 | DE9: 3.88 | DF9: 7.19 | DG9: 4.15 | DH9: 4.09 | DI9: 3.45 | DJ9: 0.44 | DL9: 4.1 | DM9: 3.25 | DN9: 9.84 | DO9: 2.2 | DP9: 1.88 | DQ9: 9.85 | DR9: 3.44 | DS9: 5.32 | DU9: 3.03 | DV9: 3.42 | DX9: 11.1 | DY9: 7.15 | DZ9: 2.82 | EA9: 6.66 | EB9: 10.8 | ED9: 2.43 | EE9: 5.82 | EG9: 7.59 | EI9: 4 | EL9: 10.91 | EM9: 6.07 | EO9: 11.27 | EP9: 13.42 | EQ9: 6.76 | ER9: 10.86 | ET9: 21.11 | EU9: 3.8 | EV9: 3.49 | EW9: 2.6 | EX9: 6.87 | EY9: 10.05 | EZ9: 19.41 | FA9: 3.32 | FB9: 6.82 | FC9: 7.39 | FD9: 7.15 | FE9: 6.18 | FG9: 4.4 | FH9: 8.51 | FI9: 1.83 | FJ9: 11.94 | FK9: 3.01 | FL9: 5.08 | FM9: 2.11 | FO9: 3.18 | FQ9: 2.44 | FR9: 9.14 | FS9: 7.11 | FU9: 6.5 | FX9: 7.21 | FY9: 10.73 | GA9: 8.77 | GB9: 5.36 | GD9: 1.16 | GE9: 11.11 | GG9: 5.68 | GH9: 19.78 | GI9: 3.68 | GK9: 3.9 | GL9: 12.15 | GM9: 9.64 | GO9: 14.1 | GP9: 4.39 | GR9: 6.44 | GT9: 2.13 | GW9: 1.94 | GX9: 0.67 | GY9: 13.34 | GZ9: 2.33 | HB9: 4.25 | HD9: 9.21 | HF9: 4.49 | HH9: 7.99 | HI9: 7.66 | HJ9: 12.47 | HL9: 14.02 | HN9: 1.18 | HO9: 0.8 | HQ9: 1.77 | HS9: 0.01 | HT9: 0.37 | HU9: 20.86 | HW9: 8.78 | HX9: 6.76 | IA9: 6.54 | IB9: 7.28 | IE9: 10.09 | IF9: 16.99 | IG9: 8.39 | II9: 11.26 | IL9: 3.03 | IM9: 4.46 | IN9: 5.2 | IP9: 3.65 | IQ9: 7.62 | IS9: 0.35 | IT9: 2.03 | IU9: 2.45 | IW9: 2.09 | IY9: 3.36 | IZ9: 8.24 | JB9: 12.56 | JC9: 4.94 | JE9: 12.3 | JG9: 6.49 | JI9: 11.76 | JK9: 11.51 | JM9: 5.73 | JN9: 17.37 | JO9: 13.37 | JR9: 6.79 | JS9: 13.81 | JU9: 4.72 | JW9: 4.15 | JX9: 5.23 | JY9: 3.91 | JZ9: 3.99 | KB9: 6.02 | KC9: 3.78 | KD9: 7.32 | KF9: 14.12 | KI9: 11.18
A10: Hardness (as CaCO3) | B10: =VLOOKUP(A10,Units!$B$2:$C$230,2,FALSE) -> mg/L | C10: - | D10: 2340 | E10: 4000 | F10: 40.7 | G10: 8.8 | H10: 41.2 | I10: 18.8 | J10: 7.2 | K10: 2 | L10: 4.8 | N10: 26.2 | O10: 2.4 | P10: 4.3 | Q10: 2.3 | R10: 1 | S10: 5.6 | T10: 21.8 | U10: 13 | V10: 1 | W10: 25.4 | X10: 3.6 | Y10: 16.7 | Z10: 1 U | AA10: 5.4 | AB10: 2 UJ | AC10: 179 J | AD10: 18 | AE10: 9.2 | AF10: 233 | AG10: 234 | AH10: 186 | AI10: 85.2 | AJ10: 99.7 | AK10: 1 U | AL10: 41.6 | AM10: 137 | AO10: 1 U | AP10: 225 | AQ10: 223 | AR10: 583 | AS10: 8.1 | AT10: 101 | AU10: 355 | AW10: 95.5 | AX10: 2090 | AY10: 91 | AZ10: 1670 | BA10: 11.4 | BB10: 18.4 | BC10: 482 | BD10: 248 | BE10: 115 | BF10: 224 | BG10: 77.9 J | BH10: 101 | BI10: 760 | BJ10: 2.4 | BK10: 117 | BL10: 260 | BM10: 1080 | BN10: 330 | BO10: 220 | BP10: 27.6 | BQ10: 2.7 | BR10: 13.6 | BS10: 23.3 | BT10: 20.4 | BV10: 27.2 | BW10: 94.8 | BX10: 13.6 | BY10: 6.4 | BZ10: 2.5 | CA10: 282 J | CB10: 18 | CC10: 1 U | CD10: 1 U | CE10: 1 U | CF10: 3.7 | CG10: 2.7 | CH10: 3.4 | CI10: 128 | CJ10: 78 | CK10: 1 U | CL10: 68 | CM10: Hardness (as CaCO3) | CN10: 2380 | CO10: 2200 | CP10: 4580 | CQ10: 4700 | CS10: 2390 | CT10: 1190 | CU10: 1230 | CV10: 4060 | CW10: 4810 | CX10: 891 | CY10: 873 | CZ10: 873 | DA10: 909 | DB10: 909 | DC10: 882 | DD10: 3280 | DE10: 1380 | DF10: 15600 | DG10: 707 | DJ10: 8190 | DU10: 776 | DV10: 254 | EE10: 335 | EG10: 330 | EI10: 192 | EL10: 392 | EM10: 491 | ER10: 878 | FG10: 762 | FK10: 264 | FO10: 1690 | FS10: 5710 | FU10: 5000 | FX10: 5120 | FY10: 1930 | GB10: 2060 | GC10: 2060 | GE10: 483 | GK10: 954 | GM10: 535 | GP10: 247 | GR10: 1130 | GT10: 473 | GW10: 3010 | GZ10: 1200 | HB10: 1010 | HD10: 741 | HF10: 4760 | HJ10: 14000 | HL10: 3090 | HQ10: 79.1 | HS10: 5030 | HU10: 702 | HW10: 1170 | HX10: 748 | IA10: 730 | IB10: 6400 | IE10: 6420 | IG10: 12000 | II10: 2370 J | IL10: 2560 | IN10: 2690 | IQ10: 986 | IU10: 1640 | IY10: 2560 | JB10: 2620 | JC10: 2820 | JE10: 3000 | JG10: 4340 | JI10: 21300 | JK10: 31400 | JO10: 2600 | JR10: 9060 | JS10: 1360 | JU10: 2060 | JZ10: 1180 | KD10: 1030 | KF10: 269 | KI10: 6510
A11: Total Suspended Solids | B11: =VLOOKUP(A11,Units!$B$2:$C$230,2,FALSE) -> mg/L | C11: - | D11: 55.6 | E11: 44.7 | F11: 7220 | G11: 3340 | H11: 1600 | I11: 6400 | J11: 3020 | K11: 775 | L11: 1920 | N11: 1810 | O11: 451 | P11: 365 | Q11: 710 | R11: 757 | S11: 375 | T11: 449 | U11: 165 | V11: 163 | W11: 159 | X11: 304 | Y11: 269 | Z11: 301 | AA11: 335 | AB11: 14800 | AC11: 14300 | AD11: 1030 | AE11: 536 | AF11: 20600 | AG11: 12100 | AH11: 12100 | AI11: 36900 | AJ11: 4470 | AK11: 484 | AL11: 2300 | AM11: 32900 | AO11: 700 | AP11: 10500 | AQ11: 38600 | AR11: 28800 | AS11: 301 | AT11: 2510 | AU11: 10100 | AW11: 1840 | AX11: 1150 | AY11: 6350 | AZ11: 12700 | BA11: 2460 | BB11: 1790 | BC11: 12100 | BD11: 37100 | BE11: 43000 | BF11: 48000 | BG11: 7740 | BH11: 3480 | BI11: 3080 | BJ11: 794 | BK11: 738 | BL11: 954 | BM11: 1230 | BN11: 378 | BO11: 253 | BP11: 1470 | BQ11: 1770 | BR11: 2010 | BS11: 3660 | BT11: 3790 | BV11: 3860 | BW11: 3150 | BX11: 3720 | BY11: 1500 | BZ11: 728 | CA11: 7890 | CB11: 3720 | CC11: 229 | CD11: 245 | CE11: 317 | CF11: 515 | CG11: 978 | CH11: 1360 | CI11: 39300 | CJ11: 4340 | CK11: 321 | CL11: 4230 | CM11: Total Suspended Solids | CN11: 95.2 | CO11: 6 | CP11: 35 | CQ11: 261 | CR11: 5.8 | CS11: 33.2 | CT11: 266 | CU11: 328 | CV11: 31.6 | CW11: 57.6 | CX11: 1 U | CY11: 1.2 | CZ11: 1.2 | DA11: 1 J | DB11: 1 J | DC11: 1 U | DD11: 83.6 | DE11: 182 | DF11: 69.2 J | DG11: 4.8 | DJ11: 59.2 | DU11: 1 | DV11: 9.9 | EE11: 1 U | EG11: 1.1 | EI11: 1.7 | EL11: 32.8 | EM11: 13.5 | ER11: 67.9 | FG11: 95.6 | FK11: 38.8 | FO11: 92.1 | FS11: 38.3 | FU11: 305 | FX11: 280 | FY11: 485 | GB11: 3.9 | GC11: 3.9 | GE11: 29200 | GK11: 4.9 | GM11: 190 | GP11: 5 | GR11: 2.6 J | GT11: 11 | GW11: 40 J | GZ11: 2.6 | HB11: 30 | HD11: 2.2 | HF11: 796 | HJ11: 177 | HL11: 358 | HQ11: 3.6 | HS11: 6.2 | HU11: 12.8 | HW11: 51.4 | HX11: 5 | IA11: 77.4 | IB11: 84 | IE11: 57.2 | IG11: 78.7 | II11: 5.7 | IL11: 4.9 | IN11: 25.1 | IQ11: 46.1 | IU11: 1.5 | IY11: 6.2 | JB11: 98.6 | JC11: 628 | JE11: 30.9 | JG11: 30.6 | JI11: 268 | JK11: 65 | JO11: 7.8 | JR11: 90.2 | JS11: 3.6 | JU11: 2 | JZ11: 186 | KD11: 6.2 | KF11: 53.9 | KI11: 137
A12: Total Dissolved Solids | B12: =VLOOKUP(A12,Units!$B$2:$C$230,2,FALSE) -> mg/L | C12: - | D12: 3210 | E12: 7280 | G12: 72.2 | H12: 30.4 | I12: 18.6 | J12: -2.3 | K12: -2 | L12: -2.3 | M12: -1.9 | N12: -11.1 | O12: -1.9 | P12: -3.8 | Q12: 7.4 | R12: -3.8 | S12: 3.8 | T12: 4.7 | U12: 8.8 | V12: -1.6 | W12: 6.8 | X12: 0 | Y12: 4.8 | Z12: -1.6 | AA12: -8.9 | AD12: 9.9 | AE12: -1.5 | AF12: 104.5 | AI12: -3.2 | AJ12: 112.1 | AK12: -4 | AL12: 8.4 | AM12: 24 | AN12: 166.7 | AO12: 19.4 | AP12: 220.9 | AQ12: 210.1 | AR12: 449.1 | AS12: -11.8 | AT12: 16.1 | AU12: 135 | AV12: 207.5 | AW12: 61.6 | AX12: 1199 | AY12: 35.7 | AZ12: 341.6 | BA12: -15 | BB12: -5.8 | BC12: 261.1 | BD12: 2.2 | BE12: -4.6 | BF12: 126.3 | BG12: 9.7 | BH12: -61.1 | BI12: 437.9 | BJ12: 0.5 | BK12: 117.2 | BL12: 353.1 | BM12: 389.9 | BN12: 453.3 | BO12: 313.3 | BP12: 7.5 | BQ12: -14 | BR12: -5.4 | BS12: 5.4 | BT12: 1 | BU12: -2.5 | BV12: 1.8 | BW12: 8.9 | BX12: -3.8 | BY12: -3.9 | CC12: -4.1 | CD12: -3.9 | CE12: -14.3 | CF12: -14.2 | CG12: 3.8 | CH12: -4.9 | CI12: -16.7 | CJ12: -17 | CM12: Total dissolved solids | CN12: 3520 | CO12: 3310 | CP12: 7020 | CQ12: 7930 | CR12: 3380 | CS12: 3530 | CT12: 1600 | CU12: 1640 | CV12: 6230 | CW12: 6750 | CX12: 1400 | CY12: 1390 | CZ12: 1390 | DA12: 1400 | DB12: 1400 | DC12: 1360 | DD12: 5800 | DE12: 2250 | DF12: 19900 | DG12: 1740 | DJ12: 13500 | DU12: 1070 | DV12: 316 | EE12: 520 | EG12: 444 | EI12: 246 | EL12: 616 | EM12: 852 | ER12: 1130 | FG12: 2060 | FK12: 400 | FO12: 8500 | FS12: 11800 | FU12: 14800 | FX12: 11600 | FY12: 3880 | GB12: 2880 | GC12: 2880 | GE12: 719 | GK12: 1150 | GM12: 1310 | GP12: 309 | GR12: 1560 | GT12: 592 | GW12: 5220 | GZ12: 1700 | HB12: 1420 | HD12: 1150 | HF12: 9980 | HJ12: 61800 | HL12: 4740 | HQ12: 112 | HS12: 7890 | HU12: 1350 | HW12: 2100 | HX12: 1040 | IA12: 966 | IB12: 14200 | IE12: 173000 | IG12: 21900 | II12: 3470 | IL12: 3560 | IN12: 3780 | IQ12: 1200 | IU12: 2250 | IY12: 3510 | JB12: 4310 | JC12: 4650 | JE12: 5710 | JG12: 9330 | JI12: 125000 | JK12: 120000 | JO12: 6790 | JR12: 26000 | JS12: 3540 | JU12: 2800 | JZ12: 7630 | KD12: 1430 | KF12: 287 | KI12: 14000
A13: Turbidity, Field | B13: =VLOOKUP(A13,Units!$B$2:$C$230,2,FALSE) -> NTU | C13: - | D13: 134.5 | E13: 4.6 | CM13: Turbidity, Field | CN13: 90.8 | CO13: 2.7 | CP13: 5.8 | CR13: 8.6 | CS13: 21 | CT13: 223.6 | CU13: 60.6 | CV13: 13.9 | CW13: 62 | CX13: 0.96 | CZ13: 1.44 | DB13: 1.41 | DC13: 1.41 | DD13: 46.1 | DE13: 48.1 | DF13: 824.4
A14: Lime Demand (as Ca(OH)2) | B14: lb/1000USG | CM14: Anions and Nutrients
A15: Solids Formed (as Ca(OH)2) | B15: lb/1000USG
A16: Anions and Nutrients
A17: Acidity (as CaCO3) | B17: mg/l | F17: 573 J | G17: 25 UJ | I17: 25 UJ | J17: 25 UJ | K17: 25 UJ | L17: 25 UJ | N17: 25 UJ | O17: 25 UJ | Q17: 25 UJ | R17: 25 UJ | S17: 25 UJ | T17: 25 UJ | V17: 25 UJ | W17: 25 UJ | X17: 25 UJ | Y17: 25 UJ | Z17: 25 UJ | AA17: 25 U | AB17: 41 J | AC17: 41 J | AD17: 25 UJ | AE17: 25 UJ | AF17: 7890 J | AG17: 3960 J | AH17: 4480 J | AI17: 18800 J | AJ17: 1380 J | AL17: 1130 J | AM17: 16400 J | AO17: 25 U | AP17: 4840 | AQ17: 23100 J | AR17: 15100 J | AS17: 25 UJ | AT17: 1150 J | AU17: 5150 J | AW17: 25 U | AX17: 25 U | AY17: 175 | AZ17: 6360 | BA17: 477 | BB17: 33 | BC17: 5470 | BD17: 17200 | BE17: 21900 | BF17: 25800 | BG17: 32500 J | BH17: 367 J | BI17: 1380 J | BJ17: 25 UJ | BK17: 25 UJ | BL17: 25 UJ | BO17: 62 J | BP17: 25 UJ | BQ17: 25 UJ | BR17: 25 UJ | BS17: 25 UJ | BT17: 25 UJ | BV17: 25 UJ | BW17: 25 UJ | BX17: 25 UJ | BY17: 25 UJ | BZ17: 25 U | CA17: 3050 J | CB17: 25 UJ | CE17: 25 UJ | CF17: 25 UJ | CG17: 25 UJ | CH17: 25 UJ | CI17: 17900 | CJ17: 649 | CK17: 25 UJ | CL17: 796
A18: Acidity, Hot Peroxide | B18: =VLOOKUP(A18,Units!$B$2:$C$230,2,FALSE) -> mg/L | C18: - | D18: 25 UJ | E18: 575 J | F18: 231 | G18: 691 | H18: 391 | I18: 1260 | J18: 426 | K18: 586 | L18: 605 | N18: 1700 | O18: 250 | P18: 257 | Q18: 311 | R18: 327 | S18: 332 | T18: 409 | U18: 115 | V18: 123 | W18: 115 | X18: 267 | Y18: 229 | Z18: 259 | AA18: 266 | AB18: 106 | AC18: 100 | AD18: 289 | AE18: 355 | AF18: 1 U | AG18: 1 U | AH18: 1 U | AI18: 1 U | AJ18: 18.8 | AK18: 285 | AL18: 1 U | AM18: 1 U | AO18: 67 | AP18: 32.5 | AQ18: 1 U | AR18: 1 U | AS18: 275 | AT18: 1 U | AU18: 1 U | AW18: 149 | AX18: 235 | AY18: 1 U | AZ18: 1 U | BA18: 65.9 | BB18: 88.6 | BC18: 1 U | BD18: 1 U | BE18: 1 U | BF18: 1 U | BG18: 1 U | BH18: 38.2 | BI18: 11.1 | BJ18: 280 | BK18: 317 | BL18: 319 | BM18: 477 | BN18: 64.1 | BO18: 91.8 | BP18: 392 | BQ18: 336 | BR18: 367 | BS18: 452 | BT18: 445 | BV18: 455 | BW18: 398 | BX18: 459 | BY18: 359 | BZ18: 69.1 | CA18: 1 U | CB18: 447 | CC18: 174 | CD18: 209 | CE18: 251 | CF18: 369 | CG18: 297 | CH18: 327 | CI18: 1 U | CJ18: 71.1 J | CK18: 254 | CL18: 51.2 J | CM18: Acidity, hot peroxide | CN18: 25 U | CO18: 25 U | CP18: 25 U | CQ18: 25 U | CR18: 25 U | CS18: 25 U | CT18: 25 U | CU18: 25 U | CV18: 25 U | CW18: 25 U | CX18: 25 U | CY18: 25 U | CZ18: 25 U | DA18: 25 U | DB18: 25 U | DC18: 25 U | DD18: 549 | DE18: 68 | DF18: 25 U | DG18: 400 | DJ18: 856 | DU18: 25 U | DV18: 25 U | EE18: 25 U | EG18: 25 U | EI18: 25 U | EL18: 25 U | EM18: 55 | ER18: 25 U | FG18: 340 | FK18: 25 U | FO18: 3080 | FS18: 1560 | FU18: 3340 | FX18: 1840 | FY18: 486 | GK18: 25 U | GM18: 400 | GP18: 25 U | GR18: 25 U | GW18: 25 U | GZ18: 25 U | HB18: 25 U | HD18: 32 | HF18: 1290 | HJ18: 25300 | HL18: 25 U | HQ18: 25 U | HS18: 40 | HU18: 235 | HW18: 240 | HX18: 25 U | IA18: 25 U | IB18: 2140 | IE18: 95300 | IG18: 2120 | II18: 25 U | IL18: 25 U | IN18: 25 U | IQ18: 25 U | IU18: 25 U | IY18: 25 U | JB18: 47 | JC18: 177 | JE18: 410 | JG18: 2340 | JI18: 51100 | JK18: 41700 | JO18: 1760 | JR18: 6880 | JS18: 709 | JZ18: 6440 | KD18: 25 U | KI18: 2200
A19: Alkalinity, Bicarbonate (as CaCO3) | B19: =VLOOKUP(A19,Units!$B$2:$C$230,2,FALSE) -> mg/L | C19: - | D19: 652 | E19: 240 | F19: 2 U | G19: 20 U | H19: 2 U | I19: 20 U | J19: 2 U | K19: 20 U | L19: 20 U | N19: 1 U | O19: 2 U | P19: 2 U | Q19: 2 U | R19: 2 U | S19: 2 U | T19: 2 U | U19: 2 U | V19: 2 U | W19: 2 U | X19: 1 U | Y19: 2 U | Z19: 2 U | AA19: 2 U | AB19: 2 U | AC19: 2 U | AD19: 2 U | AE19: 2 U | AF19: 1 U | AG19: 1 U | AH19: 1 U | AI19: 1 U | AJ19: 2 U | AK19: 2 U | AL19: 1 U | AM19: 1 U | AO19: 2 U | AP19: 1 U | AQ19: 1 U | AR19: 1 U | AS19: 1 U | AT19: 1 U | AU19: 1 U | AW19: 2 U | AX19: 1 U | AY19: 1 U | AZ19: 1 U | BA19: 2 U | BB19: 2 U | BC19: 1 U | BD19: 1 U | BE19: 1 U | BF19: 1 U | BG19: 1 U | BH19: 1 U | BI19: 1 U | BJ19: 2 U | BK19: 2 U | BL19: 1 U | BM19: 1 U | BN19: 1 U | BO19: 1 U | BP19: 2 U | BQ19: 2 U | BR19: 2 U | BS19: 2 U | BT19: 2 U | BV19: 2 U | BW19: 2 U | BX19: 2 U | BY19: 2 U | BZ19: 2 U | CA19: 1 U | CB19: 2 U | CC19: 2 U | CD19: 2 U | CE19: 2 U | CF19: 2 U | CG19: 2 U | CH19: 2 U | CI19: 1 U | CJ19: 1 U | CK19: 2 U | CL19: 1 U | CM19: Alkalinity, Bicarbonate (as CaCO3) | CN19: 620 | CO19: 579 | CP19: 621 | CQ19: 517 | CR19: 686 | CS19: 688 | CT19: 394 | CU19: 396 | CV19: 1180 | CW19: 1160 | CX19: 61.9 | CY19: 63.7 | CZ19: 63.7 | DA19: 63.1 | DB19: 63.1 | DC19: 63 | DD19: 11.1 | DE19: 77.7 | DF19: 1560 | DJ19: 1 U | DU19: 199 | DV19: 126 | EE19: 40.3 | EG19: 108 | EI19: 95.5 | EL19: 42.3 | EM19: 3.5 | ER19: 433 | FG19: 1 U | FK19: 83 | FU19: 1 U | FX19: 1 U | FY19: 1 U | GB19: 456 | GC19: 456 | GE19: 183 | GK19: 382 | GM19: 1 U | GP19: 95.7 | GR19: 209 | GT19: 232 | GW19: 225 | GZ19: 196 | HB19: 209 | HD19: 1 UJ | HF19: 1 U | HL19: 94.2 | HQ19: 61.9 | HS19: 341 | HX19: 191 | IA19: 191 | IB19: 15.9 | IG19: 1 U | II19: 80.3 | IL19: 597 | IN19: 610 | IQ19: 585 | IU19: 434 | IY19: 610 | JB19: 125 | JC19: 1.3 | JE19: 143 | JG19: 30.7 | JR19: 1 U | JU19: 482 | JZ19: 1 U | KD19: 284 | KF19: 218 | KI19: 1 U
A20: Alkalinity, Carbonate (as CaCO3) | B20: =VLOOKUP(A20,Units!$B$2:$C$230,2,FALSE) -> mg/L | C20: - | D20: 20 U | E20: 2 U | F20: 2 U | G20: 20 U | H20: 2 U | I20: 20 U | J20: 2 U | K20: 20 U | L20: 20 U | N20: 1 U | O20: 2 U | P20: 2 U | Q20: 2 U | R20: 2 U | S20: 2 U | T20: 2 U | U20: 2 U | V20: 2 U | W20: 2 U | X20: 1 U | Y20: 2 U | Z20: 2 U | AA20: 2 U | AB20: 2 U | AC20: 2 U | AD20: 2 U | AE20: 2 U | AF20: 1 U | AG20: 1 U | AH20: 1 U | AI20: 1 U | AJ20: 2 U | AK20: 2 U | AL20: 1 U | AM20: 1 U | AO20: 2 U | AP20: 1 U | AQ20: 1 U | AR20: 1 U | AS20: 1 U | AT20: 1 U | AU20: 1 U | AW20: 2 U | AX20: 1 U | AY20: 1 U | AZ20: 1 U | BA20: 2 U | BB20: 2 U | BC20: 1 U | BD20: 1 U | BE20: 1 U | BF20: 1 U | BG20: 1 U | BH20: 1 U | BI20: 1 U | BJ20: 2 U | BK20: 2 U | BL20: 1 U | BM20: 1 U | BN20: 1 U | BO20: 1 U | BP20: 2 U | BQ20: 2 U | BR20: 2 U | BS20: 2 U | BT20: 2 U | BV20: 2 U | BW20: 2 U | BX20: 2 U | BY20: 2 U | BZ20: 2 U | CA20: 1 U | CB20: 2 U | CC20: 2 U | CD20: 2 U | CE20: 2 U | CF20: 2 U | CG20: 2 U | CH20: 2 U | CI20: 1 U | CJ20: 1 U | CK20: 2 U | CL20: 1 U | CM20: Alkalinity, Carbonate (as CaCO3) | CN20: 20 U | CO20: 1 U | CP20: 20 U | CQ20: 1 U | CR20: 20 U | CS20: 1 U | CT20: 2 U | CU20: 1 U | CV20: 20 U | CW20: 1 U | CX20: 1 U | CY20: 1 U | CZ20: 1 U | DA20: 1 U | DB20: 1 U | DC20: 1 U | DD20: 2 U | DE20: 1 U | DF20: 1 U | DJ20: 1 U | DU20: 1 U | DV20: 1 U | EE20: 1 U | EG20: 1 U | EI20: 1 U | EL20: 1 U | EM20: 1 U | ER20: 1 U | FG20: 1 U | FK20: 1 U | FU20: 1 U | FX20: 1 U | FY20: 1 U | GB20: 1 U | GC20: 1 U | GE20: 1 U | GK20: 1 U | GM20: 1 U | GP20: 1 U | GR20: 1 U | GT20: 1 U | GW20: 1 U | GZ20: 1 U | HB20: 1 U | HD20: 1 UJ | HF20: 1 U | HL20: 1 U | HQ20: 1 U | HS20: 1 U | HX20: 1 U | IA20: 1 U | IB20: 1 U | IG20: 1 U | II20: 1 U | IL20: 1 U | IN20: 1 U | IQ20: 1 U | IU20: 1 U | IY20: 1 U | JB20: 1 U | JC20: 1 U | JE20: 1 U | JG20: 1 U | JR20: 1 U | JU20: 1 U | JZ20: 1 U | KD20: 1 U | KF20: 5.2 | KI20: 1 U
A21: Alkalinity, Hydroxide (as CaCO3) | B21: =VLOOKUP(A21,Units!$B$2:$C$230,2,FALSE) -> mg/L | C21: - | D21: 20 U | E21: 2 U | F21: 231 | G21: 691 | H21: 391 | I21: 1260 | J21: 426 | K21: 586 | L21: 605 | N21: 1700 | O21: 250 | P21: 257 | Q21: 311 | R21: 327 | S21: 332 | T21: 409 | U21: 115 | V21: 123 | W21: 115 | X21: 267 | Y21: 229 | Z21: 259 | AA21: 266 | AB21: 106 | AC21: 100 | AD21: 289 | AE21: 355 | AF21: 1 U | AG21: 1 U | AH21: 1 U | AI21: 1 U | AJ21: 18.8 | AK21: 285 | AL21: 1 U | AM21: 1 U | AO21: 67 | AP21: 32.5 | AQ21: 1 U | AR21: 1 U | AS21: 275 | AT21: 1 U | AU21: 1 U | AW21: 149 | AX21: 235 | AY21: 1 U | AZ21: 1 U | BA21: 65.9 | BB21: 88.6 | BC21: 1 U | BD21: 1 U | BE21: 1 U | BF21: 1 U | BG21: 1 U | BH21: 38.2 | BI21: 11.1 | BJ21: 280 | BK21: 317 | BL21: 319 | BM21: 477 | BN21: 64.1 | BO21: 91.8 | BP21: 392 | BQ21: 336 | BR21: 367 | BS21: 452 | BT21: 445 | BV21: 455 | BW21: 398 | BX21: 459 | BY21: 359 | BZ21: 69.1 | CA21: 1 U | CB21: 447 | CC21: 174 | CD21: 209 | CE21: 251 | CF21: 369 | CG21: 297 | CH21: 327 | CI21: 1 U | CJ21: 71.1 J | CK21: 254 | CL21: 51.2 J | CM21: Alkalinity, Hydroxide (as CaCO3) | CN21: 20 U | CO21: 1 U | CP21: 20 U | CQ21: 1 U | CR21: 20 U | CS21: 1 U | CT21: 2 U | CU21: 1 U | CV21: 20 U | CW21: 1 U | CX21: 1 U | CY21: 1 U | CZ21: 1 U | DA21: 1 U | DB21: 1 U | DC21: 1 U | DD21: 2 U | DE21: 1 U | DF21: 1 U | DJ21: 1 U | DU21: 1 U | DV21: 1 U | EE21: 1 U | EG21: 1 U | EI21: 1 U | EL21: 1 U | EM21: 1 U | ER21: 1 U | FG21: 1 U | FK21: 1 U | FU21: 1 U | FX21: 1 U | FY21: 1 U | GB21: 1 U | GC21: 1 U | GE21: 1 U | GK21: 1 U | GM21: 1 U | GP21: 1 U | GR21: 1 U | GT21: 1 U | GW21: 1 U | GZ21: 1 U | HB21: 1 U | HD21: 1 UJ | HF21: 1 U | HL21: 1 U | HQ21: 1 U | HS21: 1 U | HX21: 1 U | IA21: 1 U | IB21: 1 U | IG21: 1 U | II21: 1 U | IL21: 1 U | IN21: 1 U | IQ21: 1 U | IU21: 1 U | IY21: 1 U | JB21: 1 U | JC21: 1 U | JE21: 1 U | JG21: 1 U | JR21: 1 U | JU21: 1 U | JZ21: 1 U | KD21: 1 U | KF21: 1 U | KI21: 1 U
A22: Alkalinity, Total (as CaCO3) | B22: =VLOOKUP(A22,Units!$B$2:$C$230,2,FALSE) -> mg/L | C22: - | D22: 652 | E22: 240 | F22: 0.47 | G22: 0.32 | H22: 0.02 | I22: 0.04 | J22: 0.53 | K22: 0.12 | L22: 0.1 | N22: 0.16 | O22: 0.08 | P22: 0.02 | Q22: 0.005 U | R22: 0.06 | S22: 0.0066 | T22: 0.005 U | U22: 0.005 U | V22: 0.005 U | W22: 0.005 U | X22: 0.25 | Y22: 0.005 U | Z22: 0.005 U | AA22: 0.005 U | AB22: 10.9 | AC22: 11.5 | AD22: 0.11 | AE22: 0.19 | AF22: 1.49 | AG22: 1.01 | AH22: 0.98 | AI22: 0.48 | AJ22: 0.98 | AK22: 0.06 | AL22: 1.19 | AM22: 2.6 | AO22: 0.005 U | AP22: 3.22 | AQ22: 4.76 | AR22: 3.36 | AS22: 0.17 | AT22: 0.17 | AU22: 2.26 | AW22: 0.65 | AX22: 0.26 | AY22: 1.43 | AZ22: 0.86 | BA22: 0.19 | BB22: 0.19 | BC22: 3.15 | BD22: 9.44 | BE22: 9.51 | BF22: 6.08 | BG22: 0.74 | BH22: 0.51 | BI22: 0.74 | BJ22: 0.29 | BK22: 0.49 | BL22: 0.92 | BM22: 1.51 | BN22: 1.49 | BO22: 0.37 | BP22: 0.06 | BQ22: 0.79 | BR22: 0.68 | BS22: 0.68 | BT22: 0.91 | BV22: 0.92 | BW22: 0.7 | BX22: 0.91 | BY22: 0.48 | BZ22: 0.005 U | CA22: 0.72 | CB22: 0.72 | CC22: 0.005 U | CD22: 0.005 U | CE22: 0.02 | CF22: 0.0095 | CG22: 0.09 | CH22: 0.005 U | CI22: 0.21 | CJ22: 1.15 | CK22: 0.02 | CL22: 1.19 | CM22: Alkalinity, Total (as CaCO3) | CN22: 620 | CO22: 579 | CP22: 621 | CQ22: 517 | CR22: 686 | CS22: 688 | CT22: 394 | CU22: 396 | CV22: 1180 | CW22: 1160 | CX22: 61.9 | CY22: 63.7 | CZ22: 63.7 | DA22: 63.1 | DB22: 63.1 | DC22: 63 | DD22: 11.1 | DE22: 77.7 | DF22: 1560 | DJ22: 1 U | DU22: 199 | DV22: 126 | EE22: 40.3 | EG22: 108 | EI22: 95.5 | EL22: 42.3 | EM22: 3.5 | ER22: 433 | FG22: 1 U | FK22: 83 | FU22: 1 U | FX22: 1 U | FY22: 1 U | GB22: 456 | GC22: 456 | GE22: 183 | GK22: 382 | GM22: 1 U | GP22: 95.7 | GR22: 209 | GT22: 232 | GW22: 225 | GZ22: 196 | HB22: 209 | HD22: 1 UJ | HF22: 1 U | HL22: 94.2 | HQ22: 61.9 | HS22: 341 | HX22: 191 | IA22: 191 | IB22: 15.9 | IG22: 1 U | II22: 80.3 | IL22: 597 | IN22: 610 | IQ22: 585 | IU22: 434 | IY22: 610 | JB22: 125 | JC22: 1.3 | JE22: 143 | JG22: 30.7 | JR22: 1 U | JU22: 482 | JZ22: 1 U | KD22: 284 | KF22: 224 | KI22: 1 U
A23: Ammonia | B23: =VLOOKUP(A23,Units!$B$2:$C$230,2,FALSE) -> mg/L | C23: Variablea | D23: 0.04 | E23: 0.53 | CM23: Ammonia | CN23: 0.0416 | CO23: 0.0266 | CP23: 0.28 | CQ23: 0.31 | CR23: 0.197 | CS23: 0.459 | CT23: 0.0624 | CU23: 0.0645 | CV23: 0.0537 | CW23: 0.0637 | CX23: 1.37 | CY23: 1.38 | CZ23: 1.38 | DA23: 1.4 | DB23: 1.4 | DC23: 1.39 | DD23: 1.04 | DE23: 1.16 | DG23: 0.0202 | DJ23: 0.626 | DU23: 0.005 U | DV23: 0.006 | EE23: 0.005 U | EG23: 0.005 U | EI23: 0.005 U | EL23: 0.005 U | EM23: 0.005 U | ER23: 0.668 | FG23: 0.232 | FK23: 0.0414 | FO23: 0.0809 | FS23: 0.607 | FU23: 1.06 | FX23: 0.747 | FY23: 0.894 | GB23: 0.005 U | GC23: 0.005 U | GE23: 0.38 | GK23: 0.005 U | GM23: 0.193 | GP23: 0.005 U | GR23: 0.005 U | GT23: 0.005 U | GW23: 0.0187 | GZ23: 0.005 U | HB23: 0.005 U | HD23: 0.005 U | HF23: 0.579 | HJ23: 0.005 U | HL23: 0.005 U | HQ23: 0.0062 | HS23: 0.0663 | HU23: 0.238 | HW23: 0.0458 | HX23: 0.005 U | IA23: 0.005 U | IB23: 0.737 | IE23: 0.522 | IG23: 2.51 | II23: 0.0069 | IL23: 0.005 U | IN23: 0.005 U | IQ23: 0.849 | IU23: 0.005 U | IY23: 0.005 U | JB23: 1.07 | JC23: 0.0242 | JE23: 2.5 | JG23: 3.32 | JI23: 1.02 | JK23: 3.34 | JO23: 0.005 U | JR23: 6.59 | JS23: 0.005 U | JU23: 0.005 U | JZ23: 0.105 | KD23: 0.005 | KF23: 0.005 U | KI23: 0.728
A24: NH3 guideline | F24: 10 U | G24: 5 U | H24: 2.5 U | I24: 10 U | J24: 5 U | K24: 2.9 | L24: 5 U | N24: 25 | O24: 0.5 U | P24: 0.5 U | Q24: 1 U | R24: 1 U | S24: 0.5 U | T24: 0.5 U | U24: 0.5 U | V24: 0.5 U | W24: 0.5 U | X24: 0.5 U | Y24: 0.5 U | Z24: 0.5 U | AA24: 0.5 U | AB24: 10 U | AC24: 10 U | AD24: 1 U | AE24: 1.44 | AF24: 10 U | AG24: 10 U | AH24: 10 U | AI24: 25 U | AJ24: 10 U | AK24: 0.5 U | AL24: 5 U | AM24: 25 U | AO24: 1 U | AP24: 10 U | AQ24: 10 U | AR24: 10 U | AS24: 0.5 U | AT24: 2.5 U | AU24: 10 U | AW24: 2.5 U | AX24: 1 U | AY24: 10 U | AZ24: 10 U | BA24: 5 U | BB24: 2.5 U | BC24: 10 U | BD24: 25 U | BE24: 25 U | BF24: 25 U | BG24: 10 U | BH24: 5 U | BI24: 5 U | BJ24: 0.5 U | BK24: 1 U | BL24: 1 U | BM24: 2.5 U | BN24: 1.16 | BO24: 1.9 | BP24: 2.5 U | BQ24: 2.5 U | BR24: 2.5 U | BS24: 5 U | BT24: 5 U | BV24: 5 U | BW24: 5 U | BX24: 5 U | BY24: 2.5 U | BZ24: 0.6 | CA24: 10 U | CB24: 5 U | CC24: 0.5 U | CD24: 0.5 U | CE24: 0.5 U | CF24: 3.49 | CG24: 0.63 | CH24: 2.5 U | CI24: 25 U | CJ24: 5 U | CK24: 0.5 U | CL24: 5 U | CM24: NH3 guideline
A25: Chloride (Cl) | B25: =VLOOKUP(A25,Units!$B$2:$C$230,2,FALSE) -> mg/L | C25: 120 | D25: 13.2 | E25: 10 U | F25: 0.74 | G25: 0.2 U | H25: 0.19 | I25: 0.4 U | J25: 0.31 | K25: 3.31 | L25: 2.19 | N25: 1.35 | O25: 0.18 | P25: 0.29 | Q25: 0.11 | R25: 0.14 | S25: 0.09 | T25: 0.15 | U25: 0.11 | V25: 0.12 | W25: 0.13 | X25: 0.21 | Y25: 0.31 | Z25: 0.16 | AA25: 0.23 | AB25: 0.86 | AC25: 1.15 | AD25: 0.15 | AE25: 0.39 | AF25: 0.4 U | AG25: 0.4 U | AH25: 0.4 U | AI25: 1 U | AJ25: 5.61 | AK25: 0.11 | AL25: 0.2 U | AM25: 1 U | AO25: 0.04 | AP25: 0.4 U | AQ25: 0.4 U | AR25: 0.4 U | AS25: 0.44 | AT25: 0.21 | AU25: 0.4 U | AW25: 0.1 U | AX25: 0.04 | AY25: 0.4 U | AZ25: 0.4 U | BA25: 0.2 U | BB25: 0.1 U | BC25: 0.4 U | BD25: 2.3 | BE25: 1 | BF25: 1 U | BG25: 0.4 U | BH25: 0.2 U | BI25: 0.22 | BJ25: 0.16 | BK25: 0.13 | BL25: 0.19 | BM25: 0.36 | BN25: 4.54 | BO25: 3.61 | BP25: 0.29 | BQ25: 0.13 | BR25: 0.1 U | BS25: 0.33 | BT25: 0.2 U | BV25: 0.2 U | BW25: 0.2 U | BX25: 0.2 U | BY25: 0.13 | BZ25: 0.04 | CA25: 0.4 U | CB25: 0.3 | CC25: 0.12 | CD25: 0.1 | CE25: 0.09 | CF25: 0.13 | CG25: 0.14 | CH25: 0.24 | CI25: 6.2 | CJ25: 0.27 | CK25: 0.09 | CL25: 0.25 | CM25: Chloride (Cl) | CN25: 15 | CO25: 13.7 | CP25: 16 | CQ25: 14 | CR25: 5 U | CS25: 5 U | CT25: 1 U | CU25: 2.5 U | CV25: 10 U | CW25: 10 U | CX25: 1.3 | CY25: 2.5 U | CZ25: 2.5 U | DA25: 2.5 U | DB25: 2.5 U | DC25: 2.5 U | DD25: 10 U | DE25: 2.8 | DF25: 10 U | DG25: 2.5 U | DJ25: 10 U | DU25: 1.1 | DV25: 0.5 U | EE25: 0.5 U | EG25: 0.5 U | EI25: 0.5 U | EL25: 0.5 U | EM25: 1 U | ER25: 1 U | FG25: 2.5 U | FK25: 0.5 U | FO25: 10 U | FS25: 10 U | FU25: 10 | FX25: 12 | FY25: 5 U | GB25: 5 U | GC25: 5 U | GE25: 2.5 U | GK25: 2.5 U | GM25: 2.5 U | GP25: 0.5 U | GR25: 2.5 U | GT25: 0.5 U | GW25: 10 U | GZ25: 2.5 U | HB25: 2.5 U | HD25: 1 U | HF25: 11 | HJ25: 50 U | HL25: 10 U | HQ25: 0.5 U | HS25: 10 U | HU25: 2.5 U | HW25: 2.5 U | HX25: 1.2 | IA25: 1 U | IB25: 12 | IE25: 50 U | IG25: 25 U | II25: 10 U | IL25: 10 U | IN25: 10 U | IQ25: 2.5 U | IU25: 5 U | IY25: 10 U | JB25: 10 U | JC25: 10 U | JE25: 10 U | JG25: 10 U | JI25: 25 U | JK25: 25 U | JO25: 10 U | JR25: 25 U | JS25: 5 U | JU25: 5 U | JZ25: 10 U | KD25: 2.5 U | KF25: 0.5 U | KI25: 12
A26: Fluoride | B26: =VLOOKUP(A26,Units!$B$2:$C$230,2,FALSE) -> mg/L | C26: 0.12 | D26: 0.2 U | E26: 0.77 | F26: 0.1 U | G26: 1.72 J | H26: 0.025 U | I26: 0.1 UJ | J26: 0.05 U | K26: 0.01 U | L26: 0.05 U | O26: 0.005 U | P26: 0.005 U | Q26: 0.16 | R26: 0.01 U | S26: 0.74 | T26: 0.74 | U26: 0.06 | V26: 0.09 | W26: 0.07 | X26: 0.005 U | Y26: 0.04 | Z26: 0.23 | AA26: 0.23 | AB26: 0.1 U | AC26: 0.1 U | AD26: 0.01 U | AE26: 0.005 U | AF26: 0.1 UJ | AG26: 0.1 UJ | AH26: 0.1 UJ | AI26: 0.25 U | AJ26: 2.72 | AK26: 0.005 U | AL26: 0.05 UJ | AM26: 0.25 UJ | AO26: 0.01 U | AP26: 0.1 U | AQ26: 0.1 UJ | AR26: 0.1 UJ | AS26: 0.005 UJ | AT26: 0.025 UJ | AU26: 0.1 UJ | AW26: 0.025 U | AX26: 0.01 U | AY26: 0.12 | AZ26: 0.1 U | BA26: 0.05 U | BB26: 0.025 U | BC26: 0.1 U | BD26: 0.25 U | BE26: 0.25 U | BF26: 0.25 U | BG26: 0.1 UJ | BH26: 0.05 UJ | BI26: 0.05 U | BJ26: 0.005 U | BK26: 0.01 U | BL26: 0.01 U | BM26: 0.025 U | BN26: 0.005 U | BO26: 0.005 U | BP26: 0.025 U | BQ26: 0.025 UJ | BR26: 0.05 J | BS26: 0.05 U | BT26: 0.05 U | BV26: 0.05 U | BW26: 0.05 U | BX26: 0.07 | BY26: 0.025 U | BZ26: 0.005 U | CA26: 0.1 UJ | CB26: 0.05 U | CC26: 0.19 | CD26: 0.2 | CE26: 0.1 J | CF26: 0.005 UJ | CG26: 0.13 J | CH26: 0.1 | CI26: 0.25 U | CJ26: 0.05 U | CK26: 0.1 J | CL26: 0.05 U | CM26: Fluoride | CN26: 0.4 U | CO26: 0.2 U | CP26: 0.9 | CQ26: 0.92 | CR26: 0.2 U | CS26: 0.2 U | CT26: 0.163 | CU26: 0.18 | CV26: 0.4 U | CW26: 0.4 U | CX26: 0.467 | CY26: 0.54 | CZ26: 0.54 | DA26: 0.55 | DB26: 0.55 | DC26: 0.54 | DD26: 7.4 | DE26: 1.75 | DF26: 0.6 | DG26: 1.23 | DJ26: 2.07 | DU26: 0.212 | DV26: 0.065 | EE26: 0.208 | EG26: 0.257 | EI26: 0.191 | EL26: 0.431 | EM26: 0.66 | ER26: 0.114 | FG26: 0.14 | FK26: 0.289 | FO26: 2.42 | FS26: 0.49 | FU26: 1.04 | FX26: 0.46 | FY26: 0.38 | GB26: 0.2 U | GC26: 0.2 U | GE26: 0.25 | GK26: 0.22 | GM26: 0.49 | GP26: 0.234 | GR26: 0.34 | GT26: 0.06 | GW26: 0.4 U | GZ26: 0.3 | HB26: 0.29 | HD26: 0.724 | HF26: 0.82 | HJ26: 47.2 | HL26: 3.52 | HQ26: 0.133 | HS26: 0.4 U | HU26: 0.42 | HW26: 0.66 | HX26: 0.207 | IA26: 1.48 | IB26: 0.69 | IE26: 25.8 | IG26: 2.5 | II26: 2.35 | IL26: 0.4 U | IN26: 0.4 U | IQ26: 0.1 U | IU26: 0.2 U | IY26: 0.4 U | JB26: 0.4 U | JC26: 0.4 U | JE26: 0.4 U | JG26: 0.48 | JI26: 57.7 | JK26: 25.5 | JO26: 3.13 | JR26: 2.4 | JS26: 1 | JU26: 0.2 U | JZ26: 1.41 | KD26: 0.1 U | KF26: 0.048 | KI26: 0.59
A27: Nitrate (as N) | B27: =VLOOKUP(A27,Units!$B$2:$C$230,2,FALSE) -> mg/L | C27: 13 | D27: 0.05 U | E27: 0.23 | F27: 0.02 U | G27: 0.01 J | H27: 0.005 U | I27: 0.02 UJ | J27: 0.01 U | K27: 0.002 U | L27: 0.01 U | O27: 0.001 U | P27: 0.001 U | Q27: 0.002 U | R27: 0.002 U | S27: 0.0016 | T27: 0.001 U | U27: 0.001 U | V27: 0.001 U | W27: 0.001 U | X27: 0.001 U | Y27: 0.001 U | Z27: 0.001 U | AA27: 0.001 U | AB27: 0.02 U | AC27: 0.02 U | AD27: 0.002 U | AE27: 0.001 U | AF27: 0.02 UJ | AG27: 0.02 UJ | AH27: 0.02 UJ | AI27: 0.05 U | AJ27: 0.02 U | AK27: 0.001 U | AL27: 0.01 UJ | AM27: 0.05 UJ | AO27: 0.002 U | AP27: 0.02 U | AQ27: 0.02 UJ | AR27: 0.02 UJ | AS27: 0.001 UJ | AT27: 0.005 UJ | AU27: 0.02 UJ | AW27: 0.005 U | AX27: 0.002 U | AY27: 0.02 U | AZ27: 0.02 U | BA27: 0.01 U | BB27: 0.005 U | BC27: 0.02 U | BD27: 0.05 U | BE27: 0.05 U | BF27: 0.05 U | BG27: 0.02 UJ | BH27: 0.01 UJ | BI27: 0.01 U | BJ27: 0.001 U | BK27: 0.002 U | BL27: 0.002 U | BM27: 0.005 U | BN27: 0.001 U | BO27: 0.001 U | BP27: 0.005 U | BQ27: 0.005 UJ | BR27: 0.005 UJ | BS27: 0.01 U | BT27: 0.01 U | BV27: 0.01 U | BW27: 0.01 U | BX27: 0.01 U | BY27: 0.005 U | BZ27: 0.001 U | CA27: 0.02 UJ | CB27: 0.01 U | CC27: 0.001 U | CD27: 0.001 U | CE27: 0.001 UJ | CF27: 0.001 UJ | CG27: 0.003 J | CH27: 0.005 U | CI27: 0.05 U | CJ27: 0.01 U | CK27: 0.001 UJ | CL27: 0.01 U | CM27: Nitrate (as N) | CN27: 1.22 | CO27: 0.239 J | CP27: 0.1 U | CQ27: 0.1 U | CR27: 2.67 | CS27: 3.86 | CT27: 0.01 U | CU27: 0.025 U | CV27: 0.1 U | CW27: 0.1 U | CX27: 0.152 | CY27: 0.152 | CZ27: 0.152 | DA27: 0.158 | DB27: 0.158 | DC27: 0.154 | DD27: 2.45 | DE27: 0.901 | DF27: 0.1 U | DG27: 0.207 J | DJ27: 0.99 J | DU27: 4.55 J | DV27: 0.0308 J | EE27: 0.281 J | EG27: 0.0381 J | EI27: 0.131 J | EL27: 0.193 J | EM27: 0.328 J | ER27: 0.034 J | FG27: 0.025 U | FK27: 0.005 U | FO27: 0.1 U | FS27: 0.25 J | FU27: 0.1 U | FX27: 0.18 J | FY27: 0.16 | GB27: 1.11 | GC27: 1.11 | GE27: 0.797 | GK27: 0.182 | GM27: 0.025 U | GP27: 0.005 UJ | GR27: 9.37 J | GT27: 0.552 | GW27: 1.31 | GZ27: 12.5 J | HB27: 10.1 J | HD27: 0.01 UJ | HF27: 6.8 | HJ27: 0.5 UJ | HL27: 0.13 J | HQ27: 0.0815 J | HS27: 1.34 | HU27: 0.025 UJ | HW27: 0.025 UJ | HX27: 5.12 J | IA27: 0.062 | IB27: 3.49 | IE27: 0.5 U | IG27: 0.25 UJ | II27: 0.1 UJ | IL27: 8.6 J | IN27: 2.02 | IQ27: 0.031 | IU27: 5.37 | IY27: 18.2 | JB27: 0.18 | JC27: 0.1 U | JE27: 0.1 U | JG27: 0.1 U | JI27: 0.25 U | JK27: 0.25 U | JO27: 0.1 U | JR27: 0.25 U | JS27: 0.293 | JU27: 1.47 | JZ27: 0.1 U | KD27: 6.17 | KF27: 0.007 | KI27: 3.46
A28: Nitrite (as N) | B28: =VLOOKUP(A28,Units!$B$2:$C$230,2,FALSE) -> mg/L | C28: 0.06 | D28: 0.01 | E28: 0.02 U | CM28: Nitrite (as N) | CN28: 0.102 | CO28: 0.01 UJ | CP28: 0.02 U | CQ28: 0.02 U | CR28: 0.022 | CS28: 0.01 U | CT28: 0.002 U | CU28: 0.005 U | CV28: 0.02 U | CW28: 0.02 U | CX28: 0.0025 | CY28: 0.005 U | CZ28: 0.005 U | DA28: 0.005 U | DB28: 0.005 U | DC28: 0.005 U | DD28: 0.075 | DE28: 0.0256 | DF28: 0.02 U | DG28: 0.005 UJ | DJ28: 0.02 UJ | DU28: 0.002 UJ | DV28: 0.001 UJ | EE28: 0.001 UJ | EG28: 0.001 UJ | EI28: 0.001 UJ | EL28: 0.001 UJ | EM28: 0.002 UJ | ER28: 0.0041 J | FG28: 0.005 U | FK28: 0.001 U | FO28: 0.02 U | FS28: 0.02 UJ | FU28: 0.02 U | FX28: 0.02 UJ | FY28: 0.01 U | GB28: 0.01 U | GC28: 0.01 U | GE28: 0.005 U | GK28: 0.005 U | GM28: 0.005 U | GP28: 0.001 UJ | GR28: 0.0063 J | GT28: 0.001 U | GW28: 0.02 U | GZ28: 0.005 UJ | HB28: 0.005 UJ | HD28: 0.002 UJ | HF28: 0.084 | HJ28: 0.1 UJ | HL28: 0.02 UJ | HQ28: 0.001 UJ | HS28: 0.028 | HU28: 0.005 UJ | HW28: 0.005 UJ | HX28: 0.002 UJ | IA28: 0.002 U | IB28: 0.02 U | IE28: 0.1 U | IG28: 0.05 UJ | II28: 0.02 UJ | IL28: 0.02 UJ | IN28: 0.02 U | IQ28: 0.005 U | IU28: 0.01 U | IY28: 0.02 U | JB28: 0.068 | JC28: 0.02 U | JE28: 0.02 U | JG28: 0.02 U | JI28: 0.05 U | JK28: 0.05 U | JO28: 0.02 U | JR28: 0.05 U | JS28: 0.01 U | JU28: 0.01 U | JZ28: 0.02 U | KD28: 0.005 U | KF28: 0.001 U | KI28: 0.043
A29: ortho-Phosphate (as P) | B29: mg/l | C29: - | F29: 3850 | G29: 1760 | H29: 829 | I29: 3620 | J29: 1730 | K29: 140 | L29: 814 | N29: 73.1 | O29: 118 | P29: 77.3 | Q29: 263 | R29: 302 | S29: 32.5 | T29: 45.8 | U29: 17.4 | V29: 18.1 | W29: 18.1 | X29: 36.2 | Y29: 30.1 | Z29: 31.2 | AA29: 46.1 | AB29: 7740 | AC29: 9420 | AD29: 465 | AE29: 108 | AF29: 12000 | AG29: 7400 | AH29: 7450 | AI29: 20900 | AJ29: 3280 | AK29: 130 | AL29: 1470 | AM29: 20500 | AO29: 461 | AP29: 5980 | AQ29: 23500 | AR29: 16300 | AS29: 3.93 | AT29: 1460 | AU29: 6130 | AW29: 1030 | AX29: 627 | AY29: 3720 | AZ29: 7520 | BA29: 1530 | BB29: 1060 | BC29: 7180 | BD29: 20700 | BE29: 24400 | BF29: 27100 | BG29: 4830 | BH29: 2130 | BI29: 1600 | BJ29: 281 | BK29: 260 | BL29: 389 | BM29: 557 | BN29: 168 | BO29: 67.8 | BP29: 750 | BQ29: 944 | BR29: 1080 | BS29: 1890 | BT29: 2090 | BV29: 2060 | BW29: 1860 | BX29: 2170 | BY29: 761 | BZ29: 430 | CA29: 4930 | CB29: 2110 | CC29: 30.3 | CD29: 26.4 | CE29: 47.3 | CF29: 112 | CG29: 219 | CH29: 719 | CI29: 21800 | CJ29: 2500 | CK29: 47.5 | CL29: 2510
A30: Phosphorus | B30: =VLOOKUP(A30,Units!$B$2:$C$230,2,FALSE) -> mg/L | D30: 0.03 | E30: 0.2 U | CM30: Phosphorus | CN30: 0.02 U | CO30: 0.02 U | CP30: 0.02 U | CQ30: 0.02 U | CR30: 0.02 U | CS30: 0.02 U | CT30: 0.382 | CU30: 0.409 | CV30: 0.0239 | CW30: 0.02 U | CX30: 0.3 U | CY30: 0.3 U | CZ30: 0.3 U | DA30: 0.3 U | DB30: 0.3 U | DC30: 0.3 U | DD30: 0.02 U | DE30: 0.2 U | DG30: 0.02 U | DJ30: 0.2 U | DU30: 0.383 | DV30: 0.02 U | EE30: 0.02 U | EG30: 0.02 U | EI30: 0.02 U | EL30: 0.032 | EM30: 0.02 U | ER30: 0.2 U | FG30: 0.2 U | FK30: 0.02 U | FO30: 20 U | FS30: 2 U | FU30: 2 U | FX30: 2 U | FY30: 0.02 U | GB30: 0.02 U | GC30: 0.02 U | GE30: 8.8 | GK30: 0.02 U | GM30: 0.02 U | GP30: 0.02 U | GR30: 0.02 U | GT30: 0.02 U | GW30: 0.02 U | GZ30: 0.02 U | HB30: 0.02 U | HD30: 0.02 U | HF30: 2 U | HJ30: 8.72 | HL30: 0.037 | HQ30: 0.033 | HS30: 0.2 U | HU30: 2 U | HW30: 0.476 | HX30: 0.02 U | IA30: 0.02 U | IB30: 2 U | IE30: 57 | IG30: 0.052 | II30: 0.02 U | IL30: 0.02 U | IN30: 0.027 | IQ30: 2 U | IU30: 0.02 U | IY30: 0.02 U | JB30: 0.263 | JC30: 0.295 | JE30: 2 U | JG30: 2 U | JI30: 20 U | JK30: 0.2 U | JO30: 2 U | JR30: 20 U | JS30: 2 U | JU30: 0.02 U | JZ30: 2 U | KD30: 0.02 U | KF30: 0.022 | KI30: 2 U
A31: Sulfate | B31: =VLOOKUP(A31,Units!$B$2:$C$230,2,FALSE) -> mg/L | C31: 100 | D31: 1580 | E31: 3960 | F31: 5.34 | G31: 3.32 | H31: 1.44 | I31: 12 | J31: 1.64 | K31: 0.98 | L31: 4.4 | N31: 1.14 | O31: 1.29 | P31: 0.97 | Q31: 3.72 | R31: 3.15 | S31: 4.34 | T31: 3.01 | U31: 2.91 | V31: 1.68 | W31: 2.3 | X31: 1.73 | Y31: 1.38 | Z31: 1.88 | AA31: 2.52 | AB31: 8.19 | AC31: 7.91 | AD31: 2.42 | AE31: 1.43 | AF31: 8.5 | AG31: 7.94 J | AH31: 5.35 J | AI31: 6.91 | AJ31: 3.35 | AK31: 1.12 | AL31: 2.46 | AM31: 6.91 | AO31: 1.22 | AP31: 13.4 | AQ31: 5.23 | AR31: 6.57 | AS31: 1.41 | AT31: 1.28 | AU31: 2.58 | AW31: 1.6 | AX31: 5.07 | AY31: 2.62 | AZ31: 1.85 | BA31: 2.01 | BB31: 3.8 | BC31: 4.35 | BD31: 5.67 | BE31: 4.18 | BF31: 4.78 | BG31: 2.57 | BH31: 3.03 | BI31: 2.5 | BJ31: 3.54 | BK31: 6.59 | BL31: 12.3 | BM31: 35.6 | BN31: 5.18 | BO31: 5.01 | BP31: 1.72 | BQ31: 4.47 | BR31: 2.72 | BS31: 3.79 J | BT31: 2.1 | BV31: 4.04 | BW31: 2.17 | BX31: 2.05 | BY31: 2.99 | BZ31: 0.92 | CA31: 2.5 | CB31: 1.91 J | CC31: 0.78 | CD31: 1.03 | CE31: 1.17 | CF31: 1.04 | CG31: 7.76 | CH31: 2.17 | CI31: 7.4 | CJ31: 2.41 | CK31: 0.92 | CL31: 2.2 | CM31: Sulfate | CN31: 1970 | CO31: 1740 | CP31: 4680 | CQ31: 4820 | CR31: 1980 | CS31: 1560 | CT31: 873 | CU31: 841 | CV31: 3780 | CW31: 3450 | CX31: 902 | CY31: 931 | CZ31: 931 | DA31: 940 | DB31: 940 | DC31: 935 | DD31: 3880 | DE31: 1370 | DF31: 13500 | DG31: 1010 | DJ31: 7470 | DU31: 544 | DV31: 96.2 | EE31: 289 | EG31: 208 | EI31: 88.8 | EL31: 347 | EM31: 512 | ER31: 448 | FG31: 1110 | FK31: 176 | FO31: 4690 | FS31: 6450 | FU31: 8250 | FX31: 6790 | FY31: 2500 | GB31: 1440 | GC31: 1440 | GE31: 285 | GK31: 534 | GM31: 795 | GP31: 134 | GR31: 846 | GT31: 202 | GW31: 2890 | GZ31: 885 | HB31: 729 | HD31: 669 | HF31: 5570 | HJ31: 38300 | HL31: 2720 | HQ31: 18.6 | HS31: 4430 | HU31: 818 | HW31: 1300 | HX31: 519 | IA31: 556 | IB31: 8930 | IE31: 108000 | IG31: 11200 | II31: 2080 | IL31: 1780 | IN31: 1960 | IQ31: 357 | IU31: 1150 | IY31: 1800 | JB31: 2590 | JC31: 2780 | JE31: 3460 | JG31: 5220 | JI31: 66200 | JK31: 56800 J | JO31: 3800 | JR31: 15300 | JS31: 1840 | JU31: 1330 | JZ31: 3840 | KD31: 689 | KF31: 34.7 | KI31: 8840
