Workbook

Sheet Table4 WRDJuneGW2015
A1: Table 4. Spring 2015 – Groundwater Analytical Results
A2: Faro Mine Remediation Project
C3: Location ID | D3: CH12-014-MW003_060515 | E3: CH12-014-MW007_060415 | F3: CH12-014-MW011_060315 | G3: CH12-014-MW911_GW0615 | H3: CH12-014-MW012_060515 | I3: CH12-014-MW013_060315 | J3: CH14-015-MW006_060215 | K3: TRACER_SOLUTION_0815
C4: General Location | D4: Main WRD | E4: Haul Road below Intermediate WRD | F4: Grum WRD | G4: Grum WRD | H4: Grum WRD | I4: Vangorda WRD | J4: Northeast WRD
C5: Date | D5: 42160.596 | E5: 42159.615 | F5: 42158.526 | G5: 42158.524 | H5: 42160.447 | I5: 42158.599 | J5: 42157.603 | K5: 42235.521
A6: Analyses ID | B6: Units | C6: Screening Level
A7: General Chemistry
A8: pH, Field | B8: =VLOOKUP(A8,Units!$B$2:$C$230,2,FALSE) -> pH Units | C8: 6.5 - 9.0 | D8: 6.66 | E8: 5.67 | F8: 6.62 | H8: 7.5 | I8: 6.32 | J8: 4.93
A9: Temperature, Field | B9: =VLOOKUP(A9,Units!$B$2:$C$230,2,FALSE) -> deg C | C9: - | D9: 6.9 | E9: 13.67 | F9: 6.38 | H9: 7.82 | I9: 12.72 | J9: 4.75
A10: Hardness (as CaCO3) | B10: =VLOOKUP(A10,Units!$B$2:$C$230,2,FALSE) -> mg/L | C10: - | D10: 2280 | E10: 5410 | F10: 2710 | G10: 2710 | H10: 1280 | I10: 4250 | J10: 2930
A11: Total Suspended Solids | B11: =VLOOKUP(A11,Units!$B$2:$C$230,2,FALSE) -> mg/L | C11: - | D11: 133 | E11: 22.7 | F11: 11 | G11: 2 | H11: 81.2 | I11: 20.4 | J11: 84.3
A12: Total Dissolved Solids | B12: =VLOOKUP(A12,Units!$B$2:$C$230,2,FALSE) -> mg/L | C12: - | D12: 3310 | E12: 9390 | F12: 3670 | G12: 3700 | H12: 1650 | I12: 5910 | J12: 4720
A13: Turbidity, Field | B13: =VLOOKUP(A13,Units!$B$2:$C$230,2,FALSE) -> NTU | C13: - | D13: 275.5 | E13: -3.8 | F13: -3.2 | H13: 433.5 | I13: 7.6 | J13: 147.3
A14: Lime Demand (as Ca(OH)2) | B14: lb/1000USG
A15: Solids Formed (as Ca(OH)2) | B15: lb/1000USG
A16: Anions and Nutrients
A17: Acidity (as CaCO3) | B17: mg/L
A18: Acidity, Hot Peroxide | B18: =VLOOKUP(A18,Units!$B$2:$C$230,2,FALSE) -> mg/L | C18: - | D18: 225 | E18: 1140 | F18: 25 U | G18: 25 U | H18: 25 U | I18: 25 U | J18: 522 =
A19: Alkalinity, Bicarbonate (as CaCO3) | B19: =VLOOKUP(A19,Units!$B$2:$C$230,2,FALSE) -> mg/L | C19: - | D19: 626 | E19: 149 | F19: 690 | G19: 714 | H19: 407 | I19: 1250 | J19: 21.4
A20: Alkalinity, Carbonate (as CaCO3) | B20: =VLOOKUP(A20,Units!$B$2:$C$230,2,FALSE) -> mg/L | C20: - | D20: 20 U | E20: 2 U | F20: 20 U | G20: 20 U | H20: 2 U | I20: 20 U | J20: 2 U
A21: Alkalinity, Hydroxide (as CaCO3) | B21: =VLOOKUP(A21,Units!$B$2:$C$230,2,FALSE) -> mg/L | C21: - | D21: 20 U | E21: 2 U | F21: 20 U | G21: 20 U | H21: 2 U | I21: 20 U | J21: 2 U
A22: Alkalinity, Total (as CaCO3) | B22: =VLOOKUP(A22,Units!$B$2:$C$230,2,FALSE) -> mg/L | C22: - | D22: 626 | E22: 149 | F22: 690 | G22: 714 | H22: 407 | I22: 1250 | J22: 21.4
A23: Ammonia | B23: =VLOOKUP(A23,Units!$B$2:$C$230,2,FALSE) -> mg/L | C23: Variablea | D23: 0.0358 | E23: 0.521 | F23: 0.274 | G23: 0.268 | H23: 0.049 | I23: 0.0413 | J23: 0.977
A24: NH3 guideline
A25: Chloride (Cl) | B25: =VLOOKUP(A25,Units!$B$2:$C$230,2,FALSE) -> mg/L | C25: 120 | D25: 16 | E25: 10 U | F25: 10 U | G25: 10 U | H25: 2.5 U | I25: 10 U | J25: 10 U
A26: Fluoride | B26: =VLOOKUP(A26,Units!$B$2:$C$230,2,FALSE) -> mg/L | C26: 0.12 | D26: 0.4 U | E26: 1.69 | F26: 0.4 U | G26: 0.78 | H26: 0.25 | I26: 0.7 | J26: 3.91
A27: Nitrate (as N) | B27: =VLOOKUP(A27,Units!$B$2:$C$230,2,FALSE) -> mg/L | C27: 13 | D27: 0.1 U | E27: 0.1 U | F27: 8.53 | G27: 8.54 | H27: 0.025 U | I27: 0.1 U | J27: 2.46
A28: Nitrite (as N) | B28: =VLOOKUP(A28,Units!$B$2:$C$230,2,FALSE) -> mg/L | C28: 0.06 | D28: 0.041 | E28: 0.02 U | F28: 0.065 | G28: 0.063 | H28: 0.005 U | I28: 0.02 U | J28: 0.042
A29: ortho-Phosphate (as P) | B29: mg/l | C29: -
A30: Sulfate | B30: =VLOOKUP(A30,Units!$B$2:$C$230,2,FALSE) -> mg/L | C30: 100 | D30: 1970 | E30: 6970 | F30: 2120 | G30: 2130 | H30: 892 | I30: 3350 | J30: 3060
A31: Carbon, Dissolved Organic (DOC) | B31: =VLOOKUP(A31,Units!$B$2:$C$230,2,FALSE) -> mg/L | C31: - | D31: 2.83 | E31: 6.18 | F31: 3.31 | G31: 3.48 | H31: 1.4 | I31: 12.4 | J31: 4.41
A32: Free Cyanide | B32: =VLOOKUP(A32,Units!$B$2:$C$230,2,FALSE) -> mg/L | C32: 0.005
A33: Dissolved Metals
A34: Aluminum, Dissolved | B34: =VLOOKUP(A34,Units!$B$2:$C$230,2,FALSE) -> mg/L | C34: 0.005 to 0.1b | D34: 0.005 U | E34: 0.636 | F34: 0.0048 | G34: 0.0035 | H34: 0.0012 | I34: 0.0056 | J34: 25.3
A35: Al guideline | D35: =IF(D8>=6.5,0.1,0.005) -> 0.1 | E35: =IF(#REF!>=6.5,0.1,0.005) -> #REF! | F35: =IF(#REF!>=6.5,0.1,0.005) -> #REF!
A36: Antimony (Sb), Dissolved | B36: =VLOOKUP(A36,Units!$B$2:$C$230,2,FALSE) -> mg/L | C36: 1.6 | D36: 0.0005 U | E36: 0.005 U | F36: 0.0002 U | G36: 0.0002 U | H36: 0.0001 U | I36: 0.0005 U | J36: 0.001 U
A37: Arsenic (As), Dissolved | B37: =VLOOKUP(A37,Units!$B$2:$C$230,2,FALSE) -> mg/L | C37: 0.005 | D37: 0.0005 U | E37: 0.0082 | F37: 0.00041 | G37: 0.00037 | H37: 0.0151 | I37: 0.00181 | J37: 0.0213
A38: Barium (Ba), Dissolved | B38: =VLOOKUP(A38,Units!$B$2:$C$230,2,FALSE) -> mg/L | C38: 2.3 | D38: 0.0211 | E38: 0.0254 | F38: 0.018 | G38: 0.0189 | H38: 0.0335 | I38: 0.016 | J38: 0.0712
A39: Beryllium (Be), Dissolved | B39: =VLOOKUP(A39,Units!$B$2:$C$230,2,FALSE) -> mg/L | C39: 0.0053 | D39: 0.0005 U | E39: 0.0067 | F39: 0.0002 U | G39: 0.0002 U | H39: 0.0001 U | I39: 0.0005 U | J39: 0.0115
A40: Boron (B), Dissolved | B40: =VLOOKUP(A40,Units!$B$2:$C$230,2,FALSE) -> mg/L | C40: 1.5 | D40: 0.05 U | E40: 0.5 U | F40: 0.02 U | G40: 0.02 U | H40: 0.01 U | I40: 0.05 U | J40: 0.1 U
A41: Cadmium (Cd), Dissolved | B41: =VLOOKUP(A41,Units!$B$2:$C$230,2,FALSE) -> mg/L | C41: Variablec | D41: 0.00031 | E41: 0.234 | F41: 0.000304 | G41: 0.000276 | H41: 0.000005 U | I41: 0.00254 | J41: 0.108
A42: Cd guideline | D42: =IF(AND(D10>17,D10<=280),10^(0.83*(LOG(D10,10))-2.46)/1000,0.00037) -> 0.00037 | E42: =IF(AND(E10>17,E10<=280),10^(0.83*(LOG(E10,10))-2.46)/1000,0.00037) -> 0.00037 | F42: =IF(AND(F10>17,F10<=280),10^(0.83*(LOG(F10,10))-2.46)/1000,0.00037) -> 0.00037
A43: Calcium, Dissolved | B43: =VLOOKUP(A43,Units!$B$2:$C$230,2,FALSE) -> mg/L | C43: - | D43: 689 | E43: 400 | F43: 477 | G43: 474 | H43: 313 | I43: 649 | J43: 296
A44: Chromium (Cr), Dissolved | B44: =VLOOKUP(A44,Units!$B$2:$C$230,2,FALSE) -> mg/L | C44: 0.0089 | D44: 0.0005 U | E44: 0.005 U | F44: 0.0002 U | G44: 0.0002 U | H44: 0.0001 U | I44: 0.0005 U | J44: 0.001 U
A45: Cobalt (Co), Dissolved | B45: =VLOOKUP(A45,Units!$B$2:$C$230,2,FALSE) -> mg/L | C45: - | D45: 0.00967 | E45: 1.38 | F45: 0.00149 | G45: 0.0015 | H45: 0.00026 | I45: 0.0392 | J45: 0.865
A46: Copper (Cu), Dissolved | B46: =VLOOKUP(A46,Units!$B$2:$C$230,2,FALSE) -> mg/L | C46: 0.002 to 0.004d | D46: 0.001 U | E46: 0.01 U | F46: 0.00199 | G46: 0.00204 | H46: 0.0002 U | I46: 0.0022 | J46: 1.17
A47: Cu guideline | D47: =IF(AND(82<=D10,D10<=180),(0.2*(EXP(0.8545*(LN(D10))-1.465)))/1000,0.004) -> 0.004 | E47: =IF(AND(82<=E10,E10<=180),(0.2*(EXP(0.8545*(LN(E10))-1.465)))/1000,0.004) -> 0.004 | F47: =IF(AND(82<=F10,F10<=180),(0.2*(EXP(0.8545*(LN(F10))-1.465)))/1000,0.004) -> 0.004
A48: Iron, Dissolved | B48: =VLOOKUP(A48,Units!$B$2:$C$230,2,FALSE) -> mg/L | C48: 0.3 | D48: 2.16 | E48: 154 | F48: 0.051 | G48: 0.052 | H48: 6.93 | I48: 5.51 | J48: 77.2
A49: Ferrous Iron, Dissolved | B49: =VLOOKUP(A49,Units!$B$2:$C$230,2,FALSE) -> mg/L | C49: - | D49: 2.32 | E49: 175 | F49: 0.058 | G49: 0.069 | H49: 6.14 | I49: 7.53 | J49: 86.1
A50: Lead (Pb), Dissolved | B50: =VLOOKUP(A50,Units!$B$2:$C$230,2,FALSE) -> mg/L | C50: 0.001e | D50: 0.00033 | E50: 0.0308 | F50: 0.0001 U | G50: 0.0001 U | H50: 0.00005 U | I50: 0.00589 | J50: 0.0107
A51: Pb guideline | D51: =IF(AND(D10>60,D10<=180),EXP(1.273*LN(D10)-4.705)/1000,0.007) -> 0.007 | E51: =IF(AND(E10>60,E10<=180),EXP(1.273*LN(E10)-4.705)/1000,0.007) -> 0.007 | F51: =IF(AND(F10>60,F10<=180),EXP(1.273*LN(F10)-4.705)/1000,0.007) -> 0.007
A52: Lithium, Dissolved | B52: =VLOOKUP(A52,Units!$B$2:$C$230,2,FALSE) -> mg/L | C52: - | D52: 0.0663 | E52: 0.306 | F52: 0.0401 | G52: 0.0392 | H52: 0.0166 | I52: 0.0313 | J52: 0.205
A53: Magnesium, Dissolved | B53: =VLOOKUP(A53,Units!$B$2:$C$230,2,FALSE) -> mg/L | C53: - | D53: 137 | E53: 1070 | F53: 368 | G53: 371 | H53: 122 | I53: 638 | J53: 533
A54: Manganese, Dissolved | B54: =VLOOKUP(A54,Units!$B$2:$C$230,2,FALSE) -> mg/L | C54: - | D54: 3.32 | E54: 105 | F54: 0.922 | G54: 0.985 | H54: 0.251 | I54: 11.2 | J54: 27.5
A55: Mercury, Dissolved | B55: =VLOOKUP(A55,Units!$B$2:$C$230,2,FALSE) -> mg/L | C55: 2.6e-05 | D55: 0.000005 U | E55: 6.4e-06 | F55: 0.000025 U | G55: 0.000025 U | H55: 0.000005 U | I55: 0.000025 U | J55: 0.000025 U
A56: Molybdenum (Mo), Dissolved | B56: =VLOOKUP(A56,Units!$B$2:$C$230,2,FALSE) -> mg/L | C56: 0.073 | D56: 0.0003 | E56: 0.0025 U | F56: 0.00048 | G56: 0.00056 | H56: 0.00143 | I56: 0.00149 | J56: 0.0005 U
A57: Nickel (Ni), Dissolved | B57: =VLOOKUP(A57,Units!$B$2:$C$230,2,FALSE) -> mg/L | C57: 0.025f | D57: 0.0686 | E57: 2.25 | F57: 0.0882 | G57: 0.0918 | H57: 0.00056 | I57: 0.108 | J57: 0.786
A58: Ni guideline | D58: =IF(AND(D10>60,D10<=180),EXP(0.76*LN(D10)+1.06)/1000,0.15) -> 0.15 | E58: =IF(AND(E10>60,E10<=180),EXP(0.76*LN(E10)+1.06)/1000,0.15) -> 0.15 | F58: =IF(AND(F10>60,F10<=180),EXP(0.76*LN(F10)+1.06)/1000,0.15) -> 0.15
A59: Phosphorus, Dissolved | B59: =VLOOKUP(A59,Units!$B$2:$C$230,2,FALSE) -> mg/L | C59: 0.004 to 0.10g | D59: 0.3 U | E59: 0.6 U | F59: 0.3 U | G59: 0.3 U | H59: 0.3 U | I59: 0.3 U | J59: 0.3 U
A60: Potassium, Dissolved | B60: =VLOOKUP(A60,Units!$B$2:$C$230,2,FALSE) -> mg/L | C60: - | D60: 10.2 | E60: 13.6 | F60: 7.29 | G60: 7.4 | H60: 3.32 | I60: 3.19 | J60: 5.8
A61: Selenium (Se), Dissolved | B61: =VLOOKUP(A61,Units!$B$2:$C$230,2,FALSE) -> mg/L | C61: 0.001 | D61: 0.00025 U | E61: '0.0025 U | F61: 0.00044 | G61: 0.00042 | H61: 0.00005 U | I61: 0.00025 U | J61: 0.00052
A62: Silica, Dissolved | B62: =VLOOKUP(A62,Units!$B$2:$C$230,2,FALSE) -> mg/L | C62: - | D62: 20.3 | E62: 31.9 | F62: 9.61 | G62: 9.55 | H62: 11.7 | I62: 24.2 | J62: 25.9
A63: Silicon, Dissolved | B63: =VLOOKUP(A63,Units!$B$2:$C$230,2,FALSE) -> mg/L | C63: - | D63: 9.48 | E63: 14.9 | F63: 4.49 | G63: 4.47 | H63: 5.48 | I63: 11.3 | J63: 12.1
A64: Silver (Ag), Dissolved | B64: =VLOOKUP(A64,Units!$B$2:$C$230,2,FALSE) -> mg/L | C64: 0.0001 | D64: 0.00005 U | E64: '0.0005 U | F64: 0.00002 U | G64: 0.00002 U | H64: 0.00001 U | I64: 0.00005 U | J64: 0.0001 U
A65: Sodium (Na), Dissolved | B65: =VLOOKUP(A65,Units!$B$2:$C$230,2,FALSE) -> mg/L | C65: - | D65: 30.6 | E65: 25.4 | F65: 11 | G65: 11.6 | H65: 7.91 | I65: 17.4 | J65: 19.9
A66: Strontium, Dissolved | B66: =VLOOKUP(A66,Units!$B$2:$C$230,2,FALSE) -> mg/L | C66: - | D66: 2.12 | E66: 2.56 | F66: 1.1 | G66: 1.12 | H66: 1.76 | I66: 1.94 | J66: 1.17
A67: Sulfur, Dissolved | B67: =VLOOKUP(A67,Units!$B$2:$C$230,2,FALSE) -> mg/L | C67: - | D67: 524 | E67: 1970 | F67: 644 | G67: 641 | H67: 267 | I67: 974 | J67: 984
A68: Thallium (Tl), Dissolved | B68: =VLOOKUP(A68,Units!$B$2:$C$230,2,FALSE) -> mg/L | C68: 0.0008 | D68: 0.00005 U | E68: 0.00114 | F68: 2.8e-05 | G68: 2.9e-05 | H68: 0.00001 U | I68: 0.000123 | J68: 0.00021
A69: Titanium, Dissolved | B69: =VLOOKUP(A69,Units!$B$2:$C$230,2,FALSE) -> mg/L | C69: 0.1 | D69: 0.0015 U | E69: 0.015 U | F69: 0.0006 U | G69: 0.0006 U | H69: 0.0003 U | I69: 0.0015 U | J69: 0.003 U
A70: Uranium (U), Dissolved | B70: =VLOOKUP(A70,Units!$B$2:$C$230,2,FALSE) -> mg/L | C70: 0.015 | D70: 0.0135 | E70: 0.0153 | F70: 0.0561 | G70: 0.056 | H70: 0.0308 | I70: 0.0873 | J70: 0.0536
A71: Vanadium (V), Dissolved | B71: =VLOOKUP(A71,Units!$B$2:$C$230,2,FALSE) -> mg/L | C71: - | D71: 0.0025 U | E71: 0.025 U | F71: 0.001 U | G71: 0.001 U | H71: 0.0005 U | I71: 0.0025 U | J71: 0.005 U
A72: Zinc (Zn), Dissolved | B72: =VLOOKUP(A72,Units!$B$2:$C$230,2,FALSE) -> mg/L | C72: 0.03 | D72: 0.711 | E72: 488 | F72: 0.886 | G72: 0.908 | H72: 0.001 U | I72: 5.72 | J72: 81.6
A74: Conductivity, Field | B74: =VLOOKUP(A74,Units!$B$2:$C$230,2,FALSE) -> mS/cm/deg C | D74: 3.159 | E74: 6.933 | F74: 3.532 | H74: 1.83 | I74: 5.189 | J74: 3.982
A75: DO | B75: =VLOOKUP(A75,Units!$B$2:$C$230,2,FALSE) -> mg/L | D75: 0.59 | E75: 1.1 | F75: 0.39 | H75: 0.63 | I75: 0.85 | J75: 1.2
A76: Lithium | B76: =VLOOKUP(A76,Units!$B$2:$C$230,2,FALSE) -> mg/L | K76: 45100
A77: ORP | B77: =VLOOKUP(A77,Units!$B$2:$C$230,2,FALSE) -> mV | D77: 6.1 | E77: 4.2 | F77: 70.7 | H77: -120.6 | I77: -11.2 | J77: 117.1
A78: pH | B78: =VLOOKUP(A78,Units!$B$2:$C$230,2,FALSE) -> Ph | D78: 7.5 | E78: 6.78 | F78: 7.88 | G78: 7.92 | H78: 8 | I78: 7.52 | J78: 4.85
A79: Phosphorus | B79: =VLOOKUP(A79,Units!$B$2:$C$230,2,FALSE) -> mg/L | D79: 0.23 | E79: 2 U | F79: 0.002 U | G79: 0.0041 | H79: 0.055 | I79: 0.021 | J79: 2 U
A81: Notes:
A82: Bold indicates the analyte was detected
A83: Concentration exceeds FMC discharge criteria
A84: Concentration exceeds FIGQG
A85: Detection limit exceeds FIGQG
A86: pH reported is the field parameter value.
A87: J = Analyte was present but the reported value may not be accurate or precise.
A88: R = Result has been rejected for use.
A89: NTU = nephelometric tubidity unit
A90: U = Analyte was analyzed for but not detected at the specified detection limit.
A91: UJ = Analyte was not detected above the detection limit; however, the reported detection limit is approximate and may not represent the actual limit of quantitation necessary to accurately and precisely measure the analyte in the sample.
A92: CCME = Canadian Council of the Ministers of the Environment
... A103: g CCME trigger range for oligotrophic phosphorous.

Sheet Table 1 - Location Summary
A1: Table 1. Groundwater Sampling Locations in the 2016 Field Season
A2: Faro Mine Remediation Project
A4: Monitoring Event | B4: Location Identifier | C4: Date Collected | D4: Depth to Bottom (mbtoc) | E4: Depth to Water (mbtoc) | F4: notes (not to be be included)
A5: Winter Monitoring (February 17 - February 21) | B5: CH12-014-MW003 | C5: 42420.417 | D5: 35.3 | E5: 29.88 | F5: WRD - Faro
B6: CH12-014-MW007 | C6: 42417.608 | D6: 63.11 | E6: 48.414 | F6: WRD - Grum
B7: CH12-014-MW011 | C7: 42421.611 | D7: 35.4 | E7: 28.322 | F7: WRD - Vangorda
B8: CH12-014-MW012 | C8: 42422.662 | D8: 38 | E8: 23.015 | F8: WRD - Faro
B9: CH12-014-MW013 | C9: 42422.494 | D9: 39.2 | E9: 34.488 | F9: WRD - Faro
B10: CH14-015-MW006 | C10: 42420.667 | D10: 31.09 | E10: 26.252 | F10: WRD - Grum
A11: Spring Monitoring (October 2 - October 11) | B11: CH12-014-MW003 | C11: 42523.574 | D11: 35.3 | E11: 29.915 | F11: WRD - Faro
B12: CH12-014-MW007 | C12: 42522.513 | D12: 63.11 | E12: 48.271 | F12: RCTA
B13: CH12-014-MW011 | C13: 42525.636 | D13: 35.4 | E13: 27.452 | F13: WRD - Faro
B14: CH12-014-MW012 | C14: 42524.558 | D14: 38 | E14: 22.625 | F14: RCTA
B15: CH12-014-MW013 | C15: 42525.608 | D15: 39.2 | E15: 34.661 | F15: RCTA
B16: CH14-015-MW006 | C16: 42522.63 | D16: 31.09 | E16: 26.236 | F16: WRD - Faro
B17: CH14-104-MW008 | C17: 42527.375 | D17: 32.61 | E17: 33.239 | F17: RCTA
F18: RCTA
A19: Note:
A20: mbtoc = metres below top of casing

Sheet Table6-GW_Analytical_Results
A1: Table 6. Groundwater Analytical Results
A2: Faro Mine Remediation Project
C3: Location ID | D3: CH12-014-MW003_100315 | E3: CH12-014-MW007_100215 | F3: CH12-014-MW907_GW1015 | G3: CH12-014-MW011_100815 | H3: CH12-014-MW012_100715 | I3: CH12-014-MW013_100815 | J3: CH12-204-MW001A_100515 | K3: CH12-204-MW001B_100615 | L3: CH12-204-MW002B_100515 | M3: CH12-204-MW003B_100415 | N3: CH12-204-MW003B_100915 | O3: CH12-204-MW004A_100515 | P3: CH12-204-MW004B_100315 | Q3: CH12-204-MW005A_100715 | R3: CH12-204-MW005B_100715 | S3: CH12-204-MW006A_100715 | T3: CH12-204-MW006B_100715 | U3: CH13-204-MW009A_100315 | V3: CH13-204-MW009B_100315 | W3: CH13-204-MW010A_100415 | X3: CH13-204-MW011A_100415 | Y3: CH13-204-MW011B_100315 | Z3: CH13-204-MW014A_100415 | AA3: CH13-204-MW015B_101115 | AB3: CH13-204-MW016B_100615 | AC3: CH13-204-MW916B_GW1015 | AD3: CH13-204-MW016C_100515 | AE3: CH13-204-MW016E_100515 | AF3: CH14-015-MW001A_100815 | AG3: CH14-015-MW001C_100815 | AH3: CH14-015-MW901C_GW1015 | AI3: CH14-015-MW002A_100515 | AJ3: CH14-015-MW006_100315 | AK3: P01-02A_100415 | AL3: P03-01-06_100915 | AM3: P03-01-07_100815 | AN3: P03-01-09_100815 | AO3: P03-02-03_101015 | AP3: P03-02-05_101015 | AQ3: P03-02-07_100915 | AR3: P03-02-09_100915 | AS3: P03-03-01_100915 | AT3: P03-03-03_100915 | AU3: P03-03-06_100915 | AV3: P03-03-08_100915 | AW3: P03-04-02_101115 | AX3: P03-04-04_101115 | AY3: P03-04-06_101115 | AZ3: P03-04-08_101015 | BA3: P03-05-02_101115 | BB3: P03-05-03_101115 | BC3: P03-05-05_101015 | BD3: P03-05-06_101015 | BE3: P03-05-07_101015 | BF3: P03-05-08_101015 | BG3: P03-06-03_100815 | BH3: P03-06-04_100815 | BI3: P03-06-05_100515 | BJ3: P03-08-02_100515 | BK3: P03-08-03_100515 | BL3: P03-08-04_100515 | BM3: P03-08-05_100415 | BN3: P03-08-06_100415 | BO3: P03-08-07_100415 | BP3: P03-09-02_100715 | BQ3: P03-09-04_100815 | BR3: P03-09-08_100815 | BS3: P05-01-01_100515 | BT3: P05-01-02_100515 | BU3: P05-01-03_100515 | BV3: P05-01-04_100515 | BW3: P05-01-06_100515 | BX3: P05-02_100415 | BY3: P05-03_100415 | BZ3: P903-02-03_GW1015 | CA3: P903-06-03_GW1015 | CB3: P905-01-01_GW1015 | CC3: X16A_100315 | CD3: X16B_100315 | CE3: X17A_100815 | CF3: X17B_100815 | CG3: X18A_100715 | CH3: X18B_100715 | CI3: X21-96A_101115 | CJ3: X21-96B_101115 | CK3: X917A_GW1015 | CL3: X921-96B_GW1015 | CN3: CH12-014-MW003 | CO3: CH12-014-MW003 | CP3: CH12-014-MW007 | CQ3: CH12-014-MW007 | CR3: CH12-014-MW011 | CS3: CH12-014-MW011 | CT3: CH12-014-MW012 | CU3: CH12-014-MW012 | CV3: CH12-014-MW013 | CW3: CH12-014-MW013 | CX3: CH13-016-FAROPL | CY3: CH13-016-FAROPL | CZ3: CH13-016-FAROPL | DA3: CH13-016-FAROPL | DB3: CH13-016-FAROPL | DC3: CH13-016-FAROPL | DD3: CH14-015-MW006 | DE3: CH14-015-MW006 | DF3: CH14-104-MW008 | DG3: A30 | DH3: CH-ETA-01 | DI3: CH-ETA-02 | DJ3: CH-FD-56 | DK3: CH-FD-56 | DL3: CH-FD-57 | DM3: CH-FD-59 | DN3: CH-FD-60 | DO3: CH-FD-61 | DP3: CH-FD-62 | DQ3: CH-FD-63 | DR3: CH-FD-65 | DS3: CH-FD-68 | DT3: CH-FD-70 | DU3: CH-FD-70 | DV3: CH-FD-75 | DW3: CH-FD-75 | DX3: CH-FD-76 | DY3: CH-FD-77 | DZ3: CH-FD-78 | EA3: CH-FD-80 | EB3: CH-FD-81 | EC3: CH-FP-24 | ED3: CH-FP-29 | EE3: CH-FP-31 | EF3: CH-FP-31 | EG3: CH-FP-33 | EH3: CH-FP-33 | EI3: CH-FP-34 | EJ3: CH-FP-34 | EK3: CH-FP-35 | EL3: CH-FP-35 | EM3: CH-FP-36 | EN3: CH-FP-36 | EO3: CH-FP-37 | EP3: CH-FP-39 | EQ3: CH-GD-25 | ER3: CH-GP-19 | ES3: CH-GP-19 | ET3: CH-GP-22 | EU3: CH-GP-23 | EV3: CH-GP-24 | EW3: CH-GP-25 | EX3: CH-GP-26 | EY3: CH-GP-28 | EZ3: CH-GP-29 | FA3: CH-GP-30 | FB3: CH-GP-31 | FC3: CH-MILL-02 | FD3: CH-MILL-03 | FE3: CH-MILL-04 | FF3: CH-RCTA-03 | FG3: CH-RCTA-03 | FH3: CH-RCTA-04 | FI3: CH-RCTA-05 | FJ3: CH-RCTA-06 | FK3: CH-RCTA-10 | FL3: CH-RCTA-08 | FM3: CH-RCTA-09 | FO3: CH-VP-17 | FP3: CH-VP-17 | FQ3: CH-VP-19 | FR3: CH-VP-20 | FS3: FCS-2 | FT3: FCS-2 | FU3: FCS-3 | FV3: FCS-3 | FW3: FCS-4 | FX3: FCS-4 | FY3: FCS-5 | FZ3: FCS-5 | GA3: FP11 | GB3: GD05 D/S | GC3: GD05 D/S | GD3: GDHSECK | GE3: GP02 | GF3: GP02 | GG3: GP04 | GH3: GP06 | GI3: GP08 | GJ3: GP09 | GK3: GP09 | GL3: GP10 | GM3: GP12 | GN3: GP12 | GO3: GP14 | GP3: NE1 | GQ3: NE1 | GR3: NE2 | GS3: NE2 | GT3: Sheep Creek | GU3: Sheep Creek | GV3: SRK-FD01 | GW3: SRK-FD01 | GX3: SRK-FD02 | GY3: SRK-FD04 | GZ3: SRK-FD05 | HA3: SRK-FD05 | HB3: SRK-FD06 | HC3: SRK-FD06 | HD3: SRK-FD08 | HE3: SRK-FD08 | HF3: SRK-FD09 | HG3: SRK-FD09 | HH3: SRK-FD10 | HI3: SRK-FD12 | HJ3: SRK-FD13 | HK3: SRK-FD13 | HL3: SRK-FD14 | HM3: SRK-FD14 | HN3: SRK-FD16 | HO3: SRK-FD17 | HP3: SRK-FD18 | HQ3: SRK-FD18 | HR3: SRK-FD19 | HS3: SRK-FD19 | HT3: SRK-FD20 | HU3: SRK-FD23 | HV3: SRK-FD23 | HW3: SRK-FD24 | HX3: SRK-FD26 | HY3: SRK-FD26 | HZ3: SRK-FD30 | IA3: SRK-FD30 | IB3: SRK-FD31 | IC3: SRK-FD31 | ID3: SRK-FD37 | IE3: SRK-FD37 | IF3: SRK-FD51 | IG3: SRK-FD54 | IH3: SRK-FD54 | II3: SRK-FD55 | IJ3: SRK-FD55 | IK3: SRK-GD01 | IL3: SRK-GD01 | IM3: SRK-GD02 | IN3: SRK-GD05 | IO3: SRK-GD05 | IP3: SRK-GD06 | IQ3: SRK-GD07 | IR3: SRK-GD07 | IS3: SRK-GD08 | IT3: SRK-GD10 | IU3: SRK-GD11 | IV3: SRK-GD11 | IW3: SRK-GD12 | IX3: SRK-GD13 | IY3: SRK-GD13 | IZ3: SRK-GD20 | JA3: SRK-GD24 | JB3: SRK-GD24 | JC3: SRK-VD01 | JD3: SRK-VD01 | JE3: SRK-VD02 | JF3: SRK-VD02 | JG3: SRK-VD03 | JH3: SRK-VD03 | JI3: SRK-VD04 | JJ3: SRK-VD04 | JK3: SRK-VD05 | JL3: SRK-VD05 | JM3: SRK-VD06 | JN3: SRK-VD07 | JO3: SRK-VD09 | JP3: SRK-VD09 | JQ3: SRK-VD10 | JR3: SRK-VD10 | JS3: SRK-VD12 | JT3: SRK-VD12 | JU3: Sweet Creek | JV3: Sweet Creek | JW3: V15 | JX3: VP07 | JY3: VP08 | JZ3: VP09 | KA3: VP09 | KB3: VP10 | KC3: VP11 | KD3: WGD01 | KE3: WGD01 | KF3: WTA02 | KG3: WTA02 | KH3: X23 | KI3: X23
C4: General Location | D4: Main WRD | E4: Haul Road below Intermediate WRD | F4: Haul Road below Intermediate WRD | G4: Grum WRD | H4: Grum WRD | I4: Vancorda WRD | J4: Cross Valley Dam | K4: Cross Valley Dam | L4: Cross Valley Dam | M4: Cross Valley Dam | N4: Cross Valley Dam | O4: Cross Valley Dam | P4: Cross Valley Dam | Q4: Rose Creek Valley downstream from CVD | R4: Rose Creek Valley downstream from CVD | S4: Rose Creek Valley downstream from CVD | T4: Rose Creek Valley downstream from CVD | U4: Rose Creek Diversion | V4: Rose Creek Diversion | W4: Rose Creek Diversion | X4: Rose Creek Diversion | Y4: Rose Creek Diversion | Z4: Rose Creek Diversion | AA4: Rose Creek Diversion | AB4: Intermediate Tailings Impoundment | AC4: Intermediate Tailings Impoundment | AD4: Intermediate Tailings Impoundment | AE4: Intermediate Tailings Impoundment | AF4: Original Tailings Impoundment | AG4: Original Tailings Impoundment | AH4: Original Tailings Impoundment | AI4: Original Tailings Impoundment | AJ4: NE WRD | AK4: Cross Valley Dam | AL4: Secondary Tailings Impoundment | AM4: Secondary Tailings Impoundment | AN4: Secondary Tailings Impoundment | AO4: Secondary Tailings Impoundment | AP4: Secondary Tailings Impoundment | AQ4: Secondary Tailings Impoundment | AR4: Secondary Tailings Impoundment | AS4: Secondary Tailings Impoundment | AT4: Secondary Tailings Impoundment | AU4: Secondary Tailings Impoundment | AV4: Secondary Tailings Impoundment | AW4: Secondary Tailings Impoundment | AX4: Secondary Tailings Impoundment | AY4: Secondary Tailings Impoundment | AZ4: Secondary Tailings Impoundment | BA4: Secondary Tailings Impoundment | BB4: Secondary Tailings Impoundment | BC4: Secondary Tailings Impoundment | BD4: Secondary Tailings Impoundment | BE4: Secondary Tailings Impoundment | BF4: Secondary Tailings Impoundment | BG4: Secondary Tailings Impoundment | BH4: Secondary Tailings Impoundment | BI4: Secondary Tailings Impoundment | BJ4: Secondary Tailings Impoundment | BK4: Secondary Tailings Impoundment | BL4: Secondary Tailings Impoundment | BM4: Secondary Tailings Impoundment | BN4: Secondary Tailings Impoundment | BO4: Secondary Tailings Impoundment | BP4: Cross Valley Dam | BQ4: Cross Valley Dam | BR4: Cross Valley Dam | BS4: Cross Valley Dam | BT4: Cross Valley Dam | BU4: Cross Valley Dam | BV4: Cross Valley Dam | BW4: Cross Valley Dam | BX4: Cross Valley Dam | BY4: Cross Valley Dam | BZ4: Cross Valley Dam | CA4: Cross Valley Dam | CB4: Cross Valley Dam | CC4: Rose Creek Diversion | CD4: Rose Creek Diversion | CE4: Rose Creek Valley downstream from CVD | CF4: Rose Creek Valley downstream from CVD | CG4: Rose Creek Valley downstream from CVD | CH4: Rose Creek Valley downstream from CVD | CI4: Intermediate Tailings Impoundment | CJ4: Intermediate Tailings Impoundment | CK4: Intermediate Tailings Impoundment | CL4: Intermediate Tailings Impoundment | DG4: 42509.413 | DH4: 42509.376 | DI4: 42509.367 | DJ4: 42510.396 | DK4: 42510.403 | DL4: 42508.648 | DM4: 42509.576 | DN4: 42509.605 | DO4: 42509.62 | DP4: 42509.594 | DQ4: 42509.617 | DR4: 42508.393 | DS4: 42509.605 | DT4: 42509.703 | DU4: 42509.708 | DV4: 42510.51 | DW4: 42510.515 | DX4: 42510.598 | DY4: 42509.609 | DZ4: 42509.56 | EA4: 42513.36 | EB4: 42513.342 | EC4: 42509.586 | ED4: 42509.334 | EE4: 42509.444 | EF4: 42509.447 | EG4: 42509.514 | EH4: 42509.522 | EI4: 42509.5 | EJ4: 42509.507 | EK4: 42509.491 | EL4: 42510.486 | EM4: 42509.458 | EN4: 42509.465 | EO4: 42509.464 | EP4: 42509.483 | EQ4: 42512.378 | ER4: 42510.646 | ES4: 42510.658 | ET4: 42511.675 | EU4: 42512.572 | EV4: 42512.579 | EW4: 42511.588 | EX4: 42511.583 | EY4: 42511.626 | EZ4: 42511.606 | FA4: 42511.59 | FB4: 42511.627 | FC4: 42508.385 | FD4: 42508.447 | FE4: 42508.438 | FF4: 42508.482 | FG4: 42508.486 | FH4: 42508.535 | FI4: 42508.573 | FJ4: 42508.578 | FK4: 42508.386 | FL4: 42508.476 | FM4: 42508.378 | FN4: 42508.392 | FO4: 42511.365 | FP4: 42511.368 | FQ4: 42511.562 | FR4: 42511.415 | FS4: 42509.375 | FT4: 42509.398 | FU4: 42508.698 | FV4: 42508.703 | FW4: 42509.417 | FX4: 42509.422 | FY4: 42508.618 | FZ4: 42508.635 | GA4: 42509.474 | GB4: 42512.433 | GC4: 42512.433 | GD4: 42508.61 | GE4: 42511.576 | GF4: 42511.665 | GG4: 42511.611 | GH4: 42511.601 | GI4: 42511.573 | GJ4: 42511.585 | GK4: 42511.625 | GL4: 42511.595 | GM4: 42511.59 | GN4: 42511.597 | GO4: 42511.64 | GP4: 42510.562 | GQ4: 42510.565 | GR4: 42510.493 | GS4: 42510.5 | GT4: 42512.375 | GU4: 42512.381 | GV4: 42508.3 | GW4: 42508.358 | GX4: 42508.426 | GY4: 42507.697 | GZ4: 42510.524 | HA4: 42510.536 | HB4: 42510.538 | HC4: 42510.544 | HD4: 42510.587 | HE4: 42510.591 | HF4: 42508.517 | HG4: 42508.517 | HH4: 42508.541 | HI4: 42508.536 | HJ4: 42509.639 | HK4: 42509.644 | HL4: 42509.667 | HM4: 42509.669 | HN4: 42510.488 | HO4: 42510.463 | HP4: 42510.473 | HQ4: 42510.477 | HR4: 42508.624 | HS4: 42508.625 | HT4: 42509.589 | HU4: 42509.639 | HV4: 42509.646 | HW4: 42509.59 | HX4: 42509.682 | HY4: 42509.688 | HZ4: 42508.597 | IA4: 42508.601 | IB4: 42508.545 | IC4: 42508.547 | ID4: 42507.638 | IE4: 42507.642 | IF4: 42509.656 | IG4: 42510.399 | IH4: 42510.403 | II4: 42510.417 | IJ4: 42510.423 | IK4: 42510.644 | IL4: 42510.646 | IM4: 42510.641 | IN4: 42512.385 | IO4: 42512.387 | IP4: 42512.383 | IQ4: 42511.628 | IR4: 42511.634 | IS4: 42512.55 | IT4: 42511.666 | IU4: 42511.597 | IV4: 42511.603 | IW4: 42511.661 | IX4: 42512.512 | IY4: 42512.514 | IZ4: 42510.64 | JA4: 42512.457 | JB4: 42512.465 | JC4: 42511.476 | JD4: 42511.49 | JE4: 42511.503 | JF4: 42511.506 | JG4: 42511.528 | JH4: 42511.528 | JI4: 42511.486 | JJ4: 42511.488 | JK4: 42511.514 | JL4: 42511.535 | JM4: 42511.467 | JN4: 42511.465 | JO4: 42511.438 | JP4: 42511.438 | JQ4: 42511.544 | JR4: 42511.545 | JS4: 42511.441 | JT4: 42511.445 | JU4: 42512.399 | JV4: 42512.406 | JW4: 42512.409 | JX4: 42511.388 | JY4: 42511.374 | JZ4: 42511.403 | KA4: 42511.404 | KB4: 42511.399 | KC4: 42511.432 | KD4: 42512.438 | KE4: 42512.44 | KF4: 42512.49 | KG4: 42512.501 | KH4: 42508.484 | KI4: 42508.49
C5: Date | D5: 42280.724 | E5: 42279.703 | F5: 42279.708 | G5: 42285.531 | H5: 42284.684 | I5: 42285.609 | J5: 42282.726 | K5: 42283.676 | L5: 42282.669 | M5: 42281.597 | N5: 42286.488 | O5: 42282.538 | P5: 42280.726 | Q5: 42284.61 | R5: 42284.569 | S5: 42284.482 | T5: 42284.525 | U5: 42280.569 | V5: 42280.509 | W5: 42281.699 | X5: 42281.622 | Y5: 42280.704 | Z5: 42281.488 | AA5: 42288.724 | AB5: 42283.633 | AC5: 42283.674 | AD5: 42282.655 | AE5: 42282.615 | AF5: 42285.477 | AG5: 42285.514 | AH5: 42285.517 | AI5: 42282.727 | AJ5: 42280.599 | AK5: 42281.478 | AL5: 42286.508 | AM5: 42285.685 | AN5: 42285.651 | AO5: 42287.536 | AP5: 42287.483 | AQ5: 42286.669 | AR5: 42286.58 | AS5: 42286.71 | AT5: 42286.637 | AU5: 42286.588 | AV5: 42286.529 | AW5: 42288.65 | AX5: 42288.571 | AY5: 42288.478 | AZ5: 42287.667 | BA5: 42288.521 | BB5: 42288.472 | BC5: 42287.697 | BD5: 42287.63 | BE5: 42287.578 | BF5: 42287.515 | BG5: 42285.558 | BH5: 42285.473 | BI5: 42282.708 | BJ5: 42282.616 | BK5: 42282.566 | BL5: 42282.477 | BM5: 42281.675 | BN5: 42281.594 | BO5: 42281.514 | BP5: 42284.694 | BQ5: 42285.691 | BR5: 42285.719 | BS5: 42282.505 | BT5: 42282.555 | BU5: 42282.582 | BV5: 42282.601 | BW5: 42282.636 | BX5: 42281.714 | BY5: 42281.559 | BZ5: 42287.542 | CA5: 42285.56 | CB5: 42282.507 | CC5: 42280.608 | CD5: 42280.66 | CE5: 42285.574 | CF5: 42285.622 | CG5: 42284.73 | CH5: 42284.694 | CI5: 42288.666 | CJ5: 42288.62 | CK5: 42285.576 | CL5: 42288.625 | CN5: 42420.417 | CO5: 42523.576 | CP5: 42417.608 | CQ5: 42522.503 | CR5: 42421.611 | CS5: 42525.628 | CT5: 42422.663 | CU5: 42524.562 | CV5: 42422.497 | CW5: 42525.535 | CX5: 42432.625 | CY5: 42432.646 | CZ5: 42432.646 | DA5: 42432.667 | DB5: 42432.667 | DC5: 42432.688 | DD5: 42420.667 | DE5: 42522.632 | DF5: 42527.375
A6: Analyses ID | B6: Units | C6: Screening Level
A7: General Chemistry
A8: pH, Field | B8: =VLOOKUP(A8,Units!$B$2:$C$230,2,FALSE) -> pH Units | C8: 6.5 - 9.0 | D8: 6.62 | E8: 6.56 | G8: 7.05 | H8: 8.08 | I8: 6.72 | J8: 6.45 | K8: 7.3 | L8: 6.65 | M8: 6.44 | N8: 6.55 | O8: 7.23 | P8: 8.16 | Q8: 6.74 | R8: 7.08 | S8: 7.15 | T8: 7.22 | U8: 7.8 | V8: 7.51 | W8: 7.59 | X8: 7.27 | Y8: 7.57 | Z8: 7.07 | AA8: 6.92 | AB8: 6.73 | AD8: 6.59 | AE8: 7.38 | AF8: 5.71 | AG8: 5.99 | AI8: 5.58 | AJ8: 5.08 | AK8: 7.64 | AL8: 5.6 | AM8: 5.62 | AN8: 3.05 | AO8: 5.95 | AP8: 6.18 | AQ8: 3.24 | AR8: 5.27 | AS8: 7.29 | AT8: 4.17 | AU8: 6.11 | AV8: 2.97 | AW8: 6.3 | AX8: 6.72 | AY8: 5.86 | AZ8: 5.64 | BA8: 5.79 | BB8: 5.85 | BC8: 6.5 | BD8: 6.25 | BE8: 6.01 | BF8: 6.02 | BG8: 5.35 | BH8: 6.13 | BI8: 6.67 | BJ8: 7.18 | BK8: 7.19 | BL8: 7.07 | BM8: 7.58 | BN8: 8.62 | BO8: 7.04 | BP8: 6.63 | BQ8: 6.97 | BR8: 6.87 | BS8: 6.27 | BT8: 6.3 | BU8: 6.24 | BV8: 6.18 | BW8: 6.39 | BX8: 6.46 | BY8: 7.03 | CC8: 7.98 | CD8: 8.26 | CE8: 7.45 | CF8: 7.54 | CG8: 6.86 | CH8: 6.8 | CI8: 5.27 | CJ8: 6.61 | CM8: pH, Field | CN8: 6.51 | CO8: 6.47 | CP8: 6.35 | CQ8: 6.02 | CR8: 7.19 | CS8: 6.59 | CT8: 7.59 | CU8: 7.5 | CV8: 6.49 | CW8: 6.21 | CX8: 5.84 | CZ8: 6.01 | DB8: 6.05 | DC8: 6.07 | DD8: 4.79 | DE8: 5.91 | DF8: 6.56 | DG8: 3.12 | DH8: 6.14 | DI8: 6.63 | DJ8: 5.21 | DL8: 5.36 | DM8: 5.99 | DN8: 3.28 | DO8: 6.53 | DP8: 2.88 | DQ8: 6.52 | DR8: 5.59 | DS8: 6.22 | DU8: 6.6 | DV8: 7.14 | DX8: 6.83 | DY8: 5.72 | DZ8: 6.15 | EA8: 6.08 | EB8: 1.66 | ED8: 2.57 | EE8: 6.62 | EG8: 7.96 | EI8: 7.85 | EL8: 7.45 | EM8: 6.41 | EO8: 6.71 | EP8: 7.76 | EQ8: 7.43 | ER8: 7.18 | ET8: 8.33 | EU8: 8.49 | EV8: 8.16 | EW8: 5.85 | EX8: 2.97 | EY8: 7.16 | EZ8: 6.6 | FA8: 5.63 | FB8: 7.91 | FC8: 7.97 | FD8: 3.2 | FE8: 2.92 | FG8: 5.62 | FH8: 6.28 | FI8: 7.44 | FJ8: 2.59 | FK8: 6.8 | FL8: 7.08 | FM8: 6.14 | FO8: 3.28 | FQ8: 5.81 | FR8: 4.03 | FS8: 3.81 | FU8: 5.76 | FX8: 6.16 | FY8: 6.37 | GA8: 6 | GB8: 7.92 | GD8: 6.72 | GE8: 8.18 | GG8: 7.52 | GH8: 7.76 | GI8: 7.84 | GK8: 7.67 | GL8: 8.13 | GM8: 5.84 | GO8: 7.11 | GP8: 7.66 | GR8: 7.28 | GT8: 8.1 | GW8: 6.68 | GX8: 6.43 | GY8: 2.06 | GZ8: 7.21 | HB8: 7.3 | HD8: 4.82 | HF8: 5.75 | HH8: 5.94 | HI8: 5.9 | HJ8: 2.39 | HL8: 6.45 | HN8: 7.64 | HO8: 7.73 | HQ8: 7.35 | HS8: 6.73 | HT8: 7.88 | HU8: 3.46 | HW8: 3.56 | HX8: 7 | IA8: 7.28 | IB8: 6.21 | IE8: 1.92 | IF8: 3.73 | IG8: 4.47 | II8: 6.7 | IL8: 7.03 | IM8: 7.06 | IN8: 7.74 | IP8: 7.66 | IQ8: 6.64 | IS8: 8.11 | IT8: 7.76 | IU8: 6.62 | IW8: 7.61 | IY8: 7.46 | IZ8: 6.86 | JB8: 6.13 | JC8: 5.05 | JE8: 5.79 | JG8: 5.49 | JI8: 3.5 | JK8: 4.19 | JM8: 5.61 | JN8: 1.87 | JO8: 2.94 | JR8: 4.84 | JS8: 2.76 | JU8: 8.1 | JW8: 7.21 | JX8: 5.68 | JY8: 5.12 | JZ8: 4.73 | KB8: 2.03 | KC8: 2.96 | KD8: 7.84 | KF8: 8.21 | KI8: 6.77
A9: Temperature, Field | B9: =VLOOKUP(A9,Units!$B$2:$C$230,2,FALSE) -> deg C | C9: - | D9: 4.42 | E9: 18.78 | F9: 4080 | G9: 2530 | H9: 1220 | I9: 4750 | J9: 1970 | K9: 440 | L9: 1100 | N9: 1100 | O9: 377 | P9: 332 | Q9: 576 | R9: 624 | S9: 371 | T9: 470 | U9: 137 | V9: 150 | W9: 135 | X9: 308 | Y9: 262 | Z9: 305 | AA9: 323 | AB9: 9540 | AC9: 9530 | AD9: 750 | AE9: 472 | AF9: 3340 | AG9: 3110 | AH9: 3100 | AI9: 5120 | AJ9: 2540 | AK9: 423 | AL9: 327 | AM9: 2040 | AO9: 544 | AP9: 978 | AQ9: 2220 | AR9: 1540 | AS9: 276 | AT9: 416 | AU9: 1280 | AW9: 1150 | AX9: 705 | AY9: 1790 | AZ9: 1530 | BA9: 960 | BB9: 962 | BC9: 1890 | BD9: 3620 | BE9: 3750 | BF9: 3640 | BG9: 1630 | BH9: 1520 | BI9: 1070 | BJ9: 570 | BK9: 552 | BL9: 646 | BM9: 859 | BN9: 66.1 | BO9: 45.1 | BP9: 1090 | BQ9: 1220 | BR9: 1390 | BS9: 2380 | BT9: 2410 | BV9: 2420 | BW9: 2080 | BX9: 2430 | BY9: 1070 | BZ9: 526 | CA9: 1620 | CB9: 2370 | CC9: 212 | CD9: 244 | CE9: 303 | CF9: 482 | CG9: 1050 | CH9: 1040 | CI9: 2600 | CJ9: 1720 | CK9: 311 | CL9: 1740 | CM9: Temperature, Field | CN9: 6.61 | CO9: 7.7 | CP9: 18.85 | CQ9: 17.09 | CR9: 9.81 | CS9: 6.93 | CT9: 2.68 | CU9: 13.43 | CV9: 16.02 | CW9: 13.9 | CX9: 3.45 | CZ9: 3.42 | DB9: 3.42 | DC9: 3.43 | DD9: 6.67 | DE9: 3.88 | DF9: 7.19 | DG9: 4.15 | DH9: 4.09 | DI9: 3.45 | DJ9: 0.44 | DL9: 4.1 | DM9: 3.25 | DN9: 9.84 | DO9: 2.2 | DP9: 1.88 | DQ9: 9.85 | DR9: 3.44 | DS9: 5.32 | DU9: 3.03 | DV9: 3.42 | DX9: 11.1 | DY9: 7.15 | DZ9: 2.82 | EA9: 6.66 | EB9: 10.8 | ED9: 2.43 | EE9: 5.82 | EG9: 7.59 | EI9: 4 | EL9: 10.91 | EM9: 6.07 | EO9: 11.27 | EP9: 13.42 | EQ9: 6.76 | ER9: 10.86 | ET9: 21.11 | EU9: 3.8 | EV9: 3.49 | EW9: 2.6 | EX9: 6.87 | EY9: 10.05 | EZ9: 19.41 | FA9: 3.32 | FB9: 6.82 | FC9: 7.39 | FD9: 7.15 | FE9: 6.18 | FG9: 4.4 | FH9: 8.51 | FI9: 1.83 | FJ9: 11.94 | FK9: 3.01 | FL9: 5.08 | FM9: 2.11 | FO9: 3.18 | FQ9: 2.44 | FR9: 9.14 | FS9: 7.11 | FU9: 6.5 | FX9: 7.21 | FY9: 10.73 | GA9: 8.77 | GB9: 5.36 | GD9: 1.16 | GE9: 11.11 | GG9: 5.68 | GH9: 19.78 | GI9: 3.68 | GK9: 3.9 | GL9: 12.15 | GM9: 9.64 | GO9: 14.1 | GP9: 4.39 | GR9: 6.44 | GT9: 2.13 | GW9: 1.94 | GX9: 0.67 | GY9: 13.34 | GZ9: 2.33 | HB9: 4.25 | HD9: 9.21 | HF9: 4.49 | HH9: 7.99 | HI9: 7.66 | HJ9: 12.47 | HL9: 14.02 | HN9: 1.18 | HO9: 0.8 | HQ9: 1.77 | HS9: 0.01 | HT9: 0.37 | HU9: 20.86 | HW9: 8.78 | HX9: 6.76 | IA9: 6.54 | IB9: 7.28 | IE9: 10.09 | IF9: 16.99 | IG9: 8.39 | II9: 11.26 | IL9: 3.03 | IM9: 4.46 | IN9: 5.2 | IP9: 3.65 | IQ9: 7.62 | IS9: 0.35 | IT9: 2.03 | IU9: 2.45 | IW9: 2.09 | IY9: 3.36 | IZ9: 8.24 | JB9: 12.56 | JC9: 4.94 | JE9: 12.3 | JG9: 6.49 | JI9: 11.76 | JK9: 11.51 | JM9: 5.73 | JN9: 17.37 | JO9: 13.37 | JR9: 6.79 | JS9: 13.81 | JU9: 4.72 | JW9: 4.15 | JX9: 5.23 | JY9: 3.91 | JZ9: 3.99 | KB9: 6.02 | KC9: 3.78 | KD9: 7.32 | KF9: 14.12 | KI9: 11.18
A10: Hardness (as CaCO3) | B10: =VLOOKUP(A10,Units!$B$2:$C$230,2,FALSE) -> mg/L | C10: - | D10: 2340 | E10: 4000 | F10: 40.7 | G10: 8.8 | H10: 41.2 | I10: 18.8 | J10: 7.2 | K10: 2 | L10: 4.8 | N10: 26.2 | O10: 2.4 | P10: 4.3 | Q10: 2.3 | R10: 1 | S10: 5.6 | T10: 21.8 | U10: 13 | V10: 1 | W10: 25.4 | X10: 3.6 | Y10: 16.7 | Z10: 1 U | AA10: 5.4 | AB10: 2 UJ | AC10: 179 J | AD10: 18 | AE10: 9.2 | AF10: 233 | AG10: 234 | AH10: 186 | AI10: 85.2 | AJ10: 99.7 | AK10: 1 U | AL10: 41.6 | AM10: 137 | AO10: 1 U | AP10: 225 | AQ10: 223 | AR10: 583 | AS10: 8.1 | AT10: 101 | AU10: 355 | AW10: 95.5 | AX10: 2090 | AY10: 91 | AZ10: 1670 | BA10: 11.4 | BB10: 18.4 | BC10: 482 | BD10: 248 | BE10: 115 | BF10: 224 | BG10: 77.9 J | BH10: 101 | BI10: 760 | BJ10: 2.4 | BK10: 117 | BL10: 260 | BM10: 1080 | BN10: 330 | BO10: 220 | BP10: 27.6 | BQ10: 2.7 | BR10: 13.6 | BS10: 23.3 | BT10: 20.4 | BV10: 27.2 | BW10: 94.8 | BX10: 13.6 | BY10: 6.4 | BZ10: 2.5 | CA10: 282 J | CB10: 18 | CC10: 1 U | CD10: 1 U | CE10: 1 U | CF10: 3.7 | CG10: 2.7 | CH10: 3.4 | CI10: 128 | CJ10: 78 | CK10: 1 U | CL10: 68 | CM10: Hardness (as CaCO3) | CN10: 2380 | CO10: 2200 | CP10: 4580 | CQ10: 4700 | CS10: 2390 | CT10: 1190 | CU10: 1230 | CV10: 4060 | CW10: 4810 | CX10: 891 | CY10: 873 | CZ10: 873 | DA10: 909 | DB10: 909 | DC10: 882 | DD10: 3280 | DE10: 1380 | DF10: 15600 | DG10: 707 | DJ10: 8190 | DU10: 776 | DV10: 254 | EE10: 335 | EG10: 330 | EI10: 192 | EL10: 392 | EM10: 491 | ER10: 878 | FG10: 762 | FK10: 264 | FO10: 1690 | FS10: 5710 | FU10: 5000 | FX10: 5120 | FY10: 1930 | GB10: 2060 | GC10: 2060 | GE10: 483 | GK10: 954 | GM10: 535 | GP10: 247 | GR10: 1130 | GT10: 473 | GW10: 3010 | GZ10: 1200 | HB10: 1010 | HD10: 741 | HF10: 4760 | HJ10: 14000 | HL10: 3090 | HQ10: 79.1 | HS10: 5030 | HU10: 702 | HW10: 1170 | HX10: 748 | IA10: 730 | IB10: 6400 | IE10: 6420 | IG10: 12000 | II10: 2370 J | IL10: 2560 | IN10: 2690 | IQ10: 986 | IU10: 1640 | IY10: 2560 | JB10: 2620 | JC10: 2820 | JE10: 3000 | JG10: 4340 | JI10: 21300 | JK10: 31400 | JO10: 2600 | JR10: 9060 | JS10: 1360 | JU10: 2060 | JZ10: 1180 | KD10: 1030 | KF10: 269 | KI10: 6510
A11: Total Suspended Solids | B11: =VLOOKUP(A11,Units!$B$2:$C$230,2,FALSE) -> mg/L | C11: - | D11: 55.6 | E11: 44.7 | F11: 7220 | G11: 3340 | H11: 1600 | I11: 6400 | J11: 3020 | K11: 775 | L11: 1920 | N11: 1810 | O11: 451 | P11: 365 | Q11: 710 | R11: 757 | S11: 375 | T11: 449 | U11: 165 | V11: 163 | W11: 159 | X11: 304 | Y11: 269 | Z11: 301 | AA11: 335 | AB11: 14800 | AC11: 14300 | AD11: 1030 | AE11: 536 | AF11: 20600 | AG11: 12100 | AH11: 12100 | AI11: 36900 | AJ11: 4470 | AK11: 484 | AL11: 2300 | AM11: 32900 | AO11: 700 | AP11: 10500 | AQ11: 38600 | AR11: 28800 | AS11: 301 | AT11: 2510 | AU11: 10100 | AW11: 1840 | AX11: 1150 | AY11: 6350 | AZ11: 12700 | BA11: 2460 | BB11: 1790 | BC11: 12100 | BD11: 37100 | BE11: 43000 | BF11: 48000 | BG11: 7740 | BH11: 3480 | BI11: 3080 | BJ11: 794 | BK11: 738 | BL11: 954 | BM11: 1230 | BN11: 378 | BO11: 253 | BP11: 1470 | BQ11: 1770 | BR11: 2010 | BS11: 3660 | BT11: 3790 | BV11: 3860 | BW11: 3150 | BX11: 3720 | BY11: 1500 | BZ11: 728 | CA11: 7890 | CB11: 3720 | CC11: 229 | CD11: 245 | CE11: 317 | CF11: 515 | CG11: 978 | CH11: 1360 | CI11: 39300 | CJ11: 4340 | CK11: 321 | CL11: 4230 | CM11: Total Suspended Solids | CN11: 95.2 | CO11: 6 | CP11: 35 | CQ11: 261 | CR11: 5.8 | CS11: 33.2 | CT11: 266 | CU11: 328 | CV11: 31.6 | CW11: 57.6 | CX11: 1 U | CY11: 1.2 | CZ11: 1.2 | DA11: 1 J | DB11: 1 J | DC11: 1 U | DD11: 83.6 | DE11: 182 | DF11: 69.2 J | DG11: 4.8 | DJ11: 59.2 | DU11: 1 | DV11: 9.9 | EE11: 1 U | EG11: 1.1 | EI11: 1.7 | EL11: 32.8 | EM11: 13.5 | ER11: 67.9 | FG11: 95.6 | FK11: 38.8 | FO11: 92.1 | FS11: 38.3 | FU11: 305 | FX11: 280 | FY11: 485 | GB11: 3.9 | GC11: 3.9 | GE11: 29200 | GK11: 4.9 | GM11: 190 | GP11: 5 | GR11: 2.6 J | GT11: 11 | GW11: 40 J | GZ11: 2.6 | HB11: 30 | HD11: 2.2 | HF11: 796 | HJ11: 177 | HL11: 358 | HQ11: 3.6 | HS11: 6.2 | HU11: 12.8 | HW11: 51.4 | HX11: 5 | IA11: 77.4 | IB11: 84 | IE11: 57.2 | IG11: 78.7 | II11: 5.7 | IL11: 4.9 | IN11: 25.1 | IQ11: 46.1 | IU11: 1.5 | IY11: 6.2 | JB11: 98.6 | JC11: 628 | JE11: 30.9 | JG11: 30.6 | JI11: 268 | JK11: 65 | JO11: 7.8 | JR11: 90.2 | JS11: 3.6 | JU11: 2 | JZ11: 186 | KD11: 6.2 | KF11: 53.9 | KI11: 137
A12: Total Dissolved Solids | B12: =VLOOKUP(A12,Units!$B$2:$C$230,2,FALSE) -> mg/L | C12: - | D12: 3210 | E12: 7280 | G12: 72.2 | H12: 30.4 | I12: 18.6 | J12: -2.3 | K12: -2 | L12: -2.3 | M12: -1.9 | N12: -11.1 | O12: -1.9 | P12: -3.8 | Q12: 7.4 | R12: -3.8 | S12: 3.8 | T12: 4.7 | U12: 8.8 | V12: -1.6 | W12: 6.8 | X12: 0 | Y12: 4.8 | Z12: -1.6 | AA12: -8.9 | AD12: 9.9 | AE12: -1.5 | AF12: 104.5 | AI12: -3.2 | AJ12: 112.1 | AK12: -4 | AL12: 8.4 | AM12: 24 | AN12: 166.7 | AO12: 19.4 | AP12: 220.9 | AQ12: 210.1 | AR12: 449.1 | AS12: -11.8 | AT12: 16.1 | AU12: 135 | AV12: 207.5 | AW12: 61.6 | AX12: 1199 | AY12: 35.7 | AZ12: 341.6 | BA12: -15 | BB12: -5.8 | BC12: 261.1 | BD12: 2.2 | BE12: -4.6 | BF12: 126.3 | BG12: 9.7 | BH12: -61.1 | BI12: 437.9 | BJ12: 0.5 | BK12: 117.2 | BL12: 353.1 | BM12: 389.9 | BN12: 453.3 | BO12: 313.3 | BP12: 7.5 | BQ12: -14 | BR12: -5.4 | BS12: 5.4 | BT12: 1 | BU12: -2.5 | BV12: 1.8 | BW12: 8.9 | BX12: -3.8 | BY12: -3.9 | CC12: -4.1 | CD12: -3.9 | CE12: -14.3 | CF12: -14.2 | CG12: 3.8 | CH12: -4.9 | CI12: -16.7 | CJ12: -17 | CM12: Total dissolved solids | CN12: 3520 | CO12: 3310 | CP12: 7020 | CQ12: 7930 | CR12: 3380 | CS12: 3530 | CT12: 1600 | CU12: 1640 | CV12: 6230 | CW12: 6750 | CX12: 1400 | CY12: 1390 | CZ12: 1390 | DA12: 1400 | DB12: 1400 | DC12: 1360 | DD12: 5800 | DE12: 2250 | DF12: 19900 | DG12: 1740 | DJ12: 13500 | DU12: 1070 | DV12: 316 | EE12: 520 | EG12: 444 | EI12: 246 | EL12: 616 | EM12: 852 | ER12: 1130 | FG12: 2060 | FK12: 400 | FO12: 8500 | FS12: 11800 | FU12: 14800 | FX12: 11600 | FY12: 3880 | GB12: 2880 | GC12: 2880 | GE12: 719 | GK12: 1150 | GM12: 1310 | GP12: 309 | GR12: 1560 | GT12: 592 | GW12: 5220 | GZ12: 1700 | HB12: 1420 | HD12: 1150 | HF12: 9980 | HJ12: 61800 | HL12: 4740 | HQ12: 112 | HS12: 7890 | HU12: 1350 | HW12: 2100 | HX12: 1040 | IA12: 966 | IB12: 14200 | IE12: 173000 | IG12: 21900 | II12: 3470 | IL12: 3560 | IN12: 3780 | IQ12: 1200 | IU12: 2250 | IY12: 3510 | JB12: 4310 | JC12: 4650 | JE12: 5710 | JG12: 9330 | JI12: 125000 | JK12: 120000 | JO12: 6790 | JR12: 26000 | JS12: 3540 | JU12: 2800 | JZ12: 7630 | KD12: 1430 | KF12: 287 | KI12: 14000
A13: Turbidity, Field | B13: =VLOOKUP(A13,Units!$B$2:$C$230,2,FALSE) -> NTU | C13: - | D13: 134.5 | E13: 4.6 | CM13: Turbidity, Field | CN13: 90.8 | CO13: 2.7 | CP13: 5.8 | CR13: 8.6 | CS13: 21 | CT13: 223.6 | CU13: 60.6 | CV13: 13.9 | CW13: 62 | CX13: 0.96 | CZ13: 1.44 | DB13: 1.41 | DC13: 1.41 | DD13: 46.1 | DE13: 48.1 | DF13: 824.4
A14: Lime Demand (as Ca(OH)2) | B14: lb/1000USG | CM14: Anions and Nutrients
A15: Solids Formed (as Ca(OH)2) | B15: lb/1000USG
A16: Anions and Nutrients
A17: Acidity (as CaCO3) | B17: mg/l | F17: 573 J | G17: 25 UJ | I17: 25 UJ | J17: 25 UJ | K17: 25 UJ | L17: 25 UJ | N17: 25 UJ | O17: 25 UJ | Q17: 25 UJ | R17: 25 UJ | S17: 25 UJ | T17: 25 UJ | V17: 25 UJ | W17: 25 UJ | X17: 25 UJ | Y17: 25 UJ | Z17: 25 UJ | AA17: 25 U | AB17: 41 J | AC17: 41 J | AD17: 25 UJ | AE17: 25 UJ | AF17: 7890 J | AG17: 3960 J | AH17: 4480 J | AI17: 18800 J | AJ17: 1380 J | AL17: 1130 J | AM17: 16400 J | AO17: 25 U | AP17: 4840 | AQ17: 23100 J | AR17: 15100 J | AS17: 25 UJ | AT17: 1150 J | AU17: 5150 J | AW17: 25 U | AX17: 25 U | AY17: 175 | AZ17: 6360 | BA17: 477 | BB17: 33 | BC17: 5470 | BD17: 17200 | BE17: 21900 | BF17: 25800 | BG17: 32500 J | BH17: 367 J | BI17: 1380 J | BJ17: 25 UJ | BK17: 25 UJ | BL17: 25 UJ | BO17: 62 J | BP17: 25 UJ | BQ17: 25 UJ | BR17: 25 UJ | BS17: 25 UJ | BT17: 25 UJ | BV17: 25 UJ | BW17: 25 UJ | BX17: 25 UJ | BY17: 25 UJ | BZ17: 25 U | CA17: 3050 J | CB17: 25 UJ | CE17: 25 UJ | CF17: 25 UJ | CG17: 25 UJ | CH17: 25 UJ | CI17: 17900 | CJ17: 649 | CK17: 25 UJ | CL17: 796
A18: Acidity, Hot Peroxide | B18: =VLOOKUP(A18,Units!$B$2:$C$230,2,FALSE) -> mg/L | C18: - | D18: 25 UJ | E18: 575 J | F18: 231 | G18: 691 | H18: 391 | I18: 1260 | J18: 426 | K18: 586 | L18: 605 | N18: 1700 | O18: 250 | P18: 257 | Q18: 311 | R18: 327 | S18: 332 | T18: 409 | U18: 115 | V18: 123 | W18: 115 | X18: 267 | Y18: 229 | Z18: 259 | AA18: 266 | AB18: 106 | AC18: 100 | AD18: 289 | AE18: 355 | AF18: 1 U | AG18: 1 U | AH18: 1 U | AI18: 1 U | AJ18: 18.8 | AK18: 285 | AL18: 1 U | AM18: 1 U | AO18: 67 | AP18: 32.5 | AQ18: 1 U | AR18: 1 U | AS18: 275 | AT18: 1 U | AU18: 1 U | AW18: 149 | AX18: 235 | AY18: 1 U | AZ18: 1 U | BA18: 65.9 | BB18: 88.6 | BC18: 1 U | BD18: 1 U | BE18: 1 U | BF18: 1 U | BG18: 1 U | BH18: 38.2 | BI18: 11.1 | BJ18: 280 | BK18: 317 | BL18: 319 | BM18: 477 | BN18: 64.1 | BO18: 91.8 | BP18: 392 | BQ18: 336 | BR18: 367 | BS18: 452 | BT18: 445 | BV18: 455 | BW18: 398 | BX18: 459 | BY18: 359 | BZ18: 69.1 | CA18: 1 U | CB18: 447 | CC18: 174 | CD18: 209 | CE18: 251 | CF18: 369 | CG18: 297 | CH18: 327 | CI18: 1 U | CJ18: 71.1 J | CK18: 254 | CL18: 51.2 J | CM18: Acidity, hot peroxide | CN18: 25 U | CO18: 25 U | CP18: 25 U | CQ18: 25 U | CR18: 25 U | CS18: 25 U | CT18: 25 U | CU18: 25 U | CV18: 25 U | CW18: 25 U | CX18: 25 U | CY18: 25 U | CZ18: 25 U | DA18: 25 U | DB18: 25 U | DC18: 25 U | DD18: 549 | DE18: 68 | DF18: 25 U | DG18: 400 | DJ18: 856 | DU18: 25 U | DV18: 25 U | EE18: 25 U | EG18: 25 U | EI18: 25 U | EL18: 25 U | EM18: 55 | ER18: 25 U | FG18: 340 | FK18: 25 U | FO18: 3080 | FS18: 1560 | FU18: 3340 | FX18: 1840 | FY18: 486 | GK18: 25 U | GM18: 400 | GP18: 25 U | GR18: 25 U | GW18: 25 U | GZ18: 25 U | HB18: 25 U | HD18: 32 | HF18: 1290 | HJ18: 25300 | HL18: 25 U | HQ18: 25 U | HS18: 40 | HU18: 235 | HW18: 240 | HX18: 25 U | IA18: 25 U | IB18: 2140 | IE18: 95300 | IG18: 2120 | II18: 25 U | IL18: 25 U | IN18: 25 U | IQ18: 25 U | IU18: 25 U | IY18: 25 U | JB18: 47 | JC18: 177 | JE18: 410 | JG18: 2340 | JI18: 51100 | JK18: 41700 | JO18: 1760 | JR18: 6880 | JS18: 709 | JZ18: 6440 | KD18: 25 U | KI18: 2200
A19: Alkalinity, Bicarbonate (as CaCO3) | B19: =VLOOKUP(A19,Units!$B$2:$C$230,2,FALSE) -> mg/L | C19: - | D19: 652 | E19: 240 | F19: 2 U | G19: 20 U | H19: 2 U | I19: 20 U | J19: 2 U | K19: 20 U | L19: 20 U | N19: 1 U | O19: 2 U | P19: 2 U | Q19: 2 U | R19: 2 U | S19: 2 U | T19: 2 U | U19: 2 U | V19: 2 U | W19: 2 U | X19: 1 U | Y19: 2 U | Z19: 2 U | AA19: 2 U | AB19: 2 U | AC19: 2 U | AD19: 2 U | AE19: 2 U | AF19: 1 U | AG19: 1 U | AH19: 1 U | AI19: 1 U | AJ19: 2 U | AK19: 2 U | AL19: 1 U | AM19: 1 U | AO19: 2 U | AP19: 1 U | AQ19: 1 U | AR19: 1 U | AS19: 1 U | AT19: 1 U | AU19: 1 U | AW19: 2 U | AX19: 1 U | AY19: 1 U | AZ19: 1 U | BA19: 2 U | BB19: 2 U | BC19: 1 U | BD19: 1 U | BE19: 1 U | BF19: 1 U | BG19: 1 U | BH19: 1 U | BI19: 1 U | BJ19: 2 U | BK19: 2 U | BL19: 1 U | BM19: 1 U | BN19: 1 U | BO19: 1 U | BP19: 2 U | BQ19: 2 U | BR19: 2 U | BS19: 2 U | BT19: 2 U | BV19: 2 U | BW19: 2 U | BX19: 2 U | BY19: 2 U | BZ19: 2 U | CA19: 1 U | CB19: 2 U | CC19: 2 U | CD19: 2 U | CE19: 2 U | CF19: 2 U | CG19: 2 U | CH19: 2 U | CI19: 1 U | CJ19: 1 U | CK19: 2 U | CL19: 1 U | CM19: Alkalinity, Bicarbonate (as CaCO3) | CN19: 620 | CO19: 579 | CP19: 621 | CQ19: 517 | CR19: 686 | CS19: 688 | CT19: 394 | CU19: 396 | CV19: 1180 | CW19: 1160 | CX19: 61.9 | CY19: 63.7 | CZ19: 63.7 | DA19: 63.1 | DB19: 63.1 | DC19: 63 | DD19: 11.1 | DE19: 77.7 | DF19: 1560 | DJ19: 1 U | DU19: 199 | DV19: 126 | EE19: 40.3 | EG19: 108 | EI19: 95.5 | EL19: 42.3 | EM19: 3.5 | ER19: 433 | FG19: 1 U | FK19: 83 | FU19: 1 U | FX19: 1 U | FY19: 1 U | GB19: 456 | GC19: 456 | GE19: 183 | GK19: 382 | GM19: 1 U | GP19: 95.7 | GR19: 209 | GT19: 232 | GW19: 225 | GZ19: 196 | HB19: 209 | HD19: 1 UJ | HF19: 1 U | HL19: 94.2 | HQ19: 61.9 | HS19: 341 | HX19: 191 | IA19: 191 | IB19: 15.9 | IG19: 1 U | II19: 80.3 | IL19: 597 | IN19: 610 | IQ19: 585 | IU19: 434 | IY19: 610 | JB19: 125 | JC19: 1.3 | JE19: 143 | JG19: 30.7 | JR19: 1 U | JU19: 482 | JZ19: 1 U | KD19: 284 | KF19: 218 | KI19: 1 U
A20: Alkalinity, Carbonate (as CaCO3) | B20: =VLOOKUP(A20,Units!$B$2:$C$230,2,FALSE) -> mg/L | C20: - | D20: 20 U | E20: 2 U | F20: 2 U | G20: 20 U | H20: 2 U | I20: 20 U | J20: 2 U | K20: 20 U | L20: 20 U | N20: 1 U | O20: 2 U | P20: 2 U | Q20: 2 U | R20: 2 U | S20: 2 U | T20: 2 U | U20: 2 U | V20: 2 U | W20: 2 U | X20: 1 U | Y20: 2 U | Z20: 2 U | AA20: 2 U | AB20: 2 U | AC20: 2 U | AD20: 2 U | AE20: 2 U | AF20: 1 U | AG20: 1 U | AH20: 1 U | AI20: 1 U | AJ20: 2 U | AK20: 2 U | AL20: 1 U | AM20: 1 U | AO20: 2 U | AP20: 1 U | AQ20: 1 U | AR20: 1 U | AS20: 1 U | AT20: 1 U | AU20: 1 U | AW20: 2 U | AX20: 1 U | AY20: 1 U | AZ20: 1 U | BA20: 2 U | BB20: 2 U | BC20: 1 U | BD20: 1 U | BE20: 1 U | BF20: 1 U | BG20: 1 U | BH20: 1 U | BI20: 1 U | BJ20: 2 U | BK20: 2 U | BL20: 1 U | BM20: 1 U | BN20: 1 U | BO20: 1 U | BP20: 2 U | BQ20: 2 U | BR20: 2 U | BS20: 2 U | BT20: 2 U | BV20: 2 U | BW20: 2 U | BX20: 2 U | BY20: 2 U | BZ20: 2 U | CA20: 1 U | CB20: 2 U | CC20: 2 U | CD20: 2 U | CE20: 2 U | CF20: 2 U | CG20: 2 U | CH20: 2 U | CI20: 1 U | CJ20: 1 U | CK20: 2 U | CL20: 1 U | CM20: Alkalinity, Carbonate (as CaCO3) | CN20: 20 U | CO20: 1 U | CP20: 20 U | CQ20: 1 U | CR20: 20 U | CS20: 1 U | CT20: 2 U | CU20: 1 U | CV20: 20 U | CW20: 1 U | CX20: 1 U | CY20: 1 U | CZ20: 1 U | DA20: 1 U | DB20: 1 U | DC20: 1 U | DD20: 2 U | DE20: 1 U | DF20: 1 U | DJ20: 1 U | DU20: 1 U | DV20: 1 U | EE20: 1 U | EG20: 1 U | EI20: 1 U | EL20: 1 U | EM20: 1 U | ER20: 1 U | FG20: 1 U | FK20: 1 U | FU20: 1 U | FX20: 1 U | FY20: 1 U | GB20: 1 U | GC20: 1 U | GE20: 1 U | GK20: 1 U | GM20: 1 U | GP20: 1 U | GR20: 1 U | GT20: 1 U | GW20: 1 U | GZ20: 1 U | HB20: 1 U | HD20: 1 UJ | HF20: 1 U | HL20: 1 U | HQ20: 1 U | HS20: 1 U | HX20: 1 U | IA20: 1 U | IB20: 1 U | IG20: 1 U | II20: 1 U | IL20: 1 U | IN20: 1 U | IQ20: 1 U | IU20: 1 U | IY20: 1 U | JB20: 1 U | JC20: 1 U | JE20: 1 U | JG20: 1 U | JR20: 1 U | JU20: 1 U | JZ20: 1 U | KD20: 1 U | KF20: 5.2 | KI20: 1 U
A21: Alkalinity, Hydroxide (as CaCO3) | B21: =VLOOKUP(A21,Units!$B$2:$C$230,2,FALSE) -> mg/L | C21: - | D21: 20 U | E21: 2 U | F21: 231 | G21: 691 | H21: 391 | I21: 1260 | J21: 426 | K21: 586 | L21: 605 | N21: 1700 | O21: 250 | P21: 257 | Q21: 311 | R21: 327 | S21: 332 | T21: 409 | U21: 115 | V21: 123 | W21: 115 | X21: 267 | Y21: 229 | Z21: 259 | AA21: 266 | AB21: 106 | AC21: 100 | AD21: 289 | AE21: 355 | AF21: 1 U | AG21: 1 U | AH21: 1 U | AI21: 1 U | AJ21: 18.8 | AK21: 285 | AL21: 1 U | AM21: 1 U | AO21: 67 | AP21: 32.5 | AQ21: 1 U | AR21: 1 U | AS21: 275 | AT21: 1 U | AU21: 1 U | AW21: 149 | AX21: 235 | AY21: 1 U | AZ21: 1 U | BA21: 65.9 | BB21: 88.6 | BC21: 1 U | BD21: 1 U | BE21: 1 U | BF21: 1 U | BG21: 1 U | BH21: 38.2 | BI21: 11.1 | BJ21: 280 | BK21: 317 | BL21: 319 | BM21: 477 | BN21: 64.1 | BO21: 91.8 | BP21: 392 | BQ21: 336 | BR21: 367 | BS21: 452 | BT21: 445 | BV21: 455 | BW21: 398 | BX21: 459 | BY21: 359 | BZ21: 69.1 | CA21: 1 U | CB21: 447 | CC21: 174 | CD21: 209 | CE21: 251 | CF21: 369 | CG21: 297 | CH21: 327 | CI21: 1 U | CJ21: 71.1 J | CK21: 254 | CL21: 51.2 J | CM21: Alkalinity, Hydroxide (as CaCO3) | CN21: 20 U | CO21: 1 U | CP21: 20 U | CQ21: 1 U | CR21: 20 U | CS21: 1 U | CT21: 2 U | CU21: 1 U | CV21: 20 U | CW21: 1 U | CX21: 1 U | CY21: 1 U | CZ21: 1 U | DA21: 1 U | DB21: 1 U | DC21: 1 U | DD21: 2 U | DE21: 1 U | DF21: 1 U | DJ21: 1 U | DU21: 1 U | DV21: 1 U | EE21: 1 U | EG21: 1 U | EI21: 1 U | EL21: 1 U | EM21: 1 U | ER21: 1 U | FG21: 1 U | FK21: 1 U | FU21: 1 U | FX21: 1 U | FY21: 1 U | GB21: 1 U | GC21: 1 U | GE21: 1 U | GK21: 1 U | GM21: 1 U | GP21: 1 U | GR21: 1 U | GT21: 1 U | GW21: 1 U | GZ21: 1 U | HB21: 1 U | HD21: 1 UJ | HF21: 1 U | HL21: 1 U | HQ21: 1 U | HS21: 1 U | HX21: 1 U | IA21: 1 U | IB21: 1 U | IG21: 1 U | II21: 1 U | IL21: 1 U | IN21: 1 U | IQ21: 1 U | IU21: 1 U | IY21: 1 U | JB21: 1 U | JC21: 1 U | JE21: 1 U | JG21: 1 U | JR21: 1 U | JU21: 1 U | JZ21: 1 U | KD21: 1 U | KF21: 1 U | KI21: 1 U
A22: Alkalinity, Total (as CaCO3) | B22: =VLOOKUP(A22,Units!$B$2:$C$230,2,FALSE) -> mg/L | C22: - | D22: 652 | E22: 240 | F22: 0.47 | G22: 0.32 | H22: 0.02 | I22: 0.04 | J22: 0.53 | K22: 0.12 | L22: 0.1 | N22: 0.16 | O22: 0.08 | P22: 0.02 | Q22: 0.005 U | R22: 0.06 | S22: 0.0066 | T22: 0.005 U | U22: 0.005 U | V22: 0.005 U | W22: 0.005 U | X22: 0.25 | Y22: 0.005 U | Z22: 0.005 U | AA22: 0.005 U | AB22: 10.9 | AC22: 11.5 | AD22: 0.11 | AE22: 0.19 | AF22: 1.49 | AG22: 1.01 | AH22: 0.98 | AI22: 0.48 | AJ22: 0.98 | AK22: 0.06 | AL22: 1.19 | AM22: 2.6 | AO22: 0.005 U | AP22: 3.22 | AQ22: 4.76 | AR22: 3.36 | AS22: 0.17 | AT22: 0.17 | AU22: 2.26 | AW22: 0.65 | AX22: 0.26 | AY22: 1.43 | AZ22: 0.86 | BA22: 0.19 | BB22: 0.19 | BC22: 3.15 | BD22: 9.44 | BE22: 9.51 | BF22: 6.08 | BG22: 0.74 | BH22: 0.51 | BI22: 0.74 | BJ22: 0.29 | BK22: 0.49 | BL22: 0.92 | BM22: 1.51 | BN22: 1.49 | BO22: 0.37 | BP22: 0.06 | BQ22: 0.79 | BR22: 0.68 | BS22: 0.68 | BT22: 0.91 | BV22: 0.92 | BW22: 0.7 | BX22: 0.91 | BY22: 0.48 | BZ22: 0.005 U | CA22: 0.72 | CB22: 0.72 | CC22: 0.005 U | CD22: 0.005 U | CE22: 0.02 | CF22: 0.0095 | CG22: 0.09 | CH22: 0.005 U | CI22: 0.21 | CJ22: 1.15 | CK22: 0.02 | CL22: 1.19 | CM22: Alkalinity, Total (as CaCO3) | CN22: 620 | CO22: 579 | CP22: 621 | CQ22: 517 | CR22: 686 | CS22: 688 | CT22: 394 | CU22: 396 | CV22: 1180 | CW22: 1160 | CX22: 61.9 | CY22: 63.7 | CZ22: 63.7 | DA22: 63.1 | DB22: 63.1 | DC22: 63 | DD22: 11.1 | DE22: 77.7 | DF22: 1560 | DJ22: 1 U | DU22: 199 | DV22: 126 | EE22: 40.3 | EG22: 108 | EI22: 95.5 | EL22: 42.3 | EM22: 3.5 | ER22: 433 | FG22: 1 U | FK22: 83 | FU22: 1 U | FX22: 1 U | FY22: 1 U | GB22: 456 | GC22: 456 | GE22: 183 | GK22: 382 | GM22: 1 U | GP22: 95.7 | GR22: 209 | GT22: 232 | GW22: 225 | GZ22: 196 | HB22: 209 | HD22: 1 UJ | HF22: 1 U | HL22: 94.2 | HQ22: 61.9 | HS22: 341 | HX22: 191 | IA22: 191 | IB22: 15.9 | IG22: 1 U | II22: 80.3 | IL22: 597 | IN22: 610 | IQ22: 585 | IU22: 434 | IY22: 610 | JB22: 125 | JC22: 1.3 | JE22: 143 | JG22: 30.7 | JR22: 1 U | JU22: 482 | JZ22: 1 U | KD22: 284 | KF22: 224 | KI22: 1 U
A23: Ammonia | B23: =VLOOKUP(A23,Units!$B$2:$C$230,2,FALSE) -> mg/L | C23: Variablea | D23: 0.04 | E23: 0.53 | CM23: Ammonia | CN23: 0.0416 | CO23: 0.0266 | CP23: 0.28 | CQ23: 0.31 | CR23: 0.197 | CS23: 0.459 | CT23: 0.0624 | CU23: 0.0645 | CV23: 0.0537 | CW23: 0.0637 | CX23: 1.37 | CY23: 1.38 | CZ23: 1.38 | DA23: 1.4 | DB23: 1.4 | DC23: 1.39 | DD23: 1.04 | DE23: 1.16 | DG23: 0.0202 | DJ23: 0.626 | DU23: 0.005 U | DV23: 0.006 | EE23: 0.005 U | EG23: 0.005 U | EI23: 0.005 U | EL23: 0.005 U | EM23: 0.005 U | ER23: 0.668 | FG23: 0.232 | FK23: 0.0414 | FO23: 0.0809 | FS23: 0.607 | FU23: 1.06 | FX23: 0.747 | FY23: 0.894 | GB23: 0.005 U | GC23: 0.005 U | GE23: 0.38 | GK23: 0.005 U | GM23: 0.193 | GP23: 0.005 U | GR23: 0.005 U | GT23: 0.005 U | GW23: 0.0187 | GZ23: 0.005 U | HB23: 0.005 U | HD23: 0.005 U | HF23: 0.579 | HJ23: 0.005 U | HL23: 0.005 U | HQ23: 0.0062 | HS23: 0.0663 | HU23: 0.238 | HW23: 0.0458 | HX23: 0.005 U | IA23: 0.005 U | IB23: 0.737 | IE23: 0.522 | IG23: 2.51 | II23: 0.0069 | IL23: 0.005 U | IN23: 0.005 U | IQ23: 0.849 | IU23: 0.005 U | IY23: 0.005 U | JB23: 1.07 | JC23: 0.0242 | JE23: 2.5 | JG23: 3.32 | JI23: 1.02 | JK23: 3.34 | JO23: 0.005 U | JR23: 6.59 | JS23: 0.005 U | JU23: 0.005 U | JZ23: 0.105 | KD23: 0.005 | KF23: 0.005 U | KI23: 0.728
A24: NH3 guideline | F24: 10 U | G24: 5 U | H24: 2.5 U | I24: 10 U | J24: 5 U | K24: 2.9 | L24: 5 U | N24: 25 | O24: 0.5 U | P24: 0.5 U | Q24: 1 U | R24: 1 U | S24: 0.5 U | T24: 0.5 U | U24: 0.5 U | V24: 0.5 U | W24: 0.5 U | X24: 0.5 U | Y24: 0.5 U | Z24: 0.5 U | AA24: 0.5 U | AB24: 10 U | AC24: 10 U | AD24: 1 U | AE24: 1.44 | AF24: 10 U | AG24: 10 U | AH24: 10 U | AI24: 25 U | AJ24: 10 U | AK24: 0.5 U | AL24: 5 U | AM24: 25 U | AO24: 1 U | AP24: 10 U | AQ24: 10 U | AR24: 10 U | AS24: 0.5 U | AT24: 2.5 U | AU24: 10 U | AW24: 2.5 U | AX24: 1 U | AY24: 10 U | AZ24: 10 U | BA24: 5 U | BB24: 2.5 U | BC24: 10 U | BD24: 25 U | BE24: 25 U | BF24: 25 U | BG24: 10 U | BH24: 5 U | BI24: 5 U | BJ24: 0.5 U | BK24: 1 U | BL24: 1 U | BM24: 2.5 U | BN24: 1.16 | BO24: 1.9 | BP24: 2.5 U | BQ24: 2.5 U | BR24: 2.5 U | BS24: 5 U | BT24: 5 U | BV24: 5 U | BW24: 5 U | BX24: 5 U | BY24: 2.5 U | BZ24: 0.6 | CA24: 10 U | CB24: 5 U | CC24: 0.5 U | CD24: 0.5 U | CE24: 0.5 U | CF24: 3.49 | CG24: 0.63 | CH24: 2.5 U | CI24: 25 U | CJ24: 5 U | CK24: 0.5 U | CL24: 5 U | CM24: NH3 guideline
A25: Chloride (Cl) | B25: =VLOOKUP(A25,Units!$B$2:$C$230,2,FALSE) -> mg/L | C25: 120 | D25: 13.2 | E25: 10 U | F25: 0.74 | G25: 0.2 U | H25: 0.19 | I25: 0.4 U | J25: 0.31 | K25: 3.31 | L25: 2.19 | N25: 1.35 | O25: 0.18 | P25: 0.29 | Q25: 0.11 | R25: 0.14 | S25: 0.09 | T25: 0.15 | U25: 0.11 | V25: 0.12 | W25: 0.13 | X25: 0.21 | Y25: 0.31 | Z25: 0.16 | AA25: 0.23 | AB25: 0.86 | AC25: 1.15 | AD25: 0.15 | AE25: 0.39 | AF25: 0.4 U | AG25: 0.4 U | AH25: 0.4 U | AI25: 1 U | AJ25: 5.61 | AK25: 0.11 | AL25: 0.2 U | AM25: 1 U | AO25: 0.04 | AP25: 0.4 U | AQ25: 0.4 U | AR25: 0.4 U | AS25: 0.44 | AT25: 0.21 | AU25: 0.4 U | AW25: 0.1 U | AX25: 0.04 | AY25: 0.4 U | AZ25: 0.4 U | BA25: 0.2 U | BB25: 0.1 U | BC25: 0.4 U | BD25: 2.3 | BE25: 1 | BF25: 1 U | BG25: 0.4 U | BH25: 0.2 U | BI25: 0.22 | BJ25: 0.16 | BK25: 0.13 | BL25: 0.19 | BM25: 0.36 | BN25: 4.54 | BO25: 3.61 | BP25: 0.29 | BQ25: 0.13 | BR25: 0.1 U | BS25: 0.33 | BT25: 0.2 U | BV25: 0.2 U | BW25: 0.2 U | BX25: 0.2 U | BY25: 0.13 | BZ25: 0.04 | CA25: 0.4 U | CB25: 0.3 | CC25: 0.12 | CD25: 0.1 | CE25: 0.09 | CF25: 0.13 | CG25: 0.14 | CH25: 0.24 | CI25: 6.2 | CJ25: 0.27 | CK25: 0.09 | CL25: 0.25 | CM25: Chloride (Cl) | CN25: 15 | CO25: 13.7 | CP25: 16 | CQ25: 14 | CR25: 5 U | CS25: 5 U | CT25: 1 U | CU25: 2.5 U | CV25: 10 U | CW25: 10 U | CX25: 1.3 | CY25: 2.5 U | CZ25: 2.5 U | DA25: 2.5 U | DB25: 2.5 U | DC25: 2.5 U | DD25: 10 U | DE25: 2.8 | DF25: 10 U | DG25: 2.5 U | DJ25: 10 U | DU25: 1.1 | DV25: 0.5 U | EE25: 0.5 U | EG25: 0.5 U | EI25: 0.5 U | EL25: 0.5 U | EM25: 1 U | ER25: 1 U | FG25: 2.5 U | FK25: 0.5 U | FO25: 10 U | FS25: 10 U | FU25: 10 | FX25: 12 | FY25: 5 U | GB25: 5 U | GC25: 5 U | GE25: 2.5 U | GK25: 2.5 U | GM25: 2.5 U | GP25: 0.5 U | GR25: 2.5 U | GT25: 0.5 U | GW25: 10 U | GZ25: 2.5 U | HB25: 2.5 U | HD25: 1 U | HF25: 11 | HJ25: 50 U | HL25: 10 U | HQ25: 0.5 U | HS25: 10 U | HU25: 2.5 U | HW25: 2.5 U | HX25: 1.2 | IA25: 1 U | IB25: 12 | IE25: 50 U | IG25: 25 U | II25: 10 U | IL25: 10 U | IN25: 10 U | IQ25: 2.5 U | IU25: 5 U | IY25: 10 U | JB25: 10 U | JC25: 10 U | JE25: 10 U | JG25: 10 U | JI25: 25 U | JK25: 25 U | JO25: 10 U | JR25: 25 U | JS25: 5 U | JU25: 5 U | JZ25: 10 U | KD25: 2.5 U | KF25: 0.5 U | KI25: 12
A26: Fluoride | B26: =VLOOKUP(A26,Units!$B$2:$C$230,2,FALSE) -> mg/L | C26: 0.12 | D26: 0.2 U | E26: 0.77 | F26: 0.1 U | G26: 1.72 J | H26: 0.025 U | I26: 0.1 UJ | J26: 0.05 U | K26: 0.01 U | L26: 0.05 U | O26: 0.005 U | P26: 0.005 U | Q26: 0.16 | R26: 0.01 U | S26: 0.74 | T26: 0.74 | U26: 0.06 | V26: 0.09 | W26: 0.07 | X26: 0.005 U | Y26: 0.04 | Z26: 0.23 | AA26: 0.23 | AB26: 0.1 U | AC26: 0.1 U | AD26: 0.01 U | AE26: 0.005 U | AF26: 0.1 UJ | AG26: 0.1 UJ | AH26: 0.1 UJ | AI26: 0.25 U | AJ26: 2.72 | AK26: 0.005 U | AL26: 0.05 UJ | AM26: 0.25 UJ | AO26: 0.01 U | AP26: 0.1 U | AQ26: 0.1 UJ | AR26: 0.1 UJ | AS26: 0.005 UJ | AT26: 0.025 UJ | AU26: 0.1 UJ | AW26: 0.025 U | AX26: 0.01 U | AY26: 0.12 | AZ26: 0.1 U | BA26: 0.05 U | BB26: 0.025 U | BC26: 0.1 U | BD26: 0.25 U | BE26: 0.25 U | BF26: 0.25 U | BG26: 0.1 UJ | BH26: 0.05 UJ | BI26: 0.05 U | BJ26: 0.005 U | BK26: 0.01 U | BL26: 0.01 U | BM26: 0.025 U | BN26: 0.005 U | BO26: 0.005 U | BP26: 0.025 U | BQ26: 0.025 UJ | BR26: 0.05 J | BS26: 0.05 U | BT26: 0.05 U | BV26: 0.05 U | BW26: 0.05 U | BX26: 0.07 | BY26: 0.025 U | BZ26: 0.005 U | CA26: 0.1 UJ | CB26: 0.05 U | CC26: 0.19 | CD26: 0.2 | CE26: 0.1 J | CF26: 0.005 UJ | CG26: 0.13 J | CH26: 0.1 | CI26: 0.25 U | CJ26: 0.05 U | CK26: 0.1 J | CL26: 0.05 U | CM26: Fluoride | CN26: 0.4 U | CO26: 0.2 U | CP26: 0.9 | CQ26: 0.92 | CR26: 0.2 U | CS26: 0.2 U | CT26: 0.163 | CU26: 0.18 | CV26: 0.4 U | CW26: 0.4 U | CX26: 0.467 | CY26: 0.54 | CZ26: 0.54 | DA26: 0.55 | DB26: 0.55 | DC26: 0.54 | DD26: 7.4 | DE26: 1.75 | DF26: 0.6 | DG26: 1.23 | DJ26: 2.07 | DU26: 0.212 | DV26: 0.065 | EE26: 0.208 | EG26: 0.257 | EI26: 0.191 | EL26: 0.431 | EM26: 0.66 | ER26: 0.114 | FG26: 0.14 | FK26: 0.289 | FO26: 2.42 | FS26: 0.49 | FU26: 1.04 | FX26: 0.46 | FY26: 0.38 | GB26: 0.2 U | GC26: 0.2 U | GE26: 0.25 | GK26: 0.22 | GM26: 0.49 | GP26: 0.234 | GR26: 0.34 | GT26: 0.06 | GW26: 0.4 U | GZ26: 0.3 | HB26: 0.29 | HD26: 0.724 | HF26: 0.82 | HJ26: 47.2 | HL26: 3.52 | HQ26: 0.133 | HS26: 0.4 U | HU26: 0.42 | HW26: 0.66 | HX26: 0.207 | IA26: 1.48 | IB26: 0.69 | IE26: 25.8 | IG26: 2.5 | II26: 2.35 | IL26: 0.4 U | IN26: 0.4 U | IQ26: 0.1 U | IU26: 0.2 U | IY26: 0.4 U | JB26: 0.4 U | JC26: 0.4 U | JE26: 0.4 U | JG26: 0.48 | JI26: 57.7 | JK26: 25.5 | JO26: 3.13 | JR26: 2.4 | JS26: 1 | JU26: 0.2 U | JZ26: 1.41 | KD26: 0.1 U | KF26: 0.048 | KI26: 0.59
A27: Nitrate (as N) | B27: =VLOOKUP(A27,Units!$B$2:$C$230,2,FALSE) -> mg/L | C27: 13 | D27: 0.05 U | E27: 0.23 | F27: 0.02 U | G27: 0.01 J | H27: 0.005 U | I27: 0.02 UJ | J27: 0.01 U | K27: 0.002 U | L27: 0.01 U | O27: 0.001 U | P27: 0.001 U | Q27: 0.002 U | R27: 0.002 U | S27: 0.0016 | T27: 0.001 U | U27: 0.001 U | V27: 0.001 U | W27: 0.001 U | X27: 0.001 U | Y27: 0.001 U | Z27: 0.001 U | AA27: 0.001 U | AB27: 0.02 U | AC27: 0.02 U | AD27: 0.002 U | AE27: 0.001 U | AF27: 0.02 UJ | AG27: 0.02 UJ | AH27: 0.02 UJ | AI27: 0.05 U | AJ27: 0.02 U | AK27: 0.001 U | AL27: 0.01 UJ | AM27: 0.05 UJ | AO27: 0.002 U | AP27: 0.02 U | AQ27: 0.02 UJ | AR27: 0.02 UJ | AS27: 0.001 UJ | AT27: 0.005 UJ | AU27: 0.02 UJ | AW27: 0.005 U | AX27: 0.002 U | AY27: 0.02 U | AZ27: 0.02 U | BA27: 0.01 U | BB27: 0.005 U | BC27: 0.02 U | BD27: 0.05 U | BE27: 0.05 U | BF27: 0.05 U | BG27: 0.02 UJ | BH27: 0.01 UJ | BI27: 0.01 U | BJ27: 0.001 U | BK27: 0.002 U | BL27: 0.002 U | BM27: 0.005 U | BN27: 0.001 U | BO27: 0.001 U | BP27: 0.005 U | BQ27: 0.005 UJ | BR27: 0.005 UJ | BS27: 0.01 U | BT27: 0.01 U | BV27: 0.01 U | BW27: 0.01 U | BX27: 0.01 U | BY27: 0.005 U | BZ27: 0.001 U | CA27: 0.02 UJ | CB27: 0.01 U | CC27: 0.001 U | CD27: 0.001 U | CE27: 0.001 UJ | CF27: 0.001 UJ | CG27: 0.003 J | CH27: 0.005 U | CI27: 0.05 U | CJ27: 0.01 U | CK27: 0.001 UJ | CL27: 0.01 U | CM27: Nitrate (as N) | CN27: 1.22 | CO27: 0.239 J | CP27: 0.1 U | CQ27: 0.1 U | CR27: 2.67 | CS27: 3.86 | CT27: 0.01 U | CU27: 0.025 U | CV27: 0.1 U | CW27: 0.1 U | CX27: 0.152 | CY27: 0.152 | CZ27: 0.152 | DA27: 0.158 | DB27: 0.158 | DC27: 0.154 | DD27: 2.45 | DE27: 0.901 | DF27: 0.1 U | DG27: 0.207 J | DJ27: 0.99 J | DU27: 4.55 J | DV27: 0.0308 J | EE27: 0.281 J | EG27: 0.0381 J | EI27: 0.131 J | EL27: 0.193 J | EM27: 0.328 J | ER27: 0.034 J | FG27: 0.025 U | FK27: 0.005 U | FO27: 0.1 U | FS27: 0.25 J | FU27: 0.1 U | FX27: 0.18 J | FY27: 0.16 | GB27: 1.11 | GC27: 1.11 | GE27: 0.797 | GK27: 0.182 | GM27: 0.025 U | GP27: 0.005 UJ | GR27: 9.37 J | GT27: 0.552 | GW27: 1.31 | GZ27: 12.5 J | HB27: 10.1 J | HD27: 0.01 UJ | HF27: 6.8 | HJ27: 0.5 UJ | HL27: 0.13 J | HQ27: 0.0815 J | HS27: 1.34 | HU27: 0.025 UJ | HW27: 0.025 UJ | HX27: 5.12 J | IA27: 0.062 | IB27: 3.49 | IE27: 0.5 U | IG27: 0.25 UJ | II27: 0.1 UJ | IL27: 8.6 J | IN27: 2.02 | IQ27: 0.031 | IU27: 5.37 | IY27: 18.2 | JB27: 0.18 | JC27: 0.1 U | JE27: 0.1 U | JG27: 0.1 U | JI27: 0.25 U | JK27: 0.25 U | JO27: 0.1 U | JR27: 0.25 U | JS27: 0.293 | JU27: 1.47 | JZ27: 0.1 U | KD27: 6.17 | KF27: 0.007 | KI27: 3.46
A28: Nitrite (as N) | B28: =VLOOKUP(A28,Units!$B$2:$C$230,2,FALSE) -> mg/L | C28: 0.06 | D28: 0.01 | E28: 0.02 U | CM28: Nitrite (as N) | CN28: 0.102 | CO28: 0.01 UJ | CP28: 0.02 U | CQ28: 0.02 U | CR28: 0.022 | CS28: 0.01 U | CT28: 0.002 U | CU28: 0.005 U | CV28: 0.02 U | CW28: 0.02 U | CX28: 0.0025 | CY28: 0.005 U | CZ28: 0.005 U | DA28: 0.005 U | DB28: 0.005 U | DC28: 0.005 U | DD28: 0.075 | DE28: 0.0256 | DF28: 0.02 U | DG28: 0.005 UJ | DJ28: 0.02 UJ | DU28: 0.002 UJ | DV28: 0.001 UJ | EE28: 0.001 UJ | EG28: 0.001 UJ | EI28: 0.001 UJ | EL28: 0.001 UJ | EM28: 0.002 UJ | ER28: 0.0041 J | FG28: 0.005 U | FK28: 0.001 U | FO28: 0.02 U | FS28: 0.02 UJ | FU28: 0.02 U | FX28: 0.02 UJ | FY28: 0.01 U | GB28: 0.01 U | GC28: 0.01 U | GE28: 0.005 U | GK28: 0.005 U | GM28: 0.005 U | GP28: 0.001 UJ | GR28: 0.0063 J | GT28: 0.001 U | GW28: 0.02 U | GZ28: 0.005 UJ | HB28: 0.005 UJ | HD28: 0.002 UJ | HF28: 0.084 | HJ28: 0.1 UJ | HL28: 0.02 UJ | HQ28: 0.001 UJ | HS28: 0.028 | HU28: 0.005 UJ | HW28: 0.005 UJ | HX28: 0.002 UJ | IA28: 0.002 U | IB28: 0.02 U | IE28: 0.1 U | IG28: 0.05 UJ | II28: 0.02 UJ | IL28: 0.02 UJ | IN28: 0.02 U | IQ28: 0.005 U | IU28: 0.01 U | IY28: 0.02 U | JB28: 0.068 | JC28: 0.02 U | JE28: 0.02 U | JG28: 0.02 U | JI28: 0.05 U | JK28: 0.05 U | JO28: 0.02 U | JR28: 0.05 U | JS28: 0.01 U | JU28: 0.01 U | JZ28: 0.02 U | KD28: 0.005 U | KF28: 0.001 U | KI28: 0.043
A29: ortho-Phosphate (as P) | B29: mg/l | C29: - | F29: 3850 | G29: 1760 | H29: 829 | I29: 3620 | J29: 1730 | K29: 140 | L29: 814 | N29: 73.1 | O29: 118 | P29: 77.3 | Q29: 263 | R29: 302 | S29: 32.5 | T29: 45.8 | U29: 17.4 | V29: 18.1 | W29: 18.1 | X29: 36.2 | Y29: 30.1 | Z29: 31.2 | AA29: 46.1 | AB29: 7740 | AC29: 9420 | AD29: 465 | AE29: 108 | AF29: 12000 | AG29: 7400 | AH29: 7450 | AI29: 20900 | AJ29: 3280 | AK29: 130 | AL29: 1470 | AM29: 20500 | AO29: 461 | AP29: 5980 | AQ29: 23500 | AR29: 16300 | AS29: 3.93 | AT29: 1460 | AU29: 6130 | AW29: 1030 | AX29: 627 | AY29: 3720 | AZ29: 7520 | BA29: 1530 | BB29: 1060 | BC29: 7180 | BD29: 20700 | BE29: 24400 | BF29: 27100 | BG29: 4830 | BH29: 2130 | BI29: 1600 | BJ29: 281 | BK29: 260 | BL29: 389 | BM29: 557 | BN29: 168 | BO29: 67.8 | BP29: 750 | BQ29: 944 | BR29: 1080 | BS29: 1890 | BT29: 2090 | BV29: 2060 | BW29: 1860 | BX29: 2170 | BY29: 761 | BZ29: 430 | CA29: 4930 | CB29: 2110 | CC29: 30.3 | CD29: 26.4 | CE29: 47.3 | CF29: 112 | CG29: 219 | CH29: 719 | CI29: 21800 | CJ29: 2500 | CK29: 47.5 | CL29: 2510
A30: Phosphorus | B30: =VLOOKUP(A30,Units!$B$2:$C$230,2,FALSE) -> mg/L | D30: 0.03 | E30: 0.2 U | CM30: Phosphorus | CN30: 0.02 U | CO30: 0.02 U | CP30: 0.02 U | CQ30: 0.02 U | CR30: 0.02 U | CS30: 0.02 U | CT30: 0.382 | CU30: 0.409 | CV30: 0.0239 | CW30: 0.02 U | CX30: 0.3 U | CY30: 0.3 U | CZ30: 0.3 U | DA30: 0.3 U | DB30: 0.3 U | DC30: 0.3 U | DD30: 0.02 U | DE30: 0.2 U | DG30: 0.02 U | DJ30: 0.2 U | DU30: 0.383 | DV30: 0.02 U | EE30: 0.02 U | EG30: 0.02 U | EI30: 0.02 U | EL30: 0.032 | EM30: 0.02 U | ER30: 0.2 U | FG30: 0.2 U | FK30: 0.02 U | FO30: 20 U | FS30: 2 U | FU30: 2 U | FX30: 2 U | FY30: 0.02 U | GB30: 0.02 U | GC30: 0.02 U | GE30: 8.8 | GK30: 0.02 U | GM30: 0.02 U | GP30: 0.02 U | GR30: 0.02 U | GT30: 0.02 U | GW30: 0.02 U | GZ30: 0.02 U | HB30: 0.02 U | HD30: 0.02 U | HF30: 2 U | HJ30: 8.72 | HL30: 0.037 | HQ30: 0.033 | HS30: 0.2 U | HU30: 2 U | HW30: 0.476 | HX30: 0.02 U | IA30: 0.02 U | IB30: 2 U | IE30: 57 | IG30: 0.052 | II30: 0.02 U | IL30: 0.02 U | IN30: 0.027 | IQ30: 2 U | IU30: 0.02 U | IY30: 0.02 U | JB30: 0.263 | JC30: 0.295 | JE30: 2 U | JG30: 2 U | JI30: 20 U | JK30: 0.2 U | JO30: 2 U | JR30: 20 U | JS30: 2 U | JU30: 0.02 U | JZ30: 2 U | KD30: 0.02 U | KF30: 0.022 | KI30: 2 U
A31: Sulfate | B31: =VLOOKUP(A31,Units!$B$2:$C$230,2,FALSE) -> mg/L | C31: 100 | D31: 1580 | E31: 3960 | F31: 5.34 | G31: 3.32 | H31: 1.44 | I31: 12 | J31: 1.64 | K31: 0.98 | L31: 4.4 | N31: 1.14 | O31: 1.29 | P31: 0.97 | Q31: 3.72 | R31: 3.15 | S31: 4.34 | T31: 3.01 | U31: 2.91 | V31: 1.68 | W31: 2.3 | X31: 1.73 | Y31: 1.38 | Z31: 1.88 | AA31: 2.52 | AB31: 8.19 | AC31: 7.91 | AD31: 2.42 | AE31: 1.43 | AF31: 8.5 | AG31: 7.94 J | AH31: 5.35 J | AI31: 6.91 | AJ31: 3.35 | AK31: 1.12 | AL31: 2.46 | AM31: 6.91 | AO31: 1.22 | AP31: 13.4 | AQ31: 5.23 | AR31: 6.57 | AS31: 1.41 | AT31: 1.28 | AU31: 2.58 | AW31: 1.6 | AX31: 5.07 | AY31: 2.62 | AZ31: 1.85 | BA31: 2.01 | BB31: 3.8 | BC31: 4.35 | BD31: 5.67 | BE31: 4.18 | BF31: 4.78 | BG31: 2.57 | BH31: 3.03 | BI31: 2.5 | BJ31: 3.54 | BK31: 6.59 | BL31: 12.3 | BM31: 35.6 | BN31: 5.18 | BO31: 5.01 | BP31: 1.72 | BQ31: 4.47 | BR31: 2.72 | BS31: 3.79 J | BT31: 2.1 | BV31: 4.04 | BW31: 2.17 | BX31: 2.05 | BY31: 2.99 | BZ31: 0.92 | CA31: 2.5 | CB31: 1.91 J | CC31: 0.78 | CD31: 1.03 | CE31: 1.17 | CF31: 1.04 | CG31: 7.76 | CH31: 2.17 | CI31: 7.4 | CJ31: 2.41 | CK31: 0.92 | CL31: 2.2 | CM31: Sulfate | CN31: 1970 | CO31: 1740 | CP31: 4680 | CQ31: 4820 | CR31: 1980 | CS31: 1560 | CT31: 873 | CU31: 841 | CV31: 3780 | CW31: 3450 | CX31: 902 | CY31: 931 | CZ31: 931 | DA31: 940 | DB31: 940 | DC31: 935 | DD31: 3880 | DE31: 1370 | DF31: 13500 | DG31: 1010 | DJ31: 7470 | DU31: 544 | DV31: 96.2 | EE31: 289 | EG31: 208 | EI31: 88.8 | EL31: 347 | EM31: 512 | ER31: 448 | FG31: 1110 | FK31: 176 | FO31: 4690 | FS31: 6450 | FU31: 8250 | FX31: 6790 | FY31: 2500 | GB31: 1440 | GC31: 1440 | GE31: 285 | GK31: 534 | GM31: 795 | GP31: 134 | GR31: 846 | GT31: 202 | GW31: 2890 | GZ31: 885 | HB31: 729 | HD31: 669 | HF31: 5570 | HJ31: 38300 | HL31: 2720 | HQ31: 18.6 | HS31: 4430 | HU31: 818 | HW31: 1300 | HX31: 519 | IA31: 556 | IB31: 8930 | IE31: 108000 | IG31: 11200 | II31: 2080 | IL31: 1780 | IN31: 1960 | IQ31: 357 | IU31: 1150 | IY31: 1800 | JB31: 2590 | JC31: 2780 | JE31: 3460 | JG31: 5220 | JI31: 66200 | JK31: 56800 J | JO31: 3800 | JR31: 15300 | JS31: 1840 | JU31: 1330 | JZ31: 3840 | KD31: 689 | KF31: 34.7 | KI31: 8840
A32: Dissolved Organic Carbon | B32: =VLOOKUP(A32,Units!$B$2:$C$230,2,FALSE) -> mg/L | C32: - | D32: 2.66 | E32: 7.1 | J32: 0.005 U | K32: 0.005 U | L32: 0.005 U | N32: 0.005 U | O32: 0.005 U | P32: 0.005 UJ | Q32: 0.005 U | R32: 0.005 U | S32: 0.005 U | T32: 0.005 U | U32: 0.005 UJ | V32: 0.005 UJ | W32: 0.005 U | X32: 0.005 UJ | Y32: 0.005 UJ | Z32: 0.005 UJ | AA32: 0.005 U | AB32: 0.01 U | AC32: 0.01 U | AD32: 0.005 U | AE32: 0.005 U | AF32: 0.05 UJ | AG32: 0.05 UJ | AH32: 0.05 UJ | AI32: 0.05 U | AK32: 0.005 UJ | AL32: 0.05 U | AM32: 0.05 UJ | AO32: 0.005 U | AP32: 0.05 UJ | AQ32: 0.05 UJ | AR32: 0.05 UJ | AS32: 0.005 U | AT32: 0.05 U | AU32: 0.05 UJ | AW32: 0.005 U | AX32: 0.005 U | AY32: 0.05 UJ | AZ32: 0.05 UJ | BA32: 0.05 UJ | BB32: 0.05 UJ | BC32: 0.05 UJ | BD32: 0.05 UJ | BE32: 0.05 UJ | BF32: 0.05 UJ | BG32: 0.05 UJ | BH32: 0.05 U | BI32: 0.005 U | BJ32: 0.005 U | BK32: 0.005 U | BL32: 0.005 U | BM32: 0.005 UJ | BN32: 0.005 UJ | BO32: 0.005 UJ | BP32: 0.005 U | BQ32: 0.005 U | BR32: 0.005 U | BS32: 0.005 U | BT32: 0.005 U | BV32: 0.005 U | BW32: 0.005 U | BX32: 0.005 UJ | BY32: 0.005 UJ | BZ32: 0.005 U | CA32: 0.05 UJ | CB32: 0.005 U | CC32: 0.005 UJ | CD32: 0.005 UJ | CE32: 0.005 U | CF32: 0.005 U | CG32: 0.005 U | CH32: 0.005 U | CI32: 0.05 UJ | CJ32: 0.05 UJ | CK32: 0.005 U | CL32: 0.05 UJ | CM32: Carbon, dissolved organic (DOC) | CN32: 3.61 | CO32: 4.48 | CP32: 7.25 | CQ32: 7.47 | CR32: 3.03 | CS32: 4.36 | CT32: 2.38 | CU32: 3.32 | CV32: 11.8 | CW32: 13.1 | CX32: 1.92 | CY32: 1.78 | CZ32: 1.78 | DA32: 1.87 | DB32: 1.87 | DC32: 1.83 | DD32: 6.78 | DE32: 5.68 | DG32: 2.14 | DJ32: 4.78 | DU32: 2.07 | DV32: 11.5 | EE32: 0.77 | EG32: 0.96 | EI32: 1.54 | EL32: 0.91 | EM32: 0.85 | ER32: 9.88 | FG32: 2.27 | FK32: 1.4 | FO32: 1.68 | FS32: 5.16 | FU32: 6.24 | FX32: 5.12 | FY32: 3.24 | GB32: 3.73 | GC32: 3.73 | GE32: 5.23 | GK32: 0.53 | GM32: 1 | GP32: 3.83 | GR32: 3.85 | GT32: 2.89 | GW32: 5.15 | GZ32: 2.71 | HB32: 2.48 | HD32: 1.67 | HF32: 6.29 | HJ32: 19.5 | HL32: 0.86 | HQ32: 3.74 | HS32: 9.83 | HU32: 1.15 | HW32: 1.46 | HX32: 2.37 | IA32: 0.75 | IB32: 6.96 | IE32: 44.2 | IG32: 9.22 | II32: 4.74 | IL32: 2.89 | IN32: 2.99 | IQ32: 7.19 | IU32: 2.7 | IY32: 5.54 | JB32: 2.98 | JC32: 0.74 | JE32: 3.12 | JG32: 4.49 | JI32: 47.6 | JK32: 27.5 | JO32: 2.03 | JR32: 15.1 | JS32: 1.04 | JU32: 2.72 | JZ32: 2.37 | KD32: 3.33 | KF32: 2.42 | KI32: 7.15
A33: Free Cyanide | B33: =VLOOKUP(A33,Units!$B$2:$C$230,2,FALSE) -> mg/L | C33: 0.005
A34: Dissolved Metals | F34: 0.34 | G34: 0.0044 | H34: 0.0026 | I34: 0.0074 | J34: 0.005 U | K34: 0.01 | L34: 0.0082 | N34: 0.04 | O34: 0.002 | P34: 0.0012 | Q34: 0.0043 | R34: 0.0032 | S34: 0.02 | T34: 0.0014 | U34: 0.0033 | V34: 0.0017 | W34: 0.004 | X34: 0.0014 | Y34: 0.002 | Z34: 0.001 U | AA34: 0.0014 | AB34: 0.01 | AC34: 0.01 U | AD34: 0.0029 | AE34: 0.0016 | AF34: 0.05 | AG34: 0.04 | AH34: 0.05 | AI34: 0.1 | AJ34: 16.7 | AK34: 0.001 U | AL34: 0.03 | AM34: 0.13 | AO34: 0.0032 | AP34: 0.04 | AQ34: 0.15 | AR34: 0.09 | AS34: 0.0016 | AT34: 1.48 | AU34: 0.06 | AW34: 0.01 | AX34: 0.0037 | AY34: 0.01 | AZ34: 0.05 | BA34: 0.04 | BB34: 0.01 | BC34: 0.08 | BD34: 0.1 U | BE34: 0.38 | BF34: 0.35 | BG34: 0.42 | BH34: 0.03 | BI34: 0.0085 | BJ34: 0.0037 | BK34: 0.0089 | BL34: 0.0083 | BM34: 0.01 | BN34: 0.0041 | BO34: 0.0039 | BP34: 0.0014 | BQ34: 0.0081 | BR34: 0.0091 | BS34: 0.0063 | BT34: 0.005 U | BV34: 0.01 U | BW34: 0.005 U | BX34: 0.01 | BY34: 0.002 U | BZ34: 0.0026 | CA34: 0.43 | CB34: 0.0068 | CC34: 0.0016 | CD34: 0.001 U | CE34: 0.001 U | CF34: 0.001 U | CG34: 0.0041 | CH34: 0.0012 | CI34: 5.53 | CJ34: 0.05 | CK34: 0.001 U | CL34: 0.05 | CM34: Dissolved Metals
A35: Aluminum, Dissolved | B35: =VLOOKUP(A35,Units!$B$2:$C$230,2,FALSE) -> mg/L | C35: 0.005 to 0.1b | D35: 0.0053 | E35: 0.33 | G35: =IF(#REF!>=6.5,0.1,0.005) -> #REF! | CM35: Aluminum, dissolved | CN35: 0.0054 | CO35: 0.005 U | CP35: 0.147 | CQ35: 0.177 | CR35: 0.0121 J | CS35: 0.0036 U | CT35: 0.0038 | CU35: 0.002 U | CV35: 0.0328 | CW35: 0.0065 U | CX35: 0.0072 | CY35: 0.0091 | CZ35: 0.0091 | DA35: 0.0095 | DB35: 0.0095 | DC35: 0.0123 | DD35: 47 | DE35: 2 | DF35: 0.025 | DG35: 29.1 | DJ35: 6.28 | DU35: 0.0521 | DV35: 0.0271 | EE35: 0.0615 | EG35: 0.0013 | EI35: 0.0067 | EL35: 0.0746 | EM35: 0.247 | ER35: 0.0195 | FG35: 3.32 | FK35: 0.151 | FO35: 15.3 | FS35: 10.3 | FU35: 1.94 | FX35: 0.1 U | FY35: 0.02 U | GB35: 0.0041 | GC35: 0.0041 | GE35: 0.0146 | GK35: 0.001 U | GM35: 1.21 | GP35: 0.0024 | GR35: 0.0082 | GT35: 0.009 | GW35: 0.094 | GZ35: 0.0017 | HB35: 0.0024 | HD35: 5.06 | HF35: 0.1 U | HJ35: 574 | HL35: 0.131 | HQ35: 0.0091 | HS35: 0.172 | HU35: 3.43 | HW35: 9.89 | HX35: 0.0653 | IA35: 0.0035 | IB35: 0.2 U | IE35: 1060 | IG35: 17.4 | II35: 0.025 J | IL35: 0.0031 | IN35: 0.0024 | IQ35: 0.0038 | IU35: 0.0024 | IY35: 0.0021 | JB35: 0.201 | JC35: 0.379 | JE35: 0.213 J | JG35: 0.44 | JI35: 1070 | JK35: 570 | JO35: 82.4 | JR35: 13.3 | JS35: 18.8 | JU35: 0.0026 | JZ35: 12.4 | KD35: 0.0044 | KF35: 0.0033 | KI35: 0.1 U
A36: Al guideline | D36: =IF(D8>=6.5,0.1,0.005) -> 0.1 | E36: =IF(E8>=6.5,0.1,0.005) -> 0.1 | F36: 0.005 U | G36: 0.0002 U | H36: 0.0001 U | I36: 0.0005 U | J36: 0.0005 U | K36: 0.0001 U | L36: 0.00014 | N36: 0.0002 U | O36: 0.0001 U | P36: 0.0001 U | Q36: 0.0001 U | R36: 0.0001 U | S36: 0.00021 | T36: 0.0001 | U36: 0.00011 | V36: 0.00013 | W36: 0.00014 | X36: 0.0001 U | Y36: 0.0001 U | Z36: 0.00014 | AA36: 0.00012 | AB36: 0.0017 | AC36: 0.0018 | AD36: 0.0002 U | AE36: 0.0001 U | AF36: 0.005 U | AG36: 0.002 U | AH36: 0.002 U | AI36: 0.005 U | AJ36: 0.001 U | AK36: 0.0001 U | AL36: 0.0005 U | AM36: 0.01 U | AO36: 0.0001 U | AP36: 0.002 U | AQ36: 0.01 U | AR36: 0.005 U | AS36: 0.0001 U | AT36: 0.001 U | AU36: 0.002 U | AW36: 0.0005 U | AX36: 0.0001 | AY36: 0.001 U | AZ36: 0.002 U | BA36: 0.001 U | BB36: 0.0005 U | BC36: 0.002 U | BD36: 0.01 U | BE36: 0.01 U | BF36: 0.01 U | BG36: 0.001 U | BH36: 0.001 U | BI36: 0.0005 U | BJ36: 0.0001 U | BK36: 0.0002 U | BL36: 0.00036 | BM36: 0.00018 | BN36: 0.00315 | BO36: 0.00291 | BP36: 0.0001 U | BQ36: 0.0002 U | BR36: 0.0002 U | BS36: 0.0005 U | BT36: 0.0005 U | BV36: 0.001 U | BW36: 0.0005 U | BX36: 0.001 U | BY36: 0.0002 U | BZ36: 0.0001 U | CA36: 0.001 U | CB36: 0.0005 U | CC36: 0.00019 | CD36: 0.00012 | CE36: 0.0001 U | CF36: 0.0001 U | CG36: 0.00024 | CH36: 0.0001 U | CI36: 0.01 U | CJ36: 0.001 U | CK36: 0.0001 U | CL36: 0.001 U | CM36: Al guideline | CN36: =IF(CN8>=6.5,0.1,0.005) -> 0.1 | CO36: =IF(CO8>=6.5,0.1,0.005) -> 0.005 | CP36: =IF(CP8>=6.5,0.1,0.005) -> 0.005 | CQ36: =IF(#REF!>=6.5,0.1,0.005) -> #REF! | CR36: =IF(CR8>=6.5,0.1,0.005) -> 0.1 | CS36: =IF(CS8>=6.5,0.1,0.005) -> 0.1 | CT36: =IF(CT8>=6.5,0.1,0.005) -> 0.1 | CU36: =IF(CU8>=6.5,0.1,0.005) -> 0.1 | CV36: =IF(CV8>=6.5,0.1,0.005) -> 0.005 | CW36: =IF(CW8>=6.5,0.1,0.005) -> 0.005 | CX36: =IF(CX8>=6.5,0.1,0.005) -> 0.005 | CY36: =IF(CY8>=6.5,0.1,0.005) -> 0.005 | ... KI36: =IF(KI8>=6.5,0.1,0.005) -> 0.1
A37: Antimony (Sb), Dissolved | B37: =VLOOKUP(A37,Units!$B$2:$C$230,2,FALSE) -> mg/L | C37: 1.6 | D37: 0.0005 U | E37: 0.005 U | F37: 0.005 | G37: 0.00023 | H37: 0.01 | I37: 0.00135 | J37: 0.0005 U | K37: 0.00029 | L37: 0.00021 | N37: 0.00221 | O37: 0.00249 | P37: 0.00298 | Q37: 0.00021 | R37: 0.00015 | S37: 0.00054 | T37: 0.00041 | U37: 0.00019 | V37: 0.00018 | W37: 0.0003 | X37: 0.00464 | Y37: 0.00012 | Z37: 0.00019 | AA37: 0.00024 | AB37: 0.0014 | AC37: 0.0016 | AD37: 0.00304 | AE37: 0.02 | AF37: 0.005 U | AG37: 0.01 | AH37: 0.01 | AI37: 0.005 U | AJ37: 0.02 | AK37: 0.00055 | AL37: 0.00729 | AM37: 0.01 U | AO37: 0.00014 | AP37: 0.01 | AQ37: 0.01 U | AR37: 0.005 U | AS37: 0.01 | AT37: 0.001 U | AU37: 0.002 U | AW37: 0.0033 | AX37: 0.00603 | AY37: 0.01 | AZ37: 0.01 | BA37: 0.0076 | BB37: 0.00227 | BC37: 0.01 | BD37: 0.01 U | BE37: 0.01 U | BF37: 0.01 U | BG37: 0.0013 | BH37: 0.0017 | BI37: 0.01 | BJ37: 0.00028 | BK37: 0.00068 | BL37: 0.00131 | BM37: 0.00092 | BN37: 0.00105 | BO37: 0.00139 | BP37: 0.00175 | BQ37: 0.0002 U | BR37: 0.0002 U | BS37: 0.0005 U | BT37: 0.0005 U | BV37: 0.0032 | BW37: 0.00383 | BX37: 0.0015 | BY37: 0.00196 | BZ37: 0.00013 | CA37: 0.0014 | CB37: 0.0005 U | CC37: 0.00018 | CD37: 0.00015 | CE37: 0.00038 | CF37: 0.00015 | CG37: 0.00566 | CH37: 0.00016 | CI37: 0.05 | CJ37: 0.01 | CK37: 0.0004 | CL37: 0.01 | CM37: Antimony (Sb)-Dissolved | CN37: 0.0005 U | CO37: 0.0005 U | CP37: 0.002 U | CQ37: 0.005 U | CR37: 0.0002 U | CS37: 0.0002 U | CT37: 0.0002 U | CU37: 0.0002 U | CV37: 0.0005 U | CW37: 0.0005 U | CX37: 0.0005 U | CY37: 0.0005 U | CZ37: 0.0005 U | DA37: 0.0005 U | DB37: 0.0005 U | DC37: 0.0005 U | DD37: 0.002 U | DE37: 0.0005 U | DF37: 0.002 U | DG37: 0.002 U | DJ37: 0.005 U | DU37: 0.0001 U | DV37: 0.00011 | EE37: 0.0002 U | EG37: 0.0001 U | EI37: 0.0001 U | EL37: 0.0005 U | EM37: 0.0005 U | ER37: 0.0005 U | FG37: 0.0002 U | FK37: 0.0001 U | FO37: 0.01 U | FS37: 0.01 U | FU37: 0.01 U | FX37: 0.01 U | FY37: 0.002 U | GB37: 0.00022 | GC37: 0.00022 | GE37: 0.00078 | GK37: 0.00015 | GM37: 0.0027 | GP37: 0.0001 U | GR37: 0.0001 U | GT37: 0.00011 | GW37: 0.002 U | GZ37: 0.0001 U | HB37: 0.0002 U | HD37: 0.0001 U | HF37: 0.01 U | HJ37: 0.1 U | HL37: 0.00028 | HQ37: 0.0001 U | HS37: 0.002 U | HU37: 0.0005 U | HW37: 0.001 U | HX37: 0.0001 U | IA37: 0.0001 U | IB37: 0.02 U | IE37: 2.98 | IG37: 0.02 U | II37: 0.001 U | IL37: 0.00077 | IN37: 0.00144 | IQ37: 0.0002 U | IU37: 0.00056 | IY37: 0.00033 | JB37: 0.001 U | JC37: 0.002 U | JE37: 0.005 U | JG37: 0.01 U | JI37: 0.1 U | JK37: 0.1 U | JO37: 0.005 U | JR37: 0.02 U | JS37: 0.005 U | JU37: 0.00025 | JZ37: 0.01 U | KD37: 0.00014 | KF37: 0.00013 | KI37: 0.01 U
A38: Arsenic (As), Dissolved | B38: =VLOOKUP(A38,Units!$B$2:$C$230,2,FALSE) -> mg/L | C38: 0.005 | D38: 0.0005 U | E38: 0.005 U | F38: 0.02 | G38: 0.01 | H38: 0.03 | I38: 0.01 | J38: 0.02 | K38: 0.22 | L38: 0.04 | N38: 0.68 | O38: 0.05 | P38: 0.04 | Q38: 0.16 | R38: 0.2 | S38: 0.14 | T38: 0.16 | U38: 0.06 | V38: 0.06 | W38: 0.05 | X38: 0.16 | Y38: 0.05 | Z38: 0.06 | AA38: 0.09 | AB38: 0.0033 | AC38: 0.0031 | AD38: 0.01 | AE38: 0.15 | AF38: 0.0052 | AG38: 0.01 | AH38: 0.01 | AI38: 0.0056 | AJ38: 0.05 | AK38: 0.06 | AL38: 0.04 | AM38: 0.01 | AO38: 0.04 | AP38: 0.0097 | AQ38: 0.1 | AR38: 0.0079 | AS38: 0.24 | AT38: 0.01 | AU38: 0.0047 | AW38: 0.01 | AX38: 0.06 | AY38: 0.00946 | AZ38: 0.0069 | BA38: 0.03 | BB38: 0.03 | BC38: 0.04 | BD38: 0.0096 | BE38: 0.005 | BF38: 0.005 U | BG38: 0.00983 | BH38: 0.01 | BI38: 0.00674 | BJ38: 0.27 | BK38: 0.2 | BL38: 0.02 | BM38: 0.01 | BN38: 0.02 | BO38: 0.03 | BP38: 0.02 | BQ38: 0.03 | BR38: 0.02 | BS38: 0.02 | BT38: 0.02 | BV38: 0.01 | BW38: 0.02 | BX38: 0.02 | BY38: 0.15 | BZ38: 0.04 | CA38: 0.00967 | CB38: 0.02 | CC38: 0.09 | CD38: 0.13 | CE38: 0.18 | CF38: 0.1 | CG38: 0.1 | CH38: 0.07 | CI38: 0.0068 | CJ38: 0.01 J | CK38: 0.18 | CL38: 0.01 J | CM38: Arsenic (As)-Dissolved | CN38: 0.0005 U | CO38: 0.0005 U | CP38: 0.002 U | CQ38: 0.005 U | CR38: 0.0002 U | CS38: 0.00044 | CT38: 0.0154 | CU38: 0.0145 | CV38: 0.00169 | CW38: 0.00136 | CX38: 0.0005 U | CY38: 0.0005 U | CZ38: 0.0005 U | DA38: 0.0005 U | DB38: 0.0005 U | DC38: 0.0005 U | DD38: 0.0267 | DE38: 0.0402 | DF38: 0.002 U | DG38: 0.002 U | DJ38: 0.005 U | DU38: 0.00034 | DV38: 0.00045 | EE38: 0.0002 U | EG38: 0.00013 | EI38: 0.0001 U | EL38: 0.0005 U | EM38: 0.0005 U | ER38: 0.00191 | FG38: 0.00092 | FK38: 0.00042 | FO38: 0.422 | FS38: 0.06 | FU38: 0.094 | FX38: 0.02 | FY38: 0.002 U | GB38: 0.00112 | GC38: 0.00112 | GE38: 0.00283 | GK38: 0.00036 | GM38: 0.28 | GP38: 0.00016 | GR38: 0.00017 | GT38: 0.0003 | GW38: 0.002 U | GZ38: 0.00018 | HB38: 0.00023 | HD38: 0.00059 | HF38: 0.01 U | HJ38: 8.52 | HL38: 0.00036 | HQ38: 0.00011 | HS38: 0.002 U | HU38: 0.0005 U | HW38: 0.001 U | HX38: 0.00027 | IA38: 0.00022 | IB38: 0.02 U | IE38: 595 | IG38: 0.02 U | II38: 0.001 U | IL38: 0.00323 | IN38: 0.00454 | IQ38: 0.001 | IU38: 0.00102 | IY38: 0.00277 | JB38: 0.0017 | JC38: 0.002 U | JE38: 0.0054 | JG38: 0.1 | JI38: 0.23 | JK38: 0.14 | JO38: 0.0242 | JR38: 0.053 | JS38: 0.0123 | JU38: 0.00031 | JZ38: 0.099 | KD38: 0.00021 | KF38: 0.00019 | KI38: 0.01 U
A39: Barium (Ba), Dissolved | B39: =VLOOKUP(A39,Units!$B$2:$C$230,2,FALSE) -> mg/L | C39: 2.3 | D39: 0.02 | E39: 0.02 | F39: 0.005 U | G39: 0.0002 U | H39: 0.0001 U | I39: 0.0005 U | J39: 0.0005 U | K39: 0.00058 | L39: 0.00059 | N39: 0.00202 | O39: 0.0001 U | P39: 0.0001 U | Q39: 0.0001 U | R39: 0.0001 U | S39: 0.0001 U | T39: 0.0001 U | U39: 0.0001 U | V39: 0.0001 U | W39: 0.0001 U | X39: 0.0001 U | Y39: 0.0001 U | Z39: 0.0001 U | AA39: 0.0001 U | AB39: 0.001 U | AC39: 0.001 U | AD39: 0.0002 U | AE39: 0.0001 U | AF39: 0.005 U | AG39: 0.002 U | AH39: 0.002 U | AI39: 0.005 U | AJ39: 0.0082 | AK39: 0.0001 U | AL39: 0.0005 U | AM39: 0.01 U | AO39: 0.0001 U | AP39: 0.002 U | AQ39: 0.01 U | AR39: 0.005 U | AS39: 0.0001 U | AT39: 0.0014 | AU39: 0.002 U | AW39: 0.0005 U | AX39: 0.0001 U | AY39: 0.001 U | AZ39: 0.002 U | BA39: 0.001 U | BB39: 0.0005 U | BC39: 0.002 U | BD39: 0.01 U | BE39: 0.01 U | BF39: 0.01 U | BG39: 0.0015 | BH39: 0.001 U | BI39: 0.0005 U | BJ39: 0.0001 U | BK39: 0.0002 U | BL39: 0.0001 U | BM39: 0.0001 U | BN39: 0.0001 U | BO39: 0.0001 U | BP39: 0.0001 U | BQ39: 0.0002 U | BR39: 0.0002 U | BS39: 0.0005 U | BT39: 0.0005 U | BV39: 0.001 U | BW39: 0.0005 U | BX39: 0.001 U | BY39: 0.0002 U | BZ39: 0.0001 U | CA39: 0.0014 | CB39: 0.0005 U | CC39: 0.0001 U | CD39: 0.0001 U | CE39: 0.0001 U | CF39: 0.0001 U | CG39: 0.0002 U | CH39: 0.0001 U | CI39: 0.01 | CJ39: 0.001 U | CK39: 0.0001 U | CL39: 0.001 U | CM39: Barium (Ba)-Dissolved | CN39: 0.0247 | CO39: 0.022 | CP39: 0.0203 | CQ39: 0.0233 | CR39: 0.0176 | CS39: 0.021 | CT39: 0.0352 | CU39: 0.0358 | CV39: 0.0161 | CW39: 0.0158 | CX39: 0.0126 | CY39: 0.0126 | CZ39: 0.0126 | DA39: 0.0124 | DB39: 0.0124 | DC39: 0.0121 | DD39: 0.069 | DE39: 0.0849 | DF39: 0.0425 | DG39: 0.0366 | DJ39: 0.0133 | DU39: 0.0228 | DV39: 0.0482 | EE39: 0.0165 | EG39: 0.0311 | EI39: 0.0289 | EL39: 0.0163 | EM39: 0.0131 | ER39: 0.109 | FG39: 0.00911 | FK39: 0.0185 | FO39: 0.0054 | FS39: 0.0093 | FU39: 0.0137 | FX39: 0.0094 | FY39: 0.0229 | GB39: 0.0283 | GC39: 0.0283 | GE39: 0.0261 | GK39: 0.0137 | GM39: 0.0121 | GP39: 0.0146 | GR39: 0.0701 | GT39: 0.165 | GW39: 0.0222 | GZ39: 0.0206 | HB39: 0.021 | HD39: 0.0293 | HF39: 0.014 | HJ39: 0.05 U | HL39: 0.0108 | HQ39: 0.074 | HS39: 0.0526 | HU39: 0.0134 | HW39: 0.00903 | HX39: 0.0233 | IA39: 0.0184 | IB39: 0.017 | IE39: 0.25 U | IG39: 0.025 | II39: 0.0198 | IL39: 0.0313 | IN39: 0.0137 | IQ39: 0.2 | IU39: 0.0193 | IY39: 0.0273 | JB39: 0.0081 | JC39: 0.009 | JE39: 0.0117 | JG39: 0.013 | JI39: 0.05 U | JK39: 0.05 U | JO39: 0.0155 | JR39: 0.016 | JS39: 0.0178 | JU39: 0.0311 | JZ39: 0.005 U | KD39: 0.0665 | KF39: 0.102 | KI39: 0.0165
A40: Beryllium (Be), Dissolved | B40: =VLOOKUP(A40,Units!$B$2:$C$230,2,FALSE) -> mg/L | C40: 0.0053 | D40: 0.0005 U | E40: 0.005 U | F40: 0.5 U | G40: 0.02 U | H40: 0.01 U | I40: 0.05 U | J40: 0.05 U | K40: 0.05 | L40: 0.04 | N40: 0.1 | O40: 0.01 U | P40: 0.01 U | Q40: 0.01 U | R40: 0.01 U | S40: 0.01 U | T40: 0.01 U | U40: 0.01 U | V40: 0.01 U | W40: 0.01 U | X40: 0.01 U | Y40: 0.01 U | Z40: 0.01 U | AA40: 0.01 U | AB40: 0.1 U | AC40: 0.1 U | AD40: 0.02 U | AE40: 0.01 U | AF40: 0.5 U | AG40: 0.2 U | AH40: 0.2 U | AI40: 0.5 U | AJ40: 0.1 U | AK40: 0.01 U | AL40: 0.05 U | AM40: 1 U | AO40: 0.01 U | AP40: 0.2 U | AQ40: 1 U | AR40: 0.5 U | AS40: 0.01 U | AT40: 0.1 U | AU40: 0.2 U | AW40: 0.05 U | AX40: 0.01 U | AY40: 0.1 U | AZ40: 0.2 U | BA40: 0.1 U | BB40: 0.05 U | BC40: 0.2 U | BD40: 1 U | BE40: 1 U | BF40: 1 U | BG40: 0.1 U | BH40: 0.1 U | BI40: 0.05 U | BJ40: 0.01 U | BK40: 0.02 U | BL40: 0.01 U | BM40: 0.01 U | BN40: 0.01 U | BO40: 0.01 U | BP40: 0.01 U | BQ40: 0.02 U | BR40: 0.02 U | BS40: 0.05 U | BT40: 0.05 U | BV40: 0.1 U | BW40: 0.05 U | BX40: 0.1 U | BY40: 0.02 U | BZ40: 0.01 U | CA40: 0.1 U | CB40: 0.05 U | CC40: 0.01 U | CD40: 0.01 U | CE40: 0.01 U | CF40: 0.01 U | CG40: 0.02 U | CH40: 0.01 U | CI40: 1 U | CJ40: 0.1 U | CK40: 0.01 U | CL40: 0.1 U | CM40: Beryllium (Be)-Dissolved | CN40: 0.0005 U | CO40: 0.0005 U | CP40: 0.002 U | CQ40: 0.005 U | CR40: 0.0002 U | CS40: 0.0002 U | CT40: 0.0002 U | CU40: 0.0002 U | CV40: 0.0005 U | CW40: 0.0005 U | CX40: 0.0005 U | CY40: 0.0005 U | CZ40: 0.0005 U | DA40: 0.0005 U | DB40: 0.0005 U | DC40: 0.0005 U | DD40: 0.0185 | DE40: 0.00186 | DF40: 0.002 U | DG40: 0.0093 | DJ40: 0.005 U | DU40: 0.0001 U | DV40: 0.0001 U | EE40: 0.0003 | EG40: 0.0001 U | EI40: 0.0001 U | EL40: 0.0005 U | EM40: 0.0015 | ER40: 0.0005 U | FG40: 0.00042 | FK40: 0.0001 U | FO40: 0.01 U | FS40: 0.01 U | FU40: 0.01 U | FX40: 0.01 U | FY40: 0.002 U | GB40: 0.0002 U | GC40: 0.0002 U | GE40: 0.0001 U | GK40: 0.0001 U | GM40: 0.001 U | GP40: 0.0001 U | GR40: 0.0001 U | GT40: 0.0001 U | GW40: 0.002 U | GZ40: 0.0001 U | HB40: 0.0002 U | HD40: 0.00151 | HF40: 0.01 U | HJ40: 0.2 | HL40: 0.0002 U | HQ40: 0.0001 U | HS40: 0.002 U | HU40: 0.00162 | HW40: 0.0034 | HX40: 0.0001 U | IA40: 0.0001 U | IB40: 0.02 U | IE40: 0.5 U | IG40: 0.02 U | II40: 0.001 U | IL40: 0.0002 U | IN40: 0.0002 U | IQ40: 0.0002 U | IU40: 0.0001 U | IY40: 0.0002 U | JB40: 0.001 U | JC40: 0.002 U | JE40: 0.005 U | JG40: 0.01 U | JI40: 0.1 U | JK40: 0.1 U | JO40: 0.0123 | JR40: 0.02 U | JS40: 0.005 U | JU40: 0.0002 U | JZ40: 0.01 U | KD40: 0.0001 U | KF40: 0.0001 U | KI40: 0.01 U
A41: Boron (B), Dissolved | B41: =VLOOKUP(A41,Units!$B$2:$C$230,2,FALSE) -> mg/L | C41: 1.5 | D41: 0.05 U | E41: 0.5 U | F41: 0.11 | G41: 0.000459 | H41: 0.000005 U | I41: 0.00514 | J41: 3.7e-05 | K41: 0.000005 U | L41: 0.000005 U | N41: 0.00001 U | O41: 5.9e-06 | P41: 0.000005 U | Q41: 7.08e-05 | R41: 0.000102 | S41: 2.96e-05 | T41: 1.75e-05 | U41: 1.52e-05 | V41: 7.1e-06 | W41: 3.21e-05 | X41: 6e-06 | Y41: 1.01e-05 | Z41: 8.7e-06 | AA41: 2.09e-05 | AB41: 0.00128 | AC41: 0.00103 | AD41: 0.000194 | AE41: 0.000005 U | AF41: 0.00025 U | AG41: 0.0001 U | AH41: 0.0001 U | AI41: 0.00025 U | AJ41: 0.08 | AK41: 6.73e-05 | AL41: 4.4e-05 | AM41: 0.0005 U | AO41: 0.00114 | AP41: 0.0001 U | AQ41: 0.0005 U | AR41: 0.00025 U | AS41: 0.000005 U | AT41: 0.01 | AU41: 0.0001 U | AW41: 3.8e-05 | AX41: 0.000005 U | AY41: 0.00005 U | AZ41: 0.0001 U | BA41: 0.000311 | BB41: 0.000495 | BC41: 0.0001 U | BD41: 0.0005 U | BE41: 0.0005 U | BF41: 0.0005 U | BG41: 0.02 | BH41: 0.00623 | BI41: 0.000658 | BJ41: 0.000458 | BK41: 0.00122 | BL41: 0.000005 U | BM41: 0.000005 U | BN41: 0.000005 U | BO41: 0.000005 U | BP41: 0.000005 U | BQ41: 0.00106 | BR41: 0.00126 | BS41: 0.000025 U | BT41: 0.000025 U | BV41: 0.00005 U | BW41: 0.000151 | BX41: 0.000275 | BY41: 0.000384 | BZ41: 0.00113 | CA41: 0.01 | CB41: 0.000025 U | CC41: 3.97e-05 | CD41: 1.42e-05 | CE41: 9.48e-05 | CF41: 0.000005 U | CG41: 2.6e-05 | CH41: 0.000274 | CI41: 0.00053 | CJ41: 0.00005 U | CK41: 8.38e-05 | CL41: 0.00005 U | CM41: Boron (B)-Dissolved | CN41: 0.05 U | CO41: 0.05 U | CP41: 0.2 U | CQ41: 0.5 U | CR41: 0.02 U | CS41: 0.02 U | CT41: 0.02 U | CU41: 0.02 U | CV41: 0.05 U | CW41: 0.05 U | CX41: 0.05 U | CY41: 0.05 U | CZ41: 0.05 U | DA41: 0.05 U | DB41: 0.05 U | DC41: 0.05 U | DD41: 0.2 U | DE41: 0.05 U | DF41: 0.2 U | DG41: 0.2 U | DJ41: 0.5 U | DU41: 0.01 U | DV41: 0.01 U | EE41: 0.02 U | EG41: 0.01 U | EI41: 0.01 U | EL41: 0.05 U | EM41: 0.05 U | ER41: 0.05 U | FG41: 0.02 U | FK41: 0.01 U | FO41: 1 U | FS41: 1 U | FU41: 1 U | FX41: 1 U | FY41: 0.2 U | GB41: 0.02 U | GC41: 0.02 U | GE41: 0.01 U | GK41: 0.01 U | GM41: 0.1 U | GP41: 0.01 U | GR41: 0.01 U | GT41: 0.01 U | GW41: 0.2 U | GZ41: 0.01 U | HB41: 0.02 U | HD41: 0.01 U | HF41: 1 U | HJ41: 10 U | HL41: 0.02 U | HQ41: 0.01 U | HS41: 0.2 U | HU41: 0.05 U | HW41: 0.1 U | HX41: 0.01 U | IA41: 0.01 U | IB41: 2 U | IE41: 50 U | IG41: 2 U | II41: 0.1 U | IL41: 0.02 U | IN41: 0.02 U | IQ41: 0.02 U | IU41: 0.01 U | IY41: 0.02 U | JB41: 0.1 U | JC41: 0.2 U | JE41: 0.5 U | JG41: 1 U | JI41: 10 U | JK41: 10 U | JO41: 0.5 U | JR41: 2 U | JS41: 0.5 U | JU41: 0.02 U | JZ41: 1 U | KD41: 0.01 U | KF41: 0.01 U | KI41: 1 U
A42: Cadmium (Cd), Dissolved | B42: =VLOOKUP(A42,Units!$B$2:$C$230,2,FALSE) -> mg/L | C42: Variablec | D42: 0.000329 | E42: 0.1 | G42: =IF(AND(G9>17,G9<=280),10^(0.83*(LOG(G9,10))-2.46)/1000,0.00037) -> 0.00037 | CM42: Cadmium (Cd)-Dissolved | CN42: 0.000941 | CO42: 0.000713 | CP42: 0.187 | CQ42: 0.316 | CR42: 0.000232 | CS42: 0.000325 | CT42: 0.00001 U | CU42: 0.00001 U | CV42: 0.00428 | CW42: 0.00518 | CX42: 0.0117 | CY42: 0.0128 | CZ42: 0.0128 | DA42: 0.0123 | DB42: 0.0123 | DC42: 0.0116 | DD42: 0.144 | DE42: 0.0316 | DF42: 0.00258 | DG42: 0.154 | DJ42: 0.203 | DU42: 0.00348 | DV42: 0.000319 | EE42: 0.0159 | EG42: 0.000779 | EI42: 0.00164 | EL42: 0.0376 | EM42: 0.0581 | ER42: 2.7e-05 | FG42: 0.00182 | FK42: 0.000222 | FO42: 0.622 | FS42: 0.11 | FU42: 0.0182 | FX42: 0.0575 | FY42: 0.0273 | GB42: 0.00001 U | GC42: 0.00001 U | GE42: 2.31e-05 | GK42: 2.27e-05 | GM42: 0.0693 | GP42: 9.3e-06 | GR42: 0.00019 | GT42: 3.98e-05 | GW42: 0.0674 | GZ42: 0.00469 | HB42: 0.00741 | HD42: 0.00732 | HF42: 0.117 | HJ42: 5.58 | HL42: 0.0228 | HQ42: 0.000255 | HS42: 0.0535 | HU42: 0.159 | HW42: 0.0766 | HX42: 0.00417 | IA42: 0.00363 | IB42: 0.154 | IE42: 44.3 | IG42: 1 | II42: 0.0707 | IL42: 0.00187 | IN42: 0.000401 | IQ42: 0.000126 | IU42: 0.00345 | IY42: 7.9e-05 | JB42: 0.129 | JC42: 0.159 | JE42: 0.0874 | JG42: 0.193 | JI42: 9.73 | JK42: 4.84 | JO42: 0.471 | JR42: 0.109 | JS42: 0.184 | JU42: 1.2e-05 | JZ42: 0.663 | KD42: 1.89e-05 | KF42: 7.2e-06 | KI42: 0.158
A43: Cd guideline | D43: =IF(AND(D10>17,D10<=280),10^(0.83*(LOG(D10,10))-2.46)/1000,0.00037) -> 0.00037 | E43: =IF(AND(E10>17,E10<=280),10^(0.83*(LOG(E10,10))-2.46)/1000,0.00037) -> 0.00037 | F43: 398 | G43: 444 | H43: 298 | I43: 695 | J43: 579 | K43: 94.9 | L43: 247 | N43: 258 | O43: 99.6 | P43: 81.3 | Q43: 167 | R43: 180 | S43: 106 | T43: 108 | U43: 42.7 | V43: 46.4 | W43: 42.2 | X43: 79.3 | Y43: 70.7 | Z43: 78.1 | AA43: 92.7 | AB43: 437 | AC43: 438 | AD43: 185 | AE43: 139 | AF43: 432 | AG43: 508 | AH43: 513 | AI43: 407 | AJ43: 277 | AK43: 119 | AL43: 66.8 | AM43: 207 | AO43: 168 | AP43: 218 | AQ43: 410 | AR43: 384 | AS43: 83 | AT43: 118 | AU43: 277 | AW43: 353 | AX43: 233 | AY43: 517 | AZ43: 391 | BA43: 299 | BB43: 305 | BC43: 391 | BD43: 439 | BE43: 430 | BF43: 427 | BG43: 418 | BH43: 444 | BI43: 298 | BJ43: 157 | BK43: 161 | BL43: 188 | BM43: 253 | BN43: 24.8 | BO43: 16.2 | BP43: 304 | BQ43: 364 | BR43: 420 | BS43: 696 | BT43: 706 | BV43: 716 | BW43: 610 | BX43: 723 | BY43: 319 | BZ43: 161 | CA43: 418 | CB43: 690 | CC43: 62.7 | CD43: 69 | CE43: 86.3 | CF43: 134 | CG43: 300 | CH43: 292 | CI43: 394 | CJ43: 501 | CK43: 89.3 | CL43: 507 | CM43: Cd guideline | CN43: =IF(AND(CN10>17,CN10<=280),10^(0.83*(LOG(CN10,10))-2.46)/1000,0.00037) -> 0.00037 | CO43: =IF(AND(CO10>17,CO10<=280),10^(0.83*(LOG(CO10,10))-2.46)/1000,0.00037) -> 0.00037 | CP43: =IF(AND(CP10>17,CP10<=280),10^(0.83*(LOG(CP10,10))-2.46)/1000,0.00037) -> 0.00037 | CQ43: =IF(AND(CQ10>17,CQ10<=280),10^(0.83*(LOG(CQ10,10))-2.46)/1000,0.00037) -> 0.00037 | CR43: =IF(AND(CR10>17,CR10<=280),10^(0.83*(LOG(CR10,10))-2.46)/1000,0.00037) -> 0.00037 | CS43: =IF(AND(CS10>17,CS10<=280),10^(0.83*(LOG(CS10,10))-2.46)/1000,0.00037) -> 0.00037 | CT43: =IF(AND(CT10>17,CT10<=280),10^(0.83*(LOG(CT10,10))-2.46)/1000,0.00037) -> 0.00037 | CU43: =IF(AND(CU10>17,CU10<=280),10^(0.83*(LOG(CU10,10))-2.46)/1000,0.00037) -> 0.00037 | ... KI43: =IF(AND(KI10>17,KI10<=280),10^(0.83*(LOG(KI10,10))-2.46)/1000,0.00037) -> 0.00037
A44: Calcium, Dissolved | B44: =VLOOKUP(A44,Units!$B$2:$C$230,2,FALSE) -> mg/L | C44: - | D44: 698 | E44: 389 | F44: 0.005 U | G44: 0.00202 | H44: 0.0001 U | I44: 0.00177 | J44: 0.0005 U | K44: 0.00015 | L44: 0.00036 | N44: 0.0002 U | O44: 0.00065 | P44: 0.0001 U | Q44: 0.00011 | R44: 0.0001 U | S44: 0.0002 | T44: 0.00018 | U44: 0.00093 | V44: 0.00049 | W44: 0.00395 | X44: 0.0006 | Y44: 0.00137 | Z44: 0.00022 | AA44: 0.0001 | AB44: 0.001 U | AC44: 0.001 U | AD44: 0.00048 | AE44: 0.00032 | AF44: 0.005 U | AG44: 0.002 U | AH44: 0.002 U | AI44: 0.005 U | AJ44: 0.0014 | AK44: 0.0001 U | AL44: 0.0005 U | AM44: 0.01 U | AO44: 0.0001 U | AP44: 0.002 U | AQ44: 0.01 U | AR44: 0.005 U | AS44: 0.0001 U | AT44: 0.001 U | AU44: 0.002 U | AW44: 0.0005 U | AX44: 0.0001 U | AY44: 0.001 U | AZ44: 0.002 U | BA44: 0.001 U | BB44: 0.0005 U | BC44: 0.002 U | BD44: 0.01 U | BE44: 0.01 U | BF44: 0.01 U | BG44: 0.001 U | BH44: 0.001 U | BI44: 0.0005 U | BJ44: 0.0001 U | BK44: 0.0002 U | BL44: 0.00199 | BM44: 0.00143 | BN44: 0.0001 U | BO44: 0.0001 U | BP44: 0.0001 U | BQ44: 0.0002 U | BR44: 0.0002 U | BS44: 0.0005 U | BT44: 0.0005 U | BV44: 0.001 U | BW44: 0.0005 U | BX44: 0.001 U | BY44: 0.0002 U | BZ44: 0.0001 U | CA44: 0.001 U | CB44: 0.0005 U | CC44: 0.00025 | CD44: 0.00017 | CE44: 0.0001 U | CF44: 0.0001 U | CG44: 0.0002 U | CH44: 0.0001 U | CI44: 0.01 | CJ44: 0.001 U | CK44: 0.0001 U | CL44: 0.001 U | CM44: Calcium, dissolved | CN44: 678 | CO44: 639 | CP44: 551 | CQ44: 515 | CR44: 446 | CS44: 400 | CT44: 302 | CU44: 302 | CV44: 644 | CW44: 738 | CX44: 198 | CY44: 193 | CZ44: 193 | DA44: 197 | DB44: 197 | DC44: 195 | DD44: 313 | DE44: 159 | DF44: 467 | DG44: 97.9 | DJ44: 392 | DU44: 126 | DV44: 88.8 | EE44: 75.2 | EG44: 96.2 | EI44: 56.9 | EL44: 88.4 | EM44: 94.4 | ER44: 231 | FG44: 250 | FK44: 86.6 | FO44: 256 | FS44: 361 | FU44: 405 | FX44: 407 | FY44: 257 | GB44: 351 | GC44: 351 | GE44: 132 | GK44: 103 | GM44: 122 | GP44: 66.2 | GR44: 150 | GT44: 138 | GW44: 450 | GZ44: 170 | HB44: 126 | HD44: 61.4 | HF44: 352 | HJ44: 424 | HL44: 327 | HQ44: 25 | HS44: 527 | HU44: 90 | HW44: 212 | HX44: 122 | IA44: 80.2 | IB44: 422 | IE44: 387 | IG44: 423 | II44: 231 | IL44: 370 | IN44: 409 | IQ44: 263 | IU44: 234 | IY44: 360 | JB44: 454 | JC44: 248 | JE44: 422 | JG44: 351 | JI44: 470 | JK44: 447 | JO44: 399 | JR44: 408 | JS44: 104 | JU44: 386 | JZ44: 158 | KD44: 262 | KF44: 91.1 | KI44: 424
A45: Chromium (Cr), Dissolved | B45: =VLOOKUP(A45,Units!$B$2:$C$230,2,FALSE) -> mg/L | C45: 0.0089 | D45: 0.0005 U | E45: 0.005 U | F45: 0.82 | G45: 0.00216 | H45: 0.00022 | I45: 0.04 | J45: 0.00963 | K45: 0.00029 | L45: 0.00111 | N45: 0.00606 | O45: 0.00024 | P45: 0.0001 U | Q45: 0.0001 U | R45: 0.00024 | S45: 0.00026 | T45: 0.0001 U | U45: 0.00011 | V45: 0.0001 U | W45: 0.00037 | X45: 0.00024 | Y45: 0.0001 U | Z45: 0.0001 U | AA45: 0.0001 U | AB45: 0.0034 | AC45: 0.003 | AD45: 0.02 | AE45: 0.0001 | AF45: 0.005 U | AG45: 0.04 | AH45: 0.04 | AI45: 0.005 U | AJ45: 0.76 | AK45: 0.0006 | AL45: 0.02 | AM45: 0.02 | AO45: 0.00224 | AP45: 0.0071 | AQ45: 0.01 U | AR45: 0.005 U | AS45: 0.00115 | AT45: 0.19 | AU45: 0.1 | AW45: 0.1 | AX45: 0.00273 | AY45: 0.04 | AZ45: 0.01 | BA45: 0.82 | BB45: 0.33 | BC45: 0.41 | BD45: 0.01 U | BE45: 0.01 U | BF45: 0.01 U | BG45: 0.56 | BH45: 0.18 | BI45: 0.07 | BJ45: 0.00226 | BK45: 0.00029 | BL45: 0.00035 | BM45: 0.00114 | BN45: 0.00158 | BO45: 0.00086 | BP45: 0.0001 U | BQ45: 0.00854 | BR45: 0.00531 | BS45: 0.0005 | BT45: 0.00062 | BV45: 0.02 | BW45: 0.02 | BX45: 0.02 | BY45: 0.00303 | BZ45: 0.00232 | CA45: 0.55 | CB45: 0.0005 U | CC45: 0.0001 U | CD45: 0.0001 U | CE45: 0.0001 U | CF45: 0.0001 U | CG45: 0.00343 | CH45: 0.00034 | CI45: 0.17 | CJ45: 0.13 | CK45: 0.0001 U | CL45: 0.13 | CM45: Chromium (Cr)-Dissolved | CN45: 0.00191 | CO45: 0.0005 U | CP45: 0.002 | CQ45: 0.005 U | CR45: 0.00398 | CS45: 0.00116 | CT45: 0.0002 U | CU45: 0.0002 U | CV45: 0.00305 | CW45: 0.00115 | CX45: 0.0005 U | CY45: 0.0005 U | CZ45: 0.0005 U | DA45: 0.0005 U | DB45: 0.0005 U | DC45: 0.0005 U | DD45: 0.004 | DE45: 0.00102 | DF45: 0.002 U | DG45: 0.0188 | DJ45: 0.005 U | DU45: 0.0001 U | DV45: 0.00011 | EE45: 0.0003 | EG45: 0.0001 U | EI45: 0.0002 | EL45: 0.0005 U | EM45: 0.0005 U | ER45: 0.0005 U | FG45: 0.0002 U | FK45: 0.0001 U | FO45: 0.01 U | FS45: 0.01 U | FU45: 0.01 U | FX45: 0.01 U | FY45: 0.002 U | GB45: 0.0002 U | GC45: 0.0002 U | GE45: 0.00014 | GK45: 0.0001 U | GM45: 0.0024 | GP45: 0.0001 U | GR45: 0.0001 U | GT45: 0.00023 | GW45: 0.002 U | GZ45: 0.0001 U | HB45: 0.0002 U | HD45: 0.00018 | HF45: 0.01 U | HJ45: 0.83 | HL45: 0.0002 U | HQ45: 0.0001 U | HS45: 0.002 U | HU45: 0.0005 U | HW45: 0.0062 | HX45: 0.0001 U | IA45: 0.0001 U | IB45: 0.02 U | IE45: 0.89 | IG45: 0.02 U | II45: 0.001 U | IL45: 0.0002 U | IN45: 0.0002 U | IQ45: 0.0002 U | IU45: 0.0001 U | IY45: 0.0002 U | JB45: 0.001 U | JC45: 0.002 U | JE45: 0.005 U | JG45: 0.01 U | JI45: 0.1 U | JK45: 0.1 U | JO45: 0.005 U | JR45: 0.02 U | JS45: 0.0106 | JU45: 0.0002 U | JZ45: 0.01 U | KD45: 0.0001 U | KF45: 0.0001 U | KI45: 0.01 U
A46: Cobalt (Co), Dissolved | B46: =VLOOKUP(A46,Units!$B$2:$C$230,2,FALSE) -> mg/L | C46: - | D46: 0.00981 | E46: 0.78 | F46: 0.01 U | G46: 0.00157 | H46: 0.00101 | I46: 0.0071 | J46: 0.001 U | K46: 0.0002 U | L46: 0.0002 U | N46: 0.0004 U | O46: 0.00081 | P46: 0.0002 U | Q46: 0.00152 | R46: 0.0002 U | S46: 0.00103 | T46: 0.00071 | U46: 0.00123 | V46: 0.0024 | W46: 0.00759 | X46: 0.0002 U | Y46: 0.00077 | Z46: 0.00154 | AA46: 0.00094 | AB46: 0.0043 | AC46: 0.0026 | AD46: 0.0004 | AE46: 0.00079 | AF46: 0.01 U | AG46: 0.004 U | AH46: 0.004 U | AI46: 0.01 U | AJ46: 0.81 | AK46: 0.0003 | AL46: 0.001 U | AM46: 0.02 U | AO46: 0.00064 | AP46: 0.004 U | AQ46: 0.02 U | AR46: 0.01 U | AS46: 0.00026 | AT46: 0.0041 | AU46: 0.004 U | AW46: 0.0015 | AX46: 0.0002 U | AY46: 0.002 U | AZ46: 0.004 U | BA46: 0.002 U | BB46: 0.001 U | BC46: 0.004 U | BD46: 0.02 U | BE46: 0.02 U | BF46: 0.02 U | BG46: 0.002 U | BH46: 0.002 U | BI46: 0.001 U | BJ46: 0.00258 | BK46: 0.00687 | BL46: 0.0002 U | BM46: 0.00026 | BN46: 0.0002 U | BO46: 0.0002 U | BP46: 0.0002 U | BQ46: 0.00045 | BR46: 0.0004 U | BS46: 0.001 U | BT46: 0.001 U | BV46: 0.002 U | BW46: 0.001 U | BX46: 0.002 U | BY46: 0.0004 U | BZ46: 0.00071 | CA46: 0.002 U | CB46: 0.001 U | CC46: 0.00026 | CD46: 0.00051 | CE46: 0.00021 | CF46: 0.0002 U | CG46: 0.0004 U | CH46: 0.00053 | CI46: 0.02 U | CJ46: 0.002 U | CK46: 0.0002 U | CL46: 0.002 U | CM46: Cobalt (Co)-Dissolved | CN46: 0.0289 | CO46: 0.00925 | CP46: 0.683 | CQ46: 0.969 | CR46: 0.00272 | CS46: 0.00466 | CT46: 0.00032 | CU46: 0.00025 | CV46: 0.0617 | CW46: 0.0583 | CX46: 0.0873 | CY46: 0.0895 | CZ46: 0.0895 | DA46: 0.0877 | DB46: 0.0877 | DC46: 0.0855 | DD46: 1.07 | DE46: 0.397 | DF46: 0.0294 | DG46: 0.291 | DJ46: 1.22 | DU46: 0.00488 | DV46: 0.0001 U | EE46: 0.00116 | EG46: 0.0001 U | EI46: 0.0001 U | EL46: 0.02 | EM46: 0.05 | ER46: 0.0305 | FG46: 0.109 | FK46: 0.0121 | FO46: 2.73 | FS46: 1.55 | FU46: 1.65 | FX46: 1.45 | FY46: 0.42 | GB46: 0.0002 U | GC46: 0.0002 U | GE46: 0.00019 | GK46: 0.0002 | GM46: 0.183 | GP46: 0.0001 U | GR46: 0.00017 | GT46: 0.0001 U | GW46: 0.066 | GZ46: 0.00069 | HB46: 0.0002 U | HD46: 0.0356 | HF46: 1.21 | HJ46: 9.83 | HL46: 0.0162 | HQ46: 0.0001 U | HS46: 0.525 | HU46: 0.351 | HW46: 0.235 | HX46: 0.00622 | IA46: 0.00584 | IB46: 1.92 | IE46: 18.2 | IG46: 5.59 | II46: 0.214 | IL46: 0.0026 | IN46: 0.00047 | IQ46: 0.0273 | IU46: 0.00728 | IY46: 0.00049 | JB46: 0.586 | JC46: 0.3 | JE46: 1.52 | JG46: 3.28 | JI46: 24.7 | JK46: 16.9 | JO46: 1.73 | JR46: 7.16 | JS46: 1.05 | JU46: 0.0002 U | JZ46: 2.48 | KD46: 0.0001 U | KF46: 0.0001 U | KI46: 2.04
A47: Copper (Cu), Dissolved | B47: =VLOOKUP(A47,Units!$B$2:$C$230,2,FALSE) -> mg/L | C47: 0.002 to 0.004d | D47: 0.001 U | E47: 0.01 U | G47: =IF(AND(82<=G9,G9<=180),(0.2*(EXP(0.8545*(LN(G9))-1.465)))/1000,0.004) -> 0.004 | CM47: Copper (Cu)-Dissolved | CN47: 0.0018 | CO47: 0.001 U | CP47: 0.004 U | CQ47: 0.01 U | CR47: 0.00142 | CS47: 0.00105 | CT47: 0.0004 U | CU47: 0.0004 U | CV47: 0.0063 | CW47: 0.0041 | CX47: 0.001 U | CY47: 0.001 U | CZ47: 0.001 U | DA47: 0.001 U | DB47: 0.001 U | DC47: 0.001 U | DD47: 1.4 | DE47: 0.0995 | DF47: 0.0194 | DG47: 2.36 | DJ47: 0.386 | DU47: 0.00591 | DV47: 0.00863 | EE47: 0.0428 | EG47: 0.00112 | EI47: 0.00302 | EL47: 0.0983 | EM47: 0.295 | ER47: 0.001 U | FG47: 0.032 | FK47: 0.00181 | FO47: 2.55 | FS47: 0.135 | FU47: 0.02 U | FX47: 0.021 | FY47: 0.004 U | GB47: 0.0006 | GC47: 0.0006 | GE47: 0.00196 | GK47: 0.0002 U | GM47: 0.39 | GP47: 0.00151 | GR47: 0.00156 | GT47: 0.00043 | GW47: 0.0639 | GZ47: 0.00164 | HB47: 0.00199 | HD47: 0.118 | HF47: 0.02 U | HJ47: 77.2 | HL47: 0.00527 | HQ47: 0.00507 | HS47: 0.0449 | HU47: 0.617 | HW47: 0.954 | HX47: 0.006 | IA47: 0.00158 | IB47: 0.04 U | IE47: 917 | IG47: 0.426 | II47: 0.006 | IL47: 0.00195 | IN47: 0.00124 | IQ47: 0.0004 U | IU47: 0.0489 | IY47: 0.00249 | JB47: 0.18 | JC47: 0.0987 | JE47: 0.011 | JG47: 0.02 U | JI47: 0.2 U | JK47: 0.83 | JO47: 1.66 | JR47: 0.041 | JS47: 1.34 | JU47: 0.0005 | JZ47: 3.39 | KD47: 0.00071 | KF47: 0.00054 | KI47: 0.02 U
A48: Cu guideline | D48: =IF(AND(82<=D10,D10<=180),(0.2*(EXP(0.8545*(LN(D10))-1.465)))/1000,0.004) -> 0.004 | E48: =IF(AND(82<=E10,E10<=180),(0.2*(EXP(0.8545*(LN(E10))-1.465)))/1000,0.004) -> 0.004 | F48: 123 | G48: 0.73 | H48: 7.01 | I48: 4.95 | J48: 16.7 | K48: 1.15 | L48: 3.16 | N48: 13.6 | O48: 1.26 | P48: 1.37 | Q48: 0.03 U | R48: 0.03 U | S48: 0.03 | T48: 0.03 U | U48: 0.03 U | V48: 0.03 U | W48: 0.03 | X48: 1.32 | Y48: 0.03 U | Z48: 0.03 U | AA48: 0.03 U | AB48: 13.3 | AC48: 13.3 | AD48: 8.92 | AE48: 3.09 | AF48: 5170 | AG48: 2780 | AH48: 2770 | AI48: 9060 | AJ48: 80.7 | AK48: 0.03 U | AL48: 662 | AM48: 11700 | AO48: 0.03 U | AP48: 2920 | AQ48: 14600 | AR48: 8520 | AS48: 3.26 | AT48: 568 | AU48: 2910 | AW48: 1.33 | AX48: 5.43 | AY48: 1160 | AZ48: 3660 | BA48: 239 | BB48: 47.9 | BC48: 3210 | BD48: 10400 | BE48: 12500 | BF48: 14500 | BG48: 1720 | BH48: 470 | BI48: 353 | BJ48: 0.03 U | BK48: 0.15 | BL48: 45 | BM48: 60.3 | BN48: 0.03 U | BO48: 0.03 U | BP48: 12.3 | BQ48: 0.03 U | BR48: 0.13 | BS48: 26.4 | BT48: 33.5 | BV48: 47.5 | BW48: 25.6 | BX48: 26.6 | BY48: 3.13 | BZ48: 0.03 U | CA48: 1690 | CB48: 26 | CC48: 0.03 U | CD48: 0.03 U | CE48: 0.03 U | CF48: 1.12 | CG48: 3.19 | CH48: 0.08 | CI48: 10400 | CJ48: 550 | CK48: 0.03 U | CL48: 558 | CM48: Cu guideline | CN48: =IF(AND(82<=CN10,CN10<=180),(0.2*(EXP(0.8545*(LN(CN10))-1.465)))/1000,0.004) -> 0.004 | CO48: =IF(AND(82<=CO10,CO10<=180),(0.2*(EXP(0.8545*(LN(CO10))-1.465)))/1000,0.004) -> 0.004 | CP48: =IF(AND(82<=CP10,CP10<=180),(0.2*(EXP(0.8545*(LN(CP10))-1.465)))/1000,0.004) -> 0.004 | CQ48: =IF(AND(82<=CQ10,CQ10<=180),(0.2*(EXP(0.8545*(LN(CQ10))-1.465)))/1000,0.004) -> 0.004 | CR48: =IF(AND(82<=CR10,CR10<=180),(0.2*(EXP(0.8545*(LN(CR10))-1.465)))/1000,0.004) -> 0.004 | CS48: =IF(AND(82<=CS10,CS10<=180),(0.2*(EXP(0.8545*(LN(CS10))-1.465)))/1000,0.004) -> 0.004 | CT48: =IF(AND(82<=CT10,CT10<=180),(0.2*(EXP(0.8545*(LN(CT10))-1.465)))/1000,0.004) -> 0.004 | CU48: =IF(AND(82<=CU10,CU10<=180),(0.2*(EXP(0.8545*(LN(CU10))-1.465)))/1000,0.004) -> 0.004 | ... KI48: =IF(AND(82<=KI10,KI10<=180),(0.2*(EXP(0.8545*(LN(KI10))-1.465)))/1000,0.004) -> 0.004
A49: Iron, Dissolved | B49: =VLOOKUP(A49,Units!$B$2:$C$230,2,FALSE) -> mg/L | C49: 0.3 | D49: 3.81 | E49: 121 | F49: 135 | G49: 0.84 | H49: 6.62 | I49: 5.05 | J49: 17.9 | K49: 1.12 | L49: 3.33 | N49: 13.2 | O49: 1.24 | P49: 1.37 | Q49: 0.02 U | R49: 0.02 U | S49: 0.02 U | T49: 0.02 U | U49: 0.03 | V49: 0.02 | W49: 0.02 | X49: 1.24 | Y49: 0.02 U | Z49: 0.02 U | AA49: 0.02 U | AB49: 36.2 J | AC49: 15.5 J | AD49: 9.27 | AE49: 3.17 | AF49: 1780 | AG49: 1910 | AH49: 2120 | AI49: 10100 | AJ49: 77.3 | AK49: 0.02 U | AL49: 708 | AM49: 5230 | AO49: 0.02 U | AP49: 2920 | AQ49: 15200 | AR49: 8710 | AS49: 3.3 | AT49: 582 | AU49: 2770 | AW49: 1.43 | AX49: 4.59 | AY49: 1250 | AZ49: 3690 | BA49: 235 | BB49: 52.2 | BC49: 3180 | BD49: 10600 | BE49: 12800 | BF49: 14800 | BG49: 1830 | BH49: 442 | BI49: 286 | BJ49: 0.02 U | BK49: 0.05 | BL49: 44.3 | BM49: 57 | BN49: 0.02 U | BO49: 0.02 U | BP49: 12.2 | BQ49: 0.02 U | BR49: 0.14 | BS49: 28.2 | BT49: 39.3 | BV49: 51.2 | BW49: 27.5 | BX49: 27.9 | BY49: 3.29 | BZ49: 0.02 U | CA49: 1940 | CB49: 29.2 | CC49: 0.03 | CD49: 0.03 | CE49: 0.02 U | CF49: 1.17 | CG49: 1.33 | CH49: 0.08 | CI49: 10800 | CJ49: 623 | CK49: 0.02 U | CL49: 596 | CM49: Iron, dissolved | CN49: 0.534 | CO49: 0.628 | CP49: 2.38 | CQ49: 1.86 | CR49: 0.221 | CS49: 2.94 | CT49: 6.69 | CU49: 6.96 | CV49: 5.57 | CW49: 6.8 | CX49: 0.589 | CY49: 0.732 | CZ49: 0.732 | DA49: 0.873 | DB49: 0.873 | DC49: 0.863 | DD49: 87.9 | DE49: 86.9 | DF49: 0.15 U | DG49: 25.9 | DJ49: 10.8 | DU49: 0.03 U | DV49: 0.03 U | EE49: 0.03 U | EG49: 0.03 U | EI49: 0.03 U | EL49: 0.03 U | EM49: 0.03 U | ER49: 14.7 | FG49: 193 | FK49: 34.4 | FO49: 1140 | FS49: 216 | FU49: 1340 | FX49: 582 | FY49: 124 | GB49: 0.03 U | GC49: 0.03 U | GE49: 0.046 | GK49: 0.03 U | GM49: 105 | GP49: 0.03 U | GR49: 0.03 U | GT49: 0.03 U | GW49: 3.1 | GZ49: 0.03 U | HB49: 0.03 U | HD49: 3.03 | HF49: 190 | HJ49: 6670 | HL49: 0.099 | HQ49: 0.03 U | HS49: 0.128 | HU49: 97.1 | HW49: 25.9 | HX49: 0.03 U | IA49: 0.03 U | IB49: 488 | IE49: 17000 | IG49: 21.5 | II49: 0.06 U | IL49: 0.03 U | IN49: 0.03 U | IQ49: 7.33 | IU49: 0.03 U | IY49: 0.03 U | JB49: 11 | JC49: 0.16 | JE49: 142 | JG49: 370 | JI49: 14500 | JK49: 10300 | JO49: 272 | JR49: 1930 | JS49: 16.2 | JU49: 0.03 U | JZ49: 1160 | KD49: 0.03 U | KF49: 0.03 U | KI49: 472
A50: Ferrous Iron, Dissolved (Fe2+) | B50: mg/l | C50: - | D50: 3.94 | E50: 135 | F50: 0.02 | G50: 0.00014 | H50: 7.1e-05 | I50: 0.01 | J50: 0.00025 U | K50: 0.00005 U | L50: 0.00005 U | N50: 0.0001 U | O50: 6.2e-05 | P50: 0.00005 U | Q50: 0.00005 U | R50: 0.000114 | S50: 0.000321 | T50: 0.00005 U | U50: 0.00005 U | V50: 0.00072 | W50: 0.00021 | X50: 5.8e-05 | Y50: 9.3e-05 | Z50: 0.000103 | AA50: 9.3e-05 | AB50: 0.06 | AC50: 0.05 | AD50: 0.00016 | AE50: 7.5e-05 | AF50: 0.03 | AG50: 0.0012 | AH50: 0.0013 | AI50: 0.0025 U | AJ50: 0.01 | AK50: 0.00005 U | AL50: 0.00048 | AM50: 0.005 U | AO50: 0.000367 | AP50: 0.0013 | AQ50: 0.1 | AR50: 0.0078 | AS50: 0.000677 | AT50: 0.00176 | AU50: 0.0059 | AW50: 0.00094 | AX50: 0.000943 | AY50: 0.00164 | AZ50: 0.0032 | BA50: 0.00483 | BB50: 0.00027 | BC50: 0.0027 | BD50: 0.005 U | BE50: 0.01 | BF50: 0.03 | BG50: 0.00087 | BH50: 0.00694 | BI50: 0.0005 | BJ50: 5.1e-05 | BK50: 0.00285 | BL50: 0.00134 | BM50: 0.000278 | BN50: 0.0086 | BO50: 0.02 | BP50: 9.4e-05 | BQ50: 0.0001 U | BR50: 0.0001 U | BS50: 0.00025 U | BT50: 0.00025 U | BV50: 0.0005 U | BW50: 0.00029 | BX50: 0.0005 U | BY50: 0.0001 U | BZ50: 0.000284 | CA50: 0.00061 | CB50: 0.00025 U | CC50: 0.00005 U | CD50: 0.00005 U | CE50: 0.00005 U | CF50: 0.00005 U | CG50: 0.0001 U | CH50: 0.00005 U | CI50: 0.01 | CJ50: 0.0005 U | CK50: 0.00005 U | CL50: 0.0005 U | CM50: Ferrous Iron, dissolved | CN50: 0.2 | CO50: 0.644 | CP50: 2.54 | CQ50: 2 | CR50: 0.261 J | CS50: 3.67 | CT50: 7.2 | CU50: 8.03 | CV50: 6.5 | CW50: 6.05 | CX50: 0.696 | CY50: 0.803 | CZ50: 0.803 | DA50: 0.867 | DB50: 0.867 | DC50: 0.896 | DD50: 95.3 | DE50: 97.2 | DF50: 0.02 U | DG50: 1.02 | DJ50: 12.6 | DU50: 0.024 | DV50: 0.058 | EE50: 0.02 U | EG50: 0.02 U | EI50: 0.02 U | EL50: 0.02 U | EM50: 0.02 U | ER50: 14 | FG50: 213 | FK50: 36.8 | FO50: 1250 | FS50: 236 | FU50: 1050 | FX50: 673 | FY50: 143 | GB50: 0.02 U | GC50: 0.02 U | GE50: 0.02 U | GK50: 0.02 U | GM50: 102 | GP50: 0.023 | GR50: 0.1 UJ | GT50: 0.02 U | GW50: 3.51 | GZ50: 0.02 U | HB50: 0.02 U | HD50: 3.26 | HF50: 222 | HJ50: 4020 | HL50: 0.042 | HQ50: 0.034 | HS50: 0.108 | HU50: 107 | HW50: 18.2 | HX50: 0.032 | IA50: 0.02 U | IB50: 445 | IE50: 12500 | IG50: 24.7 | II50: 0.02 U | IL50: 0.027 | IN50: 0.02 U | IQ50: 7.81 | IU50: 0.021 | IY50: 0.02 U | JB50: 1.1 | JC50: 0.169 | JE50: 160 | JG50: 387 | JI50: 15300 | JK50: 11100 | JO50: 246 | JR50: 2120 | JS50: 5.93 | JU50: 0.02 U | JZ50: 1280 | KD50: 0.02 U | KF50: 0.02 U | KI50: 401
A51: Lead (Pb), Dissolved | B51: =VLOOKUP(A51,Units!$B$2:$C$230,2,FALSE) -> mg/L | C51: 0.001e | D51: 0.00053 | E51: 0.02 | G51: =IF(AND(G9>60,G9<=180),EXP(1.273*LN(G9)-4.705)/1000,0.007) -> 0.007 | CM51: Lead (Pb)-Dissolved | CN51: 0.00068 | CO51: 0.00025 U | CP51: 0.0114 | CQ51: 0.0096 | CR51: 0.00165 | CS51: 0.00161 | CT51: 0.0001 U | CU51: 0.0001 U | CV51: 0.0174 | CW51: 0.0173 | CX51: 0.00025 U | CY51: 0.00025 U | CZ51: 0.00025 U | DA51: 0.00025 U | DB51: 0.00025 U | DC51: 0.00025 U | DD51: 0.0395 | DE51: 0.0014 | DF51: 0.0233 | DG51: 0.824 | DJ51: 0.189 | DU51: 0.00111 | DV51: 0.0019 | EE51: 0.00068 | EG51: 0.000172 | EI51: 0.000501 | EL51: 0.00108 | EM51: 0.0207 | ER51: 0.00025 U | FG51: 0.00029 | FK51: 0.000589 | FO51: 1.21 | FS51: 0.48 | FU51: 0.0099 | FX51: 0.0153 | FY51: 0.124 | GB51: 0.00012 | GC51: 0.00012 | GE51: 0.00141 | GK51: 0.000144 | GM51: 0.814 | GP51: 0.00005 U | GR51: 0.00126 J | GT51: 0.000156 | GW51: 0.0051 | GZ51: 0.000161 | HB51: 0.00046 | HD51: 0.0154 | HF51: 0.0075 | HJ51: 0.15 | HL51: 0.0134 | HQ51: 0.00343 | HS51: 0.0084 | HU51: 0.288 | HW51: 0.595 | HX51: 0.00112 | IA51: 0.00121 | IB51: 0.01 U | IE51: 5.13 | IG51: 0.055 | II51: 0.00115 | IL51: 0.00118 | IN51: 0.00073 | IQ51: 0.00017 | IU51: 0.00557 | IY51: 0.00011 | JB51: 0.0155 | JC51: 0.301 | JE51: 0.0067 | JG51: 0.0525 | JI51: 0.496 | JK51: 2.52 | JO51: 0.982 | JR51: 0.022 | JS51: 0.129 | JU51: 0.00047 | JZ51: 1.36 | KD51: 0.000119 | KF51: 0.000184 | KI51: 0.005 U
A52: Pb guideline | D52: =IF(AND(D10>60,D10<=180),EXP(1.273*LN(D10)-4.705)/1000,0.007) -> 0.007 | E52: =IF(AND(E10>60,E10<=180),EXP(1.273*LN(E10)-4.705)/1000,0.007) -> 0.007 | F52: 0.18 | G52: 0.03 | H52: 0.01 | I52: 0.03 | J52: 0.07 | K52: 0.36 | L52: 0.43 | N52: 0.99 | O52: 0.0076 | P52: 0.01 | Q52: 0.0016 | R52: 0.0063 | S52: 0.0021 | T52: 0.01 | U52: 0.0032 | V52: 0.0035 | W52: 0.0038 | X52: 0.006 | Y52: 0.0055 | Z52: 0.0055 | AA52: 0.0062 | AB52: 0.03 | AC52: 0.03 | AD52: 0.01 | AE52: 0.01 | AF52: 0.06 | AG52: 0.04 | AH52: 0.04 | AI52: 0.08 | AJ52: 0.17 | AK52: 0.0068 | AL52: 0.01 | AM52: 0.19 | AO52: 0.04 | AP52: 0.09 | AQ52: 0.24 | AR52: 0.1 | AS52: 0.01 | AT52: 0.04 | AU52: 0.07 | AW52: 0.01 | AX52: 0.0087 | AY52: 0.03 | AZ52: 0.05 | BA52: 0.08 | BB52: 0.05 | BC52: 0.11 | BD52: 0.28 | BE52: 0.25 | BF52: 0.19 | BG52: 0.08 | BH52: 0.03 | BI52: 0.02 | BJ52: 0.0031 | BK52: 0.0029 | BL52: 0.0033 | BM52: 0.0028 | BN52: 0.01 | BO52: 0.01 | BP52: 0.04 | BQ52: 0.01 | BR52: 0.01 | BS52: 0.06 | BT52: 0.03 | BV52: 0.02 | BW52: 0.02 | BX52: 0.02 | BY52: 0.0071 | BZ52: 0.04 | CA52: 0.07 | CB52: 0.06 | CC52: 0.0022 | CD52: 0.0025 | CE52: 0.0034 | CF52: 0.01 | CG52: 0.01 | CH52: 0.01 | CI52: 0.1 U | CJ52: 0.03 | CK52: 0.0036 | CL52: 0.02 | CM52: Pb guideline | CN52: =IF(AND(CN10>60,CN10<=180),EXP(1.273*LN(CN10)-4.705)/1000,0.007) -> 0.007 | CO52: =IF(AND(CO10>60,CO10<=180),EXP(1.273*LN(CO10)-4.705)/1000,0.007) -> 0.007 | CP52: =IF(AND(CP10>60,CP10<=180),EXP(1.273*LN(CP10)-4.705)/1000,0.007) -> 0.007 | CQ52: =IF(AND(CQ10>60,CQ10<=180),EXP(1.273*LN(CQ10)-4.705)/1000,0.007) -> 0.007 | CR52: =IF(AND(CR10>60,CR10<=180),EXP(1.273*LN(CR10)-4.705)/1000,0.007) -> 0.007 | CS52: =IF(AND(CS10>60,CS10<=180),EXP(1.273*LN(CS10)-4.705)/1000,0.007) -> 0.007 | CT52: =IF(AND(CT10>60,CT10<=180),EXP(1.273*LN(CT10)-4.705)/1000,0.007) -> 0.007 | CU52: =IF(AND(CU10>60,CU10<=180),EXP(1.273*LN(CU10)-4.705)/1000,0.007) -> 0.007 | ... KI52: =IF(AND(KI10>60,KI10<=180),EXP(1.273*LN(KI10)-4.705)/1000,0.007) -> 0.007
A53: Lithium | B53: =VLOOKUP(A53,Units!$B$2:$C$230,2,FALSE) -> mg/L | G53: 21.1 | H53: -121.9 | I53: -3.7 | J53: -12.2 | K53: -107.3 | L53: -18.8 | M53: -8.4 | N53: -11.2 | O53: -122.5 | P53: -81.6 | Q53: 114.5 | R53: 92.3 | S53: 89.6 | T53: 110.9 | U53: 21.7 | V53: 49.4 | W53: 38.2 | X53: -118.5 | Y53: 28.8 | Z53: 99.6 | AA53: -26.3 | AB53: 8.1 | AD53: -32.7 | AE53: -135 | AF53: -37.5 | AG53: -72.7 | AI53: -66.1 | AJ53: 136.4 | AK53: 147.7 | AL53: -31.8 | AM53: -53.1 | AN53: 305 | AO53: 92.7 | AP53: -111.7 | AQ53: 290.4 | AR53: 21.2 | AS53: -65.6 | AT53: 162.5 | AU53: -25 | AV53: 273.1 | AW53: 15.1 | AX53: -79.2 | AY53: -76.1 | AZ53: -25.2 | BA53: 34 | BB53: 39.7 | BC53: -63.6 | BD53: -42.2 | BE53: -13.3 | BF53: 19.4 | BG53: 42.1 | BH53: -61.1 | BI53: -61.1 | BJ53: 44 | BK53: 52.8 | BL53: -78.1 | BM53: -128.7 | BN53: 14.5 | BO53: -6.4 | BP53: -73.1 | BQ53: 47.7 | BR53: 54.6 | BS53: -14.3 | BT53: -10.7 | BU53: -15.6 | BV53: -18.2 | BW53: -8.1 | BX53: 12.6 | BY53: -20.7 | CC53: 92.8 | CD53: 121 | CE53: 28.6 | CF53: -10.9 | CG53: -53.2 | CH53: 54.5 | CI53: 53 | CJ53: -55.9 | CM53: Lithium | DG53: 2 | DH53: 0.1 | DI53: 0.1 | DJ53: 0.026 | DM53: 0.1 | DN53: 0.1 | DO53: 0.5 | DP53: 0.1 | DQ53: 0.01 | DR53: 0.01 | DS53: 0.03 | DU53: 20 | DX53: 0.1 | DY53: 0.1 | DZ53: 0.1 | EA53: 0.5 | ED53: 0.1 | EE53: 0.517 | EG53: 0.486 | EI53: 1 | EL53: 0.82 | EM53: 2.857 | EP53: 0.4 | ER53: 0.233 | ET53: 0.1 | EU53: 0.6 | EV53: 5 | EW53: 0.07 | EX53: 0.05 | EY53: 0.5 | FA53: 0.05 | FB53: 0.5 | FD53: 0.034 | FE53: 0.03 | FG53: 0.001 | FH53: 350 | FI53: 0.1 | FK53: 6.019 | FL53: 0.001 | FM53: 21.503 | FO53: 5 | FQ53: 0.3 | FR53: 0.03 | FS53: 5 | FU53: 3 | FX53: 10 | FY53: 2 | GA53: 0.1 | GB53: 200 | GC53: 5 | GE53: 0.1 | GG53: 0.3 | GH53: 0.01 | GI53: 0.01 | GK53: 0.01 | GL53: 0.2 | GM53: 0.05 | GO53: 0.001 | GP53: 0.1 | GR53: 0.181 | GT53: 0.25 | GW53: 1.042 | GX53: 0.01 | GZ53: 0.258 | HB53: 0.5 | HH53: 3 | HI53: 3 | HJ53: 0.02 | HL53: 0.005 | HN53: 100 | HO53: 0.1 | HQ53: 0.2 | HS53: 0.5 | HT53: 0.1 | HW53: 1 | HX53: 10 | IB53: 0.05 | IE53: 0.001 | IF53: 0.01 | IG53: 0.1 | II53: 0.01 | IL53: 10 | IM53: 0.2 | IN53: 0.019 | IP53: 0.031 | IS53: 0.096 | IT53: 0.5 | IU53: 0.467 | IW53: 1 | IY53: 0.5 | IZ53: 0.062 | JB53: 0.01 | JE53: 0.007 | JG53: 0.188 | JI53: 0.001 | JK53: 0.1 | JM53: 0 | JO53: 0.05 | JR53: 0.035 | JU53: 0.139 | JW53: 0.5 | JX53: 0.02 | JY53: 0.1 | JZ53: 0.4 | KB53: 0.0001 | KC53: 0.05 | KD53: 0.5 | KF53: 1.5 | KI53: 0.25
A54: Lithium, Dissolved | B54: =VLOOKUP(A54,Units!$B$2:$C$230,2,FALSE) -> mg/L | C54: - | D54: 0.06 | E54: 0.19 | F54: 749 | G54: 346 | H54: 116 | I54: 731 | J54: 127 | K54: 49.2 | L54: 118 | N54: 110 | O54: 31.2 | P54: 31.3 | Q54: 38.8 | R54: 42.3 | S54: 26.1 | T54: 48.7 | U54: 7.23 | V54: 8.19 | W54: 7.34 | X54: 26.7 | Y54: 20.8 | Z54: 26.7 | AA54: 22.3 | AB54: 2050 | AC54: 2050 | AD54: 70.1 | AE54: 30.5 | AF54: 549 | AG54: 448 | AH54: 442 | AI54: 996 | AJ54: 449 | AK54: 30.3 | AL54: 38.8 | AM54: 369 | AO54: 30 | AP54: 106 | AQ54: 290 | AR54: 141 | AS54: 16.8 | AT54: 29.6 | AU54: 142 | AW54: 66.4 | AX54: 29.9 | AY54: 120 | AZ54: 133 | BA54: 51.5 | BB54: 48.4 | BC54: 222 | BD54: 613 | BE54: 651 | BF54: 625 | BG54: 142 | BH54: 99 | BI54: 80.1 | BJ54: 43.3 | BK54: 36.6 | BL54: 42.9 | BM54: 54.9 | BN54: 1.02 | BO54: 1.13 | BP54: 79.6 | BQ54: 76.8 | BR54: 84 | BS54: 157 | BT54: 156 | BV54: 153 | BW54: 135 | BX54: 151 | BY54: 66.8 | BZ54: 29.9 | CA54: 140 | CB54: 156 | CC54: 13.5 | CD54: 17.4 | CE54: 21.2 | CF54: 36 | CG54: 73.1 | CH54: 75.2 | CI54: 392 | CJ54: 115 | CK54: 21.4 | CL54: 116 | CM54: Lithium, dissolved | CN54: 0.1 | CO54: 0.077 | CP54: 0.112 | CQ54: 0.117 | CR54: 0.0341 | CS54: 0.0373 | CT54: 0.0156 | CU54: 0.0152 | CV54: 0.0308 | CW54: 0.0339 | CX54: 0.067 | CY54: 0.0654 | CZ54: 0.0654 | DA54: 0.0672 | DB54: 0.0672 | DC54: 0.0638 | DD54: 0.242 | DE54: 0.0866 | DF54: 0.082 | DG54: 0.06 | DJ54: 0.32 | DU54: 0.0352 | DV54: 0.0012 | EE54: 0.0292 | EG54: 0.0201 | EI54: 0.0152 | EL54: 0.0297 | EM54: 0.0311 | ER54: 0.005 U | FG54: 0.0289 | FK54: 0.0056 | FO54: 0.1 U | FS54: 0.18 | FU54: 0.14 | FX54: 0.14 | FY54: 0.079 | GB54: 0.021 | GC54: 0.021 | GE54: 0.0024 | GK54: 0.0359 | GM54: 0.015 | GP54: 0.0098 | GR54: 0.0281 | GT54: 0.0027 | GW54: 0.048 | GZ54: 0.0334 | HB54: 0.0325 | HD54: 0.04 | HF54: 0.19 | HJ54: 1.5 | HL54: 0.199 | HQ54: 0.0019 | HS54: 0.051 | HU54: 0.0782 | HW54: 0.073 | HX54: 0.0316 | IA54: 0.048 | IB54: 0.22 | IE54: 5 U | IG54: 0.25 | II54: 0.263 | IL54: 0.0448 | IN54: 0.0392 | IQ54: 0.0034 | IU54: 0.0242 | IY54: 0.0256 | JB54: 0.056 | JC54: 0.063 | JE54: 0.066 | JG54: 0.11 | JI54: 1.4 | JK54: 1.2 | JO54: 0.222 | JR54: 0.2 U | JS54: 0.061 | JU54: 0.0162 | JZ54: 0.1 U | KD54: 0.0089 | KF54: 0.0013 | KI54: 0.24
A55: Magnesium, Dissolved | B55: =VLOOKUP(A55,Units!$B$2:$C$230,2,FALSE) -> mg/L | C55: - | D55: 146 | E55: 735 | F55: 58.5 | G55: 1.79 | H55: 0.27 | I55: 11.7 | J55: 28 | K55: 0.17 | L55: 0.52 | N55: 0.92 | O55: 0.31 | P55: 0.11 | Q55: 0.00861 | R55: 1.7 | S55: 0.01 | T55: 0.0002 | U55: 0.0024 | V55: 0.00071 | W55: 0.00248 | X55: 0.29 | Y55: 0.00408 | Z55: 0.00018 | AA55: 0.00012 | AB55: 1.6 | AC55: 1.5 | AD55: 12.8 | AE55: 0.31 | AF55: 59.4 | AG55: 36.5 | AH55: 37.2 | AI55: 108 | AJ55: 22.4 | AK55: 1.11 | AL55: 7.2 | AM55: 102 | AO55: 2.88 | AP55: 27.7 | AQ55: 84.9 | AR55: 48.1 | AS55: 0.12 | AT55: 16.7 | AU55: 62.4 | AW55: 46.1 | AX55: 6.15 | AY55: 13 | AZ55: 37.5 | BA55: 57 | BB55: 43.1 | BC55: 71.4 | BD55: 94.7 | BE55: 138 | BF55: 139 | BG55: 72.8 | BH55: 46.3 | BI55: 30 | BJ55: 3.84 | BK55: 11.4 | BL55: 4.19 | BM55: 5.53 | BN55: 0.04 | BO55: 0.05 | BP55: 0.79 | BQ55: 15.6 | BR55: 18.7 | BS55: 49.6 | BT55: 53.4 | BV55: 60 | BW55: 42.9 | BX55: 57.8 | BY55: 14.2 | BZ55: 3.08 | CA55: 70.5 | CB55: 48.3 | CC55: 0.0002 | CD55: 0.0002 | CE55: 0.15 | CF55: 0.36 | CG55: 5.14 | CH55: 0.77 | CI55: 322 | CJ55: 69.6 | CK55: 0.15 | CL55: 67.2 | CM55: Magnesium, dissolved | CN55: 167 | CO55: 147 | CP55: 779 | CQ55: 830 | CR55: 318 | CS55: 337 | CT55: 106 | CU55: 116 | CV55: 596 | CW55: 719 | CX55: 96.5 | CY55: 94.9 | CZ55: 94.9 | DA55: 101 | DB55: 101 | DC55: 96 | DD55: 607 | DE55: 238 | DF55: 3500 | DG55: 112 | DJ55: 1750 | DU55: 112 | DV55: 7.74 | EE55: 35.7 | EG55: 21.7 | EI55: 12.1 | EL55: 41.7 | EM55: 61.9 | ER55: 73 | FG55: 33.7 | FK55: 11.5 | FO55: 256 | FS55: 1170 | FU55: 968 | FX55: 997 | FY55: 312 | GB55: 288 | GC55: 288 | GE55: 37.3 | GK55: 169 | GM55: 56.2 | GP55: 19.7 | GR55: 184 | GT55: 31.2 | GW55: 457 | GZ55: 189 | HB55: 169 | HD55: 143 | HF55: 943 | HJ55: 3140 | HL55: 552 | HQ55: 4.06 | HS55: 901 | HU55: 116 | HW55: 156 | HX55: 107 | IA55: 129 | IB55: 1300 | IE55: 1320 | IG55: 2650 | II55: 435 J | IL55: 398 | IN55: 406 | IQ55: 79.7 | IU55: 256 | IY55: 402 | JB55: 360 | JC55: 536 | JE55: 473 | JG55: 841 | JI55: 4880 | JK55: 7360 | JO55: 388 | JR55: 1950 | JS55: 268 | JU55: 266 | JZ55: 192 | KD55: 91.4 | KF55: 10 | KI55: 1320
A56: Manganese, Dissolved | B56: =VLOOKUP(A56,Units!$B$2:$C$230,2,FALSE) -> mg/L | C56: - | D56: 3.24 | E56: 56.9 | F56: 0.000005 U | G56: 0.000005 U | H56: 0.000005 U | I56: 1.54e-05 | J56: 0.000005 U | K56: 0.000005 U | L56: 0.000005 U | N56: 5.3e-06 | O56: 0.000005 U | P56: 0.000005 U | Q56: 0.000005 U | R56: 0.000005 U | S56: 0.000005 U | T56: 0.000005 U | U56: 0.000005 U | V56: 0.000005 U | W56: 0.000005 U | X56: 0.000005 U | Y56: 0.000005 U | Z56: 0.000005 U | AA56: 0.000005 U | AB56: 0.000005 U | AC56: 0.000005 U | AD56: 0.000005 U | AE56: 0.000005 U | AF56: 9e-06 | AG56: 1e-05 | AH56: 7.4e-06 | AI56: 7.5e-06 | AJ56: 8.8e-06 | AK56: 0.000005 U | AL56: 1.96e-05 | AM56: 1.35e-05 | AO56: 8.2e-06 | AP56: 2.05e-05 | AQ56: 2.94e-05 | AR56: 2.79e-05 | AS56: 6.7e-06 | AT56: 1.34e-05 | AU56: 0.000263 | AW56: 0.000005 U | AX56: 0.000005 U | AY56: 1.58e-05 | AZ56: 1.88e-05 | BA56: 1.81e-05 | BB56: 1.68e-05 | BC56: 9.7e-06 | BD56: 1.65e-05 | BE56: 1.45e-05 | BF56: 1.02e-05 | BG56: 1.02e-05 | BH56: 6.5e-06 | BI56: 0.000005 U | BJ56: 1.95e-05 | BK56: 1.21e-05 | BL56: 5.7e-06 | BM56: 6.5e-06 | BN56: 5.8e-06 | BO56: 1.08e-05 | BP56: 0.000005 U | BQ56: 0.000005 U | BR56: 0.000005 U | BS56: 0.000005 U | BT56: 0.000005 U | BV56: 0.000005 U | BW56: 0.000005 U | BX56: 0.000005 U | BY56: 0.000005 U | BZ56: 6.2e-06 | CA56: 7.7e-06 | CB56: 0.000005 U | CC56: 0.000005 U | CD56: 0.000005 U | CE56: 0.000005 U | CF56: 0.000005 U | CG56: 0.000005 U | CH56: 0.000005 U | CI56: 1.24e-05 | CJ56: 0.0000227 J | CK56: 0.000005 U | CL56: 0.0000349 J | CM56: Manganese, dissolved | CN56: 3.96 | CO56: 3.1 | CP56: 48.7 | CQ56: 70.4 | CR56: 1.65 | CS56: 2.44 | CT56: 0.267 | CU56: 0.255 | CV56: 12.2 | CW56: 14 | CX56: 7.59 | CY56: 7.68 | CZ56: 7.68 | DA56: 7.44 | DB56: 7.44 | DC56: 7.37 | DD56: 31.3 | DE56: 16.1 | DF56: 26.7 | DG56: 6.42 | DJ56: 76.3 | DU56: 0.209 | DV56: 0.00577 | EE56: 0.0982 | EG56: 0.00153 | EI56: 0.00749 | EL56: 1.55 | EM56: 2.15 | ER56: 21.5 | FG56: 16.9 | FK56: 1.35 | FO56: 149 | FS56: 105 | FU56: 118 | FX56: 113 | FY56: 33.9 | GB56: 0.0009 | GC56: 0.0009 | GE56: 0.0248 | GK56: 0.00191 | GM56: 7.45 | GP56: 0.00032 | GR56: 0.0089 J | GT56: 0.0011 | GW56: 7.73 | GZ56: 0.0246 | HB56: 0.00047 | HD56: 1.57 | HF56: 79.3 | HJ56: 410 | HL56: 1.12 | HQ56: 0.00854 | HS56: 51.4 | HU56: 6.69 | HW56: 7.41 | HX56: 0.21 | IA56: 0.204 | IB56: 130 | IE56: 667 | IG56: 335 | II56: 10.7 | IL56: 0.0788 | IN56: 0.00401 | IQ56: 12 | IU56: 0.406 | IY56: 0.00198 | JB56: 23.9 | JC56: 26.4 | JE56: 86 | JG56: 194 | JI56: 3580 | JK56: 3570 | JO56: 70.4 | JR56: 747 | JS56: 56.2 | JU56: 0.00102 | JZ56: 180 | KD56: 0.00012 | KF56: 0.00223 | KI56: 138
A57: Mercury, Dissolved | B57: =VLOOKUP(A57,Units!$B$2:$C$230,2,FALSE) -> mg/L | C57: 2.6e-05 | D57: 1.14e-05 | E57: 0.000005 U | F57: 0.0025 U | G57: 0.00125 | H57: 0.00137 | I57: 0.00181 | J57: 0.00036 | K57: 0.00005 U | L57: 7.8e-05 | N57: 0.00049 | O57: 0.000738 | P57: 0.000823 | Q57: 0.000293 | R57: 0.00112 | S57: 0.000579 | T57: 0.000489 | U57: 0.00132 | V57: 0.00121 | W57: 0.00152 | X57: 0.00135 | Y57: 0.00215 | Z57: 0.00049 | AA57: 0.000371 | AB57: 0.0099 | AC57: 0.01 | AD57: 0.00038 | AE57: 0.00111 | AF57: 0.0025 U | AG57: 0.0015 | AH57: 0.0015 | AI57: 0.0025 U | AJ57: 0.00061 | AK57: 0.00104 | AL57: 0.00048 | AM57: 0.01 | AO57: 0.00011 | AP57: 0.0025 | AQ57: 0.005 U | AR57: 0.0025 U | AS57: 0.00232 | AT57: 0.0005 U | AU57: 0.001 | AW57: 0.0005 | AX57: 0.00133 | AY57: 0.00064 | AZ57: 0.001 U | BA57: 0.00055 | BB57: 0.00031 | BC57: 0.0012 | BD57: 0.005 U | BE57: 0.005 U | BF57: 0.005 U | BG57: 0.0008 | BH57: 0.00168 | BI57: 0.0024 | BJ57: 0.000571 | BK57: 0.00317 | BL57: 0.00424 | BM57: 0.00221 | BN57: 0.01 | BO57: 0.01 | BP57: 0.000426 | BQ57: 0.00067 | BR57: 0.00088 | BS57: 0.00031 | BT57: 0.00032 | BV57: 0.00072 | BW57: 0.00044 | BX57: 0.00138 | BY57: 0.00338 | BZ57: 0.000103 | CA57: 0.00065 | CB57: 0.00025 U | CC57: 0.00179 | CD57: 0.00146 | CE57: 0.00161 | CF57: 0.000755 | CG57: 0.00066 | CH57: 0.000378 | CI57: 0.005 U | CJ57: 0.0011 | CK57: 0.00161 | CL57: 0.00104 | CM57: Mercury, dissolved | CN57: 0.000005 U | CO57: 0.000005 U | CP57: 0.000005 U | CQ57: 0.000005 U | CR57: 0.000005 U | CS57: 0.000005 U | CT57: 0.000005 U | CU57: 0.000005 U | CV57: 1.21e-05 | CW57: 0.000005 U | CX57: 0.000005 U | CY57: 0.000005 U | CZ57: 0.000005 U | DA57: 0.000005 U | DB57: 0.000005 U | DC57: 0.000005 U | DD57: 8.9e-06 | DE57: 0.000005 U | DF57: 0.000005 U | DG57: 2.28e-05 | DJ57: 0.000005 U | DU57: 5.6e-06 | DV57: 7e-06 | EE57: 0.000005 U | EG57: 0.000005 U | EI57: 9.1e-06 | EL57: 0.000005 U | EM57: 0.000005 U | ER57: 2.03e-05 | FG57: 0.000005 U | FK57: 0.000005 U | FO57: 8.3e-06 | FS57: 3.24e-05 | FU57: 7.8e-06 | FX57: 8.74e-05 | FY57: 1.36e-05 | GB57: 0.000005 U | GC57: 0.000005 U | GE57: 0.000005 U | GK57: 0.000005 U | GM57: 0.000005 U | GP57: 0.000005 U | GR57: 5.3e-06 | GT57: 0.000005 U | GW57: 5e-06 | GZ57: 0.000005 U | HB57: 0.000005 U | HD57: 0.000005 U | HF57: 7.8e-06 | HJ57: 8.59e-05 | HL57: 0.000005 U | HQ57: 3.09e-05 | HS57: 1.17e-05 | HU57: 3.43e-05 | HW57: 7.1e-06 | HX57: 0.000005 U | IA57: 0.000005 U | IB57: 7.6e-06 | IE57: 0.00234 | IG57: 7.3e-06 | II57: 0.000005 U | IL57: 0.000005 U | IN57: 0.000005 U | IQ57: 0.000005 U | IU57: 5.9e-06 | IY57: 0.000005 U | JB57: 0.00018 | JC57: 0.000005 U | JE57: 1.11e-05 | JG57: 0.000005 U | JI57: 8.1e-06 | JK57: 1.61e-05 | JO57: 2.59e-05 | JR57: 1.15e-05 | JS57: 0.000005 U | JU57: 0.000005 U | JZ57: 9.4e-06 | KD57: 0.000005 U | KF57: 0.000005 U | KI57: 5.5e-06
A58: Molybdenum (Mo), Dissolved | B58: =VLOOKUP(A58,Units!$B$2:$C$230,2,FALSE) -> mg/L | C58: 0.073 | D58: 0.00031 | E58: 0.0025 U | F58: 1.32 | G58: 0.08 | H58: 0.00065 | I58: 0.11 | J58: 0.01 | K58: 0.00076 | L58: 0.0039 | N58: 0.0091 | O58: 0.00123 | P58: 0.0005 U | Q58: 0.00155 | R58: 0.00212 | S58: 0.00103 | T58: 0.0005 U | U58: 0.0031 | V58: 0.00104 | W58: 0.00441 | X58: 0.00085 | Y58: 0.00189 | Z58: 0.0005 U | AA58: 0.0005 U | AB58: 0.005 U | AC58: 0.005 U | AD58: 0.01 | AE58: 0.00061 | AF58: 0.025 U | AG58: 0.03 | AH58: 0.03 | AI58: 0.025 U | AJ58: 0.69 | AK58: 0.00212 | AL58: 0.02 | AM58: 0.05 U | AO58: 0.07 | AP58: 0.01 U | AQ58: 0.05 U | AR58: 0.025 U | AS58: 0.0005 U | AT58: 0.25 | AU58: 0.06 | AW58: 0.11 | AX58: 0.00131 | AY58: 0.1 | AZ58: 0.02 | BA58: 1.05 | BB58: 0.26 | BC58: 0.31 | BD58: 0.05 U | BE58: 0.05 U | BF58: 0.05 U | BG58: 0.56 | BH58: 0.16 | BI58: 0.04 | BJ58: 0.01 | BK58: 0.03 | BL58: 0.00121 | BM58: 0.00153 | BN58: 0.0005 U | BO58: 0.0005 U | BP58: 0.0005 U | BQ58: 0.02 | BR58: 0.03 | BS58: 0.0025 U | BT58: 0.0025 U | BV58: 0.0067 | BW58: 0.01 | BX58: 0.02 | BY58: 0.0042 | BZ58: 0.07 | CA58: 0.56 | CB58: 0.0025 U | CC58: 0.0005 U | CD58: 0.00052 | CE58: 0.00092 | CF58: 0.0005 U | CG58: 0.0059 | CH58: 0.01 | CI58: 0.2 | CJ58: 0.05 | CK58: 0.00092 | CL58: 0.05 | CM58: Molybdenum (Mo)-Dissolved | CN58: 0.00233 | CO58: 0.00025 U | CP58: 0.0017 | CQ58: 0.0025 U | CR58: 0.00138 | CS58: 0.00143 | CT58: 0.00141 | CU58: 0.00137 | CV58: 0.00188 | CW58: 0.00173 | CX58: 0.00025 U | CY58: 0.00025 U | CZ58: 0.00025 U | DA58: 0.00025 U | DB58: 0.00025 U | DC58: 0.00025 U | DD58: 0.001 U | DE58: 0.00078 | DF58: 0.0022 | DG58: 0.001 U | DJ58: 0.0025 U | DU58: 0.00005 U | DV58: 0.000234 | EE58: 0.0001 U | EG58: 0.000783 | EI58: 0.000341 | EL58: 0.00025 U | EM58: 0.00025 U | ER58: 0.00326 | FG58: 0.00019 | FK58: 8.5e-05 | FO58: 0.005 U | FS58: 0.005 U | FU58: 0.005 U | FX58: 0.005 U | FY58: 0.001 U | GB58: 0.00061 | GC58: 0.00061 | GE58: 0.00133 | GK58: 0.00154 | GM58: 0.0005 U | GP58: 0.00566 | GR58: 0.000433 | GT58: 0.000979 | GW58: 0.001 U | GZ58: 0.00015 | HB58: 0.0001 U | HD58: 0.00005 U | HF58: 0.005 U | HJ58: 0.05 U | HL58: 0.00187 | HQ58: 0.000666 | HS58: 0.001 U | HU58: 0.00025 U | HW58: 0.0005 U | HX58: 0.00005 U | IA58: 0.000319 | IB58: 0.01 U | IE58: 0.25 U | IG58: 0.01 U | II58: 0.0005 U | IL58: 0.00096 | IN58: 0.00085 | IQ58: 0.00043 | IU58: 0.000475 | IY58: 0.0013 | JB58: 0.0005 U | JC58: 0.001 U | JE58: 0.0025 U | JG58: 0.005 U | JI58: 0.05 U | JK58: 0.05 U | JO58: 0.0025 U | JR58: 0.01 U | JS58: 0.0025 U | JU58: 0.00097 | JZ58: 0.005 U | KD58: 0.00051 | KF58: 0.000801 | KI58: 0.005 U
A59: Nickel (Ni), Dissolved | B59: =VLOOKUP(A59,Units!$B$2:$C$230,2,FALSE) -> mg/L | C59: 0.025f | D59: 0.07 | E59: 1.26 | G59: =IF(AND(G9>60,G9<=180),EXP(0.76*LN(G9)+1.06)/1000,0.15) -> 0.15 | CM59: Nickel (Ni)-Dissolved | CN59: 0.144 | CO59: 0.0951 | CP59: 1.11 | CQ59: 1.63 | CR59: 0.0615 | CS59: 0.0713 | CT59: 0.001 U | CU59: 0.001 U | CV59: 0.109 | CW59: 0.122 | CX59: 0.161 | CY59: 0.165 | CZ59: 0.165 | DA59: 0.159 | DB59: 0.159 | DC59: 0.158 | DD59: 0.966 | DE59: 0.28 | DF59: 0.354 | DG59: 0.271 | DJ59: 2.13 | DU59: 0.0434 | DV59: 0.00089 | EE59: 0.0566 | EG59: 0.00733 | EI59: 0.00581 | EL59: 0.096 | EM59: 0.143 | ER59: 0.009 | FG59: 0.081 | FK59: 0.0089 | FO59: 1.56 | FS59: 1.59 | FU59: 1.36 | FX59: 1.31 | FY59: 0.417 | GB59: 0.0012 | GC59: 0.0012 | GE59: 0.00217 | GK59: 0.0139 | GM59: 0.106 | GP59: 0.00091 | GR59: 0.00952 | GT59: 0.00052 | GW59: 0.306 | GZ59: 0.0741 | HB59: 0.088 | HD59: 0.184 | HF59: 1.48 | HJ59: 14.3 | HL59: 0.132 | HQ59: 0.0008 | HS59: 0.823 | HU59: 0.349 | HW59: 0.252 | HX59: 0.0405 | IA59: 0.0484 | IB59: 2.26 | IE59: 13.5 | IG59: 6.6 | II59: 0.518 | IL59: 0.377 | IN59: 0.291 | IQ59: 0.0237 | IU59: 0.207 | IY59: 0.126 | JB59: 0.549 | JC59: 0.85 | JE59: 2.75 | JG59: 4.75 | JI59: 16.1 | JK59: 15.9 | JO59: 2.24 | JR59: 4.38 | JS59: 1.8 | JU59: 0.0056 | JZ59: 0.889 | KD59: 0.00092 | KF59: 0.0005 U | KI59: 2.37
A60: Ni guideline | D60: =IF(AND(D10>60,D10<=180),EXP(0.76*LN(D10)+1.06)/1000,0.15) -> 0.15 | E60: =IF(AND(E10>60,E10<=180),EXP(0.76*LN(E10)+1.06)/1000,0.15) -> 0.15 | F60: 0.6 U | G60: 0.3 U | H60: 0.3 U | I60: 0.6 U | J60: 0.3 U | K60: 0.3 U | L60: 0.3 U | N60: 0.3 U | O60: 0.3 U | P60: 0.3 U | Q60: 0.3 U | R60: 0.3 U | S60: 0.3 U | T60: 0.3 U | U60: 0.3 U | V60: 0.3 U | W60: 0.3 U | X60: 0.3 U | Y60: 0.3 U | Z60: 0.3 U | AA60: 0.3 U | AB60: 1.5 U | AC60: 1.5 U | AD60: 0.3 U | AE60: 0.3 U | AF60: 3 U | AG60: 1.5 U | AH60: 1.5 U | AI60: 3 U | AJ60: 0.3 U | AK60: 0.3 U | AL60: 0.3 U | AM60: 6 U | AO60: 0.3 U | AP60: 1.5 U | AQ60: 6 U | AR60: 3 U | AS60: 0.3 U | AT60: 0.3 U | AU60: 1.5 U | AW60: 0.3 U | AX60: 0.3 U | AY60: 0.6 U | AZ60: 1.5 U | BA60: 0.3 U | BB60: 0.3 U | BC60: 1.5 U | BD60: 6 U | BE60: 6 U | BF60: 6 U | BG60: 0.6 U | BH60: 0.3 U | BI60: 0.3 U | BJ60: 0.3 U | BK60: 0.3 U | BL60: 0.3 U | BM60: 0.3 U | BN60: 0.3 U | BO60: 0.3 U | BP60: 0.3 U | BQ60: 0.3 U | BR60: 0.3 U | BS60: 0.3 U | BT60: 0.3 U | BV60: 0.3 U | BW60: 0.3 U | BX60: 0.3 U | BY60: 0.3 U | BZ60: 0.3 U | CA60: 0.6 U | CB60: 0.3 U | CC60: 0.3 U | CD60: 0.3 U | CE60: 0.3 U | CF60: 0.3 U | CG60: 0.3 U | CH60: 0.3 U | CI60: 6 U | CJ60: 0.6 U | CK60: 0.3 U | CL60: 0.6 U | CM60: Ni guideline | CN60: 0.15 | CO60: 0.15 | CP60: 0.15 | CQ60: 0.15 | CR60: #REF! | CS60: 0.15 | CT60: 0.15 | CU60: 0.15 | CV60: 0.15 | CW60: 0.15 | CX60: 0.15 | CY60: 0.15 | CZ60: 0.15 | DA60: 0.15 | DB60: 0.15 | DC60: 0.15 | DD60: 0.15 | DE60: 0.15 | DF60: 0.15 | DG60: 0.15 | DH60: 0.15 | DI60: 0.15 | DJ60: 0.15 | DK60: 0.15 | DL60: 0.15 | DM60: 0.15 | DN60: 0.15 | DO60: 0.15 | DP60: 0.15 | DQ60: 0.15 | DR60: 0.15 | DS60: 0.15 | DT60: 0.15 | DU60: 0.15 | DV60: 0.15 | DW60: 0.15 | DX60: 0.15 | DY60: 0.15 | DZ60: 0.15 | EA60: 0.15 | EB60: 0.15 | EC60: 0.15 | ED60: 0.15 | EE60: 0.15 | EF60: 0.15 | EG60: 0.15 | EH60: 0.15 | EI60: 0.15 | EJ60: 0.15 | EK60: 0.15 | EL60: 0.15 | EM60: 0.15 | EN60: 0.15 | EO60: 0.15 | EP60: 0.15 | EQ60: 0.15 | ER60: 0.15 | ES60: 0.15 | ET60: 0.15 | EU60: 0.15 | EV60: 0.15 | EW60: 0.15 | EX60: 0.15 | EY60: 0.15 | EZ60: 0.15 | FA60: 0.15 | FB60: 0.15 | FC60: 0.15 | FD60: 0.15 | FE60: 0.15 | FF60: 0.15 | FG60: 0.15 | FH60: 0.15 | FI60: 0.15 | FJ60: 0.15 | FK60: 0.15 | FL60: 0.15 | FM60: 0.15 | FN60: 0.15 | FO60: 0.15 | FP60: 0.15 | FQ60: 0.15 | FR60: 0.15 | FS60: 0.15 | FT60: 0.15 | FU60: 0.15 | FV60: 0.15 | FW60: 0.15 | FX60: 0.15 | FY60: 0.15 | FZ60: 0.15 | GA60: 0.15 | GB60: 0.15 | GC60: 0.15 | GD60: 0.15 | GE60: 0.15 | GF60: 0.15 | GG60: 0.15 | GH60: 0.15 | GI60: 0.15 | GJ60: 0.15 | GK60: 0.15 | GL60: 0.15 | GM60: 0.15 | GN60: 0.15 | GO60: 0.15 | GP60: 0.15 | GQ60: 0.15 | GR60: 0.15 | GS60: 0.15 | GT60: 0.15 | GU60: 0.15 | GV60: 0.15 | GW60: 0.15 | GX60: 0.15 | GY60: 0.15 | GZ60: 0.15 | HA60: 0.15 | HB60: 0.15 | HC60: 0.15 | HD60: 0.15 | HE60: 0.15 | HF60: 0.15 | HG60: 0.15 | HH60: 0.15 | HI60: 0.15 | HJ60: 0.15 | HK60: 0.15 | HL60: 0.15 | HM60: 0.15 | HN60: 0.15 | HO60: 0.15 | HP60: 0.15 | HQ60: 0.079977215 | HR60: 0.15 | HS60: 0.15 | HT60: 0.15 | HU60: 0.15 | HV60: 0.15 | HW60: 0.15 | HX60: 0.15 | HY60: 0.15 | HZ60: 0.15 | IA60: 0.15 | IB60: 0.15 | IC60: 0.15 | ID60: 0.15 | IE60: 0.15 | IF60: 0.15 | IG60: 0.15 | IH60: 0.15 | II60: 0.15 | IJ60: 0.15 | IK60: 0.15 | IL60: 0.15 | IM60: 0.15 | IN60: 0.15 | IO60: 0.15 | IP60: 0.15 | IQ60: 0.15 | IR60: 0.15 | IS60: 0.15 | IT60: 0.15 | IU60: 0.15 | IV60: 0.15 | IW60: 0.15 | IX60: 0.15 | IY60: 0.15 | IZ60: 0.15 | JA60: 0.15 | JB60: 0.15 | JC60: 0.15 | JD60: 0.15 | JE60: 0.15 | JF60: 0.15 | JG60: 0.15 | JH60: 0.15 | JI60: 0.15 | JJ60: 0.15 | JK60: 0.15 | JL60: 0.15 | JM60: 0.15 | JN60: 0.15 | JO60: 0.15 | JP60: 0.15 | JQ60: 0.15 | JR60: 0.15 | JS60: 0.15 | JT60: 0.15 | JU60: 0.15 | JV60: 0.15 | JW60: 0.15 | JX60: 0.15 | JY60: 0.15 | JZ60: 0.15 | KA60: 0.15 | KB60: 0.15 | KC60: 0.15 | KD60: 0.15 | KE60: 0.15 | KF60: 0.15 | KG60: 0.15 | KH60: 0.15 | KI60: 0.15
A61: Phosphorus, Dissolved | B61: =VLOOKUP(A61,Units!$B$2:$C$230,2,FALSE) -> mg/L | C61: 0.004 to 0.10g | D61: 0.3 U | E61: 0.6 U | F61: 12.1 | G61: 7.3 | H61: 3.47 | I61: 3.35 | J61: 7.45 | K61: 7.19 | L61: 10.1 | N61: 11.5 | O61: 2.4 | P61: 2.18 | Q61: 4.57 | R61: 3.78 | S61: 2.91 | T61: 3.08 | U61: 1.22 | V61: 1.36 | W61: 1.05 | X61: 2.33 | Y61: 2.53 | Z61: 1.19 | AA61: 1.44 | AB61: 25.6 | AC61: 25.9 | AD61: 5.39 | AE61: 3.95 | AF61: 12.8 | AG61: 9.8 | AH61: 10.3 | AI61: 16 | AJ61: 5.97 | AK61: 2.83 | AL61: 6.49 | AM61: 47 | AO61: 2.16 | AP61: 24.5 | AQ61: 58.6 | AR61: 17.9 | AS61: 2.5 | AT61: 4.36 | AU61: 19.9 | AW61: 4.11 | AX61: 3.32 | AY61: 10.9 | AZ61: 9.5 | BA61: 5.17 | BB61: 3.6 | BC61: 17.6 | BD61: 59.1 | BE61: 59.5 | BF61: 60.1 | BG61: 7.16 | BH61: 5.02 | BI61: 4.04 | BJ61: 1.74 | BK61: 2.2 | BL61: 3.1 | BM61: 6.59 | BN61: 4.13 | BO61: 7.39 | BP61: 4.26 | BQ61: 4.36 | BR61: 4.81 | BS61: 7.92 | BT61: 7.62 | BV61: 7.63 | BW61: 7.46 | BX61: 8.07 | BY61: 4.26 | BZ61: 2.24 | CA61: 7.18 | CB61: 7.77 | CC61: 1.37 | CD61: 1.32 | CE61: 1.35 | CF61: 2.71 | CG61: 5.57 | CH61: 6.46 | CI61: 13 | CJ61: 6.45 | CK61: 1.38 | CL61: 6.35 | CM61: Phosphorus, dissolved | CN61: 0.3 U | CO61: 0.3 U | CP61: 0.6 U | CQ61: 0.6 U | CR61: 0.3 U | CS61: 0.3 U | CT61: 0.3 U | CU61: 0.3 U | CV61: 0.3 U | CW61: 0.6 U | CX61: 0.3 U | CY61: 0.3 U | CZ61: 0.3 U | DA61: 0.3 U | DB61: 0.3 U | DC61: 0.3 U | DD61: 0.6 U | DE61: 0.3 U | DF61: 1.5 U | DG61: 0.3 U | DJ61: 0.9 U | DU61: 0.3 U | DV61: 0.3 U | EE61: 0.3 U | EG61: 0.3 U | EI61: 0.3 U | EL61: 0.3 U | EM61: 0.3 U | ER61: 0.3 U | FG61: 0.3 U | FK61: 0.3 U | FO61: 0.6 U | FS61: 0.9 U | FU61: 0.9 U | FX61: 0.9 U | FY61: 0.3 U | GB61: 0.3 U | GC61: 0.3 U | GE61: 0.3 U | GK61: 0.3 U | GM61: 0.3 U | GP61: 0.3 U | GR61: 0.3 U | GT61: 0.3 U | GW61: 0.3 U | GZ61: 0.3 U | HB61: 0.3 U | HD61: 0.3 U | HF61: 0.6 U | HJ61: 11.7 | HL61: 0.6 U | HQ61: 0.3 U | HS61: 0.6 U | HU61: 0.3 U | HW61: 0.3 U | HX61: 0.3 U | IA61: 0.3 U | IB61: 0.9 U | IE61: 40 | IG61: 3 U | II61: 0.6 U | IL61: 0.3 U | IN61: 0.3 U | IQ61: 0.3 U | IU61: 0.3 U | IY61: 0.3 U | JB61: 0.3 U | JC61: 0.3 U | JE61: 0.6 U | JG61: 0.9 U | JI61: 15 U | JK61: 15 U | JO61: 0.6 U | JR61: 3 U | JS61: 0.3 U | JU61: 0.3 U | JZ61: 0.6 U | KD61: 0.3 U | KF61: 0.3 U | KI61: 0.9 U
A62: Potassium, Dissolved | B62: =VLOOKUP(A62,Units!$B$2:$C$230,2,FALSE) -> mg/L | C62: - | D62: 11.6 | E62: 11.5 | F62: 0.0025 U | G62: 0.0001 U | H62: 0.00005 U | I62: 0.00025 U | J62: 0.00025 U | K62: 0.00005 U | L62: 8.8e-05 | N62: 0.0001 U | O62: 0.00005 U | P62: 0.00005 U | Q62: 0.00005 U | R62: 0.00005 U | S62: 0.00152 | T62: 0.00428 | U62: 0.000299 | V62: 0.000506 | W62: 0.000206 | X62: 0.00005 U | Y62: 0.00005 U | Z62: 0.000489 | AA62: 0.00022 | AB62: 0.0005 U | AC62: 0.0005 U | AD62: 0.0001 U | AE62: 0.00005 U | AF62: 0.0025 U | AG62: 0.001 U | AH62: 0.001 U | AI62: 0.0025 U | AJ62: 0.0005 U | AK62: 0.00005 U | AL62: 0.00025 U | AM62: 0.005 U | AO62: 0.00005 U | AP62: 0.001 U | AQ62: 0.005 U | AR62: 0.0025 U | AS62: 0.00005 U | AT62: 0.0005 U | AU62: 0.001 U | AW62: 0.00025 U | AX62: 0.00005 U | AY62: 0.0005 U | AZ62: 0.001 U | BA62: 0.0005 U | BB62: 0.00025 U | BC62: 0.001 U | BD62: 0.005 U | BE62: 0.005 U | BF62: 0.005 U | BG62: 0.0005 U | BH62: 0.0005 U | BI62: 0.00025 U | BJ62: 0.00005 U | BK62: 0.0001 U | BL62: 5.6e-05 | BM62: 0.000256 | BN62: 0.00005 U | BO62: 0.00005 U | BP62: 0.00005 U | BQ62: 0.0001 U | BR62: 0.0001 U | BS62: 0.00025 U | BT62: 0.00025 U | BV62: 0.0005 U | BW62: 0.00025 U | BX62: 0.0005 U | BY62: 0.0001 U | BZ62: 0.00005 U | CA62: 0.0005 U | CB62: 0.00025 U | CC62: 0.00104 | CD62: 0.00153 | CE62: 0.000836 | CF62: 0.00005 U | CG62: 0.0001 U | CH62: 8.2e-05 | CI62: 0.005 U | CJ62: 0.0005 U | CK62: 0.000938 | CL62: 0.0005 U | CM62: Potassium, dissolved | CN62: 12.9 | CO62: 11.6 | CP62: 10.5 | CQ62: 12.5 | CR62: 6.62 | CS62: 6.81 | CT62: 3.61 | CU62: 3.35 | CV62: 3.15 | CW62: 3.15 | CX62: 10.8 | CY62: 10.8 | CZ62: 10.8 | DA62: 10.2 | DB62: 10.2 | DC62: 10.3 | DD62: 5.2 | DE62: 5.26 | DF62: 28.6 | DG62: 2.4 | DJ62: 15.4 | DU62: 4.44 | DV62: 2.44 | EE62: 1.66 | EG62: 1.87 | EI62: 1.09 | EL62: 1.79 | EM62: 2.02 | ER62: 3.27 | FG62: 4.21 | FK62: 1.94 | FO62: 5 U | FS62: 12.8 | FU62: 12 | FX62: 12.2 | FY62: 8.6 | GB62: 4.6 | GC62: 4.6 | GE62: 3.55 | GK62: 2.9 | GM62: 1.3 | GP62: 2.48 | GR62: 4.01 | GT62: 0.788 | GW62: 9.1 | GZ62: 4.05 | HB62: 4.02 | HD62: 4.62 | HF62: 15.3 | HJ62: 50 U | HL62: 17.4 | HQ62: 0.946 | HS62: 10.6 | HU62: 3.8 | HW62: 4.93 | HX62: 4.23 | IA62: 6.63 | IB62: 17 | IE62: 250 U | IG62: 15 | II62: 14.1 | IL62: 7.54 | IN62: 6.89 | IQ62: 2.36 | IU62: 3.77 | IY62: 5.44 | JB62: 8.66 | JC62: 3.9 | JE62: 11.6 | JG62: 11.3 | JI62: 50 U | JK62: 50 U | JO62: 2.5 U | JR62: 15 | JS62: 2.5 | JU62: 3.45 | JZ62: 5 U | KD62: 1.31 | KF62: 0.495 | KI62: 15.9
A63: Selenium (Se), Dissolved | B63: =VLOOKUP(A63,Units!$B$2:$C$230,2,FALSE) -> mg/L | C63: 0.001 | D63: 0.00025 U | E63: 0.0025 U | F63: 31.4 | G63: 9.76 | H63: 11.6 | I63: 25.8 | J63: 21.6 | K63: 21.1 | L63: 23.4 | N63: 21.2 | O63: 10.1 | P63: 10.9 | Q63: 13.8 | R63: 12 | S63: 8.84 | T63: 9.72 | U63: 9.51 | V63: 10.4 | W63: 9.43 | X63: 10.5 | Y63: 9.01 | Z63: 9 | AA63: 9.65 | AB63: 2.86 | AC63: 2.79 | AD63: 14 | AE63: 12.7 | AF63: 32.8 | AG63: 27.6 | AH63: 27.5 | AI63: 26.3 | AJ63: 24.4 | AK63: 11.1 | AL63: 14.6 | AM63: 11 | AO63: 21.8 | AP63: 22.3 | AQ63: 2.9 | AR63: 3.5 | AS63: 18 | AT63: 43.2 | AU63: 33 | AW63: 23.1 | AX63: 13.8 | AY63: 24.6 | AZ63: 19 | BA63: 47 | BB63: 29.5 | BC63: 6.42 | BD63: 14 | BE63: 9.7 | BF63: 6.9 | BG63: 35.6 | BH63: 20.5 | BI63: 15.5 | BJ63: 10.1 | BK63: 14.2 | BL63: 19.9 | BM63: 20.2 | BN63: 2.47 | BO63: 2.82 | BP63: 16.9 | BQ63: 17.9 | BR63: 18.5 | BS63: 25 | BT63: 24.9 | BV63: 26 | BW63: 22.7 | BX63: 24.5 | BY63: 15.6 | BZ63: 21.6 | CA63: 35 | CB63: 24.8 | CC63: 9.4 | CD63: 9.86 | CE63: 11.3 | CF63: 12 | CG63: 15.1 | CH63: 15.2 | CI63: 2.3 | CJ63: 28.5 | CK63: 11.4 | CL63: 28.9 | CM63: Selenium (Se)-Dissolved | CN63: 0.00025 U | CO63: 0.00025 U | CP63: 0.001 U | CQ63: 0.0025 U | CR63: 0.0001 U | CS63: 0.0001 | CT63: 0.0001 U | CU63: 0.0001 U | CV63: 0.00025 U | CW63: 0.00025 U | CX63: 0.00025 U | CY63: 0.00025 U | CZ63: 0.00025 U | DA63: 0.00025 U | DB63: 0.00025 U | DC63: 0.00025 U | DD63: 0.001 U | DE63: 0.00025 U | DF63: 0.001 U | DG63: 0.001 U | DJ63: 0.0025 U | DU63: 0.000891 | DV63: 0.000217 | EE63: 0.00023 | EG63: 0.000159 | EI63: 0.000135 | EL63: 0.00025 U | EM63: 0.00025 U | ER63: 0.00025 U | FG63: 0.0001 U | FK63: 0.00005 U | FO63: 0.005 U | FS63: 0.005 U | FU63: 0.005 U | FX63: 0.005 U | FY63: 0.001 U | GB63: 0.00015 | GC63: 0.00015 | GE63: 0.00123 | GK63: 0.000408 | GM63: 0.0005 U | GP63: 0.000566 | GR63: 0.00195 | GT63: 0.00198 | GW63: 0.0019 | GZ63: 0.00284 | HB63: 0.00244 | HD63: 0.000297 | HF63: 0.005 U | HJ63: 0.05 U | HL63: 0.00687 | HQ63: 0.000108 | HS63: 0.0064 | HU63: 0.00025 U | HW63: 0.0005 U | HX63: 0.000927 | IA63: 0.0006 | IB63: 0.01 U | IE63: 0.25 U | IG63: 0.01 U | II63: 0.0011 | IL63: 0.00192 | IN63: 0.00036 | IQ63: 0.0001 U | IU63: 0.00081 | IY63: 0.00299 | JB63: 0.0005 U | JC63: 0.0016 | JE63: 0.0025 U | JG63: 0.005 U | JI63: 0.05 U | JK63: 0.05 U | JO63: 0.0025 U | JR63: 0.01 U | JS63: 0.003 | JU63: 0.00063 | JZ63: 0.005 U | KD63: 0.00191 | KF63: 0.000885 | KI63: 0.005 U
A64: Silica, Dissolved (Si) | B64: =VLOOKUP(A64,Units!$B$2:$C$230,2,FALSE) -> mg/L | C64: - | D64: 20.5 | E64: 30.9 | F64: 14.7 | G64: 4.56 | H64: 5.44 | I64: 12.1 | J64: 10.1 | K64: 9.87 | L64: 10.9 | N64: 9.91 | O64: 4.72 | P64: 5.09 | Q64: 6.43 | R64: 5.6 | S64: 4.13 | T64: 4.54 | U64: 4.45 | V64: 4.85 | W64: 4.41 | X64: 4.9 | Y64: 4.21 | Z64: 4.21 | AA64: 4.51 | AB64: 1.33 | AC64: 1.31 | AD64: 6.55 | AE64: 5.94 | AF64: 15.4 | AG64: 12.9 | AH64: 12.9 | AI64: 12.3 | AJ64: 11.4 | AK64: 5.2 | AL64: 6.83 | AM64: 5.2 | AO64: 10.2 | AP64: 10.4 | AQ64: 1.4 | AR64: 1.65 | AS64: 8.43 | AT64: 20.2 | AU64: 15.4 | AW64: 10.8 | AX64: 6.47 | AY64: 11.5 | AZ64: 8.89 | BA64: 22 | BB64: 13.8 | BC64: 15 | BD64: 6.5 | BE64: 4.5 | BF64: 3.2 | BG64: 16.7 | BH64: 9.57 | BI64: 7.24 | BJ64: 4.72 | BK64: 6.64 | BL64: 9.28 | BM64: 9.44 | BN64: 1.16 | BO64: 1.32 | BP64: 7.88 | BQ64: 8.38 | BR64: 8.65 | BS64: 11.7 | BT64: 11.6 | BV64: 12.1 | BW64: 10.6 | BX64: 11.5 | BY64: 7.28 | BZ64: 10.1 | CA64: 16.3 | CB64: 11.6 | CC64: 4.39 | CD64: 4.61 | CE64: 5.27 | CF64: 5.6 | CG64: 7.04 | CH64: 7.13 | CI64: 21.7 | CJ64: 13.3 | CK64: 5.34 | CL64: 13.5 | CM64: Silica, Dissolved | CN64: 20.2 | CO64: 19.5 | CP64: 28.1 | CQ64: 26.8 | CR64: 9.81 | CS64: 10.1 | CT64: 10.9 | CU64: 11 | CV64: 22.4 | CW64: 26.2 | CX64: 7.33 | CY64: 6.99 | CZ64: 6.99 | DA64: 7.46 | DB64: 7.46 | DC64: 7.05 | DD64: 30.7 | DE64: 21.3 | DF64: 17.5 | DG64: 37.1 | DJ64: 14.4 | DU64: 12.8 | DV64: 12 | EE64: 24.9 | EG64: 19 | EI64: 19.1 | EL64: 23.6 | EM64: 28.4 | ER64: 12.5 | FG64: 25.2 | FK64: 8.75 | FO64: 27 | FS64: 41.8 | FU64: 34.1 | FX64: 32.2 | FY64: 13.1 | GB64: 13.5 | GC64: 13.5 | GE64: 12.7 | GK64: 2.89 | GM64: 13 | GP64: 8.73 | GR64: 11.1 | GT64: 10.5 | GW64: 12 | GZ64: 12.5 | HB64: 13.4 | HD64: 29.6 | HF64: 10.2 | HJ64: 110 | HL64: 4.44 | HQ64: 12.6 | HS64: 14.1 | HU64: 15.6 | HW64: 21.1 | HX64: 13 | IA64: 2.1 | IB64: 17.4 | IE64: 121 | IG64: 58.6 | II64: 6.91 | IL64: 9.04 | IN64: 10.5 | IQ64: 16.6 | IU64: 7.07 | IY64: 10.6 | JB64: 10.9 | JC64: 6.5 | JE64: 12.6 | JG64: 17.6 | JI64: 30.4 | JK64: 21.5 | JO64: 48.1 | JR64: 26.5 | JS64: 14.1 | JU64: 12.5 | JZ64: 29 | KD64: 10.3 | KF64: 9.36 | KI64: 16.5
A65: Silicon, Dissolved (SiO2) | B65: =VLOOKUP(A65,Units!$B$2:$C$230,2,FALSE) -> mg/L | C65: - | D65: 9.6 | E65: 14.4 | F65: 0.0005 U | G65: 0.00002 U | H65: 0.00001 U | I65: 0.00005 U | J65: 0.00005 U | K65: 0.00001 U | L65: 1.3e-05 | N65: 0.000197 | O65: 0.00001 U | P65: 0.00001 U | Q65: 0.00001 U | R65: 0.00001 U | S65: 0.00001 U | T65: 0.00001 U | U65: 0.00001 U | V65: 0.00001 U | W65: 0.00001 U | X65: 0.00001 U | Y65: 0.00001 U | Z65: 0.00001 U | AA65: 0.00001 U | AB65: 0.0001 U | AC65: 0.0001 U | AD65: 0.00002 U | AE65: 0.00001 U | AF65: 0.0005 U | AG65: 0.0002 U | AH65: 0.0002 U | AI65: 0.0005 U | AJ65: 0.0001 U | AK65: 0.00001 U | AL65: 0.00005 U | AM65: 0.001 U | AO65: 0.00001 U | AP65: 0.0002 U | AQ65: 0.001 U | AR65: 0.0005 U | AS65: 0.00001 U | AT65: 0.0001 U | AU65: 0.0002 U | AW65: 0.00005 U | AX65: 0.00001 U | AY65: 0.0001 U | AZ65: 0.0002 U | BA65: 0.0001 U | BB65: 0.00005 U | BC65: 0.0002 U | BD65: 0.001 U | BE65: 0.001 U | BF65: 0.001 U | BG65: 0.0001 U | BH65: 0.0001 U | BI65: 0.00005 U | BJ65: 0.00001 U | BK65: 0.00002 U | BL65: 0.00001 U | BM65: 0.00001 U | BN65: 0.00001 U | BO65: 0.00001 U | BP65: 0.00001 U | BQ65: 0.00002 U | BR65: 0.00002 U | BS65: 0.00005 U | BT65: 0.00005 U | BV65: 0.0001 U | BW65: 0.00005 U | BX65: 0.0001 U | BY65: 0.00002 U | BZ65: 0.00001 U | CA65: 0.0001 U | CB65: 0.00005 U | CC65: 0.00001 U | CD65: 0.00001 U | CE65: 0.00001 U | CF65: 0.00001 U | CG65: 0.00002 U | CH65: 0.00001 U | CI65: 0.001 U | CJ65: 0.0001 U | CK65: 0.00001 U | CL65: 0.0001 U | CM65: Silicon, dissolved | CN65: 9.46 | CO65: 9.09 | CP65: 13.2 | CQ65: 12.5 | CR65: 4.59 | CS65: 4.72 | CT65: 5.1 | CU65: 5.14 | CV65: 10.5 | CW65: 12.3 | CX65: 3.43 | CY65: 3.27 | CZ65: 3.27 | DA65: 3.49 | DB65: 3.49 | DC65: 3.29 | DD65: 14.3 | DE65: 9.94 | DF65: 8.18 | DG65: 17.3 | DJ65: 6.71 | DU65: 5.98 | DV65: 5.6 | EE65: 11.7 | EG65: 8.9 | EI65: 8.92 | EL65: 11.1 | EM65: 13.3 | ER65: 5.86 | FG65: 11.8 | FK65: 4.09 | FO65: 12.6 | FS65: 19.6 | FU65: 15.9 | FX65: 15.1 | FY65: 6.13 | GB65: 6.33 | GC65: 6.33 | GE65: 5.94 | GK65: 1.35 | GM65: 6.07 | GP65: 4.08 | GR65: 5.21 | GT65: 4.93 | GW65: 5.6 | GZ65: 5.86 | HB65: 6.27 | HD65: 13.8 | HF65: 4.75 | HJ65: 51.3 | HL65: 2.08 | HQ65: 5.87 | HS65: 6.6 | HU65: 7.29 | HW65: 9.88 | HX65: 6.06 | IA65: 0.98 | IB65: 8.14 | IE65: 56.3 | IG65: 27.4 | II65: 3.23 | IL65: 4.22 | IN65: 4.92 | IQ65: 7.76 | IU65: 3.3 | IY65: 4.94 | JB65: 5.11 | JC65: 3.04 | JE65: 5.87 | JG65: 8.22 | JI65: 14.2 | JK65: 10.1 | JO65: 22.5 | JR65: 12.4 | JS65: 6.61 | JU65: 5.85 | JZ65: 13.6 | KD65: 4.83 | KF65: 4.37 | KI65: 7.72
A66: Silver (Ag), Dissolved | B66: =VLOOKUP(A66,Units!$B$2:$C$230,2,FALSE) -> mg/L | C66: 0.0001 | D66: 0.00005 U | E66: 0.0005 U | F66: 19.9 | G66: 11.2 | H66: 8.12 | I66: 16.3 | J66: 40.4 | K66: 132 | L66: 173 | N66: 299 | O66: 5.29 | P66: 8.1 | Q66: 8.68 | R66: 9.27 | S66: 1.8 | T66: 2.76 | U66: 1.79 | V66: 1.97 | W66: 1.81 | X66: 2.11 | Y66: 2.27 | Z66: 1.65 | AA66: 1.7 | AB66: 22 | AC66: 21.4 | AD66: 5.22 | AE66: 8.1 | AF66: 27.6 | AG66: 20 | AH66: 20.6 | AI66: 19.5 | AJ66: 15.4 | AK66: 6.61 | AL66: 25.2 | AM66: 114 | AO66: 4.73 | AP66: 130 | AQ66: 118 | AR66: 17.1 | AS66: 9.1 | AT66: 8.02 | AU66: 83.8 | AW66: 24.7 | AX66: 94 | AY66: 71.6 | AZ66: 51.8 | BA66: 13.8 | BB66: 14.1 | BC66: 59.4 | BD66: 214 | BE66: 155 | BF66: 177 | BG66: 18.1 | BH66: 21.6 | BI66: 31.9 | BJ66: 5.97 | BK66: 9.78 | BL66: 35.6 | BM66: 63.7 | BN66: 75.7 | BO66: 48.8 | BP66: 47.2 | BQ66: 23.2 | BR66: 27.4 | BS66: 45.4 | BT66: 36.1 | BV66: 34.5 | BW66: 30.2 | BX66: 36.6 | BY66: 21.6 | BZ66: 4.79 | CA66: 19.2 | CB66: 45.6 | CC66: 1.92 | CD66: 1.87 | CE66: 2.6 | CF66: 11 | CG66: 16.7 | CH66: 16.7 | CI66: 33.4 | CJ66: 53.3 | CK66: 2.64 | CL66: 52.7 | CM66: Silver (Ag)-Dissolved | CN66: 0.00005 U | CO66: 0.00005 U | CP66: 0.0002 U | CQ66: 0.0005 U | CR66: 0.00002 U | CS66: 0.00002 U | CT66: 0.00002 U | CU66: 0.00002 U | CV66: 0.00005 U | CW66: 0.00005 U | CX66: 0.00005 U | CY66: 0.00005 U | CZ66: 0.00005 U | DA66: 0.00005 U | DB66: 0.00005 U | DC66: 0.00005 U | DD66: 0.0002 U | DE66: 0.00005 U | DF66: 0.0002 U | DG66: 0.00059 | DJ66: 0.0005 U | DU66: 0.00001 U | DV66: 0.00001 U | EE66: 0.00002 U | EG66: 0.00001 U | EI66: 0.00001 U | EL66: 0.00005 U | EM66: 0.00005 U | ER66: 0.00005 U | FG66: 0.00002 U | FK66: 0.00001 U | FO66: 0.001 U | FS66: 0.001 U | FU66: 0.001 U | FX66: 0.001 U | FY66: 0.0002 U | GB66: 0.00002 U | GC66: 0.00002 U | GE66: 0.00001 U | GK66: 0.00001 U | GM66: 0.0001 U | GP66: 0.00001 U | GR66: 0.00001 U | GT66: 0.00001 U | GW66: 0.0002 U | GZ66: 0.00001 U | HB66: 0.00002 U | HD66: 0.00001 U | HF66: 0.001 U | HJ66: 0.01 U | HL66: 0.00002 U | HQ66: 0.00001 U | HS66: 0.0002 U | HU66: 0.000112 | HW66: 0.00013 | HX66: 0.00001 U | IA66: 0.00001 U | IB66: 0.002 U | IE66: 0.05 U | IG66: 0.002 U | II66: 0.0001 U | IL66: 0.00002 U | IN66: 0.00002 U | IQ66: 0.00002 U | IU66: 0.00001 U | IY66: 0.00002 U | JB66: 0.0001 U | JC66: 0.0002 U | JE66: 0.0005 U | JG66: 0.001 U | JI66: 0.01 U | JK66: 0.01 U | JO66: 0.00053 | JR66: 0.002 U | JS66: 0.0005 U | JU66: 0.00002 U | JZ66: 0.001 U | KD66: 0.00001 U | KF66: 0.00001 U | KI66: 0.001 U
A67: Sodium (Na), Dissolved | B67: =VLOOKUP(A67,Units!$B$2:$C$230,2,FALSE) -> mg/L | C67: - | D67: 30.4 | E67: 19 | F67: 1.83 | G67: 1.12 | H67: 1.68 | I67: 2 | J67: 2.06 | K67: 2.04 | L67: 4.74 | N67: 5.1 | O67: 0.35 | P67: 0.38 | Q67: 0.53 | R67: 0.59 | S67: 0.37 | T67: 0.5 | U67: 0.14 | V67: 0.15 | W67: 0.15 | X67: 0.31 | Y67: 0.24 | Z67: 0.31 | AA67: 0.32 | AB67: 0.3 | AC67: 0.3 | AD67: 0.58 | AE67: 1.04 | AF67: 1.55 | AG67: 1.13 | AH67: 1.13 | AI67: 0.24 | AJ67: 1.12 | AK67: 0.33 | AL67: 0.24 | AM67: 0.86 | AO67: 0.4 | AP67: 0.8 | AQ67: 2.08 | AR67: 0.24 | AS67: 0.65 | AT67: 0.5 | AU67: 0.82 | AW67: 0.83 | AX67: 0.52 | AY67: 3.05 | AZ67: 1.15 | BA67: 1.05 | BB67: 0.92 | BC67: 1.09 | BD67: 0.61 | BE67: 0.61 | BF67: 0.4 | BG67: 1.42 | BH67: 1.13 | BI67: 0.67 | BJ67: 0.53 | BK67: 0.48 | BL67: 0.51 | BM67: 0.65 | BN67: 0.05 | BO67: 0.06 | BP67: 1.35 | BQ67: 0.84 | BR67: 0.91 | BS67: 2.22 | BT67: 1.81 | BV67: 1.79 | BW67: 1.5 | BX67: 1.75 | BY67: 0.71 | BZ67: 0.39 | CA67: 1.28 | CB67: 2.24 | CC67: 0.16 | CD67: 0.18 | CE67: 0.24 | CF67: 0.47 | CG67: 1.02 | CH67: 0.89 | CI67: 1.32 | CJ67: 1.39 | CK67: 0.23 | CL67: 1.34 | CM67: Sodium (Na)-Dissolved | CN67: 36.9 | CO67: 32.5 | CP67: 17.5 | CQ67: 23.8 | CR67: 11.6 | CS67: 10 | CT67: 8.02 | CU67: 7.49 | CV67: 15.8 | CW67: 16.4 | CX67: 23 | CY67: 23.3 | CZ67: 23.3 | DA67: 22.2 | DB67: 22.2 | DC67: 22.1 | DD67: 17.6 | DE67: 12 | DF67: 57.6 | DG67: 3.9 | DJ67: 91.6 | DU67: 6.45 | DV67: 2.35 | EE67: 4.35 | EG67: 5.21 | EI67: 4.46 | EL67: 4.87 | EM67: 4.61 | ER67: 15.3 | FG67: 13.8 | FK67: 2.43 | FO67: 5 U | FS67: 50.5 | FU67: 126 | FX67: 58.7 | FY67: 46 | GB67: 12 | GC67: 12 | GE67: 10.7 | GK67: 3.29 | GM67: 10.3 | GP67: 3.51 | GR67: 7.92 | GT67: 2.52 | GW67: 31.1 | GZ67: 8.32 | HB67: 6.85 | HD67: 2.26 | HF67: 123 | HJ67: 50 U | HL67: 62.2 | HQ67: 1.78 | HS67: 20.7 | HU67: 3.76 | HW67: 4.76 | HX67: 6.88 | IA67: 2.37 | IB67: 64 | IE67: 250 U | IG67: 46 | II67: 46.8 | IL67: 10.5 | IN67: 13.4 | IQ67: 3.95 | IU67: 4.92 | IY67: 8.85 | JB67: 63.8 | JC67: 1.8 | JE67: 7.8 | JG67: 8.9 | JI67: 50 U | JK67: 50 U | JO67: 2.5 U | JR67: 14 | JS67: 2.5 U | JU67: 11.7 | JZ67: 5 U | KD67: 4.67 | KF67: 1.57 | KI67: 125
A68: Strontium, Dissolved | B68: =VLOOKUP(A68,Units!$B$2:$C$230,2,FALSE) -> mg/L | C68: - | D68: 2.24 | E68: 1.73 | F68: 1490 | G68: 605 | H68: 262 | I68: 1120 | J68: 545 | K68: 61 | L68: 293 | N68: 21.7 | O68: 41.6 | P68: 26.8 | Q68: 84.1 | R68: 97.5 | S68: 10.7 | T68: 15 | U68: 6.2 | V68: 6.62 | W68: 6.05 | X68: 11.9 | Y68: 10.5 | Z68: 10.3 | AA68: 15.1 | AB68: 3090 | AC68: 3050 | AD68: 154 | AE68: 35.3 | AF68: 3940 | AG68: 2480 | AH68: 2470 | AI68: 6990 | AJ68: 941 | AK68: 42.7 | AL68: 477 | AM68: 7440 | AO68: 149 | AP68: 1900 | AQ68: 8820 | AR68: 5290 | AS68: 1.47 | AT68: 480 | AU68: 2020 | AW68: 365 | AX68: 218 | AY68: 1200 | AZ68: 2450 | BA68: 500 | BB68: 346 | BC68: 2360 | BD68: 7070 | BE68: 8230 | BF68: 9280 | BG68: 1530 | BH68: 741 | BI68: 541 | BJ68: 94.6 | BK68: 83.8 | BL68: 125 | BM68: 170 | BN68: 63.4 | BO68: 28.7 | BP68: 241 | BQ68: 309 | BR68: 348 | BS68: 670 | BT68: 708 | BV68: 684 | BW68: 579 | BX68: 686 | BY68: 245 | BZ68: 149 | CA68: 1510 | CB68: 670 | CC68: 10.7 | CD68: 9.24 | CE68: 15.6 | CF68: 37.6 | CG68: 239 | CH68: 228 | CI68: 7170 | CJ68: 852 | CK68: 15.7 | CL68: 858 | CM68: Strontium, dissolved | CN68: 2.31 | CO68: 2.23 | CP68: 1.28 | CQ68: 1.43 | CR68: 1.07 | CS68: 1.05 | CT68: 1.72 | CU68: 1.75 | CV68: 1.95 | CW68: 2.11 | CX68: 0.791 | CY68: 0.799 | CZ68: 0.799 | DA68: 0.806 | DB68: 0.806 | DC68: 0.774 | DD68: 1.29 | DE68: 0.746 | DF68: 12.5 | DG68: 0.401 | DJ68: 1.73 | DU68: 0.481 | DV68: 0.246 | EE68: 0.251 | EG68: 0.285 | EI68: 0.199 | EL68: 0.26 | EM68: 0.282 | ER68: 0.839 | FG68: 0.811 | FK68: 0.339 | FO68: 0.751 | FS68: 2.97 | FU68: 3.83 | FX68: 3.45 | FY68: 1.44 | GB68: 1.33 | GC68: 1.33 | GE68: 0.477 | GK68: 0.496 | GM68: 0.503 | GP68: 0.276 | GR68: 0.654 | GT68: 0.505 | GW68: 2.55 | GZ68: 0.716 | HB68: 0.538 | HD68: 0.43 | HF68: 3.22 | HJ68: 0.63 | HL68: 3.6 | HQ68: 0.0879 | HS68: 3.29 | HU68: 0.265 | HW68: 0.564 | HX68: 0.453 | IA68: 0.281 | IB68: 3.74 | IE68: 1 U | IG68: 2.17 | II68: 1.16 | IL68: 1.32 | IN68: 1.65 | IQ68: 0.97 | IU68: 0.915 | IY68: 1.54 | JB68: 2.05 | JC68: 0.919 | JE68: 1.66 | JG68: 1.41 | JI68: 1.32 | JK68: 1.89 | JO68: 1.06 | JR68: 1.74 | JS68: 0.323 | JU68: 1.28 | JZ68: 0.324 | KD68: 1.03 | KF68: 0.299 | KI68: 3.95
A69: Sulfur, Dissolved | B69: =VLOOKUP(A69,Units!$B$2:$C$230,2,FALSE) -> mg/L | C69: - | D69: 592 | E69: 1480 | F69: 0.00082 | G69: 0.00002 U | H69: 0.00001 U | I69: 0.000172 | J69: 0.00005 U | K69: 0.00001 U | L69: 0.00001 U | N69: 0.00002 U | O69: 0.00001 U | P69: 0.00001 U | Q69: 0.00001 U | R69: 0.00001 U | S69: 0.00001 U | T69: 0.00001 U | U69: 0.00001 U | V69: 0.00001 U | W69: 0.00001 U | X69: 0.00001 U | Y69: 0.00001 U | Z69: 0.00001 U | AA69: 0.00001 U | AB69: 0.00037 | AC69: 0.00031 | AD69: 3.6e-05 | AE69: 0.00001 U | AF69: 0.0005 U | AG69: 0.0002 U | AH69: 0.0002 U | AI69: 0.0005 U | AJ69: 0.00021 | AK69: 1.1e-05 | AL69: 6.1e-05 | AM69: 0.001 U | AO69: 0.00001 U | AP69: 0.0002 U | AQ69: 0.001 U | AR69: 0.0005 U | AS69: 0.00001 U | AT69: 0.0001 U | AU69: 0.0002 U | AW69: 0.00005 U | AX69: 0.00001 U | AY69: 0.0001 U | AZ69: 0.0002 U | BA69: 0.0001 U | BB69: 0.00005 U | BC69: 0.0002 U | BD69: 0.001 U | BE69: 0.001 U | BF69: 0.001 U | BG69: 0.0001 U | BH69: 0.0001 U | BI69: 0.00005 U | BJ69: 4.5e-05 | BK69: 2.4e-05 | BL69: 0.00001 U | BM69: 0.00001 U | BN69: 3e-05 | BO69: 4.1e-05 | BP69: 0.00001 U | BQ69: 0.00002 U | BR69: 0.00002 U | BS69: 0.00005 U | BT69: 0.00005 U | BV69: 0.0001 U | BW69: 0.00005 U | BX69: 0.0001 U | BY69: 0.00002 U | BZ69: 0.00001 U | CA69: 0.0001 U | CB69: 0.00005 U | CC69: 0.00001 U | CD69: 0.00001 U | CE69: 0.00001 U | CF69: 0.00001 U | CG69: 0.00002 U | CH69: 0.00001 U | CI69: 0.001 U | CJ69: 0.0001 U | CK69: 0.00001 U | CL69: 0.0001 U | CM69: Sulfur, dissolved | CN69: 585 | CO69: 529 | CP69: 1410 | CQ69: 1500 | CR69: 560 | CS69: 533 | CT69: 253 | CU69: 266 | CV69: 912 | CW69: 1210 | CX69: 290 | CY69: 287 | CZ69: 287 | DA69: 301 | DB69: 301 | DC69: 287 | DD69: 1260 | DE69: 463 | DF69: 4740 | DG69: 364 | DJ69: 2950 | DU69: 187 | DV69: 38.5 | EE69: 102 | EG69: 74.3 | EI69: 31.9 | EL69: 126 | EM69: 175 | ER69: 151 | FG69: 354 | FK69: 59.6 | FO69: 1590 | FS69: 2460 | FU69: 2730 | FX69: 2380 | FY69: 802 | GB69: 504 | GC69: 504 | GE69: 96.4 | GK69: 178 | GM69: 274 | GP69: 47.9 | GR69: 282 | GT69: 71.1 | GW69: 963 | GZ69: 310 | HB69: 243 | HD69: 245 | HF69: 1970 | HJ69: 13000 | HL69: 1010 | HQ69: 6.61 | HS69: 1600 | HU69: 308 | HW69: 445 | HX69: 178 | IA69: 168 | IB69: 2830 | IE69: 33100 | IG69: 4720 | II69: 773 J | IL69: 601 | IN69: 650 | IQ69: 116 | IU69: 377 | IY69: 585 | JB69: 869 | JC69: 955 | JE69: 1140 | JG69: 1980 | JI69: 24900 | JK69: 24300 | JO69: 1390 | JR69: 5320 | JS69: 658 | JU69: 485 | JZ69: 1380 | KD69: 230 | KF69: 11.9 | KI69: 2910
A70: Thallium (Tl), Dissolved | B70: =VLOOKUP(A70,Units!$B$2:$C$230,2,FALSE) -> mg/L | C70: 0.0008 | D70: 0.00005 U | E70: 0.0008 | F70: 0.015 U | G70: 0.0006 U | H70: 0.0003 U | I70: 0.0015 U | J70: 0.0015 U | K70: 0.0003 U | L70: 0.0003 U | N70: 0.0006 U | O70: 0.0003 U | P70: 0.0003 U | Q70: 0.0003 U | R70: 0.0003 U | S70: 0.00109 | T70: 0.0003 U | U70: 0.0003 U | V70: 0.0003 U | W70: 0.0003 U | X70: 0.0003 U | Y70: 0.0003 U | Z70: 0.0003 U | AA70: 0.0003 U | AB70: 0.003 U | AC70: 0.003 U | AD70: 0.0006 U | AE70: 0.0003 U | AF70: 0.015 U | AG70: 0.006 U | AH70: 0.006 U | AI70: 0.015 U | AJ70: 0.003 U | AK70: 0.0003 U | AL70: 0.0015 U | AM70: 0.03 U | AO70: 0.0003 U | AP70: 0.006 U | AQ70: 0.03 U | AR70: 0.015 U | AS70: 0.0003 U | AT70: 0.003 U | AU70: 0.006 U | AW70: 0.0015 U | AX70: 0.0003 U | AY70: 0.003 U | AZ70: 0.006 U | BA70: 0.003 U | BB70: 0.0015 U | BC70: 0.006 U | BD70: 0.03 U | BE70: 0.03 U | BF70: 0.03 U | BG70: 0.003 U | BH70: 0.003 U | BI70: 0.0015 U | BJ70: 0.0003 U | BK70: 0.0006 U | BL70: 0.0003 U | BM70: 0.0012 U | BN70: 0.0003 U | BO70: 0.0003 U | BP70: 0.0003 U | BQ70: 0.0006 U | BR70: 0.0006 U | BS70: 0.0015 U | BT70: 0.0015 U | BV70: 0.003 U | BW70: 0.0015 U | BX70: 0.003 U | BY70: 0.0006 U | BZ70: 0.0003 U | CA70: 0.003 U | CB70: 0.0015 U | CC70: 0.0003 U | CD70: 0.0003 U | CE70: 0.0003 U | CF70: 0.0003 U | CG70: 0.0006 U | CH70: 0.0003 U | CI70: 0.03 U | CJ70: 0.003 U | CK70: 0.0003 U | CL70: 0.003 U | CM70: Thallium (Tl)-Dissolved | CN70: 0.00005 U | CO70: 0.00005 U | CP70: 0.00022 | CQ70: 0.0005 U | CR70: 0.00002 U | CS70: 2.1e-05 | CT70: 0.00002 U | CU70: 0.00002 U | CV70: 0.000173 | CW70: 0.000183 | CX70: 0.000557 | CY70: 0.000568 | CZ70: 0.000568 | DA70: 0.000551 | DB70: 0.000551 | DC70: 0.000542 | DD70: 0.00026 | DE70: 0.00005 U | DF70: 0.0002 U | DG70: 0.00021 | DJ70: 0.00402 | DU70: 5.5e-05 | DV70: 0.00001 U | EE70: 0.00002 U | EG70: 2.2e-05 | EI70: 0.00001 U | EL70: 0.00005 U | EM70: 0.00005 U | ER70: 5.9e-05 | FG70: 0.000145 | FK70: 4.6e-05 | FO70: 0.0038 | FS70: 0.0023 | FU70: 0.001 U | FX70: 0.0011 | FY70: 0.00162 | GB70: 0.00002 U | GC70: 0.00002 U | GE70: 2.5e-05 | GK70: 8e-05 | GM70: 0.00983 | GP70: 0.00001 U | GR70: 0.00001 U | GT70: 0.00001 U | GW70: 0.00053 | GZ70: 0.000227 | HB70: 0.000211 | HD70: 0.000168 | HF70: 0.002 | HJ70: 0.01 U | HL70: 0.00129 | HQ70: 6.4e-05 | HS70: 0.0002 U | HU70: 0.00171 | HW70: 0.00185 | HX70: 5.7e-05 | IA70: 0.000421 | IB70: 0.0027 | IE70: 0.05 U | IG70: 0.002 U | II70: 0.00068 | IL70: 0.000283 | IN70: 0.00036 | IQ70: 3.1e-05 | IU70: 0.000521 | IY70: 8e-05 | JB70: 0.00509 | JC70: 0.00179 | JE70: 0.00229 | JG70: 0.003 | JI70: 0.011 | JK70: 0.01 U | JO70: 0.00312 | JR70: 0.0041 | JS70: 0.0005 U | JU70: 0.00002 U | JZ70: 0.0088 | KD70: 0.00001 U | KF70: 0.00001 U | KI70: 0.0024
A71: Titanium, Dissolved | B71: =VLOOKUP(A71,Units!$B$2:$C$230,2,FALSE) -> mg/L | C71: 0.1 | D71: 0.0015 U | E71: 0.015 U | F71: 0.01 | G71: 0.04 | H71: 0.02 | I71: 0.08 | J71: 0.00281 | K71: 0.00011 | L71: 0.000305 | N71: 0.000676 | O71: 0.00341 | P71: 0.00262 | Q71: 0.00538 | R71: 0.00602 | S71: 0.00528 | T71: 0.00608 | U71: 0.00113 | V71: 0.00141 | W71: 0.00138 | X71: 0.00292 | Y71: 0.00609 | Z71: 0.00334 | AA71: 0.00332 | AB71: 0.00049 | AC71: 0.00046 | AD71: 0.00676 | AE71: 0.00386 | AF71: 0.00102 | AG71: 0.00213 | AH71: 0.00216 | AI71: 0.0005 U | AJ71: 0.04 | AK71: 0.00214 | AL71: 6.1e-05 | AM71: 0.001 U | AO71: 0.000402 | AP71: 0.00036 | AQ71: 0.001 U | AR71: 0.0005 U | AS71: 0.000502 | AT71: 0.00063 | AU71: 0.0002 U | AW71: 0.000762 | AX71: 0.00347 | AY71: 0.00261 | AZ71: 0.00083 | BA71: 0.00052 | BB71: 0.000728 | BC71: 0.00038 | BD71: 0.001 U | BE71: 0.001 U | BF71: 0.001 U | BG71: 0.00257 | BH71: 0.01 | BI71: 0.07 | BJ71: 0.0036 | BK71: 0.0031 | BL71: 0.00723 | BM71: 0.00225 | BN71: 4.3e-05 | BO71: 0.000135 | BP71: 0.00229 | BQ71: 0.0096 | BR71: 0.00994 | BS71: 0.000643 | BT71: 0.000534 | BV71: 0.0022 | BW71: 0.00488 | BX71: 0.00502 | BY71: 0.01 | BZ71: 0.000446 | CA71: 0.00245 | CB71: 0.000588 | CC71: 0.00181 | CD71: 0.00208 | CE71: 0.00218 | CF71: 0.00342 | CG71: 0.00876 | CH71: 0.01 | CI71: 0.01 | CJ71: 0.00421 | CK71: 0.00207 | CL71: 0.0046 | CM71: Titanium, dissolved | CN71: 0.0015 U | CO71: 0.0015 U | CP71: 0.006 U | CQ71: 0.015 U | CR71: 0.0006 U | CS71: 0.0006 U | CT71: 0.0006 U | CU71: 0.0006 U | CV71: 0.0015 U | CW71: 0.0015 U | CX71: 0.0015 U | CY71: 0.0015 U | CZ71: 0.0015 U | DA71: 0.0015 U | DB71: 0.0015 U | DC71: 0.0015 U | DD71: 0.006 U | DE71: 0.0015 U | DF71: 0.006 U | DG71: 0.006 U | DJ71: 0.015 U | DU71: 0.0003 U | DV71: 0.0003 U | EE71: 0.0006 U | EG71: 0.0003 U | EI71: 0.0003 U | EL71: 0.0015 U | EM71: 0.0015 U | ER71: 0.0015 U | FG71: 0.0006 U | FK71: 0.0003 U | FO71: 0.03 U | FS71: 0.03 U | FU71: 0.03 U | FX71: 0.03 U | FY71: 0.006 U | GB71: 0.0006 U | GC71: 0.0006 U | GE71: 0.0003 | GK71: 0.0003 U | GM71: 0.003 U | GP71: 0.0003 U | GR71: 0.0003 U | GT71: 0.00046 | GW71: 0.006 U | GZ71: 0.0003 U | HB71: 0.0006 U | HD71: 0.0003 U | HF71: 0.03 U | HJ71: 0.3 U | HL71: 0.0015 | HQ71: 0.0003 U | HS71: 0.006 U | HU71: 0.0015 U | HW71: 0.003 U | HX71: 0.0003 U | IA71: 0.0003 U | IB71: 0.06 U | IE71: 1.5 U | IG71: 0.06 U | II71: 0.003 U | IL71: 0.0006 U | IN71: 0.0006 U | IQ71: 0.0006 U | IU71: 0.0003 U | IY71: 0.0006 U | JB71: 0.003 U | JC71: 0.006 U | JE71: 0.015 U | JG71: 0.03 U | JI71: 0.3 U | JK71: 0.3 U | JO71: 0.015 U | JR71: 0.06 U | JS71: 0.015 U | JU71: 0.0006 U | JZ71: 0.03 U | KD71: 0.0003 U | KF71: 0.0003 U | KI71: 0.03 U
A72: Uranium (U), Dissolved | B72: =VLOOKUP(A72,Units!$B$2:$C$230,2,FALSE) -> mg/L | C72: 0.015 | D72: 0.01 | E72: 0.01 | F72: 0.025 U | G72: 0.001 U | H72: 0.0005 U | I72: 0.0025 U | J72: 0.0025 U | K72: 0.0005 U | L72: 0.0005 U | N72: 0.001 U | O72: 0.0005 U | P72: 0.0005 U | Q72: 0.0005 U | R72: 0.0005 U | S72: 0.0005 U | T72: 0.0005 U | U72: 0.0005 U | V72: 0.0005 U | W72: 0.0005 U | X72: 0.0005 U | Y72: 0.0005 U | Z72: 0.0005 U | AA72: 0.0005 U | AB72: 0.005 U | AC72: 0.005 U | AD72: 0.001 U | AE72: 0.0005 U | AF72: 0.025 U | AG72: 0.01 U | AH72: 0.01 U | AI72: 0.025 U | AJ72: 0.005 U | AK72: 0.0005 U | AL72: 0.0025 U | AM72: 0.05 U | AO72: 0.0005 U | AP72: 0.01 U | AQ72: 0.05 U | AR72: 0.025 U | AS72: 0.0005 U | AT72: 0.005 U | AU72: 0.01 U | AW72: 0.0025 U | AX72: 0.0005 U | AY72: 0.005 U | AZ72: 0.01 U | BA72: 0.005 U | BB72: 0.0025 U | BC72: 0.01 U | BD72: 0.05 U | BE72: 0.05 U | BF72: 0.05 U | BG72: 0.005 U | BH72: 0.005 U | BI72: 0.0025 U | BJ72: 0.0005 U | BK72: 0.001 U | BL72: 0.00052 | BM72: 0.00223 | BN72: 0.0005 U | BO72: 0.0005 U | BP72: 0.0005 U | BQ72: 0.001 U | BR72: 0.001 U | BS72: 0.0025 U | BT72: 0.0025 U | BV72: 0.005 U | BW72: 0.0025 U | BX72: 0.005 U | BY72: 0.001 U | BZ72: 0.0005 U | CA72: 0.005 U | CB72: 0.0025 U | CC72: 0.0005 U | CD72: 0.0005 U | CE72: 0.0005 U | CF72: 0.0005 U | CG72: 0.001 U | CH72: 0.0005 U | CI72: 0.05 U | CJ72: 0.005 U | CK72: 0.0005 U | CL72: 0.005 U | CM72: Uranium (U)-Dissolved | CN72: 0.0194 | CO72: 0.0167 | CP72: 0.0623 | CQ72: 0.0648 | CR72: 0.0441 | CS72: 0.0476 | CT72: 0.0315 | CU72: 0.0321 | CV72: 0.0841 | CW72: 0.0935 | CX72: 0.000394 | CY72: 0.000444 | CZ72: 0.000444 | DA72: 0.000419 | DB72: 0.000419 | DC72: 0.000439 | DD72: 0.0837 | DE72: 0.00463 | DF72: 0.113 | DG72: 0.0294 | DJ72: 0.0243 | DU72: 0.00436 | DV72: 0.00129 | EE72: 0.00153 | EG72: 0.00326 | EI72: 0.00277 | EL72: 0.00154 | EM72: 0.00151 | ER72: 0.0365 | FG72: 0.00109 | FK72: 0.000607 | FO72: 0.0232 | FS72: 0.0054 | FU72: 0.0135 | FX72: 0.0032 | FY72: 0.00229 | GB72: 0.0392 | GC72: 0.0392 | GE72: 0.028 | GK72: 0.0197 | GM72: 0.00604 | GP72: 0.00101 | GR72: 0.0129 | GT72: 0.00654 | GW72: 0.00534 | GZ72: 0.0136 | HB72: 0.0111 | HD72: 0.000512 | HF72: 0.0047 | HJ72: 0.511 | HL72: 0.103 | HQ72: 0.000439 | HS72: 0.00841 | HU72: 0.00298 | HW72: 0.00662 | HX72: 0.00378 | IA72: 0.00115 | IB72: 0.0133 | IE72: 2.14 | IG72: 0.0064 | II72: 0.00113 | IL72: 0.0553 | IN72: 0.0566 | IQ72: 0.00949 | IU72: 0.0162 | IY72: 0.0665 | JB72: 0.0159 | JC72: 0.0015 | JE72: 0.00834 | JG72: 0.004 | JI72: 1.65 | JK72: 1.26 | JO72: 0.103 | JR72: 0.0085 | JS72: 0.0284 | JU72: 0.0376 | JZ72: 0.0147 | KD72: 0.0146 | KF72: 0.00232 | KI72: 0.0103
A73: Vanadium (V), Dissolved | B73: =VLOOKUP(A73,Units!$B$2:$C$230,2,FALSE) -> mg/L | C73: - | D73: 0.0025 U | E73: 0.025 U | F73: 277 | G73: 0.81 | H73: 0.0047 | I73: 5.57 | J73: 0.005 U | K73: 0.001 U | L73: 0.0011 | N73: 0.0047 | O73: 0.008 | P73: 0.0011 | Q73: 0.03 | R73: 0.0042 | S73: 0.0093 | T73: 0.0025 | U73: 0.0048 | V73: 0.0025 | W73: 0.02 | X73: 0.0018 | Y73: 0.0027 | Z73: 0.0025 | AA73: 0.0013 | AB73: 0.4 | AC73: 0.37 | AD73: 0.05 | AE73: 0.0039 | AF73: 12.4 | AG73: 44.5 | AH73: 44.3 | AI73: 0.97 | AJ73: 69.5 | AK73: 0.001 U | AL73: 17.2 | AM73: 645 | AO73: 0.03 | AP73: 0.02 U | AQ73: 0.27 | AR73: 310 | AS73: 0.0022 | AT73: 44.5 | AU73: 0.95 | AW73: 0.18 | AX73: 0.0029 | AY73: 1.09 | AZ73: 10.9 | BA73: 45 | BB73: 6.57 | BC73: 0.18 | BD73: 0.1 U | BE73: 0.1 U | BF73: 5.1 | BG73: 70.1 | BH73: 17.4 | BI73: 22.9 | BJ73: 0.0038 | BK73: 0.008 | BL73: 0.01 | BM73: 0.01 | BN73: 0.0013 | BO73: 0.0013 | BP73: 0.001 U | BQ73: 0.0047 | BR73: 0.0081 | BS73: 0.005 U | BT73: 0.005 U | BV73: 0.01 | BW73: 0.0062 | BX73: 0.07 | BY73: 0.0059 | BZ73: 0.03 | CA73: 67.9 | CB73: 0.005 U | CC73: 0.0034 | CD73: 0.0013 | CE73: 0.001 U | CF73: 0.001 U | CG73: 0.0089 | CH73: 0.0054 | CI73: 934 | CJ73: 8.76 | CK73: 0.001 | CL73: 8.44 | CM73: Vanadium (V)-Dissolved | CN73: 0.0025 U | CO73: 0.0025 U | CP73: 0.01 U | CQ73: 0.025 U | CR73: 0.001 U | CS73: 0.001 U | CT73: 0.001 U | CU73: 0.001 U | CV73: 0.0025 U | CW73: 0.0025 U | CX73: 0.0025 U | CY73: 0.0025 U | CZ73: 0.0025 U | DA73: 0.0025 U | DB73: 0.0025 U | DC73: 0.0025 U | DD73: 0.01 U | DE73: 0.0025 U | DF73: 0.01 U | DG73: 0.01 U | DJ73: 0.025 U | DU73: 0.0005 U | DV73: 0.0005 U | EE73: 0.001 U | EG73: 0.0005 U | EI73: 0.0005 U | EL73: 0.0025 U | EM73: 0.0025 U | ER73: 0.0025 U | FG73: 0.001 U | FK73: 0.0005 U | FO73: 0.05 U | FS73: 0.05 U | FU73: 0.05 U | FX73: 0.05 U | FY73: 0.01 U | GB73: 0.001 U | GC73: 0.001 U | GE73: 0.00102 | GK73: 0.0005 U | GM73: 0.005 U | GP73: 0.0005 U | GR73: 0.0005 U | GT73: 0.0005 U | GW73: 0.01 U | GZ73: 0.0005 U | HB73: 0.001 U | HD73: 0.0005 U | HF73: 0.05 U | HJ73: 0.5 U | HL73: 0.001 U | HQ73: 0.0005 U | HS73: 0.01 U | HU73: 0.0025 U | HW73: 0.005 U | HX73: 0.0005 U | IA73: 0.0005 U | IB73: 0.1 U | IE73: 2.5 U | IG73: 0.1 U | II73: 0.005 U | IL73: 0.001 U | IN73: 0.001 U | IQ73: 0.001 U | IU73: 0.0005 U | IY73: 0.001 U | JB73: 0.005 U | JC73: 0.01 U | JE73: 0.025 U | JG73: 0.05 U | JI73: 0.5 U | JK73: 0.5 U | JO73: 0.025 U | JR73: 0.1 U | JS73: 0.025 U | JU73: 0.001 U | JZ73: 0.05 U | KD73: 0.0005 U | KF73: 0.0005 U | KI73: 0.05 U
A74: Zinc (Zn), Dissolved | B74: =VLOOKUP(A74,Units!$B$2:$C$230,2,FALSE) -> mg/L | C74: 0.03 | D74: 0.56 | E74: 266 | CM74: Zinc (Zn)-Dissolved | CN74: 2.6 | CO74: 1.68 | CP74: 142 | CQ74: 234 | CR74: 0.568 | CS74: 0.684 | CT74: 0.0059 | CU74: 0.002 U | CV74: 6.21 | CW74: 7.85 | CX74: 25.7 | CY74: 26.2 | CZ74: 26.2 | DA74: 26.2 | DB74: 26.2 | DC74: 25 | DD74: 104 | DE74: 36.8 | DF74: 3.08 | DG74: 93.6 | DJ74: 388 | DU74: 3.56 | DV74: 0.223 | EE74: 15.4 | EG74: 1.01 | EI74: 1.32 | EL74: 21.6 | EM74: 39.1 | ER74: 0.0095 | FG74: 7.22 | FK74: 0.866 | FO74: 561 | FS74: 617 | FU74: 611 | FX74: 535 | FY74: 147 | GB74: 0.002 U | GC74: 0.002 U | GE74: 0.0067 | GK74: 0.0128 | GM74: 55.8 | GP74: 0.001 U | GR74: 0.223 | GT74: 0.0099 | GW74: 92.9 | GZ74: 8.62 | HB74: 10.5 | HD74: 6.15 | HF74: 549 | HJ74: 4550 | HL74: 8.58 | HQ74: 0.0967 | HS74: 159 | HU74: 35.5 | HW74: 63.3 | HX74: 3.86 | IA74: 3.78 | IB74: 864 | IE74: 27700 | IG74: 1170 | II74: 56.4 | IL74: 5.12 | IN74: 1.13 | IQ74: 0.122 | IU74: 6.13 | IY74: 0.0899 | JB74: 93.5 | JC74: 106 | JE74: 220 | JG74: 599 | JI74: 11900 | JK74: 9540 | JO74: 364 | JR74: 1400 | JS74: 232 | JU74: 0.0032 | JZ74: 422 | KD74: 0.0052 | KF74: 0.0045 | KI74: 918
G75: 3.258 | H75: 1.766 | I75: 5.322 | J75: 2.644 | K75: 1.268 | L75: 2.051 | M75: 2.205 | N75: 2.845 | O75: 0.683 | P75: 0.461 | Q75: 0.866 | R75: 0.946 | S75: 0.558 | T75: 0.687 | U75: 0.257 | V75: 0.277 | W75: 0.248 | X75: 0.523 | Y75: 0.476 | Z75: 0.53 | AA75: 0.585 | AB75: 11.018 | AD75: 1.29 | AE75: 0.846 | AF75: 21.64 | AG75: 15.48 | AI75: 17.25 | AJ75: 2.814 | AK75: 0.565 | AL75: 1.834 | AM75: 16.574 | AN75: 15.192 | AO75: 0.725 | AP75: 5.88 | AQ75: 16.469 | AR75: 12.073 | AS75: 0.511 | AT75: 2.15 | AU75: 7.46 | AV75: 28.05 | AW75: 1.506 | AX75: 1.252 | AY75: 4.14 | AZ75: 6.438 | BA75: 2.279 | BB75: 1.791 | BC75: 8.541 | BD75: 19.69 | BE75: 22.5 | BF75: 24.15 | BG75: 4.853 | BH75: 2.903 | BI75: 2.709 | BJ75: 0.996 | BK75: 0.986 | BL75: 0.783 | BM75: 1.514 | BN75: 0.441 | BO75: 0.326 | BP75: 1.778 | BQ75: 2.145 | BR75: 2.357 | BS75: 3.043 | BT75: 3.206 | BU75: 3.204 | BV75: 3.185 | BW75: 2.748 | BX75: 2.821 | BY75: 1.378 | CC75: 0.297 | CD75: 0.333 | CE75: 0.575 | CF75: 0.893 | CG75: 1.414 | CH75: 1.446 | CI75: 17.36 | CJ75: 3.76
A76: Conductivity, Field | B76: =VLOOKUP(A76,Units!$B$2:$C$230,2,FALSE) -> mS/cm/deg C | D76: 2.403 | E76: 3.89 | G76: 2.45 | H76: 12.68 | I76: 1.32 | J76: 0.36 | K76: 0.29 | L76: 0.53 | M76: 1.74 | N76: 1.43 | O76: 0.21 | P76: 0.59 | Q76: 1.06 | R76: 0.34 | S76: 0.79 | T76: 8.69 | U76: 2.17 | V76: 2.41 | W76: 6.75 | X76: 0.27 | Y76: 0.79 | Z76: 6.06 | AA76: 6.43 | AB76: 3.83 | AD76: 0.45 | AE76: 0.2 | AF76: 0 | AG76: 0 | AI76: 3.43 | AJ76: 2.22 | AK76: 0.09 | AL76: 0.22 | AM76: 0.59 | AN76: 7.43 | AO76: 0.23 | AP76: 0.37 | AQ76: 8 | AR76: 2.01 | AS76: 0.3 | AT76: 0.73 | AU76: 0.86 | AV76: 4.888 | AW76: 7.45 | AX76: 0.69 | AY76: 0.45 | AZ76: 2.27 | BA76: 2 | BB76: 2.2 | BC76: 0.3 | BD76: 0.28 | BE76: 0.27 | BF76: 0.11 | BG76: 0.53 | BH76: 0.52 | BI76: 10.16 | BJ76: 5.07 | BK76: 7.25 | BL76: 3.81 | BM76: 11.05 | BN76: 13.2 | BO76: 3.25 | BP76: 0 | BQ76: 0.74 | BR76: 0.77 | BS76: 0.64 | BT76: 0.46 | BU76: 0.53 | BV76: 0.7 | BW76: 0.4 | BX76: 0.52 | BY76: 0.14 | CC76: 4.5 | CD76: 4.21 | CE76: 0.33 | CF76: 0.42 | CG76: 0.21 | CH76: 0.12 | CI76: 2.03 | CJ76: 1.82 | CM76: Conductivity, Field | CN76: 3.876 | CO76: 3.086 | CP76: 5.6 | CQ76: 6.06 | CR76: 3.534 | CS76: 3.415 | CT76: 1.956 | CU76: 1.893 | CV76: 5.676 | CW76: 5.628 | CX76: 1.64 | CZ76: 1.644 | DB76: 1.6453 | DC76: 1.646 | DD76: 5.294 | DE76: 2.121 | DF76: 14.24 | DG76: 1.761 | DH76: 7.392 | DI76: 2.615 | DJ76: 8.94 | DL76: 2.734 | DM76: 1.925 | DN76: 2.014 | DO76: 1.79 | DP76: 2.692 | DQ76: 1.957 | DR76: 3.817 | DS76: 3.651 | DU76: 1.27 | DV76: 0.663 | DX76: 1.176 | DY76: 1.914 | DZ76: 0.949 | EA76: 9.405 | EB76: 32.64 | ED76: 2.86 | EE76: 0.555 | EG76: 0.606 | EI76: 0.364 | EL76: 0.77 | EM76: 0.963 | EO76: 2.131 | EP76: 0.469 | EQ76: 3.594 | ER76: 1.337 | ET76: 0.523 | EU76: 0.322 | EV76: 0.201 | EW76: 1.287 | EX76: 1.657 | EY76: 0.423 | EZ76: 2.591 | FA76: 1.923 | FB76: 1.698 | FC76: 5.937 | FD76: 9.954 | FE76: 13.52 | FG76: 1.516 | FH76: 0.534 | FI76: 0.442 | FJ76: 2.057 | FK76: 0.49 | FL76: 0.812 | FM76: 0.493 | FO76: 5.739 | FQ76: 0.325 | FR76: 5.853 | FS76: 8.066 | FU76: 8.823 | FX76: 7.807 | FY76: 3.285 | GA76: 4.508 | GB76: 2.813 | GC76: 1.42 | GE76: 0.607 | GG76: 1.758 | GH76: 1.629 | GI76: 1.275 | GK76: 1.506 | GL76: 1.164 | GM76: 0.903 | GO76: 1.474 | GP76: 0.422 | GR76: 1.625 | GT76: 0.76 | GW76: 3.901 | GX76: 1.775 | GY76: 8.836 | GZ76: 1.899 | HB76: 1.492 | HD76: 1.248 | HF76: 6.942 | HH76: 9.796 | HI76: 9.82 | HJ76: 25.79 | HL76: 4.175 | HN76: 0.77 | HO76: 0.174 | HQ76: 0.121 | HS76: 6.391 | HT76: 0.111 | HU76: 1.522 | HW76: 2.097 | HX76: 1.23 | IA76: 1.295 | IB76: 9.762 | IE76: 47.68 | IF76: 0.867 | IG76: 8.977 | II76: 3.927 | IL76: 3.471 | IM76: 3.791 | IN76: 3.67 | IP76: 3.727 | IQ76: 1.773 | IS76: 0.511 | IT76: 0.371 | IU76: 2.539 | IW76: 0.556 | IY76: 3.468 | IZ76: 0.904 | JB76: 2.678 | JC76: 2.739 | JE76: 4.911 | JG76: 7.05 | JI76: 40.09 | JK76: 40.45 | JM76: 1.146 | JN76: 6.945 | JO76: 5.164 | JR76: 14.5 | JS76: 3.539 | JU76: 2.731 | JW76: 3.408 | JX76: 1.994 | JY76: 2.027 | JZ76: 5.219 | KB76: 18.81 | KC76: 6.704 | KD76: 1.62 | KF76: 0.442 | KI76: 9.788
A77: DO, Field | B77: mg/L | D77: 1.05 | E77: 1.13 | CM77: DO | CN77: 7.27 | CO77: 2.35 | CP77: 0.44 | CQ77: 1.58 | CR77: 0.27 | CS77: 1.8 | CT77: 0.15 | CU77: -1.16 | CV77: 0.3 | CW77: 1.58 | DD77: 1.79 | DE77: 1.56 | DF77: 4.12 | DG77: 13.49 | DH77: 6.74 | DI77: 8.37 | DJ77: 10.48 | DL77: 10.81 | DM77: 6.17 | DN77: 0.37 | DO77: 3.8 | DP77: 5.38 | DQ77: 9.33 | DR77: 7.92 | DS77: 12.61 | DU77: 9.25 | DV77: 8.59 | DX77: 10.23 | DY77: 10.03 | DZ77: 1.91 | EA77: 9.02 | EB77: 1.71 | ED77: 9.57 | EE77: 12.59 | EG77: 10.97 | EI77: 13.19 | EL77: 10.09 | EM77: 12.96 | EO77: 10.32 | EP77: 10.57 | EQ77: 8.48 | ER77: 7.49 | ET77: 7.17 | EU77: 1.02 | EV77: 8.81 | EW77: 2.64 | EX77: 2.96 | EY77: 8.88 | EZ77: 6.91 | FA77: 5.05 | FB77: 13.26 | FC77: 7.77 | FD77: 6.88 | FE77: 1.25 | FG77: 0.66 | FH77: 7.89 | FI77: 10.22 | FJ77: 8.99 | FK77: 4.63 | FL77: 9.5 | FM77: 3.64 | FO77: 81.3 | FQ77: 11.79 | FR77: 8.4 | FS77: 10.57 | FU77: 8.26 | FX77: 10.62 | FY77: 10.48 | GA77: 9.48 | GB77: 9.91 | GC77: 14.06 | GE77: 9.49 | GG77: 11.88 | GH77: 9.46 | GI77: 13.52 | GK77: 49.6 | GL77: 11.02 | GM77: 9.55 | GO77: 1.2 | GP77: 9.51 | GR77: 9.23 | GT77: 12.3 | GW77: 9.84 | GX77: 10.28 | GY77: 8 | GZ77: 9.58 | HB77: 10.15 | HD77: 2.31 | HF77: 1.51 | HH77: 3.68 | HI77: 3.46 | HJ77: 2.4 | HL77: 7.78 | HN77: 14.34 | HO77: 13.94 | HQ77: 8.96 | HS77: 9.01 | HT77: 12.71 | HU77: 6.22 | HW77: 10.08 | HX77: 12.25 | IA77: 10.01 | IB77: 6.14 | IE77: 1.1 | IF77: 8.51 | IG77: 9.2 | II77: 7.13 | IL77: 9.13 | IM77: 5.91 | IN77: 10.03 | IP77: 10.62 | IQ77: 8.13 | IS77: 11.63 | IT77: 10.25 | IU77: 4.66 | IW77: 11.32 | IY77: 10.97 | IZ77: 9.6 | JB77: 4.22 | JC77: 7.79 | JE77: 2.31 | JG77: 1.45 | JI77: 0.98 | JK77: 4.14 | JM77: 6.47 | JN77: 7.05 | JO77: 4.92 | JR77: 1.05 | JS77: 14.63 | JU77: 10.93 | JW77: 11.11 | JX77: 9.5 | JY77: 11.24 | JZ77: 4.43 | KB77: 7 | KC77: 5.8 | KD77: 9.58 | KF77: 8.55 | KI77: 8.65
A78: ORP, Field | B78: mV | D78: 31.1 | E78: -17 | F78: 6.27 J | G78: 7.42 J | H78: 7.74 J | I78: 6.87 J | J78: 7.33 J | K78: 7.36 J | L78: 7.53 J | N78: 6.61 J | O78: 8.16 J | P78: 7.9 J | Q78: 7.27 J | R78: 7.96 J | S78: 8.11 J | T78: 8.02 J | U78: 8.04 J | V78: 8.02 J | W78: 8.25 J | X78: 8.26 J | Y78: 7.87 J | Z78: 8.2 J | AA78: 8.05 J | AB78: 6.56 J | AC78: 6.46 J | AD78: 7.53 J | AE78: 8.17 J | AF78: 3.58 J | AG78: 3.97 J | AH78: 4.02 J | AI78: 3.32 J | AJ78: 4.89 J | AK78: 8 J | AL78: 4.71 J | AM78: 3.4 J | AO78: 6.82 J | AP78: 5.29 J | AQ78: 3.19 J | AR78: 3.4 J | AS78: 7.55 J | AT78: 4.16 J | AU78: 3.7 J | AW78: 6.83 J | AX78: 7.4 J | AY78: 4.65 J | AZ78: 3.82 J | BA78: 5.82 J | BB78: 6.51 J | BC78: 3.83 J | BD78: 3.47 J | BE78: 3.36 J | BF78: 3.29 J | BG78: 4.44 J | BH78: 5.46 J | BI78: 5.16 J | BJ78: 7.87 J | BK78: 7.84 J | BL78: 6.73 J | BM78: 7.66 J | BN78: 7.87 J | BO78: 7.68 J | BP78: 7.54 J | BQ78: 7.37 J | BR78: 7.14 J | BS78: 7.11 J | BT78: 6.79 J | BV78: 6.57 J | BW78: 6.81 J | BX78: 6.65 J | BY78: 7.72 J | BZ78: 6.8 J | CA78: 4.45 J | CB78: 6.75 J | CC78: 7.78 J | CD78: 7.9 J | CE78: 7.92 J | CF78: 7.85 J | CG78: 7.15 J | CH78: 7.64 J | CI78: 3.63 J | CJ78: 5.66 J | CK78: 7.98 J | CL78: 5.52 J | CM78: ORP | CN78: 41.6 | CO78: 67.3 | CP78: 38.3 | CQ78: 88.5 | CR78: 52 | CS78: -6.3 | CT78: -134.3 | CU78: -143.2 | CV78: -14.6 | CW78: -5.7 | DD78: 188.6 | DE78: 47.8 | DF78: 288.5 | DG78: 444.8 | DH78: 100.2 | DI78: 196.9 | DJ78: 228.7 | DL78: 139.7 | DM78: 39.1 | DN78: 384.2 | DO78: 207.2 | DP78: 382.2 | DQ78: 205.5 | DR78: 196.4 | DS78: 279.5 | DU78: 142.1 | DV78: 125 | DX78: 67.1 | DY78: 247.4 | DZ78: 7.5 | EA78: 329.3 | EB78: 444.7 | ED78: 338.2 | EE78: 320.1 | EG78: 230.6 | EI78: 268.2 | EL78: 277 | EM78: 303.8 | EO78: -35.9 | EP78: 272.3 | EQ78: 185.8 | ER78: -113.7 | ET78: -17.3 | EU78: 34.3 | EV78: 37.3 | EW78: 92.1 | EX78: 230.4 | EY78: 4.2 | EZ78: -17.5 | FA78: 88.3 | FB78: 58.5 | FC78: 238.4 | FD78: 350.3 | FE78: 322.7 | FG78: 323.5 | FH78: -36.2 | FI78: 38.9 | FJ78: 464.6 | FK78: -10.9 | FL78: -75.5 | FM78: 23.8 | FO78: 353.9 | FQ78: 188.3 | FR78: 320.6 | FS78: 233.8 | FU78: 27.1 | FX78: -18.4 | FY78: -22.6 | GA78: -35.7 | GB78: 142 | GC78: 341 | GE78: -8.7 | GG78: 29 | GH78: 227.3 | GI78: 202 | GK78: 219.6 | GL78: 233.7 | GM78: 23.6 | GO78: 22.1 | GP78: 185.6 | GR78: 152.2 | GT78: 176.1 | GW78: 162.8 | GX78: 210.5 | GY78: 501.1 | GZ78: 191.3 | HB78: 177.5 | HD78: 305.3 | HF78: 116.1 | HH78: 50 | HI78: 63.5 | HJ78: 412.6 | HL78: 274.8 | HN78: 115.9 | HO78: 120.6 | HQ78: 131 | HS78: 113.2 | HT78: 250.8 | HU78: 246.7 | HW78: 248.2 | HX78: 133.6 | IA78: 37.2 | IB78: 10.6 | IE78: 399.7 | IF78: 278.1 | IG78: 369.1 | II78: 258.3 | IL78: 88 | IM78: 83.9 | IN78: 181.9 | IP78: 186.6 | IQ78: 71.1 | IS78: 128.9 | IT78: 73.4 | IU78: 188.8 | IW78: 66.3 | IY78: 64 | IZ78: 236 | JB78: 144.1 | JC78: 335.3 | JE78: 107.3 | JG78: 88.5 | JI78: 249.6 | JK78: 191.1 | JM78: 137.7 | JN78: 553.5 | JO78: 402.3 | JR78: 105 | JS78: 412.3 | JU78: 143.7 | JW78: 172.9 | JX78: 103.1 | JY78: 112.8 | JZ78: 166 | KB78: 491.7 | KC78: 384.2 | KD78: 129.3 | KF78: 86.4 | KI78: -59.7
A79: pH | B79: =VLOOKUP(A79,Units!$B$2:$C$230,2,FALSE) -> Ph | D79: 6.96 J | E79: 6.22 J | F79: 0.2 U | G79: 0.02 U | H79: 0.04 | I79: 0.02 U | J79: 0.02 U | K79: 0.02 U | L79: 0.02 U | N79: 0.04 | O79: 0.02 U | P79: 0.0041 | Q79: 0.02 | R79: 0.02 U | S79: 0.02 U | T79: 0.02 U | U79: 0.03 | V79: 0.002 U | W79: 0.02 U | X79: 0.04 | Y79: 0.01 | Z79: 0.02 U | AA79: 0.02 U | AB79: 0.09 | AC79: 0.08 | AD79: 0.02 U | AE79: 0.02 | AF79: 0.02 U | AG79: 0.02 U | AH79: 0.02 U | AI79: 0.12 | AJ79: 0.2 U | AK79: 0.02 U | AL79: 0.02 U | AM79: 0.11 | AO79: 0.02 U | AP79: 0.02 U | AQ79: 0.06 | AR79: 0.16 | AS79: 0.02 | AT79: 0.02 U | AU79: 0.07 | AW79: 0.08 | AX79: 2.41 | AY79: 0.02 U | AZ79: 1.2 | BA79: 0.02 U | BB79: 0.02 U | BC79: 0.14 | BD79: 0.02 U | BE79: 0.07 | BF79: 0.09 | BG79: 0.02 U | BH79: 0.02 U | BI79: 0.19 | BJ79: 0.02 U | BK79: 0.02 U | BL79: 0.19 | BM79: 0.51 | BN79: 0.22 | BO79: 0.13 | BP79: 0.02 | BQ79: 0.02 U | BR79: 0.26 | BS79: 0.02 U | BT79: 0.02 U | BV79: 0.03 | BW79: 0.02 U | BX79: 0.02 U | BY79: 0.02 U | BZ79: 0.02 U | CA79: 0.02 U | CB79: 0.02 U | CC79: 0.002 U | CD79: 0.002 U | CE79: 0.02 U | CF79: 0.02 | CG79: 0.02 U | CH79: 0.02 U | CI79: 0.08 | CJ79: 0.02 U | CK79: 0.02 U | CL79: 0.02 U | CM79: pH, Lab | CN79: 6.82 | CP79: 6.31 | CR79: 7.15 | CT79: 7.66 | CV79: 6.71 | DD79: 4.53
A80: Notes: | FG80: 0.005 U | FK80: 0.005 U | FS80: 0.005 U | FU80: 0.005 U | FX80: 0.005 U | FY80: 0.005 U
A81: Bold indicates the analyte was detected.
A82: Concentration exceeds FMC discharge criteria
A83: Concentration exceeds FIGQG
A84: Detection limit exceeds FIGQG.
A85: pH reported is the field parameter value.
A86: J = Analyte was present but the reported value may not be accurate or precise.
A87: R = Result has been rejected for use.
A88: U = Analyte was analyzed for but not detected at the specified detection limit.
A89: UJ = Analyte was not detected above the detection limit; however, the reported detection limit is approximate and may not represent the actual limit of quantitation necessary to accurately and precisely measure the analyte in the sample.
A91: a CCME guideline is pH and temperature dependent;p guidelines used here assume 5°C typical laboratory storage temperature.
A92: b CCME guideline is pH dependent; 0.005 mg/L if pH < 6.5; 0.1 mg/L if pH ≥ 6.5.
A93: c CCME guideline is hardness dependent; if hardness is > 0 to < 17 mg/L, the CWQG is 0.04 μg/L; at hardness > 280 mg/L, the CWQG is 0.37 μg/L; at hardness ≥ 17 to ≤ 280 mg/L cadmium concentration = 100.83[log10(hardness)]-2.46/1000 mg/L.
... A97: g CCME trigger range for oligotrophic phosphorous.

Sheet Table7-Seep_Analytical_Results
A1: Table 7. Seep Analytical Results
A2: Faro Mine Remediation Project
C3: Location ID | D3: CH12-014-MW003_100315 | E3: CH12-014-MW007_100215 | F3: CH12-014-MW907_GW1015 | G3: CH12-014-MW011_100815 | H3: CH12-014-MW012_100715 | I3: CH12-014-MW013_100815 | J3: CH12-204-MW001A_100515 | K3: CH12-204-MW001B_100615 | L3: CH12-204-MW002B_100515 | M3: CH12-204-MW003B_100415 | N3: CH12-204-MW003B_100915 | O3: CH12-204-MW004A_100515 | P3: CH12-204-MW004B_100315 | Q3: CH12-204-MW005A_100715 | R3: CH12-204-MW005B_100715 | S3: CH12-204-MW006A_100715 | T3: CH12-204-MW006B_100715 | U3: CH13-204-MW009A_100315 | V3: CH13-204-MW009B_100315 | W3: CH13-204-MW010A_100415 | X3: CH13-204-MW011A_100415 | Y3: CH13-204-MW011B_100315 | Z3: CH13-204-MW014A_100415 | AA3: CH13-204-MW015B_101115 | AB3: CH13-204-MW016B_100615 | AC3: CH13-204-MW916B_GW1015 | AD3: CH13-204-MW016C_100515 | AE3: CH13-204-MW016E_100515 | AF3: CH14-015-MW001A_100815 | AG3: CH14-015-MW001C_100815 | AH3: CH14-015-MW901C_GW1015 | AI3: CH14-015-MW002A_100515 | AJ3: CH14-015-MW006_100315 | AK3: P01-02A_100415 | AL3: P03-01-06_100915 | AM3: P03-01-07_100815 | AN3: P03-01-09_100815 | AO3: P03-02-03_101015 | AP3: P03-02-05_101015 | AQ3: P03-02-07_100915 | AR3: P03-02-09_100915 | AS3: P03-03-01_100915 | AT3: P03-03-03_100915 | AU3: P03-03-06_100915 | AV3: P03-03-08_100915 | AW3: P03-04-02_101115 | AX3: P03-04-04_101115 | AY3: P03-04-06_101115 | AZ3: P03-04-08_101015 | BA3: P03-05-02_101115 | BB3: P03-05-03_101115 | BC3: P03-05-05_101015 | BD3: P03-05-06_101015 | BE3: P03-05-07_101015 | BF3: P03-05-08_101015 | BG3: P03-06-03_100815 | BH3: P03-06-04_100815 | BI3: P03-06-05_100515 | BJ3: P03-08-02_100515 | BK3: P03-08-03_100515 | BL3: P03-08-04_100515 | BM3: P03-08-05_100415 | BN3: P03-08-06_100415 | BO3: P03-08-07_100415 | BP3: P03-09-02_100715 | BQ3: P03-09-04_100815 | BR3: P03-09-08_100815 | BS3: P05-01-01_100515 | BT3: P05-01-02_100515 | BU3: P05-01-03_100515 | BV3: P05-01-04_100515 | BW3: P05-01-06_100515 | BX3: P05-02_100415 | BY3: P05-03_100415 | BZ3: P903-02-03_GW1015 | CA3: P903-06-03_GW1015 | CB3: P905-01-01_GW1015 | CC3: X16A_100315 | CD3: X16B_100315 | CE3: X17A_100815 | CF3: X17B_100815 | CG3: X18A_100715 | CH3: X18B_100715 | CI3: X21-96A_101115 | CJ3: X21-96B_101115 | CK3: X917A_GW1015 | CL3: X921-96B_GW1015 | CN3: CH12-014-MW003 | CO3: CH12-014-MW003 | CP3: CH12-014-MW003 | CQ3: CH12-014-MW003 | CR3: CH12-014-MW007 | CS3: CH12-014-MW007 | CT3: CH12-014-MW007 | CU3: CH12-014-MW007 | CV3: CH12-014-MW007 | CW3: CH12-014-MW011 | CX3: CH12-014-MW011 | CY3: CH12-014-MW011 | CZ3: CH12-014-MW011 | DA3: CH12-014-MW011 | DB3: CH12-014-MW012 | DC3: CH12-014-MW012 | DD3: CH12-014-MW012 | DE3: CH12-014-MW012 | DF3: CH12-014-MW013 | DG3: CH12-014-MW013 | DH3: CH12-014-MW013 | DI3: CH12-014-MW013 | DJ3: CH12-014-MW013 | DK3: CH13-016-FAROPL | DL3: CH13-016-FAROPL | DM3: CH13-016-FAROPL | DN3: CH13-016-FAROPL | DO3: CH13-016-FAROPL | DP3: CH13-016-FAROPL | DQ3: CH13-016-FAROPL | DR3: CH13-016-FAROPL | DS3: CH13-016-FAROPL | DT3: CH13-016-FAROPL | DU3: CH14-015-MW006 | DV3: CH14-015-MW006 | DW3: CH14-015-MW006 | DX3: CH14-015-MW006 | DY3: CH14-015-MW006 | DZ3: CH14-104-MW008 | EA3: CH14-104-MW008 | EB3: A30 | EC3: CH-ETA-01 | ED3: CH-ETA-02 | EE3: CH-FD-56 | EF3: CH-FD-57 | EG3: CH-FD-59 | EH3: CH-FD-60 | EI3: CH-FD-61 | EJ3: CH-FD-62 | EK3: CH-FD-63 | EL3: CH-FD-65 | EM3: CH-FD-68 | EN3: CH-FD-70 | EO3: CH-FD-75 | EP3: CH-FD-76 | EQ3: CH-FD-77 | ER3: CH-FD-78 | ES3: CH-FD-80 | ET3: CH-FD-81 | EU3: CH-FP-29 | EV3: CH-FP-31 | EW3: CH-FP-33 | EX3: CH-FP-34 | EY3: CH-FP-35 | EZ3: CH-FP-36 | FA3: CH-FP-37 | FB3: CH-FP-39 | FC3: CH-GD-25 | FD3: CH-GP-19 | FE3: CH-GP-22 | FF3: CH-GP-23 | FG3: CH-GP-24 | FH3: CH-GP-25 | FI3: CH-GP-26 | FJ3: CH-GP-28 | FK3: CH-GP-29 | FL3: CH-GP-30 | FM3: CH-GP-31 | FN3: CH-MILL-02 | FO3: CH-MILL-03 | FP3: CH-MILL-04 | FQ3: CH-RCTA-03 | FR3: CH-RCTA-04 | FS3: CH-RCTA-05 | FT3: CH-RCTA-06 | FU3: CH-RCTA-10 | FV3: CH-RCTA-08 | FW3: CH-RCTA-09 | FX3: CH-VP-17 | FY3: CH-VP-19 | FZ3: CH-VP-20 | GA3: FCS-2 | GB3: FCS-3 | GC3: FCS-4 | GD3: FCS-5 | GE3: FP11 | GF3: GD05 D/S | GG3: GDHSECK | GH3: GP02 | GI3: GP04 | GJ3: GP06 | GK3: GP08 | GL3: GP09 | GM3: GP10 | GN3: GP12 | GO3: GP14 | GP3: NE1 | GQ3: NE2 | GR3: Sheep Creek | GS3: SRK-FD01 | GT3: SRK-FD02 | GU3: SRK-FD04 | GV3: SRK-FD05 | GW3: SRK-FD06 | GX3: SRK-FD08 | GY3: SRK-FD09 | GZ3: SRK-FD10 | HA3: SRK-FD12 | HB3: SRK-FD13 | HC3: SRK-FD14 | HD3: SRK-FD16 | HE3: SRK-FD17 | HF3: SRK-FD18 | HG3: SRK-FD19 | HH3: SRK-FD20 | HI3: SRK-FD23 | HJ3: SRK-FD24 | HK3: SRK-FD26 | HL3: SRK-FD30 | HM3: SRK-FD31 | HN3: SRK-FD37 | HO3: SRK-FD51 | HP3: SRK-FD54 | HQ3: SRK-FD55 | HR3: SRK-GD01 | HS3: SRK-GD02 | HT3: SRK-GD05 | HU3: SRK-GD06 | HV3: SRK-GD07 | HW3: SRK-GD08 | HX3: SRK-GD10 | HY3: SRK-GD11 | HZ3: SRK-GD12 | IA3: SRK-GD13 | IB3: SRK-GD20 | IC3: SRK-GD24 | ID3: SRK-VD01 | IE3: SRK-VD02 | IF3: SRK-VD03 | IG3: SRK-VD04 | IH3: SRK-VD05 | II3: SRK-VD06 | IJ3: SRK-VD07 | IK3: SRK-VD09 | IL3: SRK-VD10 | IM3: SRK-VD12 | IN3: Sweet Creek | IO3: V15 | IP3: VP07 | IQ3: VP08 | IR3: VP09 | IS3: VP10 | IT3: VP11 | IU3: WGD01 | IV3: WTA02 | IW3: X23
C4: General Location | D4: Main WRD | E4: Haul Road below Intermediate WRD | F4: Haul Road below Intermediate WRD | G4: Grum WRD | H4: Grum WRD | I4: Vancorda WRD | J4: Cross Valley Dam | K4: Cross Valley Dam | L4: Cross Valley Dam | M4: Cross Valley Dam | N4: Cross Valley Dam | O4: Cross Valley Dam | P4: Cross Valley Dam | Q4: Rose Creek Valley downstream from CVD | R4: Rose Creek Valley downstream from CVD | S4: Rose Creek Valley downstream from CVD | T4: Rose Creek Valley downstream from CVD | U4: Rose Creek Diversion | V4: Rose Creek Diversion | W4: Rose Creek Diversion | X4: Rose Creek Diversion | Y4: Rose Creek Diversion | Z4: Rose Creek Diversion | AA4: Rose Creek Diversion | AB4: Intermediate Tailings Impoundment | AC4: Intermediate Tailings Impoundment | AD4: Intermediate Tailings Impoundment | AE4: Intermediate Tailings Impoundment | AF4: Original Tailings Impoundment | AG4: Original Tailings Impoundment | AH4: Original Tailings Impoundment | AI4: Original Tailings Impoundment | AJ4: NE WRD | AK4: Cross Valley Dam | AL4: Secondary Tailings Impoundment | AM4: Secondary Tailings Impoundment | AN4: Secondary Tailings Impoundment | AO4: Secondary Tailings Impoundment | AP4: Secondary Tailings Impoundment | AQ4: Secondary Tailings Impoundment | AR4: Secondary Tailings Impoundment | AS4: Secondary Tailings Impoundment | AT4: Secondary Tailings Impoundment | AU4: Secondary Tailings Impoundment | AV4: Secondary Tailings Impoundment | AW4: Secondary Tailings Impoundment | AX4: Secondary Tailings Impoundment | AY4: Secondary Tailings Impoundment | AZ4: Secondary Tailings Impoundment | BA4: Secondary Tailings Impoundment | BB4: Secondary Tailings Impoundment | BC4: Secondary Tailings Impoundment | BD4: Secondary Tailings Impoundment | BE4: Secondary Tailings Impoundment | BF4: Secondary Tailings Impoundment | BG4: Secondary Tailings Impoundment | BH4: Secondary Tailings Impoundment | BI4: Secondary Tailings Impoundment | BJ4: Secondary Tailings Impoundment | BK4: Secondary Tailings Impoundment | BL4: Secondary Tailings Impoundment | BM4: Secondary Tailings Impoundment | BN4: Secondary Tailings Impoundment | BO4: Secondary Tailings Impoundment | BP4: Cross Valley Dam | BQ4: Cross Valley Dam | BR4: Cross Valley Dam | BS4: Cross Valley Dam | BT4: Cross Valley Dam | BU4: Cross Valley Dam | BV4: Cross Valley Dam | BW4: Cross Valley Dam | BX4: Cross Valley Dam | BY4: Cross Valley Dam | BZ4: Cross Valley Dam | CA4: Cross Valley Dam | CB4: Cross Valley Dam | CC4: Rose Creek Diversion | CD4: Rose Creek Diversion | CE4: Rose Creek Valley downstream from CVD | CF4: Rose Creek Valley downstream from CVD | CG4: Rose Creek Valley downstream from CVD | CH4: Rose Creek Valley downstream from CVD | CI4: Intermediate Tailings Impoundment | CJ4: Intermediate Tailings Impoundment | CK4: Intermediate Tailings Impoundment | CL4: Intermediate Tailings Impoundment | CN4: 42420.417 | CO4: 42523.572 | CP4: 42523.576 | CQ4: 42523.576 | CR4: 42417.607 | CS4: 42417.608 | CT4: 42522.503 | CU4: 42522.503 | CV4: 42522.511 | CW4: 42421.61 | CX4: 42421.611 | CY4: 42525.628 | CZ4: 42525.628 | DA4: 42525.628 | DB4: 42422.66 | DC4: 42422.663 | DD4: 42524.558 | DE4: 42524.562 | DF4: 42422.493 | DG4: 42422.497 | DH4: 42525.529 | DI4: 42525.535 | DJ4: 42525.535 | DK4: 42432.625 | DL4: 42432.646 | DM4: 42432.646 | DN4: 42432.667 | DO4: 42432.667 | DP4: 42432.688 | DQ4: 42434.625 | DR4: 42438.646 | DS4: 42438.667 | DT4: 42438.688 | DU4: 42420.666 | DV4: 42420.667 | DW4: 42522.628 | DX4: 42522.632 | DY4: 42522.632 | DZ4: 42526.662 | EA4: 42527.375
C5: Date | D5: 42280.724 | E5: 42279.703 | F5: 42279.708 | G5: 42285.531 | H5: 42284.684 | I5: 42285.609 | J5: 42282.726 | K5: 42283.676 | L5: 42282.669 | M5: 42281.597 | N5: 42286.488 | O5: 42282.538 | P5: 42280.726 | Q5: 42284.61 | R5: 42284.569 | S5: 42284.482 | T5: 42284.525 | U5: 42280.569 | V5: 42280.509 | W5: 42281.699 | X5: 42281.622 | Y5: 42280.704 | Z5: 42281.488 | AA5: 42288.724 | AB5: 42283.633 | AC5: 42283.674 | AD5: 42282.655 | AE5: 42282.615 | AF5: 42285.477 | AG5: 42285.514 | AH5: 42285.517 | AI5: 42282.727 | AJ5: 42280.599 | AK5: 42281.478 | AL5: 42286.508 | AM5: 42285.685 | AN5: 42285.651 | AO5: 42287.536 | AP5: 42287.483 | AQ5: 42286.669 | AR5: 42286.58 | AS5: 42286.71 | AT5: 42286.637 | AU5: 42286.588 | AV5: 42286.529 | AW5: 42288.65 | AX5: 42288.571 | AY5: 42288.478 | AZ5: 42287.667 | BA5: 42288.521 | BB5: 42288.472 | BC5: 42287.697 | BD5: 42287.63 | BE5: 42287.578 | BF5: 42287.515 | BG5: 42285.558 | BH5: 42285.473 | BI5: 42282.708 | BJ5: 42282.616 | BK5: 42282.566 | BL5: 42282.477 | BM5: 42281.675 | BN5: 42281.594 | BO5: 42281.514 | BP5: 42284.694 | BQ5: 42285.691 | BR5: 42285.719 | BS5: 42282.505 | BT5: 42282.555 | BU5: 42282.582 | BV5: 42282.601 | BW5: 42282.636 | BX5: 42281.714 | BY5: 42281.559 | BZ5: 42287.542 | CA5: 42285.56 | CB5: 42282.507 | CC5: 42280.608 | CD5: 42280.66 | CE5: 42285.574 | CF5: 42285.622 | CG5: 42284.73 | CH5: 42284.694 | CI5: 42288.666 | CJ5: 42288.62 | CK5: 42285.576 | CL5: 42288.625 | EB5: 42509.413 | EC5: 42509.376 | ED5: 42509.367 | EE5: 42510.396 | EF5: 42508.648 | EG5: 42509.576 | EH5: 42509.605 | EI5: 42509.62 | EJ5: 42509.594 | EK5: 42509.617 | EL5: 42508.393 | EM5: 42509.605 | EN5: 42509.708 | EO5: 42510.51 | EP5: 42510.598 | EQ5: 42509.609 | ER5: 42509.56 | ES5: 42513.36 | ET5: 42513.342 | EU5: 42509.334 | EV5: 42509.444 | EW5: 42509.514 | EX5: 42509.5 | EY5: 42510.486 | EZ5: 42509.458 | FA5: 42509.464 | FB5: 42509.483 | FC5: 42512.378 | FD5: 42510.646 | FE5: 42511.675 | FF5: 42512.572 | FG5: 42512.579 | FH5: 42511.588 | FI5: 42511.583 | FJ5: 42511.626 | FK5: 42511.606 | FL5: 42511.59 | FM5: 42511.627 | FN5: 42508.385 | FO5: 42508.447 | FP5: 42508.438 | FQ5: 42508.486 | FR5: 42508.535 | FS5: 42508.573 | FT5: 42508.578 | FU5: 42508.386 | FV5: 42508.476 | FW5: 42508.378 | FX5: 42511.365 | FY5: 42511.562 | FZ5: 42511.415 | GA5: 42509.375 | GB5: 42508.698 | GC5: 42509.422 | GD5: 42508.618 | GE5: 42509.474 | GF5: 42512.433 | GG5: 42508.61 | GH5: 42511.576 | GI5: 42511.611 | GJ5: 42511.601 | GK5: 42511.573 | GL5: 42511.625 | GM5: 42511.595 | GN5: 42511.59 | GO5: 42511.64 | GP5: 42510.562 | GQ5: 42510.493 | GR5: 42512.375 | GS5: 42508.358 | GT5: 42508.426 | GU5: 42507.697 | GV5: 42510.524 | GW5: 42510.538 | GX5: 42510.587 | GY5: 42508.517 | GZ5: 42508.541 | HA5: 42508.536 | HB5: 42509.639 | HC5: 42509.667 | HD5: 42510.488 | HE5: 42510.463 | HF5: 42510.477 | HG5: 42508.625 | HH5: 42509.589 | HI5: 42509.639 | HJ5: 42509.59 | HK5: 42509.682 | HL5: 42508.601 | HM5: 42508.545 | HN5: 42507.642 | HO5: 42509.656 | HP5: 42510.399 | HQ5: 42510.417 | HR5: 42510.646 | HS5: 42510.641 | HT5: 42512.385 | HU5: 42512.383 | HV5: 42511.628 | HW5: 42512.55 | HX5: 42511.666 | HY5: 42511.597 | HZ5: 42511.661 | IA5: 42512.514 | IB5: 42510.64 | IC5: 42512.465 | ID5: 42511.476 | IE5: 42511.503 | IF5: 42511.528 | IG5: 42511.486 | IH5: 42511.514 | II5: 42511.467 | IJ5: 42511.465 | IK5: 42511.438 | IL5: 42511.545 | IM5: 42511.441 | IN5: 42512.399 | IO5: 42512.409 | IP5: 42511.388 | IQ5: 42511.374 | IR5: 42511.403 | IS5: 42511.399 | IT5: 42511.432 | IU5: 42512.438 | IV5: 42512.49 | IW5: 42508.49
A6: Analyses ID | B6: Units | C6: Screening Level
A7: General Chemistry
A8: pH, Field | B8: =VLOOKUP(A8,Units!$B$2:$C$230,2,FALSE) -> pH Units | C8: 6.5 - 9.0 | D8: 6.62 | E8: 6.56 | G8: 7.05 | H8: 8.08 | I8: 6.72 | J8: 6.45 | K8: 7.3 | L8: 6.65 | M8: 6.44 | N8: 6.55 | O8: 7.23 | P8: 8.16 | Q8: 6.74 | R8: 7.08 | S8: 7.15 | T8: 7.22 | U8: 7.8 | V8: 7.51 | W8: 7.59 | X8: 7.27 | Y8: 7.57 | Z8: 7.07 | AA8: 6.92 | AB8: 6.73 | AD8: 6.59 | AE8: 7.38 | AF8: 5.71 | AG8: 5.99 | AI8: 5.58 | AJ8: 5.08 | AK8: 7.64 | AL8: 5.6 | AM8: 5.62 | AN8: 3.05 | AO8: 5.95 | AP8: 6.18 | AQ8: 3.24 | AR8: 5.27 | AS8: 7.29 | AT8: 4.17 | AU8: 6.11 | AV8: 2.97 | AW8: 6.3 | AX8: 6.72 | AY8: 5.86 | AZ8: 5.64 | BA8: 5.79 | BB8: 5.85 | BC8: 6.5 | BD8: 6.25 | BE8: 6.01 | BF8: 6.02 | BG8: 5.35 | BH8: 6.13 | BI8: 6.67 | BJ8: 7.18 | BK8: 7.19 | BL8: 7.07 | BM8: 7.58 | BN8: 8.62 | BO8: 7.04 | BP8: 6.63 | BQ8: 6.97 | BR8: 6.87 | BS8: 6.27 | BT8: 6.3 | BU8: 6.24 | BV8: 6.18 | BW8: 6.39 | BX8: 6.46 | BY8: 7.03 | CC8: 7.98 | CD8: 8.26 | CE8: 7.45 | CF8: 7.54 | CG8: 6.86 | CH8: 6.8 | CI8: 5.27 | CJ8: 6.61 | CM8: pH, Field | CN8: 6.51 | CP8: 6.47 | CS8: 6.35 | CT8: 6.02 | CX8: 7.19 | CZ8: 6.59 | DC8: 7.59 | DE8: 7.5 | DG8: 6.49 | DI8: 6.21 | DK8: 5.84 | DM8: 6.01 | DO8: 6.05 | DP8: 6.07 | DV8: 4.79 | DX8: 5.91 | EA8: 6.56 | EB8: 3.12 | EC8: 6.14 | ED8: 6.63 | EE8: 5.21 | EF8: 5.36 | EG8: 5.99 | EH8: 3.28 | EI8: 6.53 | EJ8: 2.88 | EK8: 6.52 | EL8: 5.59 | EM8: 6.22 | EN8: 6.6 | EO8: 7.14 | EP8: 6.83 | EQ8: 5.72 | ER8: 6.15 | ES8: 6.08 | ET8: 1.66 | EU8: 2.57 | EV8: 6.62 | EW8: 7.96 | EX8: 7.85 | EY8: 7.45 | EZ8: 6.41 | FA8: 6.71 | FB8: 7.76 | FC8: 7.43 | FD8: 7.18 | FE8: 8.33 | FF8: 8.49 | FG8: 8.16 | FH8: 5.85 | FI8: 2.97 | FJ8: 7.16 | FK8: 6.6 | FL8: 5.63 | FM8: 7.91 | FN8: 7.97 | FO8: 3.2 | FP8: 2.92 | FQ8: 5.62 | FR8: 6.28 | FS8: 7.44 | FT8: 2.59 | FU8: 6.8 | FV8: 7.08 | FW8: 6.14 | FX8: 3.28 | FY8: 5.81 | FZ8: 4.03 | GA8: 3.81 | GB8: 5.76 | GC8: 6.16 | GD8: 6.37 | GE8: 6 | GF8: 7.92 | GG8: 6.72 | GH8: 8.18 | GI8: 7.52 | GJ8: 7.76 | GK8: 7.84 | GL8: 7.67 | GM8: 8.13 | GN8: 5.84 | GO8: 7.11 | GP8: 7.66 | GQ8: 7.28 | GR8: 8.1 | GS8: 6.68 | GT8: 6.43 | GU8: 2.06 | GV8: 7.21 | GW8: 7.3 | GX8: 4.82 | GY8: 5.75 | GZ8: 5.94 | HA8: 5.9 | HB8: 2.39 | HC8: 6.45 | HD8: 7.64 | HE8: 7.73 | HF8: 7.35 | HG8: 6.73 | HH8: 7.88 | HI8: 3.46 | HJ8: 3.56 | HK8: 7 | HL8: 7.28 | HM8: 6.21 | HN8: 1.92 | HO8: 3.73 | HP8: 4.47 | HQ8: 6.7 | HR8: 7.03 | HS8: 7.06 | HT8: 7.74 | HU8: 7.66 | HV8: 6.64 | HW8: 8.11 | HX8: 7.76 | HY8: 6.62 | HZ8: 7.61 | IA8: 7.46 | IB8: 6.86 | IC8: 6.13 | ID8: 5.05 | IE8: 5.79 | IF8: 5.49 | IG8: 3.5 | IH8: 4.19 | II8: 5.61 | IJ8: 1.87 | IK8: 2.94 | IL8: 4.84 | IM8: 2.76 | IN8: 8.1 | IO8: 7.21 | IP8: 5.68 | IQ8: 5.12 | IR8: 4.73 | IS8: 2.03 | IT8: 2.96 | IU8: 7.84 | IV8: 8.21 | IW8: 6.77
G9: 8.46 | H9: 4.98 | I9: 13.62 | J9: 6.04 | K9: 6.1 | L9: 5.11 | M9: 2.9 | N9: 3.38 | O9: 4.08 | P9: 3.28 | Q9: 3.39 | R9: 2.69 | S9: 0.29 | T9: 1.08 | U9: 9.26 | V9: 9.35 | W9: 7.7 | X9: 5.29 | Y9: 6.31 | Z9: 3.78 | AA9: 2.91 | AB9: 3.9 | AD9: 4.78 | AE9: 3.99 | AF9: 8.52 | AG9: 5.31 | AI9: 7.71 | AJ9: 7.49 | AK9: 4.16 | AL9: 3.5 | AM9: 4.3 | AN9: 4.5 | AO9: 3.8 | AP9: 4 | AQ9: 4.2 | AR9: 4.1 | AS9: 3.57 | AT9: 3.97 | AU9: 4.22 | AV9: 3.9 | AW9: 6.2 | AX9: 6.5 | AY9: 3.5 | AZ9: 4.9 | BA9: 4.3 | BB9: 4.09 | BC9: 4.52 | BD9: 4.98 | BE9: 4.83 | BF9: 4.44 | BG9: 3.2 | BH9: 2.7 | BI9: 5.31 | BJ9: 3.08 | BK9: 3.12 | BL9: 3.94 | BM9: 3.26 | BN9: 3.97 | BO9: 4.23 | BP9: 3.93 | BQ9: 3.75 | BR9: 3.64 | BS9: 4.92 | BT9: 4.91 | BU9: 5.13 | BV9: 5.11 | BW9: 5.94 | BX9: 3.57 | BY9: 4.26 | CC9: 4.41 | CD9: 3.56 | CE9: 2.3 | CF9: 2.47 | CG9: 2.79 | CH9: 2.52 | CI9: 4.68 | CJ9: 4.61
A10: Temperature, Field | B10: =VLOOKUP(A10,Units!$B$2:$C$230,2,FALSE) -> deg C | C10: - | D10: 4.42 | E10: 18.78 | F10: 4080 | G10: 2530 | H10: 1220 | I10: 4750 | J10: 1970 | K10: 440 | L10: 1100 | N10: 1100 | O10: 377 | P10: 332 | Q10: 576 | R10: 624 | S10: 371 | T10: 470 | U10: 137 | V10: 150 | W10: 135 | X10: 308 | Y10: 262 | Z10: 305 | AA10: 323 | AB10: 9540 | AC10: 9530 | AD10: 750 | AE10: 472 | AF10: 3340 | AG10: 3110 | AH10: 3100 | AI10: 5120 | AJ10: 2540 | AK10: 423 | AL10: 327 | AM10: 2040 | AO10: 544 | AP10: 978 | AQ10: 2220 | AR10: 1540 | AS10: 276 | AT10: 416 | AU10: 1280 | AW10: 1150 | AX10: 705 | AY10: 1790 | AZ10: 1530 | BA10: 960 | BB10: 962 | BC10: 1890 | BD10: 3620 | BE10: 3750 | BF10: 3640 | BG10: 1630 | BH10: 1520 | BI10: 1070 | BJ10: 570 | BK10: 552 | BL10: 646 | BM10: 859 | BN10: 66.1 | BO10: 45.1 | BP10: 1090 | BQ10: 1220 | BR10: 1390 | BS10: 2380 | BT10: 2410 | BV10: 2420 | BW10: 2080 | BX10: 2430 | BY10: 1070 | BZ10: 526 | CA10: 1620 | CB10: 2370 | CC10: 212 | CD10: 244 | CE10: 303 | CF10: 482 | CG10: 1050 | CH10: 1040 | CI10: 2600 | CJ10: 1720 | CK10: 311 | CL10: 1740 | CM10: Temperature, Field | CN10: 6.61 | CP10: 7.7 | CS10: 18.85 | CT10: 17.09 | CX10: 9.81 | CZ10: 6.93 | DC10: 2.68 | DE10: 13.43 | DG10: 16.02 | DI10: 13.9 | DK10: 3.45 | DM10: 3.42 | DO10: 3.42 | DP10: 3.43 | DV10: 6.67 | DX10: 3.88 | EA10: 7.19 | EB10: 4.15 | EC10: 4.09 | ED10: 3.45 | EE10: 0.44 | EF10: 4.1 | EG10: 3.25 | EH10: 9.84 | EI10: 2.2 | EJ10: 1.88 | EK10: 9.85 | EL10: 3.44 | EM10: 5.32 | EN10: 3.03 | EO10: 3.42 | EP10: 11.1 | EQ10: 7.15 | ER10: 2.82 | ES10: 6.66 | ET10: 10.8 | EU10: 2.43 | EV10: 5.82 | EW10: 7.59 | EX10: 4 | EY10: 10.91 | EZ10: 6.07 | FA10: 11.27 | FB10: 13.42 | FC10: 6.76 | FD10: 10.86 | FE10: 21.11 | FF10: 3.8 | FG10: 3.49 | FH10: 2.6 | FI10: 6.87 | FJ10: 10.05 | FK10: 19.41 | FL10: 3.32 | FM10: 6.82 | FN10: 7.39 | FO10: 7.15 | FP10: 6.18 | FQ10: 4.4 | FR10: 8.51 | FS10: 1.83 | FT10: 11.94 | FU10: 3.01 | FV10: 5.08 | FW10: 2.11 | FX10: 3.18 | FY10: 2.44 | FZ10: 9.14 | GA10: 7.11 | GB10: 6.5 | GC10: 7.21 | GD10: 10.73 | GE10: 8.77 | GF10: 5.36 | GG10: 1.16 | GH10: 11.11 | GI10: 5.68 | GJ10: 19.78 | GK10: 3.68 | GL10: 3.9 | GM10: 12.15 | GN10: 9.64 | GO10: 14.1 | GP10: 4.39 | GQ10: 6.44 | GR10: 2.13 | GS10: 1.94 | GT10: 0.67 | GU10: 13.34 | GV10: 2.33 | GW10: 4.25 | GX10: 9.21 | GY10: 4.49 | GZ10: 7.99 | HA10: 7.66 | HB10: 12.47 | HC10: 14.02 | HD10: 1.18 | HE10: 0.8 | HF10: 1.77 | HG10: 0.01 | HH10: 0.37 | HI10: 20.86 | HJ10: 8.78 | HK10: 6.76 | HL10: 6.54 | HM10: 7.28 | HN10: 10.09 | HO10: 16.99 | HP10: 8.39 | HQ10: 11.26 | HR10: 3.03 | HS10: 4.46 | HT10: 5.2 | HU10: 3.65 | HV10: 7.62 | HW10: 0.35 | HX10: 2.03 | HY10: 2.45 | HZ10: 2.09 | IA10: 3.36 | IB10: 8.24 | IC10: 12.56 | ID10: 4.94 | IE10: 12.3 | IF10: 6.49 | IG10: 11.76 | IH10: 11.51 | II10: 5.73 | IJ10: 17.37 | IK10: 13.37 | IL10: 6.79 | IM10: 13.81 | IN10: 4.72 | IO10: 4.15 | IP10: 5.23 | IQ10: 3.91 | IR10: 3.99 | IS10: 6.02 | IT10: 3.78 | IU10: 7.32 | IV10: 14.12 | IW10: 11.18
A11: Hardness (as CaCO3) | B11: =VLOOKUP(A11,Units!$B$2:$C$230,2,FALSE) -> mg/L | C11: - | D11: 2340 | E11: 4000 | F11: 40.7 | G11: 8.8 | H11: 41.2 | I11: 18.8 | J11: 7.2 | K11: 2 | L11: 4.8 | N11: 26.2 | O11: 2.4 | P11: 4.3 | Q11: 2.3 | R11: 1 | S11: 5.6 | T11: 21.8 | U11: 13 | V11: 1 | W11: 25.4 | X11: 3.6 | Y11: 16.7 | Z11: 1 U | AA11: 5.4 | AB11: 2 UJ | AC11: 179 J | AD11: 18 | AE11: 9.2 | AF11: 233 | AG11: 234 | AH11: 186 | AI11: 85.2 | AJ11: 99.7 | AK11: 1 U | AL11: 41.6 | AM11: 137 | AO11: 1 U | AP11: 225 | AQ11: 223 | AR11: 583 | AS11: 8.1 | AT11: 101 | AU11: 355 | AW11: 95.5 | AX11: 2090 | AY11: 91 | AZ11: 1670 | BA11: 11.4 | BB11: 18.4 | BC11: 482 | BD11: 248 | BE11: 115 | BF11: 224 | BG11: 77.9 J | BH11: 101 | BI11: 760 | BJ11: 2.4 | BK11: 117 | BL11: 260 | BM11: 1080 | BN11: 330 | BO11: 220 | BP11: 27.6 | BQ11: 2.7 | BR11: 13.6 | BS11: 23.3 | BT11: 20.4 | BV11: 27.2 | BW11: 94.8 | BX11: 13.6 | BY11: 6.4 | BZ11: 2.5 | CA11: 282 J | CB11: 18 | CC11: 1 U | CD11: 1 U | CE11: 1 U | CF11: 3.7 | CG11: 2.7 | CH11: 3.4 | CI11: 128 | CJ11: 78 | CK11: 1 U | CL11: 68 | CM11: Hardness (as CaCO3) | CN11: 2380 | CP11: 2200 | CQ11: 2200 | CS11: 4580 | CT11: 4700 | CU11: 4700 | CZ11: 2390 | DA11: 2390 | DC11: 1190 | DE11: 1230 | DG11: 4060 | DI11: 4810 | DJ11: 4810 | DK11: 891 | DL11: 873 | DM11: 873 | DN11: 909 | DO11: 909 | DP11: 882 | DV11: 3280 | DX11: 1380 | DY11: 1380 | EA11: 15600 | EB11: 707 | EE11: 8190 | EN11: 776 | EO11: 254 | EV11: 335 | EW11: 330 | EX11: 192 | EY11: 392 | EZ11: 491 | FD11: 878 | FQ11: 762 | FU11: 264 | FX11: 1690 | GA11: 5710 | GB11: 5000 | GC11: 5120 | GD11: 1930 | GF11: 2060 | GH11: 483 | GL11: 954 | GN11: 535 | GP11: 247 | GQ11: 1130 | GR11: 473 | GS11: 3010 | GV11: 1200 | GW11: 1010 | GX11: 741 | GY11: 4760 | HB11: 14000 | HC11: 3090 | HF11: 79.1 | HG11: 5030 | HI11: 702 | HJ11: 1170 | HK11: 748 | HL11: 730 | HM11: 6400 | HN11: 6420 | HP11: 12000 | HQ11: 2370 J | HR11: 2560 | HT11: 2690 | HV11: 986 | HY11: 1640 | IA11: 2560 | IC11: 2620 | ID11: 2820 | IE11: 3000 | IF11: 4340 | IG11: 21300 | IH11: 31400 | IK11: 2600 | IL11: 9060 | IM11: 1360 | IN11: 2060 | IR11: 1180 | IU11: 1030 | IV11: 269 | IW11: 6510
A12: Total Suspended Solids | B12: =VLOOKUP(A12,Units!$B$2:$C$230,2,FALSE) -> mg/L | C12: - | D12: 55.6 | E12: 44.7 | F12: 7220 | G12: 3340 | H12: 1600 | I12: 6400 | J12: 3020 | K12: 775 | L12: 1920 | N12: 1810 | O12: 451 | P12: 365 | Q12: 710 | R12: 757 | S12: 375 | T12: 449 | U12: 165 | V12: 163 | W12: 159 | X12: 304 | Y12: 269 | Z12: 301 | AA12: 335 | AB12: 14800 | AC12: 14300 | AD12: 1030 | AE12: 536 | AF12: 20600 | AG12: 12100 | AH12: 12100 | AI12: 36900 | AJ12: 4470 | AK12: 484 | AL12: 2300 | AM12: 32900 | AO12: 700 | AP12: 10500 | AQ12: 38600 | AR12: 28800 | AS12: 301 | AT12: 2510 | AU12: 10100 | AW12: 1840 | AX12: 1150 | AY12: 6350 | AZ12: 12700 | BA12: 2460 | BB12: 1790 | BC12: 12100 | BD12: 37100 | BE12: 43000 | BF12: 48000 | BG12: 7740 | BH12: 3480 | BI12: 3080 | BJ12: 794 | BK12: 738 | BL12: 954 | BM12: 1230 | BN12: 378 | BO12: 253 | BP12: 1470 | BQ12: 1770 | BR12: 2010 | BS12: 3660 | BT12: 3790 | BV12: 3860 | BW12: 3150 | BX12: 3720 | BY12: 1500 | BZ12: 728 | CA12: 7890 | CB12: 3720 | CC12: 229 | CD12: 245 | CE12: 317 | CF12: 515 | CG12: 978 | CH12: 1360 | CI12: 39300 | CJ12: 4340 | CK12: 321 | CL12: 4230 | CM12: Total Suspended Solids | CN12: 95.2 | CP12: 6 | CQ12: 6 | CS12: 35 | CT12: 261 | CU12: 261 | CX12: 5.8 | CZ12: 33.2 | DA12: 33.2 | DC12: 266 | DE12: 328 | DG12: 31.6 | DI12: 57.6 | DJ12: 57.6 | DK12: 1 U | DL12: 1.2 | DM12: 1.2 | DN12: 1 J | DO12: 1 J | DP12: 1 U | DV12: 83.6 | DX12: 182 | DY12: 182 | EA12: 69.2 J | EB12: 4.8 | EE12: 59.2 | EN12: 1 | EO12: 9.9 | EV12: 1 U | EW12: 1.1 | EX12: 1.7 | EY12: 32.8 | EZ12: 13.5 | FD12: 67.9 | FQ12: 95.6 | FU12: 38.8 | FX12: 92.1 | GA12: 38.3 | GB12: 305 | GC12: 280 | GD12: 485 | GF12: 3.9 | GH12: 29200 | GL12: 4.9 | GN12: 190 | GP12: 5 | GQ12: 2.6 J | GR12: 11 | GS12: 40 J | GV12: 2.6 | GW12: 30 | GX12: 2.2 | GY12: 796 | HB12: 177 | HC12: 358 | HF12: 3.6 | HG12: 6.2 | HI12: 12.8 | HJ12: 51.4 | HK12: 5 | HL12: 77.4 | HM12: 84 | HN12: 57.2 | HP12: 78.7 | HQ12: 5.7 | HR12: 4.9 | HT12: 25.1 | HV12: 46.1 | HY12: 1.5 | IA12: 6.2 | IC12: 98.6 | ID12: 628 | IE12: 30.9 | IF12: 30.6 | IG12: 268 | IH12: 65 | IK12: 7.8 | IL12: 90.2 | IM12: 3.6 | IN12: 2 | IR12: 186 | IU12: 6.2 | IV12: 53.9 | IW12: 137
